{"text_format":"1","workbook":"xlsx","n_sheets":14,"sheets":["Accueil","Images","données","centrée_réduite","var_vp","cercle_variables","Graph_individus","Graph3d","calculs","Segmentation","Graph segmentation","Aide","calculs3d","individus"],"not_rendered":{"charts":10,"images":4,"macros":1,"external_links":0,"defined_names":23,"comments":2,"pivot_tables":0},"unopened":[{"sheet":"cercle_variables","index":5,"reason":"not_a_worksheet"},{"sheet":"Graph_individus","index":6,"reason":"not_a_worksheet"},{"sheet":"Graph3d","index":7,"reason":"not_a_worksheet"},{"sheet":"Graph segmentation","index":10,"reason":"not_a_worksheet"}],"bounds":{"document_bytes":16777216,"sheet_cells":100000,"rows_first":2000,"rows_last":500,"rows_between":2000,"halvings":0,"cell_chars":16384,"cell_head_chars":4096},"cells_cut":0,"cells_raw":0,"read":"whole","date_system":"1900"}

{"sheet":"Accueil","index":0,"n_rows":23,"n_cols":2,"rows_kept":23,"cut":false,"hidden":false,"merged":[]}
[]
[]
[]
[null,"Problème :"]
[]
[null,"La plupart des résultats d'enquêtes ou de mesures se présentent sous forme de tableaux de données avec en ligne les individus mesurés, et en colonnes chacune des valeurs mesurées. On se place ici dans le cas où les mesures sont des nombres (valeurs quantitatives). Si on a 20 questions * 100 individus cela fait un nuage de points en 20 dimensions. Comme on a l'habitude de travailler dans un espace à 3 dimensions on peut voir un objet, mais pour faire un rapport et interpréter ces données on utilise des graphiques. C'est à dire un document en 2 dimensions. Une première solution consisterait à prendre chacune des colonnes 2 à 2 pour faire tous les graphes de toutes les combinaisons de variables. Cela donnerait environ 200 graphes, ce qui n'aide pas à synthétiser l'information. L'ACP a pour but de remplacer les 20 questions par quelques axes qui seront à la fois interprétables facilement et représentatifs de l'information contenue dans le nuage de points. C'est un peu comme faire une photo d'un objet : on passe de 3 à 2 dimensions. Le but de l'ACP est de trouver l'endroit où poser l'appareil photo pour que l'on reconnaisse le mieux le sujet."]
[]
[null,"Ce classeur permet de traiter un tableau de 1000 individus * 20 questions quantitatives"]
[]
[null,"Saisie des données"]
[null,"Valeurs centrées réduites"]
[null,"Valeurs propres vecteurs propres"]
[null,"Cercle des variables"]
[null,"Graphe des individus"]
[null,"Graphique en 3D"]
[null,"Nouvelles valeurs"]
[null,"Segmentation en différentes classes"]
[]
[]
[]
[]
[]
[null,"Télécharger XLSTORE pour afficher l'aide"]

{"sheet":"Images","index":1,"n_rows":0,"n_cols":0,"rows_kept":0,"cut":false,"hidden":true,"merged":[]}

{"sheet":"données","index":2,"n_rows":1105,"n_cols":34,"rows_kept":1105,"cut":false,"hidden":false,"merged":[]}
["nb lignes","moyennes",{"$f":"AVERAGE(C4:C1003)","v":0.35223208333333339},{"$f":"AVERAGE(D4:D1003)","v":64.258749999999992},1.8837499999999998,-2.4429166666666662,64.02520833333331,2.0989583333333335,-1.0918749999999993,{"$error":"#DIV/0!"},{"$error":"#DIV/0!"},{"$error":"#DIV/0!"},{"$error":"#DIV/0!"},{"$error":"#DIV/0!"},{"$error":"#DIV/0!"},{"$error":"#DIV/0!"},{"$error":"#DIV/0!"},{"$error":"#DIV/0!"},{"$error":"#DIV/0!"},{"$error":"#DIV/0!"},{"$error":"#DIV/0!"},{"$error":"#DIV/0!"}]
[{"$f":"COUNT(C4:C1003)","v":48},"écarts type",{"$f":"STDEV(C4:C1003)","v":3.9635014786967377E-4},{"$f":"STDEV(D4:D1003)","v":4.1674945915037211},0.72069300277949067,5.4975843663602149,4.5837358124380314,0.69525822413470917,8.2885192723865586,{"$error":"#DIV/0!"},{"$error":"#DIV/0!"},{"$error":"#DIV/0!"},{"$error":"#DIV/0!"},{"$error":"#DIV/0!"},{"$error":"#DIV/0!"},{"$error":"#DIV/0!"},{"$error":"#DIV/0!"},{"$error":"#DIV/0!"},{"$error":"#DIV/0!"},{"$error":"#DIV/0!"},{"$error":"#DIV/0!"},{"$error":"#DIV/0!"},"nouvelles variables"]
["nb colonnes","numéro","heure","diamètre1","décalage1","aspérités1","diamètre2","décalage2","aspérités2",null,null,null,null,null,null,null,null,null,null,null,null,null,"axe1","axe2","axe3","axe4","axe5","cos2 axe1","cos2 axe2","cos2 axe3","cos2 axe4","cos2 axe5","somme cos2","Classe"]
[{"$f":"COUNT(C4:V4)","v":7},1,0.35174,64.790000000000006,2.23,-3.82,67.33,2.33,-9.07,null,null,null,null,null,null,null,null,null,null,null,null,null,{"$f":"MMULT(mcr,vecteurs_propres)","v":1.4286959208351848},-1.0451871519398601,0.49150924115351247,-0.12859450873348827,4.4310793560880607E-2,{"$f":"W4^2/$AG4","v":0.60146458195925334},{"$f":"X4^2/$AG4","v":0.32189821904700139},{"$f":"Y4^2/$AG4","v":7.1185874444636185E-2},{"$f":"Z4^2/$AG4","v":4.8727630834329216E-3},{"$f":"AA4^2/$AG4","v":5.7856146567620821E-4},{"$f":"W4^2+X4^2+Y4^2+Z4^2+AA4^2","v":3.3936695450329566},1]
[null,2,0.35176000000000002,65.12,2.13,-3.3,66.900000000000006,2.52,-8.35,null,null,null,null,null,null,null,null,null,null,null,null,null,1.4107897781723926,-0.85589446341684794,0.5230806413059087,-0.10915609130105741,-0.11814150471561077,0.65853237230633055,0.24237786428909461,9.052943612943426E-2,3.9422891261405163E-3,4.6180381490000264E-3,3.0223689554169169,1]
[null,3,0.35177000000000003,65.069999999999993,2.29,-3.11,67.09,2.4300000000000002,-9.3699999999999992,null,null,null,null,null,null,null,null,null,null,null,null,null,1.4857934807627537,-0.9314389823634307,0.52922327410100733,1.9330467339154722E-2,8.1555486228873805E-2,0.65657630371455222,0.25803411461912457,8.3300225739339845E-2,1.1113555312920326E-4,1.9782203738542567E-3,3.3622630834950908,1]
[null,4,0.35177999999999998,65.22,2.04,-3.63,67.260000000000005,2.2799999999999998,-8.9499999999999993,null,null,null,null,null,null,null,null,null,null,null,null,null,1.2620884841879407,-0.96396943340801511,0.58001362385615751,-0.19213011643905054,-0.12467198961546407,0.54719332280396271,0.31921824613272315,0.11556799283446151,1.2680958257797298E-2,5.3394799710552946E-3,2.9109773009610973,1]
[null,5,0.35181000000000001,65.17,2.08,-4.0199999999999996,66.959999999999994,2.46,-9.81,null,null,null,null,null,null,null,null,null,null,null,null,null,1.4008174302000009,-0.94161178114601696,0.4330359622416291,-6.7282878537769708E-2,-0.20126406395400576,0.6368016846192025,0.28772983516531081,6.0853990013184492E-2,1.4690962716077804E-3,1.3145393930694338E-2,3.0814765729232532,1]
[null,6,0.35182000000000002,65.13,2.2599999999999998,-3.43,67.989999999999995,1.93,-8.83,null,null,null,null,null,null,null,null,null,null,null,null,null,1.1964581917459098,-1.0015819734824905,0.61019520395367688,-0.13150153706163764,0.25661566971950722,0.49530533295227985,0.34709707030997011,0.12882956153301997,5.9832838610910976E-3,2.278475134363912E-2,2.890161097324206,1]
[null,7,0.35182999999999998,65.23,2.25,-3.35,67.83,2.5299999999999998,-9.48,null,null,null,null,null,null,null,null,null,null,null,null,null,1.59565051366044,-0.80420655357247695,0.48393335548389271,9.9677188159580432E-2,-0.10703322788352122,0.73833575486982717,0.18754848628641868,6.7912459953045332E-2,2.8811767666424358E-3,3.3221221240664015E-3,{"$f":"W10^2+X10^2+Y10^2+Z10^2+AA10^2","v":3.4484318888142127},1]
[null,8,0.35183999999999999,65.02,2.19,-3.61,67.27,2.5299999999999998,-9.23,null,null,null,null,null,null,null,null,null,null,null,null,null,1.4789910768646215,-0.8216545753287523,0.4041814457074705,6.1106588965999853E-2,-0.1431718586425792,0.71715556409161141,0.22134046629766435,5.3559314592243668E-2,1.2242168362672054E-3,6.7204381822134011E-3,3.050125683980256,1]
[null,9,0.35185,65.2,2.35,-3.09,67.94,2.04,-9.1300000000000008,null,null,null,null,null,null,null,null,null,null,null,null,null,1.3010592911549979,-0.91567384763065574,0.579085904882498,1.9245298033256752E-2,0.2892000110753124,0.57370617208253216,0.28416917498987465,0.11365311247462778,1.25529161318785E-4,2.8346011291646558E-2,2.9505613874714061,1]
[null,10,0.35188000000000003,64.83,2,-3.53,66.78,2.4900000000000002,-9.19,null,null,null,null,null,null,null,null,null,null,null,null,null,1.2322810623528304,-0.827024133168485,0.39962794717000288,4.1170292762549243E-2,-0.30788358609824729,0.61761575473205077,0.27818594420510184,6.4954691056789499E-2,6.8939277535352568E-4,3.8554217230704485E-2,2.4586753252306854,1]
[null,11,0.35188999999999998,65,2.06,-3.57,67.489999999999995,2.2599999999999998,-9.6300000000000008,null,null,null,null,null,null,null,null,null,null,null,null,null,1.2151822409788431,-0.8942931475729381,0.47962210904191283,2.3562369813703021E-2,-0.16682583471985546,0.58254610360246584,0.31550575095847117,9.074983890031714E-2,2.1902082464334357E-4,1.0979285714102409E-2,2.5348515244693028,1]
[null,12,0.35189999999999999,64.77,2.14,-3.47,67.66,2.2200000000000002,-9.4499999999999993,null,null,null,null,null,null,null,null,null,null,null,null,null,1.2209420653857821,-0.89592497165192764,0.45455506195846523,7.7212301718334042E-2,-7.4019329079173857E-2,0.59356319391379997,0.31960983333107917,8.2271581599762542E-2,2.373831276183382E-3,2.1815598791750587E-3,2.5114419868240447,1]
[null,13,0.35189999999999999,62.73,2.16,-0.82,67.8,2.52,-9.89,null,null,null,null,null,null,null,null,null,null,null,null,null,1.1671391237508075,-0.96504795595870219,0.57827484546726615,0.61848020972930007,-0.2322203905458835,0.44453200748715727,0.30391740514998433,0.10912553467372545,0.12482724836257211,1.7597804326560929E-2,3.0643771680021441,1]
[null,14,0.35191,65.11,2.21,-2.79,67.84,2.0499999999999998,-9.07,null,null,null,null,null,null,null,null,null,null,null,null,null,1.1445139913998865,-0.84401380449289554,0.58742399189775829,7.8322023490177972E-2,0.12061818550233691,0.54853451513487428,0.29830521587384584,0.14449908856377483,2.5687955818291443E-3,6.0923848456757657E-3,2.3880216109792411,1]
[null,15,0.35192000000000001,64.77,1.9,-3.79,67.2,2.59,-8.32,null,null,null,null,null,null,null,null,null,null,null,null,null,1.2337285725019147,-0.69225921275403135,0.34018768536628474,2.8490659548184083E-2,-0.52260371397027638,0.63659963458512026,0.20043087735688206,4.8402112399142994E-2,3.3949403300011119E-4,0.11422788162585451,2.3909630290623309,1]
[null,16,0.35193000000000002,64.81,2.11,-2.85,67.38,2.34,-9.6999999999999993,null,null,null,null,null,null,null,null,null,null,null,null,null,1.2135409408845637,-0.81209671354793467,0.48081343448063019,0.20526330104220586,-0.15306084022765065,0.60631006806639853,0.27151974725593386,9.517855400027822E-2,1.734636708339047E-2,9.6452635939989918E-3,2.4289248897013449,1]
[null,17,0.35193999999999998,65.150000000000006,2.25,-3.34,68.08,2.08,-8.31,null,null,null,null,null,null,null,null,null,null,null,null,null,1.2013492107380235,-0.74380458523351656,0.46987479047813063,5.323083599570777E-2,0.11202865579614023,0.64642420013896862,0.24779741666944646,9.8887947321041197E-2,1.26912864252576E-3,5.6213072280178996E-3,2.2326514475024348,1]
[null,18,0.35196,65.3,2.1800000000000002,-3.37,68.05,2.2400000000000002,-8.3000000000000007,null,null,null,null,null,null,null,null,null,null,null,null,null,1.261485353489054,-0.64825151655784619,0.44199530358852196,8.6911701085225834E-2,-6.1831318374350686E-2,0.71736768649126548,0.18943685198444465,8.8066897067641439E-2,3.4051314802569675E-3,1.7234329763916039E-3,2.2183119298986984,1]
[null,19,0.35197000000000001,65.13,2.27,-3.54,66.97,2.41,-8.44,null,null,null,null,null,null,null,null,null,null,null,null,null,1.3105553831957084,-0.61807391899495645,0.26603402202733212,0.17820228772362498,3.8740330207816115E-3,0.77995684807026511,0.17347650109631052,3.2139134635779359E-2,1.4420700874467941E-2,6.8153231770244923E-6,2.202115946122853,1]
[null,20,0.35198000000000002,62.82,1.92,-1.7,67.8,2.1800000000000002,-9.0299999999999994,null,null,null,null,null,null,null,null,null,null,null,null,null,0.75629246871029365,-0.9641514773478469,0.52953657124675479,0.39105321616508909,-0.33482418550233634,0.27942200509764242,0.45412101052509407,0.13698498660201527,7.4705534533837825E-2,5.4766463241410476E-2,2.0470052028580783,1]
[null,21,0.35199000000000003,65.099999999999994,2.2799999999999998,-3.44,67.14,2.42,-8.4499999999999993,null,null,null,null,null,null,null,null,null,null,null,null,null,1.3214709742616979,-0.58505680169995311,0.26134356971770961,0.2272290915351444,-1.050397956062929E-2,0.79066786595037686,0.15497972904282856,3.0924484557020029E-2,2.3377964575045842E-2,4.9955874728642782E-5,2.2086208520908319,1]
[null,23,0.35205999999999998,69.87,1.58,-2.14,63.78,2.25,10.75,null,null,null,null,null,null,null,null,null,null,null,null,null,4.1566465216739124E-2,1.3403219998878257,0.57549362230851364,-1.4140982004039284,4.6189759894868232E-3,4.1843982997107667E-4,0.43507599414033726,8.0209878628000858E-2,0.48429052040434595,5.1669973448631659E-6,4.1290787990565097,2]
[null,24,0.35206999999999999,71.88,2.29,-4.29,63.94,2.29,9.33,null,null,null,null,null,null,null,null,null,null,null,null,null,0.8468244351612717,1.5005286610826207,0.23828129955582539,-1.3937287204371303,0.71975024610439287,0.13071675961995977,0.41042433342928858,1.0349620640392366E-2,0.35407968516181909,9.4429601148540127E-2,5.4859960273732771,2]
[null,25,0.35208,71.86,2.0099999999999998,-3.58,63.49,2.1800000000000002,10.43,null,null,null,null,null,null,null,null,null,null,null,null,null,0.46698669445391033,1.5412515024187716,0.39617555640188751,-1.5274207702222258,0.54482053580847845,4.0532181757718631E-2,0.44150740708176178,2.9172007812891514E-2,0.4336190484017306,5.5169354945897454E-2,5.380331463540351,2]
[null,26,0.35209000000000001,72.06,2.1,-3.45,63.66,2.2999999999999998,10.74,null,null,null,null,null,null,null,null,null,null,null,null,null,0.61568157965982873,1.6611122911783154,0.36980856019122521,-1.4604874260901044,0.56862763147574358,6.6137192749541981E-2,0.48142808257607517,2.3860929415635602E-2,0.37215947551617545,5.6414319742571675E-2,5.7314771276718144,2]
[null,27,0.35213,69.08,1.25,-2.63,63.12,2.2799999999999998,7.93,null,null,null,null,null,null,null,null,null,null,null,null,null,-0.20970789491506114,1.0833913061245006,0.47087264625429037,-1.270770587527088,-0.42776352853915223,1.3584698654032244E-2,0.36256939334110994,6.8490032478252083E-2,0.49883251757987163,5.6523357946734271E-2,3.237274694838582,2]
[null,28,0.35215000000000002,66.84,2.1,0.92,63.61,2.33,9.6,null,null,null,null,null,null,null,null,null,null,null,null,null,-1.2452950971788723E-2,1.1965917129942771,0.46293806365195378,-0.47002112444195066,0.48597440543637443,7.3726712400353951E-5,0.68072592934951626,0.10188871697236618,0.1050304112945694,0.11228121567114767,2.1033894345332182,2]
[null,29,0.35219,54.87,1.1200000000000001,-10.43,57.49,0.77,0.15,null,null,null,null,null,null,null,null,null,null,null,null,null,-2.4492476243535894,-2.0248726885891646,-1.6806847798217874,-0.86885042963376324,-5.8714758736711156E-3,0.4385559471502764,0.29974714766746624,0.20650574967249619,5.5188635198527985E-2,2.5203112333404651E-6,13.678560202824331,4]
[null,31,0.35225000000000001,53.83,1.1000000000000001,-8.24,59.57,0.72,-0.79,null,null,null,null,null,null,null,null,null,null,null,null,null,-2.4758535686187977,-2.0487767897480302,-1.3820480531986943,-0.43924976187455333,-0.16522796094608655,0.49205575938896917,0.33694087534519673,0.15332419598357622,1.5487719638961893E-2,2.1914496432959732E-3,12.457634681188235,4]
[null,32,0.35226000000000002,56.93,0.71,8.39,51.94,0.84,-1.33,null,null,null,null,null,null,null,null,null,null,null,null,null,-4.0252180964896436,-1.2590352347978657,0.78499040651753327,0.58850288364746228,0.48559194700146324,0.85339038478064644,8.3491964694140261E-2,3.2456195501166116E-2,1.824173333400184E-2,1.2419721690045236E-2,18.985895568148841,4]
[null,33,0.35227000000000003,56.06,0.6,-3.43,56.63,0.81,10.99,null,null,null,null,null,null,null,null,null,null,null,null,null,-3.5108453761095459,-0.79315717826524301,-0.75558557574830076,-1.0387384209468615,-0.17720315058037836,0.84214814248337466,4.2981701883114204E-2,3.9006088937324199E-2,7.3718668220084521E-2,2.1453984761023392E-3,14.636421590389146,4]
[null,37,0.35237000000000002,56.08,0.93,-11.52,55.48,1.69,3.91,null,null,null,null,null,null,null,null,null,null,null,null,null,-2.2565023558246349,-1.118291685372351,-2.2262404892984242,-0.85185319047694641,-0.61961044761680462,0.41036131009592541,0.1007871157062217,0.39942843560123081,5.8482285117234335E-2,3.0940853479387759E-2,12.408096856528397,4]
[null,38,0.35239999999999999,63.52,1.56,-9.34,57.12,0.71,8.02,null,null,null,null,null,null,null,null,null,null,null,null,null,-2.0039834991267425,-9.1591973860305043E-2,-1.2661208195270188,-1.5142802181896897,0.85296396241191463,0.46437940826130703,9.7006203528378289E-4,0.18536808858657414,0.26515338105854674,8.4129060058288199E-2,8.6479929844617089,4]
[null,44,0.35253000000000001,56.74,0.73,8.6999999999999993,52.68,0.99,-1.64,null,null,null,null,null,null,null,null,null,null,null,null,null,-4.0312219738564989,-0.86777156801214395,0.54504840378068331,1.0820373009968245,0.2520060362147733,0.87675228698722707,4.0626958956988909E-2,1.6027789363349258E-2,6.3166664829226143E-2,3.4262998632086858E-3,18.535167622254786,4]
[null,46,0.35258,60.35,1.24,5.77,53.14,0.83,-2.4900000000000002,null,null,null,null,null,null,null,null,null,null,null,null,null,-3.3320227378329559,-0.53760525349939092,0.31751259538823029,0.78195613543844655,0.86073216335086067,0.86436641386473367,2.2501370915443124E-2,7.8488112755274887E-3,4.7604362524074122E-2,5.7679041420221552E-2,12.844524437032625,4]
[null,48,0.35264000000000001,56.58,0.77,9.7100000000000009,54.31,0.56000000000000005,0.48,null,null,null,null,null,null,null,null,null,null,null,null,null,-4.3276916919830795,-0.67867939845689496,0.70872420913323186,1.1247692063458075,0.43489936649086386,0.88569314547303135,2.1782112091934619E-2,2.3753367724577333E-2,5.9827036634329027E-2,8.9443380761277703E-3,21.146054337878638,4]
[null,50,0.35270000000000001,63.89,3.62,-19.71,63.89,3.86,-7.22,null,null,null,null,null,null,null,null,null,null,null,null,null,3.0003892735768978,0.34753238340455711,-3.7226743515586924,0.68645924336166853,8.7250537571889941E-2,0.3837270612812318,5.1482280545938376E-3,0.59071406758314682,2.0086151493484011E-2,3.2449158754357889E-4,23.460257827366345,3]
[null,51,0.35270000000000001,61.91,3.78,-18.04,64.47,3.68,-7.3,null,null,null,null,null,null,null,null,null,null,null,null,null,2.8014211417811286,0.12259192027825422,-3.639952468160597,1.0251491597574078,0.31274120000530375,0.35254333159160112,6.751175477565603E-4,0.59517835076574543,4.7209545651331647E-2,4.393654443565204E-3,22.260981020936292,3]
[null,53,0.35275000000000001,65.73,2.61,2.87,64.959999999999994,2.12,10.47,null,null,null,null,null,null,null,null,null,null,null,null,null,-0.29789587986591115,1.9819933581409015,-1.9943991350430706E-2,0.71766445747180396,0.86084544368741223,1.6827794441863702E-2,0.744907924853351,7.5426222750571222E-5,9.7665478342125231E-2,0.14052337613990923,5.2735345411823964,2]
[null,54,0.35276999999999997,67.61,2.63,2.2599999999999998,65.3,2.4500000000000002,9.41,null,null,null,null,null,null,null,null,null,null,null,null,null,0.17780296417471275,2.2621012196033603,-1.1046363528096875E-2,0.70588463741428398,0.67484029961002023,5.1804651228786252E-3,0.83852270804425288,1.9995369010088325E-5,8.1650381983859169E-2,7.4626449479999385E-2,6.1025203952627551,2]
[null,55,0.35277999999999998,66.010000000000005,2.13,1.47,64.98,2.44,9.99,null,null,null,null,null,null,null,null,null,null,null,null,null,-0.29611911596011364,2.0434445856403398,-0.12854236759898346,0.5490946738232555,9.2675787102019236E-2,1.9103947513136394E-2,0.90973720853796902,3.5998368440179856E-3,6.5687795964731191E-2,1.8712111401454586E-3,4.5899692080238177,2]
[null,56,0.35278999999999999,66.13,2.86,1.76,65.290000000000006,2.2200000000000002,9.69,null,null,null,null,null,null,null,null,null,null,null,null,null,5.0602758831700068E-2,2.0536014981963753,-0.24945996768798076,0.81596444874037266,1.0025863168209304,4.301392309549011E-4,0.70842358172934938,1.045351599014153E-2,0.11184154004438276,0.16885122300517147,5.9530473323594038,2]
[null,57,0.3528,67.17,2.57,2.48,65.34,1.95,0,null,null,null,null,null,null,null,null,null,null,null,null,null,5.4396983488428391E-2,1.3774755124989468,0.21802434650623378,1.1430101218521826,0.75341147671784048,7.7420354092050414E-4,0.49644746018398445,1.2436996321023379E-2,0.34182645537674583,0.14851488457732581,3.8220334269230456,2]
[null,59,0.35286000000000001,65.84,0.85,0.61,64.09,2.13,7.11,null,null,null,null,null,null,null,null,null,null,null,null,null,-1.3389463766332899,1.6353828012562772,0.12877463185302507,0.14039171138950196,-1.1567765061884538,0.30689420302419523,0.45782675473294143,2.8387225672652952E-3,3.3740013553570604E-3,0.22906631832024116,5.8416789298495644,2]
[null,60,0.35287000000000002,66.37,0.81,0.34,65.14,2.64,8.41,null,null,null,null,null,null,null,null,null,null,null,null,null,-0.90284149411780268,1.9990674827136166,6.5024211631310419E-2,0.17581649319092152,-1.5640295570320879,0.11177209380436022,0.54798071502300894,5.7977643003027793E-4,4.2386698609227528E-3,0.33542874488167779,7.292721606590038,2]
[null,61,0.35288000000000003,64.959999999999994,0.87,1.0900000000000001,64.41,2.62,5.63,null,null,null,null,null,null,null,null,null,null,null,null,null,-1.0218870522052272,1.6528138955847249,1.8278135775435217E-2,0.53553935678709519,-1.4925028703567762,0.16599824201819147,0.43425577892479,5.3108189218925549E-5,4.5591143072020925E-2,0.35410172779577875,6.2907482318412189,2]
[null,62,0.35288999999999998,64.599999999999994,1.3,1,64.38,2.29,8.02,null,null,null,null,null,null,null,null,null,null,null,null,null,-1.0850016710009789,1.715116488946721,-0.13049912709381217,0.50284665026636277,-0.80642446242036003,0.23362075527919768,0.58376473245986404,3.3796040583612386E-3,5.0178968828316711E-2,0.12905593937426033,5.0390583861781595,2]
[null,63,0.35291,66.180000000000007,1,-0.26,64.239999999999995,1.95,7.3,null,null,null,null,null,null,null,null,null,null,null,null,null,-1.3170584917107753,1.6766801519172718,-1.0696319500424128E-2,9.4589668723145837E-2,-0.92907338425929087,0.32015481173588878,0.51886019488413426,2.1116339781413447E-5,1.6513431023957976E-3,0.15931253393779965,5.4181383724398104,2]
[null,"li 49",null,null,null,null,null,null,null,null,null,null,null,null,null,null,null,null,null,null,null,null,{"$error":"#N/A"},{"$error":"#N/A"},{"$error":"#N/A"},{"$error":"#N/A"},{"$error":"#N/A"},{"$error":"#N/A"},{"$error":"#N/A"},{"$error":"#N/A"},{"$error":"#N/A"},{"$error":"#N/A"},{"$error":"#N/A"},2]
[null,"li 50",null,null,null,null,null,null,null,null,null,null,null,null,null,null,null,null,null,null,null,null,{"$error":"#N/A"},{"$error":"#N/A"},{"$error":"#N/A"},{"$error":"#N/A"},{"$error":"#N/A"},{"$error":"#N/A"},{"$error":"#N/A"},{"$error":"#N/A"},{"$error":"#N/A"},{"$error":"#N/A"},{"$error":"#N/A"},2]
[null,"li 51",null,null,null,null,null,null,null,null,null,null,null,null,null,null,null,null,null,null,null,null,{"$error":"#N/A"},{"$error":"#N/A"},{"$error":"#N/A"},{"$error":"#N/A"},{"$error":"#N/A"},{"$error":"#N/A"},{"$error":"#N/A"},{"$error":"#N/A"},{"$error":"#N/A"},{"$error":"#N/A"},{"$error":"#N/A"},2]
[null,"li 52",null,null,null,null,null,null,null,null,null,null,null,null,null,null,null,null,null,null,null,null,{"$error":"#N/A"},{"$error":"#N/A"},{"$error":"#N/A"},{"$error":"#N/A"},{"$error":"#N/A"},{"$error":"#N/A"},{"$error":"#N/A"},{"$error":"#N/A"},{"$error":"#N/A"},{"$error":"#N/A"},{"$error":"#N/A"},2]
[null,"li 53",null,null,null,null,null,null,null,null,null,null,null,null,null,null,null,null,null,null,null,null,{"$error":"#N/A"},{"$error":"#N/A"},{"$error":"#N/A"},{"$error":"#N/A"},{"$error":"#N/A"},{"$error":"#N/A"},{"$error":"#N/A"},{"$error":"#N/A"},{"$error":"#N/A"},{"$error":"#N/A"},{"$error":"#N/A"},2]
[null,"li 54",null,null,null,null,null,null,null,null,null,null,null,null,null,null,null,null,null,null,null,null,{"$error":"#N/A"},{"$error":"#N/A"},{"$error":"#N/A"},{"$error":"#N/A"},{"$error":"#N/A"},{"$error":"#N/A"},{"$error":"#N/A"},{"$error":"#N/A"},{"$error":"#N/A"},{"$error":"#N/A"},{"$error":"#N/A"},2]
[null,"li 55",null,null,null,null,null,null,null,null,null,null,null,null,null,null,null,null,null,null,null,null,{"$error":"#N/A"},{"$error":"#N/A"},{"$error":"#N/A"},{"$error":"#N/A"},{"$error":"#N/A"},{"$error":"#N/A"},{"$error":"#N/A"},{"$error":"#N/A"},{"$error":"#N/A"},{"$error":"#N/A"},{"$error":"#N/A"},2]
[null,"li 56",null,null,null,null,null,null,null,null,null,null,null,null,null,null,null,null,null,null,null,null,{"$error":"#N/A"},{"$error":"#N/A"},{"$error":"#N/A"},{"$error":"#N/A"},{"$error":"#N/A"},{"$error":"#N/A"},{"$error":"#N/A"},{"$error":"#N/A"},{"$error":"#N/A"},{"$error":"#N/A"},{"$error":"#N/A"},2]
[null,"li 57",null,null,null,null,null,null,null,null,null,null,null,null,null,null,null,null,null,null,null,null,{"$error":"#N/A"},{"$error":"#N/A"},{"$error":"#N/A"},{"$error":"#N/A"},{"$error":"#N/A"},{"$error":"#N/A"},{"$error":"#N/A"},{"$error":"#N/A"},{"$error":"#N/A"},{"$error":"#N/A"},{"$error":"#N/A"},2]
[null,"li 58",null,null,null,null,null,null,null,null,null,null,null,null,null,null,null,null,null,null,null,null,{"$error":"#N/A"},{"$error":"#N/A"},{"$error":"#N/A"},{"$error":"#N/A"},{"$error":"#N/A"},{"$error":"#N/A"},{"$error":"#N/A"},{"$error":"#N/A"},{"$error":"#N/A"},{"$error":"#N/A"},{"$error":"#N/A"},2]
[null,"li 59",null,null,null,null,null,null,null,null,null,null,null,null,null,null,null,null,null,null,null,null,{"$error":"#N/A"},{"$error":"#N/A"},{"$error":"#N/A"},{"$error":"#N/A"},{"$error":"#N/A"},{"$error":"#N/A"},{"$error":"#N/A"},{"$error":"#N/A"},{"$error":"#N/A"},{"$error":"#N/A"},{"$error":"#N/A"},2]
[null,"li 60",null,null,null,null,null,null,null,null,null,null,null,null,null,null,null,null,null,null,null,null,{"$error":"#N/A"},{"$error":"#N/A"},{"$error":"#N/A"},{"$error":"#N/A"},{"$error":"#N/A"},{"$error":"#N/A"},{"$error":"#N/A"},{"$error":"#N/A"},{"$error":"#N/A"},{"$error":"#N/A"},{"$error":"#N/A"},2]
[null,"li 61",null,null,null,null,null,null,null,null,null,null,null,null,null,null,null,null,null,null,null,null,{"$error":"#N/A"},{"$error":"#N/A"},{"$error":"#N/A"},{"$error":"#N/A"},{"$error":"#N/A"},{"$error":"#N/A"},{"$error":"#N/A"},{"$error":"#N/A"},{"$error":"#N/A"},{"$error":"#N/A"},{"$error":"#N/A"},2]
[null,"li 62",null,null,null,null,null,null,null,null,null,null,null,null,null,null,null,null,null,null,null,null,{"$error":"#N/A"},{"$error":"#N/A"},{"$error":"#N/A"},{"$error":"#N/A"},{"$error":"#N/A"},{"$error":"#N/A"},{"$error":"#N/A"},{"$error":"#N/A"},{"$error":"#N/A"},{"$error":"#N/A"},{"$error":"#N/A"},2]
[null,"li 63",null,null,null,null,null,null,null,null,null,null,null,null,null,null,null,null,null,null,null,null,{"$error":"#N/A"},{"$error":"#N/A"},{"$error":"#N/A"},{"$error":"#N/A"},{"$error":"#N/A"},{"$error":"#N/A"},{"$error":"#N/A"},{"$error":"#N/A"},{"$error":"#N/A"},{"$error":"#N/A"},{"$error":"#N/A"},3]
[null,"li 64",null,null,null,null,null,null,null,null,null,null,null,null,null,null,null,null,null,null,null,null,{"$error":"#N/A"},{"$error":"#N/A"},{"$error":"#N/A"},{"$error":"#N/A"},{"$error":"#N/A"},{"$error":"#N/A"},{"$error":"#N/A"},{"$error":"#N/A"},{"$error":"#N/A"},{"$error":"#N/A"},{"$error":"#N/A"},3]
[null,"li 65",null,null,null,null,null,null,null,null,null,null,null,null,null,null,null,null,null,null,null,null,{"$error":"#N/A"},{"$error":"#N/A"},{"$error":"#N/A"},{"$error":"#N/A"},{"$error":"#N/A"},{"$f":"W68^2/$AG68","v":{"$error":"#N/A"}},{"$f":"X68^2/$AG68","v":{"$error":"#N/A"}},{"$f":"Y68^2/$AG68","v":{"$error":"#N/A"}},{"$f":"Z68^2/$AG68","v":{"$error":"#N/A"}},{"$f":"AA68^2/$AG68","v":{"$error":"#N/A"}},{"$f":"W68^2+X68^2+Y68^2+Z68^2+AA68^2","v":{"$error":"#N/A"}},3]
[null,"li 66",null,null,null,null,null,null,null,null,null,null,null,null,null,null,null,null,null,null,null,null,{"$error":"#N/A"},{"$error":"#N/A"},{"$error":"#N/A"},{"$error":"#N/A"},{"$error":"#N/A"},{"$error":"#N/A"},{"$error":"#N/A"},{"$error":"#N/A"},{"$error":"#N/A"},{"$error":"#N/A"},{"$error":"#N/A"},3]
[null,"li 67",null,null,null,null,null,null,null,null,null,null,null,null,null,null,null,null,null,null,null,null,{"$error":"#N/A"},{"$error":"#N/A"},{"$error":"#N/A"},{"$error":"#N/A"},{"$error":"#N/A"},{"$error":"#N/A"},{"$error":"#N/A"},{"$error":"#N/A"},{"$error":"#N/A"},{"$error":"#N/A"},{"$error":"#N/A"},3]
[null,"li 68",null,null,null,null,null,null,null,null,null,null,null,null,null,null,null,null,null,null,null,null,{"$error":"#N/A"},{"$error":"#N/A"},{"$error":"#N/A"},{"$error":"#N/A"},{"$error":"#N/A"},{"$error":"#N/A"},{"$error":"#N/A"},{"$error":"#N/A"},{"$error":"#N/A"},{"$error":"#N/A"},{"$error":"#N/A"},3]
[null,"li 69",null,null,null,null,null,null,null,null,null,null,null,null,null,null,null,null,null,null,null,null,{"$error":"#N/A"},{"$error":"#N/A"},{"$error":"#N/A"},{"$error":"#N/A"},{"$error":"#N/A"},{"$error":"#N/A"},{"$error":"#N/A"},{"$error":"#N/A"},{"$error":"#N/A"},{"$error":"#N/A"},{"$error":"#N/A"},3]
[null,"li 70",null,null,null,null,null,null,null,null,null,null,null,null,null,null,null,null,null,null,null,null,{"$error":"#N/A"},{"$error":"#N/A"},{"$error":"#N/A"},{"$error":"#N/A"},{"$error":"#N/A"},{"$error":"#N/A"},{"$error":"#N/A"},{"$error":"#N/A"},{"$error":"#N/A"},{"$error":"#N/A"},{"$error":"#N/A"},3]
[null,"li 71",null,null,null,null,null,null,null,null,null,null,null,null,null,null,null,null,null,null,null,null,{"$error":"#N/A"},{"$error":"#N/A"},{"$error":"#N/A"},{"$error":"#N/A"},{"$error":"#N/A"},{"$error":"#N/A"},{"$error":"#N/A"},{"$error":"#N/A"},{"$error":"#N/A"},{"$error":"#N/A"},{"$error":"#N/A"},3]
[null,"li 72",null,null,null,null,null,null,null,null,null,null,null,null,null,null,null,null,null,null,null,null,{"$error":"#N/A"},{"$error":"#N/A"},{"$error":"#N/A"},{"$error":"#N/A"},{"$error":"#N/A"},{"$error":"#N/A"},{"$error":"#N/A"},{"$error":"#N/A"},{"$error":"#N/A"},{"$error":"#N/A"},{"$error":"#N/A"},3]
[null,"li 73",null,null,null,null,null,null,null,null,null,null,null,null,null,null,null,null,null,null,null,null,{"$error":"#N/A"},{"$error":"#N/A"},{"$error":"#N/A"},{"$error":"#N/A"},{"$error":"#N/A"},{"$error":"#N/A"},{"$error":"#N/A"},{"$error":"#N/A"},{"$error":"#N/A"},{"$error":"#N/A"},{"$error":"#N/A"},3]
[null,"li 74",null,null,null,null,null,null,null,null,null,null,null,null,null,null,null,null,null,null,null,null,{"$error":"#N/A"},{"$error":"#N/A"},{"$error":"#N/A"},{"$error":"#N/A"},{"$error":"#N/A"},{"$error":"#N/A"},{"$error":"#N/A"},{"$error":"#N/A"},{"$error":"#N/A"},{"$error":"#N/A"},{"$error":"#N/A"},3]
[null,"li 75",null,null,null,null,null,null,null,null,null,null,null,null,null,null,null,null,null,null,null,null,{"$error":"#N/A"},{"$error":"#N/A"},{"$error":"#N/A"},{"$error":"#N/A"},{"$error":"#N/A"},{"$error":"#N/A"},{"$error":"#N/A"},{"$error":"#N/A"},{"$error":"#N/A"},{"$error":"#N/A"},{"$error":"#N/A"},3]
[null,"li 76",null,null,null,null,null,null,null,null,null,null,null,null,null,null,null,null,null,null,null,null,{"$error":"#N/A"},{"$error":"#N/A"},{"$error":"#N/A"},{"$error":"#N/A"},{"$error":"#N/A"},{"$error":"#N/A"},{"$error":"#N/A"},{"$error":"#N/A"},{"$error":"#N/A"},{"$error":"#N/A"},{"$error":"#N/A"},3]
[null,"li 77",null,null,null,null,null,null,null,null,null,null,null,null,null,null,null,null,null,null,null,null,{"$error":"#N/A"},{"$error":"#N/A"},{"$error":"#N/A"},{"$error":"#N/A"},{"$error":"#N/A"},{"$error":"#N/A"},{"$error":"#N/A"},{"$error":"#N/A"},{"$error":"#N/A"},{"$error":"#N/A"},{"$error":"#N/A"},3]
[null,"li 78",null,null,null,null,null,null,null,null,null,null,null,null,null,null,null,null,null,null,null,null,{"$error":"#N/A"},{"$error":"#N/A"},{"$error":"#N/A"},{"$error":"#N/A"},{"$error":"#N/A"},{"$error":"#N/A"},{"$error":"#N/A"},{"$error":"#N/A"},{"$error":"#N/A"},{"$error":"#N/A"},{"$error":"#N/A"},3]
[null,"li 79",null,null,null,null,null,null,null,null,null,null,null,null,null,null,null,null,null,null,null,null,{"$error":"#N/A"},{"$error":"#N/A"},{"$error":"#N/A"},{"$error":"#N/A"},{"$error":"#N/A"},{"$error":"#N/A"},{"$error":"#N/A"},{"$error":"#N/A"},{"$error":"#N/A"},{"$error":"#N/A"},{"$error":"#N/A"},3]
[null,"li 80",null,null,null,null,null,null,null,null,null,null,null,null,null,null,null,null,null,null,null,null,{"$error":"#N/A"},{"$error":"#N/A"},{"$error":"#N/A"},{"$error":"#N/A"},{"$error":"#N/A"},{"$error":"#N/A"},{"$error":"#N/A"},{"$error":"#N/A"},{"$error":"#N/A"},{"$error":"#N/A"},{"$error":"#N/A"},3]
[null,"li 81",null,null,null,null,null,null,null,null,null,null,null,null,null,null,null,null,null,null,null,null,{"$error":"#N/A"},{"$error":"#N/A"},{"$error":"#N/A"},{"$error":"#N/A"},{"$error":"#N/A"},{"$error":"#N/A"},{"$error":"#N/A"},{"$error":"#N/A"},{"$error":"#N/A"},{"$error":"#N/A"},{"$error":"#N/A"},3]
[null,"li 82",null,null,null,null,null,null,null,null,null,null,null,null,null,null,null,null,null,null,null,null,{"$error":"#N/A"},{"$error":"#N/A"},{"$error":"#N/A"},{"$error":"#N/A"},{"$error":"#N/A"},{"$error":"#N/A"},{"$error":"#N/A"},{"$error":"#N/A"},{"$error":"#N/A"},{"$error":"#N/A"},{"$error":"#N/A"},3]
[null,"li 83",null,null,null,null,null,null,null,null,null,null,null,null,null,null,null,null,null,null,null,null,{"$error":"#N/A"},{"$error":"#N/A"},{"$error":"#N/A"},{"$error":"#N/A"},{"$error":"#N/A"},{"$error":"#N/A"},{"$error":"#N/A"},{"$error":"#N/A"},{"$error":"#N/A"},{"$error":"#N/A"},{"$error":"#N/A"},3]
[null,"li 84",null,null,null,null,null,null,null,null,null,null,null,null,null,null,null,null,null,null,null,null,{"$error":"#N/A"},{"$error":"#N/A"},{"$error":"#N/A"},{"$error":"#N/A"},{"$error":"#N/A"},{"$error":"#N/A"},{"$error":"#N/A"},{"$error":"#N/A"},{"$error":"#N/A"},{"$error":"#N/A"},{"$error":"#N/A"},3]
[null,"li 85",null,null,null,null,null,null,null,null,null,null,null,null,null,null,null,null,null,null,null,null,{"$error":"#N/A"},{"$error":"#N/A"},{"$error":"#N/A"},{"$error":"#N/A"},{"$error":"#N/A"},{"$error":"#N/A"},{"$error":"#N/A"},{"$error":"#N/A"},{"$error":"#N/A"},{"$error":"#N/A"},{"$error":"#N/A"},3]
[null,"li 86",null,null,null,null,null,null,null,null,null,null,null,null,null,null,null,null,null,null,null,null,{"$error":"#N/A"},{"$error":"#N/A"},{"$error":"#N/A"},{"$error":"#N/A"},{"$error":"#N/A"},{"$error":"#N/A"},{"$error":"#N/A"},{"$error":"#N/A"},{"$error":"#N/A"},{"$error":"#N/A"},{"$error":"#N/A"},3]
[null,"li 87",null,null,null,null,null,null,null,null,null,null,null,null,null,null,null,null,null,null,null,null,{"$error":"#N/A"},{"$error":"#N/A"},{"$error":"#N/A"},{"$error":"#N/A"},{"$error":"#N/A"},{"$error":"#N/A"},{"$error":"#N/A"},{"$error":"#N/A"},{"$error":"#N/A"},{"$error":"#N/A"},{"$error":"#N/A"},3]
[null,"li 88",null,null,null,null,null,null,null,null,null,null,null,null,null,null,null,null,null,null,null,null,{"$error":"#N/A"},{"$error":"#N/A"},{"$error":"#N/A"},{"$error":"#N/A"},{"$error":"#N/A"},{"$error":"#N/A"},{"$error":"#N/A"},{"$error":"#N/A"},{"$error":"#N/A"},{"$error":"#N/A"},{"$error":"#N/A"},3]
[null,"li 89",null,null,null,null,null,null,null,null,null,null,null,null,null,null,null,null,null,null,null,null,{"$error":"#N/A"},{"$error":"#N/A"},{"$error":"#N/A"},{"$error":"#N/A"},{"$error":"#N/A"},{"$error":"#N/A"},{"$error":"#N/A"},{"$error":"#N/A"},{"$error":"#N/A"},{"$error":"#N/A"},{"$error":"#N/A"},3]
[null,"li 90",null,null,null,null,null,null,null,null,null,null,null,null,null,null,null,null,null,null,null,null,{"$error":"#N/A"},{"$error":"#N/A"},{"$error":"#N/A"},{"$error":"#N/A"},{"$error":"#N/A"},{"$error":"#N/A"},{"$error":"#N/A"},{"$error":"#N/A"},{"$error":"#N/A"},{"$error":"#N/A"},{"$error":"#N/A"},3]
[null,"li 91",null,null,null,null,null,null,null,null,null,null,null,null,null,null,null,null,null,null,null,null,{"$error":"#N/A"},{"$error":"#N/A"},{"$error":"#N/A"},{"$error":"#N/A"},{"$error":"#N/A"},{"$error":"#N/A"},{"$error":"#N/A"},{"$error":"#N/A"},{"$error":"#N/A"},{"$error":"#N/A"},{"$error":"#N/A"},3]
[null,"li 92",null,null,null,null,null,null,null,null,null,null,null,null,null,null,null,null,null,null,null,null,{"$error":"#N/A"},{"$error":"#N/A"},{"$error":"#N/A"},{"$error":"#N/A"},{"$error":"#N/A"},{"$error":"#N/A"},{"$error":"#N/A"},{"$error":"#N/A"},{"$error":"#N/A"},{"$error":"#N/A"},{"$error":"#N/A"},3]
[null,"li 93",null,null,null,null,null,null,null,null,null,null,null,null,null,null,null,null,null,null,null,null,{"$error":"#N/A"},{"$error":"#N/A"},{"$error":"#N/A"},{"$error":"#N/A"},{"$error":"#N/A"},{"$error":"#N/A"},{"$error":"#N/A"},{"$error":"#N/A"},{"$error":"#N/A"},{"$error":"#N/A"},{"$error":"#N/A"},3]
[null,"li 94",null,null,null,null,null,null,null,null,null,null,null,null,null,null,null,null,null,null,null,null,{"$error":"#N/A"},{"$error":"#N/A"},{"$error":"#N/A"},{"$error":"#N/A"},{"$error":"#N/A"},{"$error":"#N/A"},{"$error":"#N/A"},{"$error":"#N/A"},{"$error":"#N/A"},{"$error":"#N/A"},{"$error":"#N/A"},3]
[null,"li 95",null,null,null,null,null,null,null,null,null,null,null,null,null,null,null,null,null,null,null,null,{"$error":"#N/A"},{"$error":"#N/A"},{"$error":"#N/A"},{"$error":"#N/A"},{"$error":"#N/A"},{"$error":"#N/A"},{"$error":"#N/A"},{"$error":"#N/A"},{"$error":"#N/A"},{"$error":"#N/A"},{"$error":"#N/A"},3]
[null,"li 96",null,null,null,null,null,null,null,null,null,null,null,null,null,null,null,null,null,null,null,null,{"$error":"#N/A"},{"$error":"#N/A"},{"$error":"#N/A"},{"$error":"#N/A"},{"$error":"#N/A"},{"$error":"#N/A"},{"$error":"#N/A"},{"$error":"#N/A"},{"$error":"#N/A"},{"$error":"#N/A"},{"$error":"#N/A"},3]
[null,"li 97",null,null,null,null,null,null,null,null,null,null,null,null,null,null,null,null,null,null,null,null,{"$error":"#N/A"},{"$error":"#N/A"},{"$error":"#N/A"},{"$error":"#N/A"},{"$error":"#N/A"},{"$error":"#N/A"},{"$error":"#N/A"},{"$error":"#N/A"},{"$error":"#N/A"},{"$error":"#N/A"},{"$error":"#N/A"},3]
[null,"li 98",null,null,null,null,null,null,null,null,null,null,null,null,null,null,null,null,null,null,null,null,{"$error":"#N/A"},{"$error":"#N/A"},{"$error":"#N/A"},{"$error":"#N/A"},{"$error":"#N/A"},{"$error":"#N/A"},{"$error":"#N/A"},{"$error":"#N/A"},{"$error":"#N/A"},{"$error":"#N/A"},{"$error":"#N/A"},3]
[null,"li 99",null,null,null,null,null,null,null,null,null,null,null,null,null,null,null,null,null,null,null,null,{"$error":"#N/A"},{"$error":"#N/A"},{"$error":"#N/A"},{"$error":"#N/A"},{"$error":"#N/A"},{"$error":"#N/A"},{"$error":"#N/A"},{"$error":"#N/A"},{"$error":"#N/A"},{"$error":"#N/A"},{"$error":"#N/A"},3]
[null,"li 100",null,null,null,null,null,null,null,null,null,null,null,null,null,null,null,null,null,null,null,null,{"$error":"#N/A"},{"$error":"#N/A"},{"$error":"#N/A"},{"$error":"#N/A"},{"$error":"#N/A"},{"$error":"#N/A"},{"$error":"#N/A"},{"$error":"#N/A"},{"$error":"#N/A"},{"$error":"#N/A"},{"$error":"#N/A"},3]
[null,"li 101",null,null,null,null,null,null,null,null,null,null,null,null,null,null,null,null,null,null,null,null,{"$error":"#N/A"},{"$error":"#N/A"},{"$error":"#N/A"},{"$error":"#N/A"},{"$error":"#N/A"},{"$error":"#N/A"},{"$error":"#N/A"},{"$error":"#N/A"},{"$error":"#N/A"},{"$error":"#N/A"},{"$error":"#N/A"},3]
[null,"li 102",null,null,null,null,null,null,null,null,null,null,null,null,null,null,null,null,null,null,null,null,{"$error":"#N/A"},{"$error":"#N/A"},{"$error":"#N/A"},{"$error":"#N/A"},{"$error":"#N/A"},{"$error":"#N/A"},{"$error":"#N/A"},{"$error":"#N/A"},{"$error":"#N/A"},{"$error":"#N/A"},{"$error":"#N/A"},3]
[null,"li 103",null,null,null,null,null,null,null,null,null,null,null,null,null,null,null,null,null,null,null,null,{"$error":"#N/A"},{"$error":"#N/A"},{"$error":"#N/A"},{"$error":"#N/A"},{"$error":"#N/A"},{"$error":"#N/A"},{"$error":"#N/A"},{"$error":"#N/A"},{"$error":"#N/A"},{"$error":"#N/A"},{"$error":"#N/A"},3]
[null,"li 104",null,null,null,null,null,null,null,null,null,null,null,null,null,null,null,null,null,null,null,null,{"$error":"#N/A"},{"$error":"#N/A"},{"$error":"#N/A"},{"$error":"#N/A"},{"$error":"#N/A"},{"$error":"#N/A"},{"$error":"#N/A"},{"$error":"#N/A"},{"$error":"#N/A"},{"$error":"#N/A"},{"$error":"#N/A"},3]
[null,"li 105",null,null,null,null,null,null,null,null,null,null,null,null,null,null,null,null,null,null,null,null,{"$error":"#N/A"},{"$error":"#N/A"},{"$error":"#N/A"},{"$error":"#N/A"},{"$error":"#N/A"},{"$error":"#N/A"},{"$error":"#N/A"},{"$error":"#N/A"},{"$error":"#N/A"},{"$error":"#N/A"},{"$error":"#N/A"},3]
[null,"li 106",null,null,null,null,null,null,null,null,null,null,null,null,null,null,null,null,null,null,null,null,{"$error":"#N/A"},{"$error":"#N/A"},{"$error":"#N/A"},{"$error":"#N/A"},{"$error":"#N/A"},{"$error":"#N/A"},{"$error":"#N/A"},{"$error":"#N/A"},{"$error":"#N/A"},{"$error":"#N/A"},{"$error":"#N/A"},3]
[null,"li 107",null,null,null,null,null,null,null,null,null,null,null,null,null,null,null,null,null,null,null,null,{"$error":"#N/A"},{"$error":"#N/A"},{"$error":"#N/A"},{"$error":"#N/A"},{"$error":"#N/A"},{"$error":"#N/A"},{"$error":"#N/A"},{"$error":"#N/A"},{"$error":"#N/A"},{"$error":"#N/A"},{"$error":"#N/A"},3]
[null,"li 108",null,null,null,null,null,null,null,null,null,null,null,null,null,null,null,null,null,null,null,null,{"$error":"#N/A"},{"$error":"#N/A"},{"$error":"#N/A"},{"$error":"#N/A"},{"$error":"#N/A"},{"$error":"#N/A"},{"$error":"#N/A"},{"$error":"#N/A"},{"$error":"#N/A"},{"$error":"#N/A"},{"$error":"#N/A"},3]
[null,"li 109",null,null,null,null,null,null,null,null,null,null,null,null,null,null,null,null,null,null,null,null,{"$error":"#N/A"},{"$error":"#N/A"},{"$error":"#N/A"},{"$error":"#N/A"},{"$error":"#N/A"},{"$error":"#N/A"},{"$error":"#N/A"},{"$error":"#N/A"},{"$error":"#N/A"},{"$error":"#N/A"},{"$error":"#N/A"},3]
[null,"li 110",null,null,null,null,null,null,null,null,null,null,null,null,null,null,null,null,null,null,null,null,{"$error":"#N/A"},{"$error":"#N/A"},{"$error":"#N/A"},{"$error":"#N/A"},{"$error":"#N/A"},{"$error":"#N/A"},{"$error":"#N/A"},{"$error":"#N/A"},{"$error":"#N/A"},{"$error":"#N/A"},{"$error":"#N/A"},3]
[null,"li 111",null,null,null,null,null,null,null,null,null,null,null,null,null,null,null,null,null,null,null,null,{"$error":"#N/A"},{"$error":"#N/A"},{"$error":"#N/A"},{"$error":"#N/A"},{"$error":"#N/A"},{"$error":"#N/A"},{"$error":"#N/A"},{"$error":"#N/A"},{"$error":"#N/A"},{"$error":"#N/A"},{"$error":"#N/A"},3]
[null,"li 112",null,null,null,null,null,null,null,null,null,null,null,null,null,null,null,null,null,null,null,null,{"$error":"#N/A"},{"$error":"#N/A"},{"$error":"#N/A"},{"$error":"#N/A"},{"$error":"#N/A"},{"$error":"#N/A"},{"$error":"#N/A"},{"$error":"#N/A"},{"$error":"#N/A"},{"$error":"#N/A"},{"$error":"#N/A"},3]
[null,"li 113",null,null,null,null,null,null,null,null,null,null,null,null,null,null,null,null,null,null,null,null,{"$error":"#N/A"},{"$error":"#N/A"},{"$error":"#N/A"},{"$error":"#N/A"},{"$error":"#N/A"},{"$error":"#N/A"},{"$error":"#N/A"},{"$error":"#N/A"},{"$error":"#N/A"},{"$error":"#N/A"},{"$error":"#N/A"},3]
[null,"li 114",null,null,null,null,null,null,null,null,null,null,null,null,null,null,null,null,null,null,null,null,{"$error":"#N/A"},{"$error":"#N/A"},{"$error":"#N/A"},{"$error":"#N/A"},{"$error":"#N/A"},{"$error":"#N/A"},{"$error":"#N/A"},{"$error":"#N/A"},{"$error":"#N/A"},{"$error":"#N/A"},{"$error":"#N/A"},3]
[null,"li 115",null,null,null,null,null,null,null,null,null,null,null,null,null,null,null,null,null,null,null,null,{"$error":"#N/A"},{"$error":"#N/A"},{"$error":"#N/A"},{"$error":"#N/A"},{"$error":"#N/A"},{"$error":"#N/A"},{"$error":"#N/A"},{"$error":"#N/A"},{"$error":"#N/A"},{"$error":"#N/A"},{"$error":"#N/A"},3]
[null,"li 116",null,null,null,null,null,null,null,null,null,null,null,null,null,null,null,null,null,null,null,null,{"$error":"#N/A"},{"$error":"#N/A"},{"$error":"#N/A"},{"$error":"#N/A"},{"$error":"#N/A"},{"$error":"#N/A"},{"$error":"#N/A"},{"$error":"#N/A"},{"$error":"#N/A"},{"$error":"#N/A"},{"$error":"#N/A"},3]
[null,"li 117",null,null,null,null,null,null,null,null,null,null,null,null,null,null,null,null,null,null,null,null,{"$error":"#N/A"},{"$error":"#N/A"},{"$error":"#N/A"},{"$error":"#N/A"},{"$error":"#N/A"},{"$error":"#N/A"},{"$error":"#N/A"},{"$error":"#N/A"},{"$error":"#N/A"},{"$error":"#N/A"},{"$error":"#N/A"},3]
[null,"li 118",null,null,null,null,null,null,null,null,null,null,null,null,null,null,null,null,null,null,null,null,{"$error":"#N/A"},{"$error":"#N/A"},{"$error":"#N/A"},{"$error":"#N/A"},{"$error":"#N/A"},{"$error":"#N/A"},{"$error":"#N/A"},{"$error":"#N/A"},{"$error":"#N/A"},{"$error":"#N/A"},{"$error":"#N/A"},3]
[null,"li 119",null,null,null,null,null,null,null,null,null,null,null,null,null,null,null,null,null,null,null,null,{"$error":"#N/A"},{"$error":"#N/A"},{"$error":"#N/A"},{"$error":"#N/A"},{"$error":"#N/A"},{"$error":"#N/A"},{"$error":"#N/A"},{"$error":"#N/A"},{"$error":"#N/A"},{"$error":"#N/A"},{"$error":"#N/A"},2]
[null,"li 120",null,null,null,null,null,null,null,null,null,null,null,null,null,null,null,null,null,null,null,null,{"$error":"#N/A"},{"$error":"#N/A"},{"$error":"#N/A"},{"$error":"#N/A"},{"$error":"#N/A"},{"$error":"#N/A"},{"$error":"#N/A"},{"$error":"#N/A"},{"$error":"#N/A"},{"$error":"#N/A"},{"$error":"#N/A"},3]
[null,"li 121",null,null,null,null,null,null,null,null,null,null,null,null,null,null,null,null,null,null,null,null,{"$error":"#N/A"},{"$error":"#N/A"},{"$error":"#N/A"},{"$error":"#N/A"},{"$error":"#N/A"},{"$error":"#N/A"},{"$error":"#N/A"},{"$error":"#N/A"},{"$error":"#N/A"},{"$error":"#N/A"},{"$error":"#N/A"},1]
[null,"li 122",null,null,null,null,null,null,null,null,null,null,null,null,null,null,null,null,null,null,null,null,{"$error":"#N/A"},{"$error":"#N/A"},{"$error":"#N/A"},{"$error":"#N/A"},{"$error":"#N/A"},{"$error":"#N/A"},{"$error":"#N/A"},{"$error":"#N/A"},{"$error":"#N/A"},{"$error":"#N/A"},{"$error":"#N/A"},1]
[null,"li 123",null,null,null,null,null,null,null,null,null,null,null,null,null,null,null,null,null,null,null,null,{"$error":"#N/A"},{"$error":"#N/A"},{"$error":"#N/A"},{"$error":"#N/A"},{"$error":"#N/A"},{"$error":"#N/A"},{"$error":"#N/A"},{"$error":"#N/A"},{"$error":"#N/A"},{"$error":"#N/A"},{"$error":"#N/A"},4]
[null,"li 124",null,null,null,null,null,null,null,null,null,null,null,null,null,null,null,null,null,null,null,null,{"$error":"#N/A"},{"$error":"#N/A"},{"$error":"#N/A"},{"$error":"#N/A"},{"$error":"#N/A"},{"$error":"#N/A"},{"$error":"#N/A"},{"$error":"#N/A"},{"$error":"#N/A"},{"$error":"#N/A"},{"$error":"#N/A"},5]
[null,"li 125",null,null,null,null,null,null,null,null,null,null,null,null,null,null,null,null,null,null,null,null,{"$error":"#N/A"},{"$error":"#N/A"},{"$error":"#N/A"},{"$error":"#N/A"},{"$error":"#N/A"},{"$error":"#N/A"},{"$error":"#N/A"},{"$error":"#N/A"},{"$error":"#N/A"},{"$error":"#N/A"},{"$error":"#N/A"},5]
[null,"li 126",null,null,null,null,null,null,null,null,null,null,null,null,null,null,null,null,null,null,null,null,{"$error":"#N/A"},{"$error":"#N/A"},{"$error":"#N/A"},{"$error":"#N/A"},{"$error":"#N/A"},{"$error":"#N/A"},{"$error":"#N/A"},{"$error":"#N/A"},{"$error":"#N/A"},{"$error":"#N/A"},{"$error":"#N/A"},2]
[null,"li 127",null,null,null,null,null,null,null,null,null,null,null,null,null,null,null,null,null,null,null,null,{"$error":"#N/A"},{"$error":"#N/A"},{"$error":"#N/A"},{"$error":"#N/A"},{"$error":"#N/A"},{"$error":"#N/A"},{"$error":"#N/A"},{"$error":"#N/A"},{"$error":"#N/A"},{"$error":"#N/A"},{"$error":"#N/A"},5]
[null,"li 128",null,null,null,null,null,null,null,null,null,null,null,null,null,null,null,null,null,null,null,null,{"$error":"#N/A"},{"$error":"#N/A"},{"$error":"#N/A"},{"$error":"#N/A"},{"$error":"#N/A"},{"$error":"#N/A"},{"$error":"#N/A"},{"$error":"#N/A"},{"$error":"#N/A"},{"$error":"#N/A"},{"$error":"#N/A"},3]
[null,"li 129",null,null,null,null,null,null,null,null,null,null,null,null,null,null,null,null,null,null,null,null,{"$error":"#N/A"},{"$error":"#N/A"},{"$error":"#N/A"},{"$error":"#N/A"},{"$error":"#N/A"},{"$f":"W132^2/$AG132","v":{"$error":"#N/A"}},{"$f":"X132^2/$AG132","v":{"$error":"#N/A"}},{"$f":"Y132^2/$AG132","v":{"$error":"#N/A"}},{"$f":"Z132^2/$AG132","v":{"$error":"#N/A"}},{"$f":"AA132^2/$AG132","v":{"$error":"#N/A"}},{"$f":"W132^2+X132^2+Y132^2+Z132^2+AA132^2","v":{"$error":"#N/A"}},3]
[null,"li 130",null,null,null,null,null,null,null,null,null,null,null,null,null,null,null,null,null,null,null,null,{"$error":"#N/A"},{"$error":"#N/A"},{"$error":"#N/A"},{"$error":"#N/A"},{"$error":"#N/A"},{"$error":"#N/A"},{"$error":"#N/A"},{"$error":"#N/A"},{"$error":"#N/A"},{"$error":"#N/A"},{"$error":"#N/A"},6]
[null,"li 131",null,null,null,null,null,null,null,null,null,null,null,null,null,null,null,null,null,null,null,null,{"$error":"#N/A"},{"$error":"#N/A"},{"$error":"#N/A"},{"$error":"#N/A"},{"$error":"#N/A"},{"$error":"#N/A"},{"$error":"#N/A"},{"$error":"#N/A"},{"$error":"#N/A"},{"$error":"#N/A"},{"$error":"#N/A"},4]
[null,"li 132",null,null,null,null,null,null,null,null,null,null,null,null,null,null,null,null,null,null,null,null,{"$error":"#N/A"},{"$error":"#N/A"},{"$error":"#N/A"},{"$error":"#N/A"},{"$error":"#N/A"},{"$error":"#N/A"},{"$error":"#N/A"},{"$error":"#N/A"},{"$error":"#N/A"},{"$error":"#N/A"},{"$error":"#N/A"},5]
[null,"li 133",null,null,null,null,null,null,null,null,null,null,null,null,null,null,null,null,null,null,null,null,{"$error":"#N/A"},{"$error":"#N/A"},{"$error":"#N/A"},{"$error":"#N/A"},{"$error":"#N/A"},{"$error":"#N/A"},{"$error":"#N/A"},{"$error":"#N/A"},{"$error":"#N/A"},{"$error":"#N/A"},{"$error":"#N/A"},5]
[null,"li 134",null,null,null,null,null,null,null,null,null,null,null,null,null,null,null,null,null,null,null,null,{"$error":"#N/A"},{"$error":"#N/A"},{"$error":"#N/A"},{"$error":"#N/A"},{"$error":"#N/A"},{"$error":"#N/A"},{"$error":"#N/A"},{"$error":"#N/A"},{"$error":"#N/A"},{"$error":"#N/A"},{"$error":"#N/A"},5]
[null,"li 135",null,null,null,null,null,null,null,null,null,null,null,null,null,null,null,null,null,null,null,null,{"$error":"#N/A"},{"$error":"#N/A"},{"$error":"#N/A"},{"$error":"#N/A"},{"$error":"#N/A"},{"$error":"#N/A"},{"$error":"#N/A"},{"$error":"#N/A"},{"$error":"#N/A"},{"$error":"#N/A"},{"$error":"#N/A"},3]
[null,"li 136",null,null,null,null,null,null,null,null,null,null,null,null,null,null,null,null,null,null,null,null,{"$error":"#N/A"},{"$error":"#N/A"},{"$error":"#N/A"},{"$error":"#N/A"},{"$error":"#N/A"},{"$error":"#N/A"},{"$error":"#N/A"},{"$error":"#N/A"},{"$error":"#N/A"},{"$error":"#N/A"},{"$error":"#N/A"},4]
[null,"li 137",null,null,null,null,null,null,null,null,null,null,null,null,null,null,null,null,null,null,null,null,{"$error":"#N/A"},{"$error":"#N/A"},{"$error":"#N/A"},{"$error":"#N/A"},{"$error":"#N/A"},{"$error":"#N/A"},{"$error":"#N/A"},{"$error":"#N/A"},{"$error":"#N/A"},{"$error":"#N/A"},{"$error":"#N/A"},3]
[null,"li 138",null,null,null,null,null,null,null,null,null,null,null,null,null,null,null,null,null,null,null,null,{"$error":"#N/A"},{"$error":"#N/A"},{"$error":"#N/A"},{"$error":"#N/A"},{"$error":"#N/A"},{"$error":"#N/A"},{"$error":"#N/A"},{"$error":"#N/A"},{"$error":"#N/A"},{"$error":"#N/A"},{"$error":"#N/A"},4]
[null,"li 139",null,null,null,null,null,null,null,null,null,null,null,null,null,null,null,null,null,null,null,null,{"$error":"#N/A"},{"$error":"#N/A"},{"$error":"#N/A"},{"$error":"#N/A"},{"$error":"#N/A"},{"$error":"#N/A"},{"$error":"#N/A"},{"$error":"#N/A"},{"$error":"#N/A"},{"$error":"#N/A"},{"$error":"#N/A"},1]
[null,"li 140",null,null,null,null,null,null,null,null,null,null,null,null,null,null,null,null,null,null,null,null,{"$error":"#N/A"},{"$error":"#N/A"},{"$error":"#N/A"},{"$error":"#N/A"},{"$error":"#N/A"},{"$error":"#N/A"},{"$error":"#N/A"},{"$error":"#N/A"},{"$error":"#N/A"},{"$error":"#N/A"},{"$error":"#N/A"},1]
[null,"li 141",null,null,null,null,null,null,null,null,null,null,null,null,null,null,null,null,null,null,null,null,{"$error":"#N/A"},{"$error":"#N/A"},{"$error":"#N/A"},{"$error":"#N/A"},{"$error":"#N/A"},{"$error":"#N/A"},{"$error":"#N/A"},{"$error":"#N/A"},{"$error":"#N/A"},{"$error":"#N/A"},{"$error":"#N/A"},3]
[null,"li 142",null,null,null,null,null,null,null,null,null,null,null,null,null,null,null,null,null,null,null,null,{"$error":"#N/A"},{"$error":"#N/A"},{"$error":"#N/A"},{"$error":"#N/A"},{"$error":"#N/A"},{"$error":"#N/A"},{"$error":"#N/A"},{"$error":"#N/A"},{"$error":"#N/A"},{"$error":"#N/A"},{"$error":"#N/A"},7]
[null,"li 143",null,null,null,null,null,null,null,null,null,null,null,null,null,null,null,null,null,null,null,null,{"$error":"#N/A"},{"$error":"#N/A"},{"$error":"#N/A"},{"$error":"#N/A"},{"$error":"#N/A"},{"$error":"#N/A"},{"$error":"#N/A"},{"$error":"#N/A"},{"$error":"#N/A"},{"$error":"#N/A"},{"$error":"#N/A"},4]
[null,"li 144",null,null,null,null,null,null,null,null,null,null,null,null,null,null,null,null,null,null,null,null,{"$error":"#N/A"},{"$error":"#N/A"},{"$error":"#N/A"},{"$error":"#N/A"},{"$error":"#N/A"},{"$error":"#N/A"},{"$error":"#N/A"},{"$error":"#N/A"},{"$error":"#N/A"},{"$error":"#N/A"},{"$error":"#N/A"},3]
[null,"li 145",null,null,null,null,null,null,null,null,null,null,null,null,null,null,null,null,null,null,null,null,{"$error":"#N/A"},{"$error":"#N/A"},{"$error":"#N/A"},{"$error":"#N/A"},{"$error":"#N/A"},{"$error":"#N/A"},{"$error":"#N/A"},{"$error":"#N/A"},{"$error":"#N/A"},{"$error":"#N/A"},{"$error":"#N/A"},3]
[null,"li 146",null,null,null,null,null,null,null,null,null,null,null,null,null,null,null,null,null,null,null,null,{"$error":"#N/A"},{"$error":"#N/A"},{"$error":"#N/A"},{"$error":"#N/A"},{"$error":"#N/A"},{"$error":"#N/A"},{"$error":"#N/A"},{"$error":"#N/A"},{"$error":"#N/A"},{"$error":"#N/A"},{"$error":"#N/A"},1]
[null,"li 147",null,null,null,null,null,null,null,null,null,null,null,null,null,null,null,null,null,null,null,null,{"$error":"#N/A"},{"$error":"#N/A"},{"$error":"#N/A"},{"$error":"#N/A"},{"$error":"#N/A"},{"$error":"#N/A"},{"$error":"#N/A"},{"$error":"#N/A"},{"$error":"#N/A"},{"$error":"#N/A"},{"$error":"#N/A"},6]
[null,"li 148",null,null,null,null,null,null,null,null,null,null,null,null,null,null,null,null,null,null,null,null,{"$error":"#N/A"},{"$error":"#N/A"},{"$error":"#N/A"},{"$error":"#N/A"},{"$error":"#N/A"},{"$error":"#N/A"},{"$error":"#N/A"},{"$error":"#N/A"},{"$error":"#N/A"},{"$error":"#N/A"},{"$error":"#N/A"},2]
[null,"li 149",null,null,null,null,null,null,null,null,null,null,null,null,null,null,null,null,null,null,null,null,{"$error":"#N/A"},{"$error":"#N/A"},{"$error":"#N/A"},{"$error":"#N/A"},{"$error":"#N/A"},{"$error":"#N/A"},{"$error":"#N/A"},{"$error":"#N/A"},{"$error":"#N/A"},{"$error":"#N/A"},{"$error":"#N/A"},2]
[null,"li 150",null,null,null,null,null,null,null,null,null,null,null,null,null,null,null,null,null,null,null,null,{"$error":"#N/A"},{"$error":"#N/A"},{"$error":"#N/A"},{"$error":"#N/A"},{"$error":"#N/A"},{"$error":"#N/A"},{"$error":"#N/A"},{"$error":"#N/A"},{"$error":"#N/A"},{"$error":"#N/A"},{"$error":"#N/A"},6]
[null,"li 151",null,null,null,null,null,null,null,null,null,null,null,null,null,null,null,null,null,null,null,null,{"$error":"#N/A"},{"$error":"#N/A"},{"$error":"#N/A"},{"$error":"#N/A"},{"$error":"#N/A"},{"$error":"#N/A"},{"$error":"#N/A"},{"$error":"#N/A"},{"$error":"#N/A"},{"$error":"#N/A"},{"$error":"#N/A"},2]
[null,"li 152",null,null,null,null,null,null,null,null,null,null,null,null,null,null,null,null,null,null,null,null,{"$error":"#N/A"},{"$error":"#N/A"},{"$error":"#N/A"},{"$error":"#N/A"},{"$error":"#N/A"},{"$error":"#N/A"},{"$error":"#N/A"},{"$error":"#N/A"},{"$error":"#N/A"},{"$error":"#N/A"},{"$error":"#N/A"},4]
[null,"li 153",null,null,null,null,null,null,null,null,null,null,null,null,null,null,null,null,null,null,null,null,{"$error":"#N/A"},{"$error":"#N/A"},{"$error":"#N/A"},{"$error":"#N/A"},{"$error":"#N/A"},{"$error":"#N/A"},{"$error":"#N/A"},{"$error":"#N/A"},{"$error":"#N/A"},{"$error":"#N/A"},{"$error":"#N/A"},5]
[null,"li 154",null,null,null,null,null,null,null,null,null,null,null,null,null,null,null,null,null,null,null,null,{"$error":"#N/A"},{"$error":"#N/A"},{"$error":"#N/A"},{"$error":"#N/A"},{"$error":"#N/A"},{"$error":"#N/A"},{"$error":"#N/A"},{"$error":"#N/A"},{"$error":"#N/A"},{"$error":"#N/A"},{"$error":"#N/A"},3]
[null,"li 155",null,null,null,null,null,null,null,null,null,null,null,null,null,null,null,null,null,null,null,null,{"$error":"#N/A"},{"$error":"#N/A"},{"$error":"#N/A"},{"$error":"#N/A"},{"$error":"#N/A"},{"$error":"#N/A"},{"$error":"#N/A"},{"$error":"#N/A"},{"$error":"#N/A"},{"$error":"#N/A"},{"$error":"#N/A"},3]
[null,"li 156",null,null,null,null,null,null,null,null,null,null,null,null,null,null,null,null,null,null,null,null,{"$error":"#N/A"},{"$error":"#N/A"},{"$error":"#N/A"},{"$error":"#N/A"},{"$error":"#N/A"},{"$error":"#N/A"},{"$error":"#N/A"},{"$error":"#N/A"},{"$error":"#N/A"},{"$error":"#N/A"},{"$error":"#N/A"},7]
[null,"li 157",null,null,null,null,null,null,null,null,null,null,null,null,null,null,null,null,null,null,null,null,{"$error":"#N/A"},{"$error":"#N/A"},{"$error":"#N/A"},{"$error":"#N/A"},{"$error":"#N/A"},{"$error":"#N/A"},{"$error":"#N/A"},{"$error":"#N/A"},{"$error":"#N/A"},{"$error":"#N/A"},{"$error":"#N/A"},4]
[null,"li 158",null,null,null,null,null,null,null,null,null,null,null,null,null,null,null,null,null,null,null,null,{"$error":"#N/A"},{"$error":"#N/A"},{"$error":"#N/A"},{"$error":"#N/A"},{"$error":"#N/A"},{"$error":"#N/A"},{"$error":"#N/A"},{"$error":"#N/A"},{"$error":"#N/A"},{"$error":"#N/A"},{"$error":"#N/A"},4]
[null,"li 159",null,null,null,null,null,null,null,null,null,null,null,null,null,null,null,null,null,null,null,null,{"$error":"#N/A"},{"$error":"#N/A"},{"$error":"#N/A"},{"$error":"#N/A"},{"$error":"#N/A"},{"$error":"#N/A"},{"$error":"#N/A"},{"$error":"#N/A"},{"$error":"#N/A"},{"$error":"#N/A"},{"$error":"#N/A"},2]
[null,"li 160",null,null,null,null,null,null,null,null,null,null,null,null,null,null,null,null,null,null,null,null,{"$error":"#N/A"},{"$error":"#N/A"},{"$error":"#N/A"},{"$error":"#N/A"},{"$error":"#N/A"},{"$error":"#N/A"},{"$error":"#N/A"},{"$error":"#N/A"},{"$error":"#N/A"},{"$error":"#N/A"},{"$error":"#N/A"},5]
[null,"li 161",null,null,null,null,null,null,null,null,null,null,null,null,null,null,null,null,null,null,null,null,{"$error":"#N/A"},{"$error":"#N/A"},{"$error":"#N/A"},{"$error":"#N/A"},{"$error":"#N/A"},{"$error":"#N/A"},{"$error":"#N/A"},{"$error":"#N/A"},{"$error":"#N/A"},{"$error":"#N/A"},{"$error":"#N/A"},5]
[null,"li 162",null,null,null,null,null,null,null,null,null,null,null,null,null,null,null,null,null,null,null,null,{"$error":"#N/A"},{"$error":"#N/A"},{"$error":"#N/A"},{"$error":"#N/A"},{"$error":"#N/A"},{"$error":"#N/A"},{"$error":"#N/A"},{"$error":"#N/A"},{"$error":"#N/A"},{"$error":"#N/A"},{"$error":"#N/A"},4]
[null,"li 163",null,null,null,null,null,null,null,null,null,null,null,null,null,null,null,null,null,null,null,null,{"$error":"#N/A"},{"$error":"#N/A"},{"$error":"#N/A"},{"$error":"#N/A"},{"$error":"#N/A"},{"$error":"#N/A"},{"$error":"#N/A"},{"$error":"#N/A"},{"$error":"#N/A"},{"$error":"#N/A"},{"$error":"#N/A"},6]
[null,"li 164",null,null,null,null,null,null,null,null,null,null,null,null,null,null,null,null,null,null,null,null,{"$error":"#N/A"},{"$error":"#N/A"},{"$error":"#N/A"},{"$error":"#N/A"},{"$error":"#N/A"},{"$error":"#N/A"},{"$error":"#N/A"},{"$error":"#N/A"},{"$error":"#N/A"},{"$error":"#N/A"},{"$error":"#N/A"},3]
[null,"li 165",null,null,null,null,null,null,null,null,null,null,null,null,null,null,null,null,null,null,null,null,{"$error":"#N/A"},{"$error":"#N/A"},{"$error":"#N/A"},{"$error":"#N/A"},{"$error":"#N/A"},{"$error":"#N/A"},{"$error":"#N/A"},{"$error":"#N/A"},{"$error":"#N/A"},{"$error":"#N/A"},{"$error":"#N/A"},7]
[null,"li 166",null,null,null,null,null,null,null,null,null,null,null,null,null,null,null,null,null,null,null,null,{"$error":"#N/A"},{"$error":"#N/A"},{"$error":"#N/A"},{"$error":"#N/A"},{"$error":"#N/A"},{"$error":"#N/A"},{"$error":"#N/A"},{"$error":"#N/A"},{"$error":"#N/A"},{"$error":"#N/A"},{"$error":"#N/A"},5]
[null,"li 167",null,null,null,null,null,null,null,null,null,null,null,null,null,null,null,null,null,null,null,null,{"$error":"#N/A"},{"$error":"#N/A"},{"$error":"#N/A"},{"$error":"#N/A"},{"$error":"#N/A"},{"$error":"#N/A"},{"$error":"#N/A"},{"$error":"#N/A"},{"$error":"#N/A"},{"$error":"#N/A"},{"$error":"#N/A"},5]
[null,"li 168",null,null,null,null,null,null,null,null,null,null,null,null,null,null,null,null,null,null,null,null,{"$error":"#N/A"},{"$error":"#N/A"},{"$error":"#N/A"},{"$error":"#N/A"},{"$error":"#N/A"},{"$error":"#N/A"},{"$error":"#N/A"},{"$error":"#N/A"},{"$error":"#N/A"},{"$error":"#N/A"},{"$error":"#N/A"},4]
[null,"li 169",null,null,null,null,null,null,null,null,null,null,null,null,null,null,null,null,null,null,null,null,{"$error":"#N/A"},{"$error":"#N/A"},{"$error":"#N/A"},{"$error":"#N/A"},{"$error":"#N/A"},{"$error":"#N/A"},{"$error":"#N/A"},{"$error":"#N/A"},{"$error":"#N/A"},{"$error":"#N/A"},{"$error":"#N/A"},5]
[null,"li 170",null,null,null,null,null,null,null,null,null,null,null,null,null,null,null,null,null,null,null,null,{"$error":"#N/A"},{"$error":"#N/A"},{"$error":"#N/A"},{"$error":"#N/A"},{"$error":"#N/A"},{"$error":"#N/A"},{"$error":"#N/A"},{"$error":"#N/A"},{"$error":"#N/A"},{"$error":"#N/A"},{"$error":"#N/A"},4]
[null,"li 171",null,null,null,null,null,null,null,null,null,null,null,null,null,null,null,null,null,null,null,null,{"$error":"#N/A"},{"$error":"#N/A"},{"$error":"#N/A"},{"$error":"#N/A"},{"$error":"#N/A"},{"$error":"#N/A"},{"$error":"#N/A"},{"$error":"#N/A"},{"$error":"#N/A"},{"$error":"#N/A"},{"$error":"#N/A"},5]
[null,"li 172",null,null,null,null,null,null,null,null,null,null,null,null,null,null,null,null,null,null,null,null,{"$error":"#N/A"},{"$error":"#N/A"},{"$error":"#N/A"},{"$error":"#N/A"},{"$error":"#N/A"},{"$error":"#N/A"},{"$error":"#N/A"},{"$error":"#N/A"},{"$error":"#N/A"},{"$error":"#N/A"},{"$error":"#N/A"},5]
[null,"li 173",null,null,null,null,null,null,null,null,null,null,null,null,null,null,null,null,null,null,null,null,{"$error":"#N/A"},{"$error":"#N/A"},{"$error":"#N/A"},{"$error":"#N/A"},{"$error":"#N/A"},{"$error":"#N/A"},{"$error":"#N/A"},{"$error":"#N/A"},{"$error":"#N/A"},{"$error":"#N/A"},{"$error":"#N/A"},5]
[null,"li 174",null,null,null,null,null,null,null,null,null,null,null,null,null,null,null,null,null,null,null,null,{"$error":"#N/A"},{"$error":"#N/A"},{"$error":"#N/A"},{"$error":"#N/A"},{"$error":"#N/A"},{"$error":"#N/A"},{"$error":"#N/A"},{"$error":"#N/A"},{"$error":"#N/A"},{"$error":"#N/A"},{"$error":"#N/A"},4]
[null,"li 175",null,null,null,null,null,null,null,null,null,null,null,null,null,null,null,null,null,null,null,null,{"$error":"#N/A"},{"$error":"#N/A"},{"$error":"#N/A"},{"$error":"#N/A"},{"$error":"#N/A"},{"$error":"#N/A"},{"$error":"#N/A"},{"$error":"#N/A"},{"$error":"#N/A"},{"$error":"#N/A"},{"$error":"#N/A"},3]
[null,"li 176",null,null,null,null,null,null,null,null,null,null,null,null,null,null,null,null,null,null,null,null,{"$error":"#N/A"},{"$error":"#N/A"},{"$error":"#N/A"},{"$error":"#N/A"},{"$error":"#N/A"},{"$error":"#N/A"},{"$error":"#N/A"},{"$error":"#N/A"},{"$error":"#N/A"},{"$error":"#N/A"},{"$error":"#N/A"},3]
[null,"li 177",null,null,null,null,null,null,null,null,null,null,null,null,null,null,null,null,null,null,null,null,{"$error":"#N/A"},{"$error":"#N/A"},{"$error":"#N/A"},{"$error":"#N/A"},{"$error":"#N/A"},{"$error":"#N/A"},{"$error":"#N/A"},{"$error":"#N/A"},{"$error":"#N/A"},{"$error":"#N/A"},{"$error":"#N/A"},7]
[null,"li 178",null,null,null,null,null,null,null,null,null,null,null,null,null,null,null,null,null,null,null,null,{"$error":"#N/A"},{"$error":"#N/A"},{"$error":"#N/A"},{"$error":"#N/A"},{"$error":"#N/A"},{"$error":"#N/A"},{"$error":"#N/A"},{"$error":"#N/A"},{"$error":"#N/A"},{"$error":"#N/A"},{"$error":"#N/A"},6]
[null,"li 179",null,null,null,null,null,null,null,null,null,null,null,null,null,null,null,null,null,null,null,null,{"$error":"#N/A"},{"$error":"#N/A"},{"$error":"#N/A"},{"$error":"#N/A"},{"$error":"#N/A"},{"$error":"#N/A"},{"$error":"#N/A"},{"$error":"#N/A"},{"$error":"#N/A"},{"$error":"#N/A"},{"$error":"#N/A"},7]
[null,"li 180",null,null,null,null,null,null,null,null,null,null,null,null,null,null,null,null,null,null,null,null,{"$error":"#N/A"},{"$error":"#N/A"},{"$error":"#N/A"},{"$error":"#N/A"},{"$error":"#N/A"},{"$error":"#N/A"},{"$error":"#N/A"},{"$error":"#N/A"},{"$error":"#N/A"},{"$error":"#N/A"},{"$error":"#N/A"},7]
[null,"li 181",null,null,null,null,null,null,null,null,null,null,null,null,null,null,null,null,null,null,null,null,{"$error":"#N/A"},{"$error":"#N/A"},{"$error":"#N/A"},{"$error":"#N/A"},{"$error":"#N/A"},{"$error":"#N/A"},{"$error":"#N/A"},{"$error":"#N/A"},{"$error":"#N/A"},{"$error":"#N/A"},{"$error":"#N/A"},5]
[null,"li 182",null,null,null,null,null,null,null,null,null,null,null,null,null,null,null,null,null,null,null,null,{"$error":"#N/A"},{"$error":"#N/A"},{"$error":"#N/A"},{"$error":"#N/A"},{"$error":"#N/A"},{"$error":"#N/A"},{"$error":"#N/A"},{"$error":"#N/A"},{"$error":"#N/A"},{"$error":"#N/A"},{"$error":"#N/A"},2]
[null,"li 183",null,null,null,null,null,null,null,null,null,null,null,null,null,null,null,null,null,null,null,null,{"$error":"#N/A"},{"$error":"#N/A"},{"$error":"#N/A"},{"$error":"#N/A"},{"$error":"#N/A"},{"$error":"#N/A"},{"$error":"#N/A"},{"$error":"#N/A"},{"$error":"#N/A"},{"$error":"#N/A"},{"$error":"#N/A"},3]
[null,"li 184",null,null,null,null,null,null,null,null,null,null,null,null,null,null,null,null,null,null,null,null,{"$error":"#N/A"},{"$error":"#N/A"},{"$error":"#N/A"},{"$error":"#N/A"},{"$error":"#N/A"},{"$error":"#N/A"},{"$error":"#N/A"},{"$error":"#N/A"},{"$error":"#N/A"},{"$error":"#N/A"},{"$error":"#N/A"},2]
[null,"li 185",null,null,null,null,null,null,null,null,null,null,null,null,null,null,null,null,null,null,null,null,{"$error":"#N/A"},{"$error":"#N/A"},{"$error":"#N/A"},{"$error":"#N/A"},{"$error":"#N/A"},{"$error":"#N/A"},{"$error":"#N/A"},{"$error":"#N/A"},{"$error":"#N/A"},{"$error":"#N/A"},{"$error":"#N/A"},6]
[null,"li 186",null,null,null,null,null,null,null,null,null,null,null,null,null,null,null,null,null,null,null,null,{"$error":"#N/A"},{"$error":"#N/A"},{"$error":"#N/A"},{"$error":"#N/A"},{"$error":"#N/A"},{"$error":"#N/A"},{"$error":"#N/A"},{"$error":"#N/A"},{"$error":"#N/A"},{"$error":"#N/A"},{"$error":"#N/A"},3]
[null,"li 187",null,null,null,null,null,null,null,null,null,null,null,null,null,null,null,null,null,null,null,null,{"$error":"#N/A"},{"$error":"#N/A"},{"$error":"#N/A"},{"$error":"#N/A"},{"$error":"#N/A"},{"$error":"#N/A"},{"$error":"#N/A"},{"$error":"#N/A"},{"$error":"#N/A"},{"$error":"#N/A"},{"$error":"#N/A"},3]
[null,"li 188",null,null,null,null,null,null,null,null,null,null,null,null,null,null,null,null,null,null,null,null,{"$error":"#N/A"},{"$error":"#N/A"},{"$error":"#N/A"},{"$error":"#N/A"},{"$error":"#N/A"},{"$error":"#N/A"},{"$error":"#N/A"},{"$error":"#N/A"},{"$error":"#N/A"},{"$error":"#N/A"},{"$error":"#N/A"},1]
[null,"li 189",null,null,null,null,null,null,null,null,null,null,null,null,null,null,null,null,null,null,null,null,{"$error":"#N/A"},{"$error":"#N/A"},{"$error":"#N/A"},{"$error":"#N/A"},{"$error":"#N/A"},{"$error":"#N/A"},{"$error":"#N/A"},{"$error":"#N/A"},{"$error":"#N/A"},{"$error":"#N/A"},{"$error":"#N/A"},1]
[null,"li 190",null,null,null,null,null,null,null,null,null,null,null,null,null,null,null,null,null,null,null,null,{"$error":"#N/A"},{"$error":"#N/A"},{"$error":"#N/A"},{"$error":"#N/A"},{"$error":"#N/A"},{"$error":"#N/A"},{"$error":"#N/A"},{"$error":"#N/A"},{"$error":"#N/A"},{"$error":"#N/A"},{"$error":"#N/A"},1]
[null,"li 191",null,null,null,null,null,null,null,null,null,null,null,null,null,null,null,null,null,null,null,null,{"$error":"#N/A"},{"$error":"#N/A"},{"$error":"#N/A"},{"$error":"#N/A"},{"$error":"#N/A"},{"$error":"#N/A"},{"$error":"#N/A"},{"$error":"#N/A"},{"$error":"#N/A"},{"$error":"#N/A"},{"$error":"#N/A"},4]
[null,"li 192",null,null,null,null,null,null,null,null,null,null,null,null,null,null,null,null,null,null,null,null,{"$error":"#N/A"},{"$error":"#N/A"},{"$error":"#N/A"},{"$error":"#N/A"},{"$error":"#N/A"},{"$error":"#N/A"},{"$error":"#N/A"},{"$error":"#N/A"},{"$error":"#N/A"},{"$error":"#N/A"},{"$error":"#N/A"},5]
[null,"li 193",null,null,null,null,null,null,null,null,null,null,null,null,null,null,null,null,null,null,null,null,{"$error":"#N/A"},{"$error":"#N/A"},{"$error":"#N/A"},{"$error":"#N/A"},{"$error":"#N/A"},{"$f":"W196^2/$AG196","v":{"$error":"#N/A"}},{"$f":"X196^2/$AG196","v":{"$error":"#N/A"}},{"$f":"Y196^2/$AG196","v":{"$error":"#N/A"}},{"$f":"Z196^2/$AG196","v":{"$error":"#N/A"}},{"$f":"AA196^2/$AG196","v":{"$error":"#N/A"}},{"$f":"W196^2+X196^2+Y196^2+Z196^2+AA196^2","v":{"$error":"#N/A"}},1]
[null,"li 194",null,null,null,null,null,null,null,null,null,null,null,null,null,null,null,null,null,null,null,null,{"$error":"#N/A"},{"$error":"#N/A"},{"$error":"#N/A"},{"$error":"#N/A"},{"$error":"#N/A"},{"$error":"#N/A"},{"$error":"#N/A"},{"$error":"#N/A"},{"$error":"#N/A"},{"$error":"#N/A"},{"$error":"#N/A"},7]
[null,"li 195",null,null,null,null,null,null,null,null,null,null,null,null,null,null,null,null,null,null,null,null,{"$error":"#N/A"},{"$error":"#N/A"},{"$error":"#N/A"},{"$error":"#N/A"},{"$error":"#N/A"},{"$error":"#N/A"},{"$error":"#N/A"},{"$error":"#N/A"},{"$error":"#N/A"},{"$error":"#N/A"},{"$error":"#N/A"},4]
[null,"li 196",null,null,null,null,null,null,null,null,null,null,null,null,null,null,null,null,null,null,null,null,{"$error":"#N/A"},{"$error":"#N/A"},{"$error":"#N/A"},{"$error":"#N/A"},{"$error":"#N/A"},{"$error":"#N/A"},{"$error":"#N/A"},{"$error":"#N/A"},{"$error":"#N/A"},{"$error":"#N/A"},{"$error":"#N/A"},3]
[null,"li 197",null,null,null,null,null,null,null,null,null,null,null,null,null,null,null,null,null,null,null,null,{"$error":"#N/A"},{"$error":"#N/A"},{"$error":"#N/A"},{"$error":"#N/A"},{"$error":"#N/A"},{"$error":"#N/A"},{"$error":"#N/A"},{"$error":"#N/A"},{"$error":"#N/A"},{"$error":"#N/A"},{"$error":"#N/A"},7]
[null,"li 198",null,null,null,null,null,null,null,null,null,null,null,null,null,null,null,null,null,null,null,null,{"$error":"#N/A"},{"$error":"#N/A"},{"$error":"#N/A"},{"$error":"#N/A"},{"$error":"#N/A"},{"$error":"#N/A"},{"$error":"#N/A"},{"$error":"#N/A"},{"$error":"#N/A"},{"$error":"#N/A"},{"$error":"#N/A"},3]
[null,"li 199",null,null,null,null,null,null,null,null,null,null,null,null,null,null,null,null,null,null,null,null,{"$error":"#N/A"},{"$error":"#N/A"},{"$error":"#N/A"},{"$error":"#N/A"},{"$error":"#N/A"},{"$error":"#N/A"},{"$error":"#N/A"},{"$error":"#N/A"},{"$error":"#N/A"},{"$error":"#N/A"},{"$error":"#N/A"},4]
[null,"li 200",null,null,null,null,null,null,null,null,null,null,null,null,null,null,null,null,null,null,null,null,{"$error":"#N/A"},{"$error":"#N/A"},{"$error":"#N/A"},{"$error":"#N/A"},{"$error":"#N/A"},{"$error":"#N/A"},{"$error":"#N/A"},{"$error":"#N/A"},{"$error":"#N/A"},{"$error":"#N/A"},{"$error":"#N/A"},1]
[null,"li 201",null,null,null,null,null,null,null,null,null,null,null,null,null,null,null,null,null,null,null,null,{"$error":"#N/A"},{"$error":"#N/A"},{"$error":"#N/A"},{"$error":"#N/A"},{"$error":"#N/A"},{"$error":"#N/A"},{"$error":"#N/A"},{"$error":"#N/A"},{"$error":"#N/A"},{"$error":"#N/A"},{"$error":"#N/A"},3]
[null,"li 202",null,null,null,null,null,null,null,null,null,null,null,null,null,null,null,null,null,null,null,null,{"$error":"#N/A"},{"$error":"#N/A"},{"$error":"#N/A"},{"$error":"#N/A"},{"$error":"#N/A"},{"$error":"#N/A"},{"$error":"#N/A"},{"$error":"#N/A"},{"$error":"#N/A"},{"$error":"#N/A"},{"$error":"#N/A"},3]
[null,"li 203",null,null,null,null,null,null,null,null,null,null,null,null,null,null,null,null,null,null,null,null,{"$error":"#N/A"},{"$error":"#N/A"},{"$error":"#N/A"},{"$error":"#N/A"},{"$error":"#N/A"},{"$error":"#N/A"},{"$error":"#N/A"},{"$error":"#N/A"},{"$error":"#N/A"},{"$error":"#N/A"},{"$error":"#N/A"},7]
[null,"li 204",null,null,null,null,null,null,null,null,null,null,null,null,null,null,null,null,null,null,null,null,{"$error":"#N/A"},{"$error":"#N/A"},{"$error":"#N/A"},{"$error":"#N/A"},{"$error":"#N/A"},{"$error":"#N/A"},{"$error":"#N/A"},{"$error":"#N/A"},{"$error":"#N/A"},{"$error":"#N/A"},{"$error":"#N/A"},3]
[null,"li 205",null,null,null,null,null,null,null,null,null,null,null,null,null,null,null,null,null,null,null,null,{"$error":"#N/A"},{"$error":"#N/A"},{"$error":"#N/A"},{"$error":"#N/A"},{"$error":"#N/A"},{"$error":"#N/A"},{"$error":"#N/A"},{"$error":"#N/A"},{"$error":"#N/A"},{"$error":"#N/A"},{"$error":"#N/A"},4]
[null,"li 206",null,null,null,null,null,null,null,null,null,null,null,null,null,null,null,null,null,null,null,null,{"$error":"#N/A"},{"$error":"#N/A"},{"$error":"#N/A"},{"$error":"#N/A"},{"$error":"#N/A"},{"$error":"#N/A"},{"$error":"#N/A"},{"$error":"#N/A"},{"$error":"#N/A"},{"$error":"#N/A"},{"$error":"#N/A"},6]
[null,"li 207",null,null,null,null,null,null,null,null,null,null,null,null,null,null,null,null,null,null,null,null,{"$error":"#N/A"},{"$error":"#N/A"},{"$error":"#N/A"},{"$error":"#N/A"},{"$error":"#N/A"},{"$error":"#N/A"},{"$error":"#N/A"},{"$error":"#N/A"},{"$error":"#N/A"},{"$error":"#N/A"},{"$error":"#N/A"},7]
[null,"li 208",null,null,null,null,null,null,null,null,null,null,null,null,null,null,null,null,null,null,null,null,{"$error":"#N/A"},{"$error":"#N/A"},{"$error":"#N/A"},{"$error":"#N/A"},{"$error":"#N/A"},{"$error":"#N/A"},{"$error":"#N/A"},{"$error":"#N/A"},{"$error":"#N/A"},{"$error":"#N/A"},{"$error":"#N/A"},4]
[null,"li 209",null,null,null,null,null,null,null,null,null,null,null,null,null,null,null,null,null,null,null,null,{"$error":"#N/A"},{"$error":"#N/A"},{"$error":"#N/A"},{"$error":"#N/A"},{"$error":"#N/A"},{"$error":"#N/A"},{"$error":"#N/A"},{"$error":"#N/A"},{"$error":"#N/A"},{"$error":"#N/A"},{"$error":"#N/A"},6]
[null,"li 210",null,null,null,null,null,null,null,null,null,null,null,null,null,null,null,null,null,null,null,null,{"$error":"#N/A"},{"$error":"#N/A"},{"$error":"#N/A"},{"$error":"#N/A"},{"$error":"#N/A"},{"$error":"#N/A"},{"$error":"#N/A"},{"$error":"#N/A"},{"$error":"#N/A"},{"$error":"#N/A"},{"$error":"#N/A"},3]
[null,"li 211",null,null,null,null,null,null,null,null,null,null,null,null,null,null,null,null,null,null,null,null,{"$error":"#N/A"},{"$error":"#N/A"},{"$error":"#N/A"},{"$error":"#N/A"},{"$error":"#N/A"},{"$error":"#N/A"},{"$error":"#N/A"},{"$error":"#N/A"},{"$error":"#N/A"},{"$error":"#N/A"},{"$error":"#N/A"},4]
[null,"li 212",null,null,null,null,null,null,null,null,null,null,null,null,null,null,null,null,null,null,null,null,{"$error":"#N/A"},{"$error":"#N/A"},{"$error":"#N/A"},{"$error":"#N/A"},{"$error":"#N/A"},{"$error":"#N/A"},{"$error":"#N/A"},{"$error":"#N/A"},{"$error":"#N/A"},{"$error":"#N/A"},{"$error":"#N/A"},4]
[null,"li 213",null,null,null,null,null,null,null,null,null,null,null,null,null,null,null,null,null,null,null,null,{"$error":"#N/A"},{"$error":"#N/A"},{"$error":"#N/A"},{"$error":"#N/A"},{"$error":"#N/A"},{"$error":"#N/A"},{"$error":"#N/A"},{"$error":"#N/A"},{"$error":"#N/A"},{"$error":"#N/A"},{"$error":"#N/A"},3]
[null,"li 214",null,null,null,null,null,null,null,null,null,null,null,null,null,null,null,null,null,null,null,null,{"$error":"#N/A"},{"$error":"#N/A"},{"$error":"#N/A"},{"$error":"#N/A"},{"$error":"#N/A"},{"$error":"#N/A"},{"$error":"#N/A"},{"$error":"#N/A"},{"$error":"#N/A"},{"$error":"#N/A"},{"$error":"#N/A"},6]
[null,"li 215",null,null,null,null,null,null,null,null,null,null,null,null,null,null,null,null,null,null,null,null,{"$error":"#N/A"},{"$error":"#N/A"},{"$error":"#N/A"},{"$error":"#N/A"},{"$error":"#N/A"},{"$error":"#N/A"},{"$error":"#N/A"},{"$error":"#N/A"},{"$error":"#N/A"},{"$error":"#N/A"},{"$error":"#N/A"},7]
[null,"li 216",null,null,null,null,null,null,null,null,null,null,null,null,null,null,null,null,null,null,null,null,{"$error":"#N/A"},{"$error":"#N/A"},{"$error":"#N/A"},{"$error":"#N/A"},{"$error":"#N/A"},{"$error":"#N/A"},{"$error":"#N/A"},{"$error":"#N/A"},{"$error":"#N/A"},{"$error":"#N/A"},{"$error":"#N/A"},3]
[null,"li 217",null,null,null,null,null,null,null,null,null,null,null,null,null,null,null,null,null,null,null,null,{"$error":"#N/A"},{"$error":"#N/A"},{"$error":"#N/A"},{"$error":"#N/A"},{"$error":"#N/A"},{"$error":"#N/A"},{"$error":"#N/A"},{"$error":"#N/A"},{"$error":"#N/A"},{"$error":"#N/A"},{"$error":"#N/A"},4]
[null,"li 218",null,null,null,null,null,null,null,null,null,null,null,null,null,null,null,null,null,null,null,null,{"$error":"#N/A"},{"$error":"#N/A"},{"$error":"#N/A"},{"$error":"#N/A"},{"$error":"#N/A"},{"$error":"#N/A"},{"$error":"#N/A"},{"$error":"#N/A"},{"$error":"#N/A"},{"$error":"#N/A"},{"$error":"#N/A"},1]
[null,"li 219",null,null,null,null,null,null,null,null,null,null,null,null,null,null,null,null,null,null,null,null,{"$error":"#N/A"},{"$error":"#N/A"},{"$error":"#N/A"},{"$error":"#N/A"},{"$error":"#N/A"},{"$error":"#N/A"},{"$error":"#N/A"},{"$error":"#N/A"},{"$error":"#N/A"},{"$error":"#N/A"},{"$error":"#N/A"},6]
[null,"li 220",null,null,null,null,null,null,null,null,null,null,null,null,null,null,null,null,null,null,null,null,{"$error":"#N/A"},{"$error":"#N/A"},{"$error":"#N/A"},{"$error":"#N/A"},{"$error":"#N/A"},{"$error":"#N/A"},{"$error":"#N/A"},{"$error":"#N/A"},{"$error":"#N/A"},{"$error":"#N/A"},{"$error":"#N/A"},2]
[null,"li 221",null,null,null,null,null,null,null,null,null,null,null,null,null,null,null,null,null,null,null,null,{"$error":"#N/A"},{"$error":"#N/A"},{"$error":"#N/A"},{"$error":"#N/A"},{"$error":"#N/A"},{"$error":"#N/A"},{"$error":"#N/A"},{"$error":"#N/A"},{"$error":"#N/A"},{"$error":"#N/A"},{"$error":"#N/A"},7]
[null,"li 222",null,null,null,null,null,null,null,null,null,null,null,null,null,null,null,null,null,null,null,null,{"$error":"#N/A"},{"$error":"#N/A"},{"$error":"#N/A"},{"$error":"#N/A"},{"$error":"#N/A"},{"$error":"#N/A"},{"$error":"#N/A"},{"$error":"#N/A"},{"$error":"#N/A"},{"$error":"#N/A"},{"$error":"#N/A"},1]
[null,"li 223",null,null,null,null,null,null,null,null,null,null,null,null,null,null,null,null,null,null,null,null,{"$error":"#N/A"},{"$error":"#N/A"},{"$error":"#N/A"},{"$error":"#N/A"},{"$error":"#N/A"},{"$error":"#N/A"},{"$error":"#N/A"},{"$error":"#N/A"},{"$error":"#N/A"},{"$error":"#N/A"},{"$error":"#N/A"},5]
[null,"li 224",null,null,null,null,null,null,null,null,null,null,null,null,null,null,null,null,null,null,null,null,{"$error":"#N/A"},{"$error":"#N/A"},{"$error":"#N/A"},{"$error":"#N/A"},{"$error":"#N/A"},{"$error":"#N/A"},{"$error":"#N/A"},{"$error":"#N/A"},{"$error":"#N/A"},{"$error":"#N/A"},{"$error":"#N/A"},7]
[null,"li 225",null,null,null,null,null,null,null,null,null,null,null,null,null,null,null,null,null,null,null,null,{"$error":"#N/A"},{"$error":"#N/A"},{"$error":"#N/A"},{"$error":"#N/A"},{"$error":"#N/A"},{"$error":"#N/A"},{"$error":"#N/A"},{"$error":"#N/A"},{"$error":"#N/A"},{"$error":"#N/A"},{"$error":"#N/A"},4]
[null,"li 226",null,null,null,null,null,null,null,null,null,null,null,null,null,null,null,null,null,null,null,null,{"$error":"#N/A"},{"$error":"#N/A"},{"$error":"#N/A"},{"$error":"#N/A"},{"$error":"#N/A"},{"$error":"#N/A"},{"$error":"#N/A"},{"$error":"#N/A"},{"$error":"#N/A"},{"$error":"#N/A"},{"$error":"#N/A"},2]
[null,"li 227",null,null,null,null,null,null,null,null,null,null,null,null,null,null,null,null,null,null,null,null,{"$error":"#N/A"},{"$error":"#N/A"},{"$error":"#N/A"},{"$error":"#N/A"},{"$error":"#N/A"},{"$error":"#N/A"},{"$error":"#N/A"},{"$error":"#N/A"},{"$error":"#N/A"},{"$error":"#N/A"},{"$error":"#N/A"},6]
[null,"li 228",null,null,null,null,null,null,null,null,null,null,null,null,null,null,null,null,null,null,null,null,{"$error":"#N/A"},{"$error":"#N/A"},{"$error":"#N/A"},{"$error":"#N/A"},{"$error":"#N/A"},{"$error":"#N/A"},{"$error":"#N/A"},{"$error":"#N/A"},{"$error":"#N/A"},{"$error":"#N/A"},{"$error":"#N/A"},3]
[null,"li 229",null,null,null,null,null,null,null,null,null,null,null,null,null,null,null,null,null,null,null,null,{"$error":"#N/A"},{"$error":"#N/A"},{"$error":"#N/A"},{"$error":"#N/A"},{"$error":"#N/A"},{"$error":"#N/A"},{"$error":"#N/A"},{"$error":"#N/A"},{"$error":"#N/A"},{"$error":"#N/A"},{"$error":"#N/A"},4]
[null,"li 230",null,null,null,null,null,null,null,null,null,null,null,null,null,null,null,null,null,null,null,null,{"$error":"#N/A"},{"$error":"#N/A"},{"$error":"#N/A"},{"$error":"#N/A"},{"$error":"#N/A"},{"$error":"#N/A"},{"$error":"#N/A"},{"$error":"#N/A"},{"$error":"#N/A"},{"$error":"#N/A"},{"$error":"#N/A"},7]
[null,"li 231",null,null,null,null,null,null,null,null,null,null,null,null,null,null,null,null,null,null,null,null,{"$error":"#N/A"},{"$error":"#N/A"},{"$error":"#N/A"},{"$error":"#N/A"},{"$error":"#N/A"},{"$error":"#N/A"},{"$error":"#N/A"},{"$error":"#N/A"},{"$error":"#N/A"},{"$error":"#N/A"},{"$error":"#N/A"},6]
[null,"li 232",null,null,null,null,null,null,null,null,null,null,null,null,null,null,null,null,null,null,null,null,{"$error":"#N/A"},{"$error":"#N/A"},{"$error":"#N/A"},{"$error":"#N/A"},{"$error":"#N/A"},{"$error":"#N/A"},{"$error":"#N/A"},{"$error":"#N/A"},{"$error":"#N/A"},{"$error":"#N/A"},{"$error":"#N/A"},6]
[null,"li 233",null,null,null,null,null,null,null,null,null,null,null,null,null,null,null,null,null,null,null,null,{"$error":"#N/A"},{"$error":"#N/A"},{"$error":"#N/A"},{"$error":"#N/A"},{"$error":"#N/A"},{"$error":"#N/A"},{"$error":"#N/A"},{"$error":"#N/A"},{"$error":"#N/A"},{"$error":"#N/A"},{"$error":"#N/A"},3]
[null,"li 234",null,null,null,null,null,null,null,null,null,null,null,null,null,null,null,null,null,null,null,null,{"$error":"#N/A"},{"$error":"#N/A"},{"$error":"#N/A"},{"$error":"#N/A"},{"$error":"#N/A"},{"$error":"#N/A"},{"$error":"#N/A"},{"$error":"#N/A"},{"$error":"#N/A"},{"$error":"#N/A"},{"$error":"#N/A"},6]
[null,"li 235",null,null,null,null,null,null,null,null,null,null,null,null,null,null,null,null,null,null,null,null,{"$error":"#N/A"},{"$error":"#N/A"},{"$error":"#N/A"},{"$error":"#N/A"},{"$error":"#N/A"},{"$error":"#N/A"},{"$error":"#N/A"},{"$error":"#N/A"},{"$error":"#N/A"},{"$error":"#N/A"},{"$error":"#N/A"},4]
[null,"li 236",null,null,null,null,null,null,null,null,null,null,null,null,null,null,null,null,null,null,null,null,{"$error":"#N/A"},{"$error":"#N/A"},{"$error":"#N/A"},{"$error":"#N/A"},{"$error":"#N/A"},{"$error":"#N/A"},{"$error":"#N/A"},{"$error":"#N/A"},{"$error":"#N/A"},{"$error":"#N/A"},{"$error":"#N/A"},3]
[null,"li 237",null,null,null,null,null,null,null,null,null,null,null,null,null,null,null,null,null,null,null,null,{"$error":"#N/A"},{"$error":"#N/A"},{"$error":"#N/A"},{"$error":"#N/A"},{"$error":"#N/A"},{"$error":"#N/A"},{"$error":"#N/A"},{"$error":"#N/A"},{"$error":"#N/A"},{"$error":"#N/A"},{"$error":"#N/A"},2]
[null,"li 238",null,null,null,null,null,null,null,null,null,null,null,null,null,null,null,null,null,null,null,null,{"$error":"#N/A"},{"$error":"#N/A"},{"$error":"#N/A"},{"$error":"#N/A"},{"$error":"#N/A"},{"$error":"#N/A"},{"$error":"#N/A"},{"$error":"#N/A"},{"$error":"#N/A"},{"$error":"#N/A"},{"$error":"#N/A"},1]
[null,"li 239",null,null,null,null,null,null,null,null,null,null,null,null,null,null,null,null,null,null,null,null,{"$error":"#N/A"},{"$error":"#N/A"},{"$error":"#N/A"},{"$error":"#N/A"},{"$error":"#N/A"},{"$error":"#N/A"},{"$error":"#N/A"},{"$error":"#N/A"},{"$error":"#N/A"},{"$error":"#N/A"},{"$error":"#N/A"},4]
[null,"li 240",null,null,null,null,null,null,null,null,null,null,null,null,null,null,null,null,null,null,null,null,{"$error":"#N/A"},{"$error":"#N/A"},{"$error":"#N/A"},{"$error":"#N/A"},{"$error":"#N/A"},{"$error":"#N/A"},{"$error":"#N/A"},{"$error":"#N/A"},{"$error":"#N/A"},{"$error":"#N/A"},{"$error":"#N/A"},4]
[null,"li 241",null,null,null,null,null,null,null,null,null,null,null,null,null,null,null,null,null,null,null,null,{"$error":"#N/A"},{"$error":"#N/A"},{"$error":"#N/A"},{"$error":"#N/A"},{"$error":"#N/A"},{"$error":"#N/A"},{"$error":"#N/A"},{"$error":"#N/A"},{"$error":"#N/A"},{"$error":"#N/A"},{"$error":"#N/A"},4]
[null,"li 242",null,null,null,null,null,null,null,null,null,null,null,null,null,null,null,null,null,null,null,null,{"$error":"#N/A"},{"$error":"#N/A"},{"$error":"#N/A"},{"$error":"#N/A"},{"$error":"#N/A"},{"$error":"#N/A"},{"$error":"#N/A"},{"$error":"#N/A"},{"$error":"#N/A"},{"$error":"#N/A"},{"$error":"#N/A"},7]
[null,"li 243",null,null,null,null,null,null,null,null,null,null,null,null,null,null,null,null,null,null,null,null,{"$error":"#N/A"},{"$error":"#N/A"},{"$error":"#N/A"},{"$error":"#N/A"},{"$error":"#N/A"},{"$error":"#N/A"},{"$error":"#N/A"},{"$error":"#N/A"},{"$error":"#N/A"},{"$error":"#N/A"},{"$error":"#N/A"},1]
[null,"li 244",null,null,null,null,null,null,null,null,null,null,null,null,null,null,null,null,null,null,null,null,{"$error":"#N/A"},{"$error":"#N/A"},{"$error":"#N/A"},{"$error":"#N/A"},{"$error":"#N/A"},{"$error":"#N/A"},{"$error":"#N/A"},{"$error":"#N/A"},{"$error":"#N/A"},{"$error":"#N/A"},{"$error":"#N/A"},2]
[null,"li 245",null,null,null,null,null,null,null,null,null,null,null,null,null,null,null,null,null,null,null,null,{"$error":"#N/A"},{"$error":"#N/A"},{"$error":"#N/A"},{"$error":"#N/A"},{"$error":"#N/A"},{"$error":"#N/A"},{"$error":"#N/A"},{"$error":"#N/A"},{"$error":"#N/A"},{"$error":"#N/A"},{"$error":"#N/A"},4]
[null,"li 246",null,null,null,null,null,null,null,null,null,null,null,null,null,null,null,null,null,null,null,null,{"$error":"#N/A"},{"$error":"#N/A"},{"$error":"#N/A"},{"$error":"#N/A"},{"$error":"#N/A"},{"$error":"#N/A"},{"$error":"#N/A"},{"$error":"#N/A"},{"$error":"#N/A"},{"$error":"#N/A"},{"$error":"#N/A"},7]
[null,"li 247",null,null,null,null,null,null,null,null,null,null,null,null,null,null,null,null,null,null,null,null,{"$error":"#N/A"},{"$error":"#N/A"},{"$error":"#N/A"},{"$error":"#N/A"},{"$error":"#N/A"},{"$error":"#N/A"},{"$error":"#N/A"},{"$error":"#N/A"},{"$error":"#N/A"},{"$error":"#N/A"},{"$error":"#N/A"},2]
[null,"li 248",null,null,null,null,null,null,null,null,null,null,null,null,null,null,null,null,null,null,null,null,{"$error":"#N/A"},{"$error":"#N/A"},{"$error":"#N/A"},{"$error":"#N/A"},{"$error":"#N/A"},{"$error":"#N/A"},{"$error":"#N/A"},{"$error":"#N/A"},{"$error":"#N/A"},{"$error":"#N/A"},{"$error":"#N/A"},7]
[null,"li 249",null,null,null,null,null,null,null,null,null,null,null,null,null,null,null,null,null,null,null,null,{"$error":"#N/A"},{"$error":"#N/A"},{"$error":"#N/A"},{"$error":"#N/A"},{"$error":"#N/A"},{"$error":"#N/A"},{"$error":"#N/A"},{"$error":"#N/A"},{"$error":"#N/A"},{"$error":"#N/A"},{"$error":"#N/A"},2]
[null,"li 250",null,null,null,null,null,null,null,null,null,null,null,null,null,null,null,null,null,null,null,null,{"$error":"#N/A"},{"$error":"#N/A"},{"$error":"#N/A"},{"$error":"#N/A"},{"$error":"#N/A"},{"$error":"#N/A"},{"$error":"#N/A"},{"$error":"#N/A"},{"$error":"#N/A"},{"$error":"#N/A"},{"$error":"#N/A"},7]
[null,"li 251",null,null,null,null,null,null,null,null,null,null,null,null,null,null,null,null,null,null,null,null,{"$error":"#N/A"},{"$error":"#N/A"},{"$error":"#N/A"},{"$error":"#N/A"},{"$error":"#N/A"},{"$error":"#N/A"},{"$error":"#N/A"},{"$error":"#N/A"},{"$error":"#N/A"},{"$error":"#N/A"},{"$error":"#N/A"},3]
[null,"li 252",null,null,null,null,null,null,null,null,null,null,null,null,null,null,null,null,null,null,null,null,{"$error":"#N/A"},{"$error":"#N/A"},{"$error":"#N/A"},{"$error":"#N/A"},{"$error":"#N/A"},{"$error":"#N/A"},{"$error":"#N/A"},{"$error":"#N/A"},{"$error":"#N/A"},{"$error":"#N/A"},{"$error":"#N/A"},2]
[null,"li 253",null,null,null,null,null,null,null,null,null,null,null,null,null,null,null,null,null,null,null,null,{"$error":"#N/A"},{"$error":"#N/A"},{"$error":"#N/A"},{"$error":"#N/A"},{"$error":"#N/A"},{"$error":"#N/A"},{"$error":"#N/A"},{"$error":"#N/A"},{"$error":"#N/A"},{"$error":"#N/A"},{"$error":"#N/A"},2]
[null,"li 254",null,null,null,null,null,null,null,null,null,null,null,null,null,null,null,null,null,null,null,null,{"$error":"#N/A"},{"$error":"#N/A"},{"$error":"#N/A"},{"$error":"#N/A"},{"$error":"#N/A"},{"$error":"#N/A"},{"$error":"#N/A"},{"$error":"#N/A"},{"$error":"#N/A"},{"$error":"#N/A"},{"$error":"#N/A"},3]
[null,"li 255",null,null,null,null,null,null,null,null,null,null,null,null,null,null,null,null,null,null,null,null,{"$error":"#N/A"},{"$error":"#N/A"},{"$error":"#N/A"},{"$error":"#N/A"},{"$error":"#N/A"},{"$error":"#N/A"},{"$error":"#N/A"},{"$error":"#N/A"},{"$error":"#N/A"},{"$error":"#N/A"},{"$error":"#N/A"},5]
[null,"li 256",null,null,null,null,null,null,null,null,null,null,null,null,null,null,null,null,null,null,null,null,{"$error":"#N/A"},{"$error":"#N/A"},{"$error":"#N/A"},{"$error":"#N/A"},{"$error":"#N/A"},{"$error":"#N/A"},{"$error":"#N/A"},{"$error":"#N/A"},{"$error":"#N/A"},{"$error":"#N/A"},{"$error":"#N/A"},5]
[null,"li 257",null,null,null,null,null,null,null,null,null,null,null,null,null,null,null,null,null,null,null,null,{"$error":"#N/A"},{"$error":"#N/A"},{"$error":"#N/A"},{"$error":"#N/A"},{"$error":"#N/A"},{"$f":"W260^2/$AG260","v":{"$error":"#N/A"}},{"$f":"X260^2/$AG260","v":{"$error":"#N/A"}},{"$f":"Y260^2/$AG260","v":{"$error":"#N/A"}},{"$f":"Z260^2/$AG260","v":{"$error":"#N/A"}},{"$f":"AA260^2/$AG260","v":{"$error":"#N/A"}},{"$f":"W260^2+X260^2+Y260^2+Z260^2+AA260^2","v":{"$error":"#N/A"}},5]
[null,"li 258",null,null,null,null,null,null,null,null,null,null,null,null,null,null,null,null,null,null,null,null,{"$error":"#N/A"},{"$error":"#N/A"},{"$error":"#N/A"},{"$error":"#N/A"},{"$error":"#N/A"},{"$error":"#N/A"},{"$error":"#N/A"},{"$error":"#N/A"},{"$error":"#N/A"},{"$error":"#N/A"},{"$error":"#N/A"},7]
[null,"li 259",null,null,null,null,null,null,null,null,null,null,null,null,null,null,null,null,null,null,null,null,{"$error":"#N/A"},{"$error":"#N/A"},{"$error":"#N/A"},{"$error":"#N/A"},{"$error":"#N/A"},{"$error":"#N/A"},{"$error":"#N/A"},{"$error":"#N/A"},{"$error":"#N/A"},{"$error":"#N/A"},{"$error":"#N/A"},6]
[null,"li 260",null,null,null,null,null,null,null,null,null,null,null,null,null,null,null,null,null,null,null,null,{"$error":"#N/A"},{"$error":"#N/A"},{"$error":"#N/A"},{"$error":"#N/A"},{"$error":"#N/A"},{"$error":"#N/A"},{"$error":"#N/A"},{"$error":"#N/A"},{"$error":"#N/A"},{"$error":"#N/A"},{"$error":"#N/A"},6]
[null,"li 261",null,null,null,null,null,null,null,null,null,null,null,null,null,null,null,null,null,null,null,null,{"$error":"#N/A"},{"$error":"#N/A"},{"$error":"#N/A"},{"$error":"#N/A"},{"$error":"#N/A"},{"$error":"#N/A"},{"$error":"#N/A"},{"$error":"#N/A"},{"$error":"#N/A"},{"$error":"#N/A"},{"$error":"#N/A"},3]
[null,"li 262",null,null,null,null,null,null,null,null,null,null,null,null,null,null,null,null,null,null,null,null,{"$error":"#N/A"},{"$error":"#N/A"},{"$error":"#N/A"},{"$error":"#N/A"},{"$error":"#N/A"},{"$error":"#N/A"},{"$error":"#N/A"},{"$error":"#N/A"},{"$error":"#N/A"},{"$error":"#N/A"},{"$error":"#N/A"},7]
[null,"li 263",null,null,null,null,null,null,null,null,null,null,null,null,null,null,null,null,null,null,null,null,{"$error":"#N/A"},{"$error":"#N/A"},{"$error":"#N/A"},{"$error":"#N/A"},{"$error":"#N/A"},{"$error":"#N/A"},{"$error":"#N/A"},{"$error":"#N/A"},{"$error":"#N/A"},{"$error":"#N/A"},{"$error":"#N/A"},2]
[null,"li 264",null,null,null,null,null,null,null,null,null,null,null,null,null,null,null,null,null,null,null,null,{"$error":"#N/A"},{"$error":"#N/A"},{"$error":"#N/A"},{"$error":"#N/A"},{"$error":"#N/A"},{"$error":"#N/A"},{"$error":"#N/A"},{"$error":"#N/A"},{"$error":"#N/A"},{"$error":"#N/A"},{"$error":"#N/A"},1]
[null,"li 265",null,null,null,null,null,null,null,null,null,null,null,null,null,null,null,null,null,null,null,null,{"$error":"#N/A"},{"$error":"#N/A"},{"$error":"#N/A"},{"$error":"#N/A"},{"$error":"#N/A"},{"$error":"#N/A"},{"$error":"#N/A"},{"$error":"#N/A"},{"$error":"#N/A"},{"$error":"#N/A"},{"$error":"#N/A"},2]
[null,"li 266",null,null,null,null,null,null,null,null,null,null,null,null,null,null,null,null,null,null,null,null,{"$error":"#N/A"},{"$error":"#N/A"},{"$error":"#N/A"},{"$error":"#N/A"},{"$error":"#N/A"},{"$error":"#N/A"},{"$error":"#N/A"},{"$error":"#N/A"},{"$error":"#N/A"},{"$error":"#N/A"},{"$error":"#N/A"},3]
[null,"li 267",null,null,null,null,null,null,null,null,null,null,null,null,null,null,null,null,null,null,null,null,{"$error":"#N/A"},{"$error":"#N/A"},{"$error":"#N/A"},{"$error":"#N/A"},{"$error":"#N/A"},{"$error":"#N/A"},{"$error":"#N/A"},{"$error":"#N/A"},{"$error":"#N/A"},{"$error":"#N/A"},{"$error":"#N/A"},2]
[null,"li 268",null,null,null,null,null,null,null,null,null,null,null,null,null,null,null,null,null,null,null,null,{"$error":"#N/A"},{"$error":"#N/A"},{"$error":"#N/A"},{"$error":"#N/A"},{"$error":"#N/A"},{"$error":"#N/A"},{"$error":"#N/A"},{"$error":"#N/A"},{"$error":"#N/A"},{"$error":"#N/A"},{"$error":"#N/A"},1]
[null,"li 269",null,null,null,null,null,null,null,null,null,null,null,null,null,null,null,null,null,null,null,null,{"$error":"#N/A"},{"$error":"#N/A"},{"$error":"#N/A"},{"$error":"#N/A"},{"$error":"#N/A"},{"$error":"#N/A"},{"$error":"#N/A"},{"$error":"#N/A"},{"$error":"#N/A"},{"$error":"#N/A"},{"$error":"#N/A"},4]
[null,"li 270",null,null,null,null,null,null,null,null,null,null,null,null,null,null,null,null,null,null,null,null,{"$error":"#N/A"},{"$error":"#N/A"},{"$error":"#N/A"},{"$error":"#N/A"},{"$error":"#N/A"},{"$error":"#N/A"},{"$error":"#N/A"},{"$error":"#N/A"},{"$error":"#N/A"},{"$error":"#N/A"},{"$error":"#N/A"},4]
[null,"li 271",null,null,null,null,null,null,null,null,null,null,null,null,null,null,null,null,null,null,null,null,{"$error":"#N/A"},{"$error":"#N/A"},{"$error":"#N/A"},{"$error":"#N/A"},{"$error":"#N/A"},{"$error":"#N/A"},{"$error":"#N/A"},{"$error":"#N/A"},{"$error":"#N/A"},{"$error":"#N/A"},{"$error":"#N/A"},4]
[null,"li 272",null,null,null,null,null,null,null,null,null,null,null,null,null,null,null,null,null,null,null,null,{"$error":"#N/A"},{"$error":"#N/A"},{"$error":"#N/A"},{"$error":"#N/A"},{"$error":"#N/A"},{"$error":"#N/A"},{"$error":"#N/A"},{"$error":"#N/A"},{"$error":"#N/A"},{"$error":"#N/A"},{"$error":"#N/A"},2]
[null,"li 273",null,null,null,null,null,null,null,null,null,null,null,null,null,null,null,null,null,null,null,null,{"$error":"#N/A"},{"$error":"#N/A"},{"$error":"#N/A"},{"$error":"#N/A"},{"$error":"#N/A"},{"$error":"#N/A"},{"$error":"#N/A"},{"$error":"#N/A"},{"$error":"#N/A"},{"$error":"#N/A"},{"$error":"#N/A"},3]
[null,"li 274",null,null,null,null,null,null,null,null,null,null,null,null,null,null,null,null,null,null,null,null,{"$error":"#N/A"},{"$error":"#N/A"},{"$error":"#N/A"},{"$error":"#N/A"},{"$error":"#N/A"},{"$error":"#N/A"},{"$error":"#N/A"},{"$error":"#N/A"},{"$error":"#N/A"},{"$error":"#N/A"},{"$error":"#N/A"},5]
[null,"li 275",null,null,null,null,null,null,null,null,null,null,null,null,null,null,null,null,null,null,null,null,{"$error":"#N/A"},{"$error":"#N/A"},{"$error":"#N/A"},{"$error":"#N/A"},{"$error":"#N/A"},{"$error":"#N/A"},{"$error":"#N/A"},{"$error":"#N/A"},{"$error":"#N/A"},{"$error":"#N/A"},{"$error":"#N/A"},4]
[null,"li 276",null,null,null,null,null,null,null,null,null,null,null,null,null,null,null,null,null,null,null,null,{"$error":"#N/A"},{"$error":"#N/A"},{"$error":"#N/A"},{"$error":"#N/A"},{"$error":"#N/A"},{"$error":"#N/A"},{"$error":"#N/A"},{"$error":"#N/A"},{"$error":"#N/A"},{"$error":"#N/A"},{"$error":"#N/A"},5]
[null,"li 277",null,null,null,null,null,null,null,null,null,null,null,null,null,null,null,null,null,null,null,null,{"$error":"#N/A"},{"$error":"#N/A"},{"$error":"#N/A"},{"$error":"#N/A"},{"$error":"#N/A"},{"$error":"#N/A"},{"$error":"#N/A"},{"$error":"#N/A"},{"$error":"#N/A"},{"$error":"#N/A"},{"$error":"#N/A"},4]
[null,"li 278",null,null,null,null,null,null,null,null,null,null,null,null,null,null,null,null,null,null,null,null,{"$error":"#N/A"},{"$error":"#N/A"},{"$error":"#N/A"},{"$error":"#N/A"},{"$error":"#N/A"},{"$error":"#N/A"},{"$error":"#N/A"},{"$error":"#N/A"},{"$error":"#N/A"},{"$error":"#N/A"},{"$error":"#N/A"},6]
[null,"li 279",null,null,null,null,null,null,null,null,null,null,null,null,null,null,null,null,null,null,null,null,{"$error":"#N/A"},{"$error":"#N/A"},{"$error":"#N/A"},{"$error":"#N/A"},{"$error":"#N/A"},{"$error":"#N/A"},{"$error":"#N/A"},{"$error":"#N/A"},{"$error":"#N/A"},{"$error":"#N/A"},{"$error":"#N/A"},2]
[null,"li 280",null,null,null,null,null,null,null,null,null,null,null,null,null,null,null,null,null,null,null,null,{"$error":"#N/A"},{"$error":"#N/A"},{"$error":"#N/A"},{"$error":"#N/A"},{"$error":"#N/A"},{"$error":"#N/A"},{"$error":"#N/A"},{"$error":"#N/A"},{"$error":"#N/A"},{"$error":"#N/A"},{"$error":"#N/A"},6]
[null,"li 281",null,null,null,null,null,null,null,null,null,null,null,null,null,null,null,null,null,null,null,null,{"$error":"#N/A"},{"$error":"#N/A"},{"$error":"#N/A"},{"$error":"#N/A"},{"$error":"#N/A"},{"$error":"#N/A"},{"$error":"#N/A"},{"$error":"#N/A"},{"$error":"#N/A"},{"$error":"#N/A"},{"$error":"#N/A"},1]
[null,"li 282",null,null,null,null,null,null,null,null,null,null,null,null,null,null,null,null,null,null,null,null,{"$error":"#N/A"},{"$error":"#N/A"},{"$error":"#N/A"},{"$error":"#N/A"},{"$error":"#N/A"},{"$error":"#N/A"},{"$error":"#N/A"},{"$error":"#N/A"},{"$error":"#N/A"},{"$error":"#N/A"},{"$error":"#N/A"},6]
[null,"li 283",null,null,null,null,null,null,null,null,null,null,null,null,null,null,null,null,null,null,null,null,{"$error":"#N/A"},{"$error":"#N/A"},{"$error":"#N/A"},{"$error":"#N/A"},{"$error":"#N/A"},{"$error":"#N/A"},{"$error":"#N/A"},{"$error":"#N/A"},{"$error":"#N/A"},{"$error":"#N/A"},{"$error":"#N/A"},3]
[null,"li 284",null,null,null,null,null,null,null,null,null,null,null,null,null,null,null,null,null,null,null,null,{"$error":"#N/A"},{"$error":"#N/A"},{"$error":"#N/A"},{"$error":"#N/A"},{"$error":"#N/A"},{"$error":"#N/A"},{"$error":"#N/A"},{"$error":"#N/A"},{"$error":"#N/A"},{"$error":"#N/A"},{"$error":"#N/A"},4]
[null,"li 285",null,null,null,null,null,null,null,null,null,null,null,null,null,null,null,null,null,null,null,null,{"$error":"#N/A"},{"$error":"#N/A"},{"$error":"#N/A"},{"$error":"#N/A"},{"$error":"#N/A"},{"$error":"#N/A"},{"$error":"#N/A"},{"$error":"#N/A"},{"$error":"#N/A"},{"$error":"#N/A"},{"$error":"#N/A"},7]
[null,"li 286",null,null,null,null,null,null,null,null,null,null,null,null,null,null,null,null,null,null,null,null,{"$error":"#N/A"},{"$error":"#N/A"},{"$error":"#N/A"},{"$error":"#N/A"},{"$error":"#N/A"},{"$error":"#N/A"},{"$error":"#N/A"},{"$error":"#N/A"},{"$error":"#N/A"},{"$error":"#N/A"},{"$error":"#N/A"},7]
[null,"li 287",null,null,null,null,null,null,null,null,null,null,null,null,null,null,null,null,null,null,null,null,{"$error":"#N/A"},{"$error":"#N/A"},{"$error":"#N/A"},{"$error":"#N/A"},{"$error":"#N/A"},{"$error":"#N/A"},{"$error":"#N/A"},{"$error":"#N/A"},{"$error":"#N/A"},{"$error":"#N/A"},{"$error":"#N/A"},4]
[null,"li 288",null,null,null,null,null,null,null,null,null,null,null,null,null,null,null,null,null,null,null,null,{"$error":"#N/A"},{"$error":"#N/A"},{"$error":"#N/A"},{"$error":"#N/A"},{"$error":"#N/A"},{"$error":"#N/A"},{"$error":"#N/A"},{"$error":"#N/A"},{"$error":"#N/A"},{"$error":"#N/A"},{"$error":"#N/A"},4]
[null,"li 289",null,null,null,null,null,null,null,null,null,null,null,null,null,null,null,null,null,null,null,null,{"$error":"#N/A"},{"$error":"#N/A"},{"$error":"#N/A"},{"$error":"#N/A"},{"$error":"#N/A"},{"$error":"#N/A"},{"$error":"#N/A"},{"$error":"#N/A"},{"$error":"#N/A"},{"$error":"#N/A"},{"$error":"#N/A"},7]
[null,"li 290",null,null,null,null,null,null,null,null,null,null,null,null,null,null,null,null,null,null,null,null,{"$error":"#N/A"},{"$error":"#N/A"},{"$error":"#N/A"},{"$error":"#N/A"},{"$error":"#N/A"},{"$error":"#N/A"},{"$error":"#N/A"},{"$error":"#N/A"},{"$error":"#N/A"},{"$error":"#N/A"},{"$error":"#N/A"},4]
[null,"li 291",null,null,null,null,null,null,null,null,null,null,null,null,null,null,null,null,null,null,null,null,{"$error":"#N/A"},{"$error":"#N/A"},{"$error":"#N/A"},{"$error":"#N/A"},{"$error":"#N/A"},{"$error":"#N/A"},{"$error":"#N/A"},{"$error":"#N/A"},{"$error":"#N/A"},{"$error":"#N/A"},{"$error":"#N/A"},3]
[null,"li 292",null,null,null,null,null,null,null,null,null,null,null,null,null,null,null,null,null,null,null,null,{"$error":"#N/A"},{"$error":"#N/A"},{"$error":"#N/A"},{"$error":"#N/A"},{"$error":"#N/A"},{"$error":"#N/A"},{"$error":"#N/A"},{"$error":"#N/A"},{"$error":"#N/A"},{"$error":"#N/A"},{"$error":"#N/A"},2]
[null,"li 293",null,null,null,null,null,null,null,null,null,null,null,null,null,null,null,null,null,null,null,null,{"$error":"#N/A"},{"$error":"#N/A"},{"$error":"#N/A"},{"$error":"#N/A"},{"$error":"#N/A"},{"$error":"#N/A"},{"$error":"#N/A"},{"$error":"#N/A"},{"$error":"#N/A"},{"$error":"#N/A"},{"$error":"#N/A"},1]
[null,"li 294",null,null,null,null,null,null,null,null,null,null,null,null,null,null,null,null,null,null,null,null,{"$error":"#N/A"},{"$error":"#N/A"},{"$error":"#N/A"},{"$error":"#N/A"},{"$error":"#N/A"},{"$error":"#N/A"},{"$error":"#N/A"},{"$error":"#N/A"},{"$error":"#N/A"},{"$error":"#N/A"},{"$error":"#N/A"},1]
[null,"li 295",null,null,null,null,null,null,null,null,null,null,null,null,null,null,null,null,null,null,null,null,{"$error":"#N/A"},{"$error":"#N/A"},{"$error":"#N/A"},{"$error":"#N/A"},{"$error":"#N/A"},{"$error":"#N/A"},{"$error":"#N/A"},{"$error":"#N/A"},{"$error":"#N/A"},{"$error":"#N/A"},{"$error":"#N/A"},1]
[null,"li 296",null,null,null,null,null,null,null,null,null,null,null,null,null,null,null,null,null,null,null,null,{"$error":"#N/A"},{"$error":"#N/A"},{"$error":"#N/A"},{"$error":"#N/A"},{"$error":"#N/A"},{"$error":"#N/A"},{"$error":"#N/A"},{"$error":"#N/A"},{"$error":"#N/A"},{"$error":"#N/A"},{"$error":"#N/A"},4]
[null,"li 297",null,null,null,null,null,null,null,null,null,null,null,null,null,null,null,null,null,null,null,null,{"$error":"#N/A"},{"$error":"#N/A"},{"$error":"#N/A"},{"$error":"#N/A"},{"$error":"#N/A"},{"$error":"#N/A"},{"$error":"#N/A"},{"$error":"#N/A"},{"$error":"#N/A"},{"$error":"#N/A"},{"$error":"#N/A"},7]
[null,"li 298",null,null,null,null,null,null,null,null,null,null,null,null,null,null,null,null,null,null,null,null,{"$error":"#N/A"},{"$error":"#N/A"},{"$error":"#N/A"},{"$error":"#N/A"},{"$error":"#N/A"},{"$error":"#N/A"},{"$error":"#N/A"},{"$error":"#N/A"},{"$error":"#N/A"},{"$error":"#N/A"},{"$error":"#N/A"},5]
[null,"li 299",null,null,null,null,null,null,null,null,null,null,null,null,null,null,null,null,null,null,null,null,{"$error":"#N/A"},{"$error":"#N/A"},{"$error":"#N/A"},{"$error":"#N/A"},{"$error":"#N/A"},{"$error":"#N/A"},{"$error":"#N/A"},{"$error":"#N/A"},{"$error":"#N/A"},{"$error":"#N/A"},{"$error":"#N/A"},5]
[null,"li 300",null,null,null,null,null,null,null,null,null,null,null,null,null,null,null,null,null,null,null,null,{"$error":"#N/A"},{"$error":"#N/A"},{"$error":"#N/A"},{"$error":"#N/A"},{"$error":"#N/A"},{"$error":"#N/A"},{"$error":"#N/A"},{"$error":"#N/A"},{"$error":"#N/A"},{"$error":"#N/A"},{"$error":"#N/A"},2]
[null,"li 301",null,null,null,null,null,null,null,null,null,null,null,null,null,null,null,null,null,null,null,null,{"$error":"#N/A"},{"$error":"#N/A"},{"$error":"#N/A"},{"$error":"#N/A"},{"$error":"#N/A"},{"$error":"#N/A"},{"$error":"#N/A"},{"$error":"#N/A"},{"$error":"#N/A"},{"$error":"#N/A"},{"$error":"#N/A"},5]
[null,"li 302",null,null,null,null,null,null,null,null,null,null,null,null,null,null,null,null,null,null,null,null,{"$error":"#N/A"},{"$error":"#N/A"},{"$error":"#N/A"},{"$error":"#N/A"},{"$error":"#N/A"},{"$error":"#N/A"},{"$error":"#N/A"},{"$error":"#N/A"},{"$error":"#N/A"},{"$error":"#N/A"},{"$error":"#N/A"},3]
[null,"li 303",null,null,null,null,null,null,null,null,null,null,null,null,null,null,null,null,null,null,null,null,{"$error":"#N/A"},{"$error":"#N/A"},{"$error":"#N/A"},{"$error":"#N/A"},{"$error":"#N/A"},{"$error":"#N/A"},{"$error":"#N/A"},{"$error":"#N/A"},{"$error":"#N/A"},{"$error":"#N/A"},{"$error":"#N/A"},6]
[null,"li 304",null,null,null,null,null,null,null,null,null,null,null,null,null,null,null,null,null,null,null,null,{"$error":"#N/A"},{"$error":"#N/A"},{"$error":"#N/A"},{"$error":"#N/A"},{"$error":"#N/A"},{"$error":"#N/A"},{"$error":"#N/A"},{"$error":"#N/A"},{"$error":"#N/A"},{"$error":"#N/A"},{"$error":"#N/A"},5]
[null,"li 305",null,null,null,null,null,null,null,null,null,null,null,null,null,null,null,null,null,null,null,null,{"$error":"#N/A"},{"$error":"#N/A"},{"$error":"#N/A"},{"$error":"#N/A"},{"$error":"#N/A"},{"$error":"#N/A"},{"$error":"#N/A"},{"$error":"#N/A"},{"$error":"#N/A"},{"$error":"#N/A"},{"$error":"#N/A"},2]
[null,"li 306",null,null,null,null,null,null,null,null,null,null,null,null,null,null,null,null,null,null,null,null,{"$error":"#N/A"},{"$error":"#N/A"},{"$error":"#N/A"},{"$error":"#N/A"},{"$error":"#N/A"},{"$error":"#N/A"},{"$error":"#N/A"},{"$error":"#N/A"},{"$error":"#N/A"},{"$error":"#N/A"},{"$error":"#N/A"},5]
[null,"li 307",null,null,null,null,null,null,null,null,null,null,null,null,null,null,null,null,null,null,null,null,{"$error":"#N/A"},{"$error":"#N/A"},{"$error":"#N/A"},{"$error":"#N/A"},{"$error":"#N/A"},{"$error":"#N/A"},{"$error":"#N/A"},{"$error":"#N/A"},{"$error":"#N/A"},{"$error":"#N/A"},{"$error":"#N/A"},2]
[null,"li 308",null,null,null,null,null,null,null,null,null,null,null,null,null,null,null,null,null,null,null,null,{"$error":"#N/A"},{"$error":"#N/A"},{"$error":"#N/A"},{"$error":"#N/A"},{"$error":"#N/A"},{"$error":"#N/A"},{"$error":"#N/A"},{"$error":"#N/A"},{"$error":"#N/A"},{"$error":"#N/A"},{"$error":"#N/A"},4]
[null,"li 309",null,null,null,null,null,null,null,null,null,null,null,null,null,null,null,null,null,null,null,null,{"$error":"#N/A"},{"$error":"#N/A"},{"$error":"#N/A"},{"$error":"#N/A"},{"$error":"#N/A"},{"$error":"#N/A"},{"$error":"#N/A"},{"$error":"#N/A"},{"$error":"#N/A"},{"$error":"#N/A"},{"$error":"#N/A"},5]
[null,"li 310",null,null,null,null,null,null,null,null,null,null,null,null,null,null,null,null,null,null,null,null,{"$error":"#N/A"},{"$error":"#N/A"},{"$error":"#N/A"},{"$error":"#N/A"},{"$error":"#N/A"},{"$error":"#N/A"},{"$error":"#N/A"},{"$error":"#N/A"},{"$error":"#N/A"},{"$error":"#N/A"},{"$error":"#N/A"},2]
[null,"li 311",null,null,null,null,null,null,null,null,null,null,null,null,null,null,null,null,null,null,null,null,{"$error":"#N/A"},{"$error":"#N/A"},{"$error":"#N/A"},{"$error":"#N/A"},{"$error":"#N/A"},{"$error":"#N/A"},{"$error":"#N/A"},{"$error":"#N/A"},{"$error":"#N/A"},{"$error":"#N/A"},{"$error":"#N/A"},1]
[null,"li 312",null,null,null,null,null,null,null,null,null,null,null,null,null,null,null,null,null,null,null,null,{"$error":"#N/A"},{"$error":"#N/A"},{"$error":"#N/A"},{"$error":"#N/A"},{"$error":"#N/A"},{"$error":"#N/A"},{"$error":"#N/A"},{"$error":"#N/A"},{"$error":"#N/A"},{"$error":"#N/A"},{"$error":"#N/A"},4]
[null,"li 313",null,null,null,null,null,null,null,null,null,null,null,null,null,null,null,null,null,null,null,null,{"$error":"#N/A"},{"$error":"#N/A"},{"$error":"#N/A"},{"$error":"#N/A"},{"$error":"#N/A"},{"$error":"#N/A"},{"$error":"#N/A"},{"$error":"#N/A"},{"$error":"#N/A"},{"$error":"#N/A"},{"$error":"#N/A"},1]
[null,"li 314",null,null,null,null,null,null,null,null,null,null,null,null,null,null,null,null,null,null,null,null,{"$error":"#N/A"},{"$error":"#N/A"},{"$error":"#N/A"},{"$error":"#N/A"},{"$error":"#N/A"},{"$error":"#N/A"},{"$error":"#N/A"},{"$error":"#N/A"},{"$error":"#N/A"},{"$error":"#N/A"},{"$error":"#N/A"},4]
[null,"li 315",null,null,null,null,null,null,null,null,null,null,null,null,null,null,null,null,null,null,null,null,{"$error":"#N/A"},{"$error":"#N/A"},{"$error":"#N/A"},{"$error":"#N/A"},{"$error":"#N/A"},{"$error":"#N/A"},{"$error":"#N/A"},{"$error":"#N/A"},{"$error":"#N/A"},{"$error":"#N/A"},{"$error":"#N/A"},1]
[null,"li 316",null,null,null,null,null,null,null,null,null,null,null,null,null,null,null,null,null,null,null,null,{"$error":"#N/A"},{"$error":"#N/A"},{"$error":"#N/A"},{"$error":"#N/A"},{"$error":"#N/A"},{"$error":"#N/A"},{"$error":"#N/A"},{"$error":"#N/A"},{"$error":"#N/A"},{"$error":"#N/A"},{"$error":"#N/A"},7]
[null,"li 317",null,null,null,null,null,null,null,null,null,null,null,null,null,null,null,null,null,null,null,null,{"$error":"#N/A"},{"$error":"#N/A"},{"$error":"#N/A"},{"$error":"#N/A"},{"$error":"#N/A"},{"$error":"#N/A"},{"$error":"#N/A"},{"$error":"#N/A"},{"$error":"#N/A"},{"$error":"#N/A"},{"$error":"#N/A"},6]
[null,"li 318",null,null,null,null,null,null,null,null,null,null,null,null,null,null,null,null,null,null,null,null,{"$error":"#N/A"},{"$error":"#N/A"},{"$error":"#N/A"},{"$error":"#N/A"},{"$error":"#N/A"},{"$error":"#N/A"},{"$error":"#N/A"},{"$error":"#N/A"},{"$error":"#N/A"},{"$error":"#N/A"},{"$error":"#N/A"},3]
[null,"li 319",null,null,null,null,null,null,null,null,null,null,null,null,null,null,null,null,null,null,null,null,{"$error":"#N/A"},{"$error":"#N/A"},{"$error":"#N/A"},{"$error":"#N/A"},{"$error":"#N/A"},{"$error":"#N/A"},{"$error":"#N/A"},{"$error":"#N/A"},{"$error":"#N/A"},{"$error":"#N/A"},{"$error":"#N/A"},7]
[null,"li 320",null,null,null,null,null,null,null,null,null,null,null,null,null,null,null,null,null,null,null,null,{"$error":"#N/A"},{"$error":"#N/A"},{"$error":"#N/A"},{"$error":"#N/A"},{"$error":"#N/A"},{"$error":"#N/A"},{"$error":"#N/A"},{"$error":"#N/A"},{"$error":"#N/A"},{"$error":"#N/A"},{"$error":"#N/A"},5]
[null,"li 321",null,null,null,null,null,null,null,null,null,null,null,null,null,null,null,null,null,null,null,null,{"$error":"#N/A"},{"$error":"#N/A"},{"$error":"#N/A"},{"$error":"#N/A"},{"$error":"#N/A"},{"$f":"W324^2/$AG324","v":{"$error":"#N/A"}},{"$f":"X324^2/$AG324","v":{"$error":"#N/A"}},{"$f":"Y324^2/$AG324","v":{"$error":"#N/A"}},{"$f":"Z324^2/$AG324","v":{"$error":"#N/A"}},{"$f":"AA324^2/$AG324","v":{"$error":"#N/A"}},{"$f":"W324^2+X324^2+Y324^2+Z324^2+AA324^2","v":{"$error":"#N/A"}},4]
[null,"li 322",null,null,null,null,null,null,null,null,null,null,null,null,null,null,null,null,null,null,null,null,{"$error":"#N/A"},{"$error":"#N/A"},{"$error":"#N/A"},{"$error":"#N/A"},{"$error":"#N/A"},{"$error":"#N/A"},{"$error":"#N/A"},{"$error":"#N/A"},{"$error":"#N/A"},{"$error":"#N/A"},{"$error":"#N/A"},3]
[null,"li 323",null,null,null,null,null,null,null,null,null,null,null,null,null,null,null,null,null,null,null,null,{"$error":"#N/A"},{"$error":"#N/A"},{"$error":"#N/A"},{"$error":"#N/A"},{"$error":"#N/A"},{"$error":"#N/A"},{"$error":"#N/A"},{"$error":"#N/A"},{"$error":"#N/A"},{"$error":"#N/A"},{"$error":"#N/A"},3]
[null,"li 324",null,null,null,null,null,null,null,null,null,null,null,null,null,null,null,null,null,null,null,null,{"$error":"#N/A"},{"$error":"#N/A"},{"$error":"#N/A"},{"$error":"#N/A"},{"$error":"#N/A"},{"$error":"#N/A"},{"$error":"#N/A"},{"$error":"#N/A"},{"$error":"#N/A"},{"$error":"#N/A"},{"$error":"#N/A"},2]
[null,"li 325",null,null,null,null,null,null,null,null,null,null,null,null,null,null,null,null,null,null,null,null,{"$error":"#N/A"},{"$error":"#N/A"},{"$error":"#N/A"},{"$error":"#N/A"},{"$error":"#N/A"},{"$error":"#N/A"},{"$error":"#N/A"},{"$error":"#N/A"},{"$error":"#N/A"},{"$error":"#N/A"},{"$error":"#N/A"},4]
[null,"li 326",null,null,null,null,null,null,null,null,null,null,null,null,null,null,null,null,null,null,null,null,{"$error":"#N/A"},{"$error":"#N/A"},{"$error":"#N/A"},{"$error":"#N/A"},{"$error":"#N/A"},{"$error":"#N/A"},{"$error":"#N/A"},{"$error":"#N/A"},{"$error":"#N/A"},{"$error":"#N/A"},{"$error":"#N/A"},5]
[null,"li 327",null,null,null,null,null,null,null,null,null,null,null,null,null,null,null,null,null,null,null,null,{"$error":"#N/A"},{"$error":"#N/A"},{"$error":"#N/A"},{"$error":"#N/A"},{"$error":"#N/A"},{"$error":"#N/A"},{"$error":"#N/A"},{"$error":"#N/A"},{"$error":"#N/A"},{"$error":"#N/A"},{"$error":"#N/A"},2]
[null,"li 328",null,null,null,null,null,null,null,null,null,null,null,null,null,null,null,null,null,null,null,null,{"$error":"#N/A"},{"$error":"#N/A"},{"$error":"#N/A"},{"$error":"#N/A"},{"$error":"#N/A"},{"$error":"#N/A"},{"$error":"#N/A"},{"$error":"#N/A"},{"$error":"#N/A"},{"$error":"#N/A"},{"$error":"#N/A"},4]
[null,"li 329",null,null,null,null,null,null,null,null,null,null,null,null,null,null,null,null,null,null,null,null,{"$error":"#N/A"},{"$error":"#N/A"},{"$error":"#N/A"},{"$error":"#N/A"},{"$error":"#N/A"},{"$error":"#N/A"},{"$error":"#N/A"},{"$error":"#N/A"},{"$error":"#N/A"},{"$error":"#N/A"},{"$error":"#N/A"},5]
[null,"li 330",null,null,null,null,null,null,null,null,null,null,null,null,null,null,null,null,null,null,null,null,{"$error":"#N/A"},{"$error":"#N/A"},{"$error":"#N/A"},{"$error":"#N/A"},{"$error":"#N/A"},{"$error":"#N/A"},{"$error":"#N/A"},{"$error":"#N/A"},{"$error":"#N/A"},{"$error":"#N/A"},{"$error":"#N/A"},5]
[null,"li 331",null,null,null,null,null,null,null,null,null,null,null,null,null,null,null,null,null,null,null,null,{"$error":"#N/A"},{"$error":"#N/A"},{"$error":"#N/A"},{"$error":"#N/A"},{"$error":"#N/A"},{"$error":"#N/A"},{"$error":"#N/A"},{"$error":"#N/A"},{"$error":"#N/A"},{"$error":"#N/A"},{"$error":"#N/A"},4]
[null,"li 332",null,null,null,null,null,null,null,null,null,null,null,null,null,null,null,null,null,null,null,null,{"$error":"#N/A"},{"$error":"#N/A"},{"$error":"#N/A"},{"$error":"#N/A"},{"$error":"#N/A"},{"$error":"#N/A"},{"$error":"#N/A"},{"$error":"#N/A"},{"$error":"#N/A"},{"$error":"#N/A"},{"$error":"#N/A"},7]
[null,"li 333",null,null,null,null,null,null,null,null,null,null,null,null,null,null,null,null,null,null,null,null,{"$error":"#N/A"},{"$error":"#N/A"},{"$error":"#N/A"},{"$error":"#N/A"},{"$error":"#N/A"},{"$error":"#N/A"},{"$error":"#N/A"},{"$error":"#N/A"},{"$error":"#N/A"},{"$error":"#N/A"},{"$error":"#N/A"},4]
[null,"li 334",null,null,null,null,null,null,null,null,null,null,null,null,null,null,null,null,null,null,null,null,{"$error":"#N/A"},{"$error":"#N/A"},{"$error":"#N/A"},{"$error":"#N/A"},{"$error":"#N/A"},{"$error":"#N/A"},{"$error":"#N/A"},{"$error":"#N/A"},{"$error":"#N/A"},{"$error":"#N/A"},{"$error":"#N/A"},5]
[null,"li 335",null,null,null,null,null,null,null,null,null,null,null,null,null,null,null,null,null,null,null,null,{"$error":"#N/A"},{"$error":"#N/A"},{"$error":"#N/A"},{"$error":"#N/A"},{"$error":"#N/A"},{"$error":"#N/A"},{"$error":"#N/A"},{"$error":"#N/A"},{"$error":"#N/A"},{"$error":"#N/A"},{"$error":"#N/A"},5]
[null,"li 336",null,null,null,null,null,null,null,null,null,null,null,null,null,null,null,null,null,null,null,null,{"$error":"#N/A"},{"$error":"#N/A"},{"$error":"#N/A"},{"$error":"#N/A"},{"$error":"#N/A"},{"$error":"#N/A"},{"$error":"#N/A"},{"$error":"#N/A"},{"$error":"#N/A"},{"$error":"#N/A"},{"$error":"#N/A"},7]
[null,"li 337",null,null,null,null,null,null,null,null,null,null,null,null,null,null,null,null,null,null,null,null,{"$error":"#N/A"},{"$error":"#N/A"},{"$error":"#N/A"},{"$error":"#N/A"},{"$error":"#N/A"},{"$error":"#N/A"},{"$error":"#N/A"},{"$error":"#N/A"},{"$error":"#N/A"},{"$error":"#N/A"},{"$error":"#N/A"},7]
[null,"li 338",null,null,null,null,null,null,null,null,null,null,null,null,null,null,null,null,null,null,null,null,{"$error":"#N/A"},{"$error":"#N/A"},{"$error":"#N/A"},{"$error":"#N/A"},{"$error":"#N/A"},{"$error":"#N/A"},{"$error":"#N/A"},{"$error":"#N/A"},{"$error":"#N/A"},{"$error":"#N/A"},{"$error":"#N/A"},6]
[null,"li 339",null,null,null,null,null,null,null,null,null,null,null,null,null,null,null,null,null,null,null,null,{"$error":"#N/A"},{"$error":"#N/A"},{"$error":"#N/A"},{"$error":"#N/A"},{"$error":"#N/A"},{"$error":"#N/A"},{"$error":"#N/A"},{"$error":"#N/A"},{"$error":"#N/A"},{"$error":"#N/A"},{"$error":"#N/A"},5]
[null,"li 340",null,null,null,null,null,null,null,null,null,null,null,null,null,null,null,null,null,null,null,null,{"$error":"#N/A"},{"$error":"#N/A"},{"$error":"#N/A"},{"$error":"#N/A"},{"$error":"#N/A"},{"$error":"#N/A"},{"$error":"#N/A"},{"$error":"#N/A"},{"$error":"#N/A"},{"$error":"#N/A"},{"$error":"#N/A"},7]
[null,"li 341",null,null,null,null,null,null,null,null,null,null,null,null,null,null,null,null,null,null,null,null,{"$error":"#N/A"},{"$error":"#N/A"},{"$error":"#N/A"},{"$error":"#N/A"},{"$error":"#N/A"},{"$error":"#N/A"},{"$error":"#N/A"},{"$error":"#N/A"},{"$error":"#N/A"},{"$error":"#N/A"},{"$error":"#N/A"},3]
[null,"li 342",null,null,null,null,null,null,null,null,null,null,null,null,null,null,null,null,null,null,null,null,{"$error":"#N/A"},{"$error":"#N/A"},{"$error":"#N/A"},{"$error":"#N/A"},{"$error":"#N/A"},{"$error":"#N/A"},{"$error":"#N/A"},{"$error":"#N/A"},{"$error":"#N/A"},{"$error":"#N/A"},{"$error":"#N/A"},4]
[null,"li 343",null,null,null,null,null,null,null,null,null,null,null,null,null,null,null,null,null,null,null,null,{"$error":"#N/A"},{"$error":"#N/A"},{"$error":"#N/A"},{"$error":"#N/A"},{"$error":"#N/A"},{"$error":"#N/A"},{"$error":"#N/A"},{"$error":"#N/A"},{"$error":"#N/A"},{"$error":"#N/A"},{"$error":"#N/A"},4]
[null,"li 344",null,null,null,null,null,null,null,null,null,null,null,null,null,null,null,null,null,null,null,null,{"$error":"#N/A"},{"$error":"#N/A"},{"$error":"#N/A"},{"$error":"#N/A"},{"$error":"#N/A"},{"$error":"#N/A"},{"$error":"#N/A"},{"$error":"#N/A"},{"$error":"#N/A"},{"$error":"#N/A"},{"$error":"#N/A"},1]
[null,"li 345",null,null,null,null,null,null,null,null,null,null,null,null,null,null,null,null,null,null,null,null,{"$error":"#N/A"},{"$error":"#N/A"},{"$error":"#N/A"},{"$error":"#N/A"},{"$error":"#N/A"},{"$error":"#N/A"},{"$error":"#N/A"},{"$error":"#N/A"},{"$error":"#N/A"},{"$error":"#N/A"},{"$error":"#N/A"},2]
[null,"li 346",null,null,null,null,null,null,null,null,null,null,null,null,null,null,null,null,null,null,null,null,{"$error":"#N/A"},{"$error":"#N/A"},{"$error":"#N/A"},{"$error":"#N/A"},{"$error":"#N/A"},{"$error":"#N/A"},{"$error":"#N/A"},{"$error":"#N/A"},{"$error":"#N/A"},{"$error":"#N/A"},{"$error":"#N/A"},3]
[null,"li 347",null,null,null,null,null,null,null,null,null,null,null,null,null,null,null,null,null,null,null,null,{"$error":"#N/A"},{"$error":"#N/A"},{"$error":"#N/A"},{"$error":"#N/A"},{"$error":"#N/A"},{"$error":"#N/A"},{"$error":"#N/A"},{"$error":"#N/A"},{"$error":"#N/A"},{"$error":"#N/A"},{"$error":"#N/A"},5]
[null,"li 348",null,null,null,null,null,null,null,null,null,null,null,null,null,null,null,null,null,null,null,null,{"$error":"#N/A"},{"$error":"#N/A"},{"$error":"#N/A"},{"$error":"#N/A"},{"$error":"#N/A"},{"$error":"#N/A"},{"$error":"#N/A"},{"$error":"#N/A"},{"$error":"#N/A"},{"$error":"#N/A"},{"$error":"#N/A"},5]
[null,"li 349",null,null,null,null,null,null,null,null,null,null,null,null,null,null,null,null,null,null,null,null,{"$error":"#N/A"},{"$error":"#N/A"},{"$error":"#N/A"},{"$error":"#N/A"},{"$error":"#N/A"},{"$error":"#N/A"},{"$error":"#N/A"},{"$error":"#N/A"},{"$error":"#N/A"},{"$error":"#N/A"},{"$error":"#N/A"},7]
[null,"li 350",null,null,null,null,null,null,null,null,null,null,null,null,null,null,null,null,null,null,null,null,{"$error":"#N/A"},{"$error":"#N/A"},{"$error":"#N/A"},{"$error":"#N/A"},{"$error":"#N/A"},{"$error":"#N/A"},{"$error":"#N/A"},{"$error":"#N/A"},{"$error":"#N/A"},{"$error":"#N/A"},{"$error":"#N/A"},1]
[null,"li 351",null,null,null,null,null,null,null,null,null,null,null,null,null,null,null,null,null,null,null,null,{"$error":"#N/A"},{"$error":"#N/A"},{"$error":"#N/A"},{"$error":"#N/A"},{"$error":"#N/A"},{"$error":"#N/A"},{"$error":"#N/A"},{"$error":"#N/A"},{"$error":"#N/A"},{"$error":"#N/A"},{"$error":"#N/A"},1]
[null,"li 352",null,null,null,null,null,null,null,null,null,null,null,null,null,null,null,null,null,null,null,null,{"$error":"#N/A"},{"$error":"#N/A"},{"$error":"#N/A"},{"$error":"#N/A"},{"$error":"#N/A"},{"$error":"#N/A"},{"$error":"#N/A"},{"$error":"#N/A"},{"$error":"#N/A"},{"$error":"#N/A"},{"$error":"#N/A"},7]
[null,"li 353",null,null,null,null,null,null,null,null,null,null,null,null,null,null,null,null,null,null,null,null,{"$error":"#N/A"},{"$error":"#N/A"},{"$error":"#N/A"},{"$error":"#N/A"},{"$error":"#N/A"},{"$error":"#N/A"},{"$error":"#N/A"},{"$error":"#N/A"},{"$error":"#N/A"},{"$error":"#N/A"},{"$error":"#N/A"},3]
[null,"li 354",null,null,null,null,null,null,null,null,null,null,null,null,null,null,null,null,null,null,null,null,{"$error":"#N/A"},{"$error":"#N/A"},{"$error":"#N/A"},{"$error":"#N/A"},{"$error":"#N/A"},{"$error":"#N/A"},{"$error":"#N/A"},{"$error":"#N/A"},{"$error":"#N/A"},{"$error":"#N/A"},{"$error":"#N/A"},1]
[null,"li 355",null,null,null,null,null,null,null,null,null,null,null,null,null,null,null,null,null,null,null,null,{"$error":"#N/A"},{"$error":"#N/A"},{"$error":"#N/A"},{"$error":"#N/A"},{"$error":"#N/A"},{"$error":"#N/A"},{"$error":"#N/A"},{"$error":"#N/A"},{"$error":"#N/A"},{"$error":"#N/A"},{"$error":"#N/A"},4]
[null,"li 356",null,null,null,null,null,null,null,null,null,null,null,null,null,null,null,null,null,null,null,null,{"$error":"#N/A"},{"$error":"#N/A"},{"$error":"#N/A"},{"$error":"#N/A"},{"$error":"#N/A"},{"$error":"#N/A"},{"$error":"#N/A"},{"$error":"#N/A"},{"$error":"#N/A"},{"$error":"#N/A"},{"$error":"#N/A"},3]
[null,"li 357",null,null,null,null,null,null,null,null,null,null,null,null,null,null,null,null,null,null,null,null,{"$error":"#N/A"},{"$error":"#N/A"},{"$error":"#N/A"},{"$error":"#N/A"},{"$error":"#N/A"},{"$error":"#N/A"},{"$error":"#N/A"},{"$error":"#N/A"},{"$error":"#N/A"},{"$error":"#N/A"},{"$error":"#N/A"},4]
[null,"li 358",null,null,null,null,null,null,null,null,null,null,null,null,null,null,null,null,null,null,null,null,{"$error":"#N/A"},{"$error":"#N/A"},{"$error":"#N/A"},{"$error":"#N/A"},{"$error":"#N/A"},{"$error":"#N/A"},{"$error":"#N/A"},{"$error":"#N/A"},{"$error":"#N/A"},{"$error":"#N/A"},{"$error":"#N/A"},4]
[null,"li 359",null,null,null,null,null,null,null,null,null,null,null,null,null,null,null,null,null,null,null,null,{"$error":"#N/A"},{"$error":"#N/A"},{"$error":"#N/A"},{"$error":"#N/A"},{"$error":"#N/A"},{"$error":"#N/A"},{"$error":"#N/A"},{"$error":"#N/A"},{"$error":"#N/A"},{"$error":"#N/A"},{"$error":"#N/A"},3]
[null,"li 360",null,null,null,null,null,null,null,null,null,null,null,null,null,null,null,null,null,null,null,null,{"$error":"#N/A"},{"$error":"#N/A"},{"$error":"#N/A"},{"$error":"#N/A"},{"$error":"#N/A"},{"$error":"#N/A"},{"$error":"#N/A"},{"$error":"#N/A"},{"$error":"#N/A"},{"$error":"#N/A"},{"$error":"#N/A"},1]
[null,"li 361",null,null,null,null,null,null,null,null,null,null,null,null,null,null,null,null,null,null,null,null,{"$error":"#N/A"},{"$error":"#N/A"},{"$error":"#N/A"},{"$error":"#N/A"},{"$error":"#N/A"},{"$error":"#N/A"},{"$error":"#N/A"},{"$error":"#N/A"},{"$error":"#N/A"},{"$error":"#N/A"},{"$error":"#N/A"},7]
[null,"li 362",null,null,null,null,null,null,null,null,null,null,null,null,null,null,null,null,null,null,null,null,{"$error":"#N/A"},{"$error":"#N/A"},{"$error":"#N/A"},{"$error":"#N/A"},{"$error":"#N/A"},{"$error":"#N/A"},{"$error":"#N/A"},{"$error":"#N/A"},{"$error":"#N/A"},{"$error":"#N/A"},{"$error":"#N/A"},2]
[null,"li 363",null,null,null,null,null,null,null,null,null,null,null,null,null,null,null,null,null,null,null,null,{"$error":"#N/A"},{"$error":"#N/A"},{"$error":"#N/A"},{"$error":"#N/A"},{"$error":"#N/A"},{"$error":"#N/A"},{"$error":"#N/A"},{"$error":"#N/A"},{"$error":"#N/A"},{"$error":"#N/A"},{"$error":"#N/A"},2]
[null,"li 364",null,null,null,null,null,null,null,null,null,null,null,null,null,null,null,null,null,null,null,null,{"$error":"#N/A"},{"$error":"#N/A"},{"$error":"#N/A"},{"$error":"#N/A"},{"$error":"#N/A"},{"$error":"#N/A"},{"$error":"#N/A"},{"$error":"#N/A"},{"$error":"#N/A"},{"$error":"#N/A"},{"$error":"#N/A"},7]
[null,"li 365",null,null,null,null,null,null,null,null,null,null,null,null,null,null,null,null,null,null,null,null,{"$error":"#N/A"},{"$error":"#N/A"},{"$error":"#N/A"},{"$error":"#N/A"},{"$error":"#N/A"},{"$error":"#N/A"},{"$error":"#N/A"},{"$error":"#N/A"},{"$error":"#N/A"},{"$error":"#N/A"},{"$error":"#N/A"},1]
[null,"li 366",null,null,null,null,null,null,null,null,null,null,null,null,null,null,null,null,null,null,null,null,{"$error":"#N/A"},{"$error":"#N/A"},{"$error":"#N/A"},{"$error":"#N/A"},{"$error":"#N/A"},{"$error":"#N/A"},{"$error":"#N/A"},{"$error":"#N/A"},{"$error":"#N/A"},{"$error":"#N/A"},{"$error":"#N/A"},1]
[null,"li 367",null,null,null,null,null,null,null,null,null,null,null,null,null,null,null,null,null,null,null,null,{"$error":"#N/A"},{"$error":"#N/A"},{"$error":"#N/A"},{"$error":"#N/A"},{"$error":"#N/A"},{"$error":"#N/A"},{"$error":"#N/A"},{"$error":"#N/A"},{"$error":"#N/A"},{"$error":"#N/A"},{"$error":"#N/A"},4]
[null,"li 368",null,null,null,null,null,null,null,null,null,null,null,null,null,null,null,null,null,null,null,null,{"$error":"#N/A"},{"$error":"#N/A"},{"$error":"#N/A"},{"$error":"#N/A"},{"$error":"#N/A"},{"$error":"#N/A"},{"$error":"#N/A"},{"$error":"#N/A"},{"$error":"#N/A"},{"$error":"#N/A"},{"$error":"#N/A"},6]
[null,"li 369",null,null,null,null,null,null,null,null,null,null,null,null,null,null,null,null,null,null,null,null,{"$error":"#N/A"},{"$error":"#N/A"},{"$error":"#N/A"},{"$error":"#N/A"},{"$error":"#N/A"},{"$error":"#N/A"},{"$error":"#N/A"},{"$error":"#N/A"},{"$error":"#N/A"},{"$error":"#N/A"},{"$error":"#N/A"},5]
[null,"li 370",null,null,null,null,null,null,null,null,null,null,null,null,null,null,null,null,null,null,null,null,{"$error":"#N/A"},{"$error":"#N/A"},{"$error":"#N/A"},{"$error":"#N/A"},{"$error":"#N/A"},{"$error":"#N/A"},{"$error":"#N/A"},{"$error":"#N/A"},{"$error":"#N/A"},{"$error":"#N/A"},{"$error":"#N/A"},5]
[null,"li 371",null,null,null,null,null,null,null,null,null,null,null,null,null,null,null,null,null,null,null,null,{"$error":"#N/A"},{"$error":"#N/A"},{"$error":"#N/A"},{"$error":"#N/A"},{"$error":"#N/A"},{"$error":"#N/A"},{"$error":"#N/A"},{"$error":"#N/A"},{"$error":"#N/A"},{"$error":"#N/A"},{"$error":"#N/A"},4]
[null,"li 372",null,null,null,null,null,null,null,null,null,null,null,null,null,null,null,null,null,null,null,null,{"$error":"#N/A"},{"$error":"#N/A"},{"$error":"#N/A"},{"$error":"#N/A"},{"$error":"#N/A"},{"$error":"#N/A"},{"$error":"#N/A"},{"$error":"#N/A"},{"$error":"#N/A"},{"$error":"#N/A"},{"$error":"#N/A"},2]
[null,"li 373",null,null,null,null,null,null,null,null,null,null,null,null,null,null,null,null,null,null,null,null,{"$error":"#N/A"},{"$error":"#N/A"},{"$error":"#N/A"},{"$error":"#N/A"},{"$error":"#N/A"},{"$error":"#N/A"},{"$error":"#N/A"},{"$error":"#N/A"},{"$error":"#N/A"},{"$error":"#N/A"},{"$error":"#N/A"},5]
[null,"li 374",null,null,null,null,null,null,null,null,null,null,null,null,null,null,null,null,null,null,null,null,{"$error":"#N/A"},{"$error":"#N/A"},{"$error":"#N/A"},{"$error":"#N/A"},{"$error":"#N/A"},{"$error":"#N/A"},{"$error":"#N/A"},{"$error":"#N/A"},{"$error":"#N/A"},{"$error":"#N/A"},{"$error":"#N/A"},3]
[null,"li 375",null,null,null,null,null,null,null,null,null,null,null,null,null,null,null,null,null,null,null,null,{"$error":"#N/A"},{"$error":"#N/A"},{"$error":"#N/A"},{"$error":"#N/A"},{"$error":"#N/A"},{"$error":"#N/A"},{"$error":"#N/A"},{"$error":"#N/A"},{"$error":"#N/A"},{"$error":"#N/A"},{"$error":"#N/A"},7]
[null,"li 376",null,null,null,null,null,null,null,null,null,null,null,null,null,null,null,null,null,null,null,null,{"$error":"#N/A"},{"$error":"#N/A"},{"$error":"#N/A"},{"$error":"#N/A"},{"$error":"#N/A"},{"$error":"#N/A"},{"$error":"#N/A"},{"$error":"#N/A"},{"$error":"#N/A"},{"$error":"#N/A"},{"$error":"#N/A"},6]
[null,"li 377",null,null,null,null,null,null,null,null,null,null,null,null,null,null,null,null,null,null,null,null,{"$error":"#N/A"},{"$error":"#N/A"},{"$error":"#N/A"},{"$error":"#N/A"},{"$error":"#N/A"},{"$error":"#N/A"},{"$error":"#N/A"},{"$error":"#N/A"},{"$error":"#N/A"},{"$error":"#N/A"},{"$error":"#N/A"},3]
[null,"li 378",null,null,null,null,null,null,null,null,null,null,null,null,null,null,null,null,null,null,null,null,{"$error":"#N/A"},{"$error":"#N/A"},{"$error":"#N/A"},{"$error":"#N/A"},{"$error":"#N/A"},{"$error":"#N/A"},{"$error":"#N/A"},{"$error":"#N/A"},{"$error":"#N/A"},{"$error":"#N/A"},{"$error":"#N/A"},2]
[null,"li 379",null,null,null,null,null,null,null,null,null,null,null,null,null,null,null,null,null,null,null,null,{"$error":"#N/A"},{"$error":"#N/A"},{"$error":"#N/A"},{"$error":"#N/A"},{"$error":"#N/A"},{"$error":"#N/A"},{"$error":"#N/A"},{"$error":"#N/A"},{"$error":"#N/A"},{"$error":"#N/A"},{"$error":"#N/A"},2]
[null,"li 380",null,null,null,null,null,null,null,null,null,null,null,null,null,null,null,null,null,null,null,null,{"$error":"#N/A"},{"$error":"#N/A"},{"$error":"#N/A"},{"$error":"#N/A"},{"$error":"#N/A"},{"$error":"#N/A"},{"$error":"#N/A"},{"$error":"#N/A"},{"$error":"#N/A"},{"$error":"#N/A"},{"$error":"#N/A"},3]
[null,"li 381",null,null,null,null,null,null,null,null,null,null,null,null,null,null,null,null,null,null,null,null,{"$error":"#N/A"},{"$error":"#N/A"},{"$error":"#N/A"},{"$error":"#N/A"},{"$error":"#N/A"},{"$error":"#N/A"},{"$error":"#N/A"},{"$error":"#N/A"},{"$error":"#N/A"},{"$error":"#N/A"},{"$error":"#N/A"},4]
[null,"li 382",null,null,null,null,null,null,null,null,null,null,null,null,null,null,null,null,null,null,null,null,{"$error":"#N/A"},{"$error":"#N/A"},{"$error":"#N/A"},{"$error":"#N/A"},{"$error":"#N/A"},{"$error":"#N/A"},{"$error":"#N/A"},{"$error":"#N/A"},{"$error":"#N/A"},{"$error":"#N/A"},{"$error":"#N/A"},2]
[null,"li 383",null,null,null,null,null,null,null,null,null,null,null,null,null,null,null,null,null,null,null,null,{"$error":"#N/A"},{"$error":"#N/A"},{"$error":"#N/A"},{"$error":"#N/A"},{"$error":"#N/A"},{"$error":"#N/A"},{"$error":"#N/A"},{"$error":"#N/A"},{"$error":"#N/A"},{"$error":"#N/A"},{"$error":"#N/A"},3]
[null,"li 384",null,null,null,null,null,null,null,null,null,null,null,null,null,null,null,null,null,null,null,null,{"$error":"#N/A"},{"$error":"#N/A"},{"$error":"#N/A"},{"$error":"#N/A"},{"$error":"#N/A"},{"$error":"#N/A"},{"$error":"#N/A"},{"$error":"#N/A"},{"$error":"#N/A"},{"$error":"#N/A"},{"$error":"#N/A"},6]
[null,"li 385",null,null,null,null,null,null,null,null,null,null,null,null,null,null,null,null,null,null,null,null,{"$error":"#N/A"},{"$error":"#N/A"},{"$error":"#N/A"},{"$error":"#N/A"},{"$error":"#N/A"},{"$f":"W388^2/$AG388","v":{"$error":"#N/A"}},{"$f":"X388^2/$AG388","v":{"$error":"#N/A"}},{"$f":"Y388^2/$AG388","v":{"$error":"#N/A"}},{"$f":"Z388^2/$AG388","v":{"$error":"#N/A"}},{"$f":"AA388^2/$AG388","v":{"$error":"#N/A"}},{"$f":"W388^2+X388^2+Y388^2+Z388^2+AA388^2","v":{"$error":"#N/A"}},2]
[null,"li 386",null,null,null,null,null,null,null,null,null,null,null,null,null,null,null,null,null,null,null,null,{"$error":"#N/A"},{"$error":"#N/A"},{"$error":"#N/A"},{"$error":"#N/A"},{"$error":"#N/A"},{"$error":"#N/A"},{"$error":"#N/A"},{"$error":"#N/A"},{"$error":"#N/A"},{"$error":"#N/A"},{"$error":"#N/A"},5]
[null,"li 387",null,null,null,null,null,null,null,null,null,null,null,null,null,null,null,null,null,null,null,null,{"$error":"#N/A"},{"$error":"#N/A"},{"$error":"#N/A"},{"$error":"#N/A"},{"$error":"#N/A"},{"$error":"#N/A"},{"$error":"#N/A"},{"$error":"#N/A"},{"$error":"#N/A"},{"$error":"#N/A"},{"$error":"#N/A"},7]
[null,"li 388",null,null,null,null,null,null,null,null,null,null,null,null,null,null,null,null,null,null,null,null,{"$error":"#N/A"},{"$error":"#N/A"},{"$error":"#N/A"},{"$error":"#N/A"},{"$error":"#N/A"},{"$error":"#N/A"},{"$error":"#N/A"},{"$error":"#N/A"},{"$error":"#N/A"},{"$error":"#N/A"},{"$error":"#N/A"},4]
[null,"li 389",null,null,null,null,null,null,null,null,null,null,null,null,null,null,null,null,null,null,null,null,{"$error":"#N/A"},{"$error":"#N/A"},{"$error":"#N/A"},{"$error":"#N/A"},{"$error":"#N/A"},{"$error":"#N/A"},{"$error":"#N/A"},{"$error":"#N/A"},{"$error":"#N/A"},{"$error":"#N/A"},{"$error":"#N/A"},6]
[null,"li 390",null,null,null,null,null,null,null,null,null,null,null,null,null,null,null,null,null,null,null,null,{"$error":"#N/A"},{"$error":"#N/A"},{"$error":"#N/A"},{"$error":"#N/A"},{"$error":"#N/A"},{"$error":"#N/A"},{"$error":"#N/A"},{"$error":"#N/A"},{"$error":"#N/A"},{"$error":"#N/A"},{"$error":"#N/A"},7]
[null,"li 391",null,null,null,null,null,null,null,null,null,null,null,null,null,null,null,null,null,null,null,null,{"$error":"#N/A"},{"$error":"#N/A"},{"$error":"#N/A"},{"$error":"#N/A"},{"$error":"#N/A"},{"$error":"#N/A"},{"$error":"#N/A"},{"$error":"#N/A"},{"$error":"#N/A"},{"$error":"#N/A"},{"$error":"#N/A"},6]
[null,"li 392",null,null,null,null,null,null,null,null,null,null,null,null,null,null,null,null,null,null,null,null,{"$error":"#N/A"},{"$error":"#N/A"},{"$error":"#N/A"},{"$error":"#N/A"},{"$error":"#N/A"},{"$error":"#N/A"},{"$error":"#N/A"},{"$error":"#N/A"},{"$error":"#N/A"},{"$error":"#N/A"},{"$error":"#N/A"},1]
[null,"li 393",null,null,null,null,null,null,null,null,null,null,null,null,null,null,null,null,null,null,null,null,{"$error":"#N/A"},{"$error":"#N/A"},{"$error":"#N/A"},{"$error":"#N/A"},{"$error":"#N/A"},{"$error":"#N/A"},{"$error":"#N/A"},{"$error":"#N/A"},{"$error":"#N/A"},{"$error":"#N/A"},{"$error":"#N/A"},1]
[null,"li 394",null,null,null,null,null,null,null,null,null,null,null,null,null,null,null,null,null,null,null,null,{"$error":"#N/A"},{"$error":"#N/A"},{"$error":"#N/A"},{"$error":"#N/A"},{"$error":"#N/A"},{"$error":"#N/A"},{"$error":"#N/A"},{"$error":"#N/A"},{"$error":"#N/A"},{"$error":"#N/A"},{"$error":"#N/A"},3]
[null,"li 395",null,null,null,null,null,null,null,null,null,null,null,null,null,null,null,null,null,null,null,null,{"$error":"#N/A"},{"$error":"#N/A"},{"$error":"#N/A"},{"$error":"#N/A"},{"$error":"#N/A"},{"$error":"#N/A"},{"$error":"#N/A"},{"$error":"#N/A"},{"$error":"#N/A"},{"$error":"#N/A"},{"$error":"#N/A"},6]
[null,"li 396",null,null,null,null,null,null,null,null,null,null,null,null,null,null,null,null,null,null,null,null,{"$error":"#N/A"},{"$error":"#N/A"},{"$error":"#N/A"},{"$error":"#N/A"},{"$error":"#N/A"},{"$error":"#N/A"},{"$error":"#N/A"},{"$error":"#N/A"},{"$error":"#N/A"},{"$error":"#N/A"},{"$error":"#N/A"},7]
[null,"li 397",null,null,null,null,null,null,null,null,null,null,null,null,null,null,null,null,null,null,null,null,{"$error":"#N/A"},{"$error":"#N/A"},{"$error":"#N/A"},{"$error":"#N/A"},{"$error":"#N/A"},{"$error":"#N/A"},{"$error":"#N/A"},{"$error":"#N/A"},{"$error":"#N/A"},{"$error":"#N/A"},{"$error":"#N/A"},3]
[null,"li 398",null,null,null,null,null,null,null,null,null,null,null,null,null,null,null,null,null,null,null,null,{"$error":"#N/A"},{"$error":"#N/A"},{"$error":"#N/A"},{"$error":"#N/A"},{"$error":"#N/A"},{"$error":"#N/A"},{"$error":"#N/A"},{"$error":"#N/A"},{"$error":"#N/A"},{"$error":"#N/A"},{"$error":"#N/A"},6]
[null,"li 399",null,null,null,null,null,null,null,null,null,null,null,null,null,null,null,null,null,null,null,null,{"$error":"#N/A"},{"$error":"#N/A"},{"$error":"#N/A"},{"$error":"#N/A"},{"$error":"#N/A"},{"$error":"#N/A"},{"$error":"#N/A"},{"$error":"#N/A"},{"$error":"#N/A"},{"$error":"#N/A"},{"$error":"#N/A"},7]
[null,"li 400",null,null,null,null,null,null,null,null,null,null,null,null,null,null,null,null,null,null,null,null,{"$error":"#N/A"},{"$error":"#N/A"},{"$error":"#N/A"},{"$error":"#N/A"},{"$error":"#N/A"},{"$error":"#N/A"},{"$error":"#N/A"},{"$error":"#N/A"},{"$error":"#N/A"},{"$error":"#N/A"},{"$error":"#N/A"},2]
[null,"li 401",null,null,null,null,null,null,null,null,null,null,null,null,null,null,null,null,null,null,null,null,{"$error":"#N/A"},{"$error":"#N/A"},{"$error":"#N/A"},{"$error":"#N/A"},{"$error":"#N/A"},{"$error":"#N/A"},{"$error":"#N/A"},{"$error":"#N/A"},{"$error":"#N/A"},{"$error":"#N/A"},{"$error":"#N/A"},5]
[null,"li 402",null,null,null,null,null,null,null,null,null,null,null,null,null,null,null,null,null,null,null,null,{"$error":"#N/A"},{"$error":"#N/A"},{"$error":"#N/A"},{"$error":"#N/A"},{"$error":"#N/A"},{"$error":"#N/A"},{"$error":"#N/A"},{"$error":"#N/A"},{"$error":"#N/A"},{"$error":"#N/A"},{"$error":"#N/A"},7]
[null,"li 403",null,null,null,null,null,null,null,null,null,null,null,null,null,null,null,null,null,null,null,null,{"$error":"#N/A"},{"$error":"#N/A"},{"$error":"#N/A"},{"$error":"#N/A"},{"$error":"#N/A"},{"$error":"#N/A"},{"$error":"#N/A"},{"$error":"#N/A"},{"$error":"#N/A"},{"$error":"#N/A"},{"$error":"#N/A"},1]
[null,"li 404",null,null,null,null,null,null,null,null,null,null,null,null,null,null,null,null,null,null,null,null,{"$error":"#N/A"},{"$error":"#N/A"},{"$error":"#N/A"},{"$error":"#N/A"},{"$error":"#N/A"},{"$error":"#N/A"},{"$error":"#N/A"},{"$error":"#N/A"},{"$error":"#N/A"},{"$error":"#N/A"},{"$error":"#N/A"},4]
[null,"li 405",null,null,null,null,null,null,null,null,null,null,null,null,null,null,null,null,null,null,null,null,{"$error":"#N/A"},{"$error":"#N/A"},{"$error":"#N/A"},{"$error":"#N/A"},{"$error":"#N/A"},{"$error":"#N/A"},{"$error":"#N/A"},{"$error":"#N/A"},{"$error":"#N/A"},{"$error":"#N/A"},{"$error":"#N/A"},7]
[null,"li 406",null,null,null,null,null,null,null,null,null,null,null,null,null,null,null,null,null,null,null,null,{"$error":"#N/A"},{"$error":"#N/A"},{"$error":"#N/A"},{"$error":"#N/A"},{"$error":"#N/A"},{"$error":"#N/A"},{"$error":"#N/A"},{"$error":"#N/A"},{"$error":"#N/A"},{"$error":"#N/A"},{"$error":"#N/A"},5]
[null,"li 407",null,null,null,null,null,null,null,null,null,null,null,null,null,null,null,null,null,null,null,null,{"$error":"#N/A"},{"$error":"#N/A"},{"$error":"#N/A"},{"$error":"#N/A"},{"$error":"#N/A"},{"$error":"#N/A"},{"$error":"#N/A"},{"$error":"#N/A"},{"$error":"#N/A"},{"$error":"#N/A"},{"$error":"#N/A"},7]
[null,"li 408",null,null,null,null,null,null,null,null,null,null,null,null,null,null,null,null,null,null,null,null,{"$error":"#N/A"},{"$error":"#N/A"},{"$error":"#N/A"},{"$error":"#N/A"},{"$error":"#N/A"},{"$error":"#N/A"},{"$error":"#N/A"},{"$error":"#N/A"},{"$error":"#N/A"},{"$error":"#N/A"},{"$error":"#N/A"},6]
[null,"li 409",null,null,null,null,null,null,null,null,null,null,null,null,null,null,null,null,null,null,null,null,{"$error":"#N/A"},{"$error":"#N/A"},{"$error":"#N/A"},{"$error":"#N/A"},{"$error":"#N/A"},{"$error":"#N/A"},{"$error":"#N/A"},{"$error":"#N/A"},{"$error":"#N/A"},{"$error":"#N/A"},{"$error":"#N/A"},7]
[null,"li 410",null,null,null,null,null,null,null,null,null,null,null,null,null,null,null,null,null,null,null,null,{"$error":"#N/A"},{"$error":"#N/A"},{"$error":"#N/A"},{"$error":"#N/A"},{"$error":"#N/A"},{"$error":"#N/A"},{"$error":"#N/A"},{"$error":"#N/A"},{"$error":"#N/A"},{"$error":"#N/A"},{"$error":"#N/A"},7]
[null,"li 411",null,null,null,null,null,null,null,null,null,null,null,null,null,null,null,null,null,null,null,null,{"$error":"#N/A"},{"$error":"#N/A"},{"$error":"#N/A"},{"$error":"#N/A"},{"$error":"#N/A"},{"$error":"#N/A"},{"$error":"#N/A"},{"$error":"#N/A"},{"$error":"#N/A"},{"$error":"#N/A"},{"$error":"#N/A"},6]
[null,"li 412",null,null,null,null,null,null,null,null,null,null,null,null,null,null,null,null,null,null,null,null,{"$error":"#N/A"},{"$error":"#N/A"},{"$error":"#N/A"},{"$error":"#N/A"},{"$error":"#N/A"},{"$error":"#N/A"},{"$error":"#N/A"},{"$error":"#N/A"},{"$error":"#N/A"},{"$error":"#N/A"},{"$error":"#N/A"},2]
[null,"li 413",null,null,null,null,null,null,null,null,null,null,null,null,null,null,null,null,null,null,null,null,{"$error":"#N/A"},{"$error":"#N/A"},{"$error":"#N/A"},{"$error":"#N/A"},{"$error":"#N/A"},{"$error":"#N/A"},{"$error":"#N/A"},{"$error":"#N/A"},{"$error":"#N/A"},{"$error":"#N/A"},{"$error":"#N/A"},7]
[null,"li 414",null,null,null,null,null,null,null,null,null,null,null,null,null,null,null,null,null,null,null,null,{"$error":"#N/A"},{"$error":"#N/A"},{"$error":"#N/A"},{"$error":"#N/A"},{"$error":"#N/A"},{"$error":"#N/A"},{"$error":"#N/A"},{"$error":"#N/A"},{"$error":"#N/A"},{"$error":"#N/A"},{"$error":"#N/A"},5]
[null,"li 415",null,null,null,null,null,null,null,null,null,null,null,null,null,null,null,null,null,null,null,null,{"$error":"#N/A"},{"$error":"#N/A"},{"$error":"#N/A"},{"$error":"#N/A"},{"$error":"#N/A"},{"$error":"#N/A"},{"$error":"#N/A"},{"$error":"#N/A"},{"$error":"#N/A"},{"$error":"#N/A"},{"$error":"#N/A"},5]
[null,"li 416",null,null,null,null,null,null,null,null,null,null,null,null,null,null,null,null,null,null,null,null,{"$error":"#N/A"},{"$error":"#N/A"},{"$error":"#N/A"},{"$error":"#N/A"},{"$error":"#N/A"},{"$error":"#N/A"},{"$error":"#N/A"},{"$error":"#N/A"},{"$error":"#N/A"},{"$error":"#N/A"},{"$error":"#N/A"},2]
[null,"li 417",null,null,null,null,null,null,null,null,null,null,null,null,null,null,null,null,null,null,null,null,{"$error":"#N/A"},{"$error":"#N/A"},{"$error":"#N/A"},{"$error":"#N/A"},{"$error":"#N/A"},{"$error":"#N/A"},{"$error":"#N/A"},{"$error":"#N/A"},{"$error":"#N/A"},{"$error":"#N/A"},{"$error":"#N/A"},4]
[null,"li 418",null,null,null,null,null,null,null,null,null,null,null,null,null,null,null,null,null,null,null,null,{"$error":"#N/A"},{"$error":"#N/A"},{"$error":"#N/A"},{"$error":"#N/A"},{"$error":"#N/A"},{"$error":"#N/A"},{"$error":"#N/A"},{"$error":"#N/A"},{"$error":"#N/A"},{"$error":"#N/A"},{"$error":"#N/A"},2]
[null,"li 419",null,null,null,null,null,null,null,null,null,null,null,null,null,null,null,null,null,null,null,null,{"$error":"#N/A"},{"$error":"#N/A"},{"$error":"#N/A"},{"$error":"#N/A"},{"$error":"#N/A"},{"$error":"#N/A"},{"$error":"#N/A"},{"$error":"#N/A"},{"$error":"#N/A"},{"$error":"#N/A"},{"$error":"#N/A"},2]
[null,"li 420",null,null,null,null,null,null,null,null,null,null,null,null,null,null,null,null,null,null,null,null,{"$error":"#N/A"},{"$error":"#N/A"},{"$error":"#N/A"},{"$error":"#N/A"},{"$error":"#N/A"},{"$error":"#N/A"},{"$error":"#N/A"},{"$error":"#N/A"},{"$error":"#N/A"},{"$error":"#N/A"},{"$error":"#N/A"},2]
[null,"li 421",null,null,null,null,null,null,null,null,null,null,null,null,null,null,null,null,null,null,null,null,{"$error":"#N/A"},{"$error":"#N/A"},{"$error":"#N/A"},{"$error":"#N/A"},{"$error":"#N/A"},{"$error":"#N/A"},{"$error":"#N/A"},{"$error":"#N/A"},{"$error":"#N/A"},{"$error":"#N/A"},{"$error":"#N/A"},5]
[null,"li 422",null,null,null,null,null,null,null,null,null,null,null,null,null,null,null,null,null,null,null,null,{"$error":"#N/A"},{"$error":"#N/A"},{"$error":"#N/A"},{"$error":"#N/A"},{"$error":"#N/A"},{"$error":"#N/A"},{"$error":"#N/A"},{"$error":"#N/A"},{"$error":"#N/A"},{"$error":"#N/A"},{"$error":"#N/A"},3]
[null,"li 423",null,null,null,null,null,null,null,null,null,null,null,null,null,null,null,null,null,null,null,null,{"$error":"#N/A"},{"$error":"#N/A"},{"$error":"#N/A"},{"$error":"#N/A"},{"$error":"#N/A"},{"$error":"#N/A"},{"$error":"#N/A"},{"$error":"#N/A"},{"$error":"#N/A"},{"$error":"#N/A"},{"$error":"#N/A"},4]
[null,"li 424",null,null,null,null,null,null,null,null,null,null,null,null,null,null,null,null,null,null,null,null,{"$error":"#N/A"},{"$error":"#N/A"},{"$error":"#N/A"},{"$error":"#N/A"},{"$error":"#N/A"},{"$error":"#N/A"},{"$error":"#N/A"},{"$error":"#N/A"},{"$error":"#N/A"},{"$error":"#N/A"},{"$error":"#N/A"},5]
[null,"li 425",null,null,null,null,null,null,null,null,null,null,null,null,null,null,null,null,null,null,null,null,{"$error":"#N/A"},{"$error":"#N/A"},{"$error":"#N/A"},{"$error":"#N/A"},{"$error":"#N/A"},{"$error":"#N/A"},{"$error":"#N/A"},{"$error":"#N/A"},{"$error":"#N/A"},{"$error":"#N/A"},{"$error":"#N/A"},7]
[null,"li 426",null,null,null,null,null,null,null,null,null,null,null,null,null,null,null,null,null,null,null,null,{"$error":"#N/A"},{"$error":"#N/A"},{"$error":"#N/A"},{"$error":"#N/A"},{"$error":"#N/A"},{"$error":"#N/A"},{"$error":"#N/A"},{"$error":"#N/A"},{"$error":"#N/A"},{"$error":"#N/A"},{"$error":"#N/A"},2]
[null,"li 427",null,null,null,null,null,null,null,null,null,null,null,null,null,null,null,null,null,null,null,null,{"$error":"#N/A"},{"$error":"#N/A"},{"$error":"#N/A"},{"$error":"#N/A"},{"$error":"#N/A"},{"$error":"#N/A"},{"$error":"#N/A"},{"$error":"#N/A"},{"$error":"#N/A"},{"$error":"#N/A"},{"$error":"#N/A"},4]
[null,"li 428",null,null,null,null,null,null,null,null,null,null,null,null,null,null,null,null,null,null,null,null,{"$error":"#N/A"},{"$error":"#N/A"},{"$error":"#N/A"},{"$error":"#N/A"},{"$error":"#N/A"},{"$error":"#N/A"},{"$error":"#N/A"},{"$error":"#N/A"},{"$error":"#N/A"},{"$error":"#N/A"},{"$error":"#N/A"},1]
[null,"li 429",null,null,null,null,null,null,null,null,null,null,null,null,null,null,null,null,null,null,null,null,{"$error":"#N/A"},{"$error":"#N/A"},{"$error":"#N/A"},{"$error":"#N/A"},{"$error":"#N/A"},{"$error":"#N/A"},{"$error":"#N/A"},{"$error":"#N/A"},{"$error":"#N/A"},{"$error":"#N/A"},{"$error":"#N/A"},3]
[null,"li 430",null,null,null,null,null,null,null,null,null,null,null,null,null,null,null,null,null,null,null,null,{"$error":"#N/A"},{"$error":"#N/A"},{"$error":"#N/A"},{"$error":"#N/A"},{"$error":"#N/A"},{"$error":"#N/A"},{"$error":"#N/A"},{"$error":"#N/A"},{"$error":"#N/A"},{"$error":"#N/A"},{"$error":"#N/A"},4]
[null,"li 431",null,null,null,null,null,null,null,null,null,null,null,null,null,null,null,null,null,null,null,null,{"$error":"#N/A"},{"$error":"#N/A"},{"$error":"#N/A"},{"$error":"#N/A"},{"$error":"#N/A"},{"$error":"#N/A"},{"$error":"#N/A"},{"$error":"#N/A"},{"$error":"#N/A"},{"$error":"#N/A"},{"$error":"#N/A"},5]
[null,"li 432",null,null,null,null,null,null,null,null,null,null,null,null,null,null,null,null,null,null,null,null,{"$error":"#N/A"},{"$error":"#N/A"},{"$error":"#N/A"},{"$error":"#N/A"},{"$error":"#N/A"},{"$error":"#N/A"},{"$error":"#N/A"},{"$error":"#N/A"},{"$error":"#N/A"},{"$error":"#N/A"},{"$error":"#N/A"},5]
[null,"li 433",null,null,null,null,null,null,null,null,null,null,null,null,null,null,null,null,null,null,null,null,{"$error":"#N/A"},{"$error":"#N/A"},{"$error":"#N/A"},{"$error":"#N/A"},{"$error":"#N/A"},{"$error":"#N/A"},{"$error":"#N/A"},{"$error":"#N/A"},{"$error":"#N/A"},{"$error":"#N/A"},{"$error":"#N/A"},6]
[null,"li 434",null,null,null,null,null,null,null,null,null,null,null,null,null,null,null,null,null,null,null,null,{"$error":"#N/A"},{"$error":"#N/A"},{"$error":"#N/A"},{"$error":"#N/A"},{"$error":"#N/A"},{"$error":"#N/A"},{"$error":"#N/A"},{"$error":"#N/A"},{"$error":"#N/A"},{"$error":"#N/A"},{"$error":"#N/A"},5]
[null,"li 435",null,null,null,null,null,null,null,null,null,null,null,null,null,null,null,null,null,null,null,null,{"$error":"#N/A"},{"$error":"#N/A"},{"$error":"#N/A"},{"$error":"#N/A"},{"$error":"#N/A"},{"$error":"#N/A"},{"$error":"#N/A"},{"$error":"#N/A"},{"$error":"#N/A"},{"$error":"#N/A"},{"$error":"#N/A"},3]
[null,"li 436",null,null,null,null,null,null,null,null,null,null,null,null,null,null,null,null,null,null,null,null,{"$error":"#N/A"},{"$error":"#N/A"},{"$error":"#N/A"},{"$error":"#N/A"},{"$error":"#N/A"},{"$error":"#N/A"},{"$error":"#N/A"},{"$error":"#N/A"},{"$error":"#N/A"},{"$error":"#N/A"},{"$error":"#N/A"},1]
[null,"li 437",null,null,null,null,null,null,null,null,null,null,null,null,null,null,null,null,null,null,null,null,{"$error":"#N/A"},{"$error":"#N/A"},{"$error":"#N/A"},{"$error":"#N/A"},{"$error":"#N/A"},{"$error":"#N/A"},{"$error":"#N/A"},{"$error":"#N/A"},{"$error":"#N/A"},{"$error":"#N/A"},{"$error":"#N/A"},4]
[null,"li 438",null,null,null,null,null,null,null,null,null,null,null,null,null,null,null,null,null,null,null,null,{"$error":"#N/A"},{"$error":"#N/A"},{"$error":"#N/A"},{"$error":"#N/A"},{"$error":"#N/A"},{"$error":"#N/A"},{"$error":"#N/A"},{"$error":"#N/A"},{"$error":"#N/A"},{"$error":"#N/A"},{"$error":"#N/A"},4]
[null,"li 439",null,null,null,null,null,null,null,null,null,null,null,null,null,null,null,null,null,null,null,null,{"$error":"#N/A"},{"$error":"#N/A"},{"$error":"#N/A"},{"$error":"#N/A"},{"$error":"#N/A"},{"$error":"#N/A"},{"$error":"#N/A"},{"$error":"#N/A"},{"$error":"#N/A"},{"$error":"#N/A"},{"$error":"#N/A"},1]
[null,"li 440",null,null,null,null,null,null,null,null,null,null,null,null,null,null,null,null,null,null,null,null,{"$error":"#N/A"},{"$error":"#N/A"},{"$error":"#N/A"},{"$error":"#N/A"},{"$error":"#N/A"},{"$error":"#N/A"},{"$error":"#N/A"},{"$error":"#N/A"},{"$error":"#N/A"},{"$error":"#N/A"},{"$error":"#N/A"},3]
[null,"li 441",null,null,null,null,null,null,null,null,null,null,null,null,null,null,null,null,null,null,null,null,{"$error":"#N/A"},{"$error":"#N/A"},{"$error":"#N/A"},{"$error":"#N/A"},{"$error":"#N/A"},{"$error":"#N/A"},{"$error":"#N/A"},{"$error":"#N/A"},{"$error":"#N/A"},{"$error":"#N/A"},{"$error":"#N/A"},3]
[null,"li 442",null,null,null,null,null,null,null,null,null,null,null,null,null,null,null,null,null,null,null,null,{"$error":"#N/A"},{"$error":"#N/A"},{"$error":"#N/A"},{"$error":"#N/A"},{"$error":"#N/A"},{"$error":"#N/A"},{"$error":"#N/A"},{"$error":"#N/A"},{"$error":"#N/A"},{"$error":"#N/A"},{"$error":"#N/A"},5]
[null,"li 443",null,null,null,null,null,null,null,null,null,null,null,null,null,null,null,null,null,null,null,null,{"$error":"#N/A"},{"$error":"#N/A"},{"$error":"#N/A"},{"$error":"#N/A"},{"$error":"#N/A"},{"$error":"#N/A"},{"$error":"#N/A"},{"$error":"#N/A"},{"$error":"#N/A"},{"$error":"#N/A"},{"$error":"#N/A"},5]
[null,"li 444",null,null,null,null,null,null,null,null,null,null,null,null,null,null,null,null,null,null,null,null,{"$error":"#N/A"},{"$error":"#N/A"},{"$error":"#N/A"},{"$error":"#N/A"},{"$error":"#N/A"},{"$error":"#N/A"},{"$error":"#N/A"},{"$error":"#N/A"},{"$error":"#N/A"},{"$error":"#N/A"},{"$error":"#N/A"},4]
[null,"li 445",null,null,null,null,null,null,null,null,null,null,null,null,null,null,null,null,null,null,null,null,{"$error":"#N/A"},{"$error":"#N/A"},{"$error":"#N/A"},{"$error":"#N/A"},{"$error":"#N/A"},{"$error":"#N/A"},{"$error":"#N/A"},{"$error":"#N/A"},{"$error":"#N/A"},{"$error":"#N/A"},{"$error":"#N/A"},3]
[null,"li 446",null,null,null,null,null,null,null,null,null,null,null,null,null,null,null,null,null,null,null,null,{"$error":"#N/A"},{"$error":"#N/A"},{"$error":"#N/A"},{"$error":"#N/A"},{"$error":"#N/A"},{"$error":"#N/A"},{"$error":"#N/A"},{"$error":"#N/A"},{"$error":"#N/A"},{"$error":"#N/A"},{"$error":"#N/A"},1]
[null,"li 447",null,null,null,null,null,null,null,null,null,null,null,null,null,null,null,null,null,null,null,null,{"$error":"#N/A"},{"$error":"#N/A"},{"$error":"#N/A"},{"$error":"#N/A"},{"$error":"#N/A"},{"$error":"#N/A"},{"$error":"#N/A"},{"$error":"#N/A"},{"$error":"#N/A"},{"$error":"#N/A"},{"$error":"#N/A"},6]
[null,"li 448",null,null,null,null,null,null,null,null,null,null,null,null,null,null,null,null,null,null,null,null,{"$error":"#N/A"},{"$error":"#N/A"},{"$error":"#N/A"},{"$error":"#N/A"},{"$error":"#N/A"},{"$error":"#N/A"},{"$error":"#N/A"},{"$error":"#N/A"},{"$error":"#N/A"},{"$error":"#N/A"},{"$error":"#N/A"},7]
[null,"li 449",null,null,null,null,null,null,null,null,null,null,null,null,null,null,null,null,null,null,null,null,{"$error":"#N/A"},{"$error":"#N/A"},{"$error":"#N/A"},{"$error":"#N/A"},{"$error":"#N/A"},{"$f":"W452^2/$AG452","v":{"$error":"#N/A"}},{"$f":"X452^2/$AG452","v":{"$error":"#N/A"}},{"$f":"Y452^2/$AG452","v":{"$error":"#N/A"}},{"$f":"Z452^2/$AG452","v":{"$error":"#N/A"}},{"$f":"AA452^2/$AG452","v":{"$error":"#N/A"}},{"$f":"W452^2+X452^2+Y452^2+Z452^2+AA452^2","v":{"$error":"#N/A"}},4]
[null,"li 450",null,null,null,null,null,null,null,null,null,null,null,null,null,null,null,null,null,null,null,null,{"$error":"#N/A"},{"$error":"#N/A"},{"$error":"#N/A"},{"$error":"#N/A"},{"$error":"#N/A"},{"$error":"#N/A"},{"$error":"#N/A"},{"$error":"#N/A"},{"$error":"#N/A"},{"$error":"#N/A"},{"$error":"#N/A"},7]
[null,"li 451",null,null,null,null,null,null,null,null,null,null,null,null,null,null,null,null,null,null,null,null,{"$error":"#N/A"},{"$error":"#N/A"},{"$error":"#N/A"},{"$error":"#N/A"},{"$error":"#N/A"},{"$error":"#N/A"},{"$error":"#N/A"},{"$error":"#N/A"},{"$error":"#N/A"},{"$error":"#N/A"},{"$error":"#N/A"},7]
[null,"li 452",null,null,null,null,null,null,null,null,null,null,null,null,null,null,null,null,null,null,null,null,{"$error":"#N/A"},{"$error":"#N/A"},{"$error":"#N/A"},{"$error":"#N/A"},{"$error":"#N/A"},{"$error":"#N/A"},{"$error":"#N/A"},{"$error":"#N/A"},{"$error":"#N/A"},{"$error":"#N/A"},{"$error":"#N/A"},2]
[null,"li 453",null,null,null,null,null,null,null,null,null,null,null,null,null,null,null,null,null,null,null,null,{"$error":"#N/A"},{"$error":"#N/A"},{"$error":"#N/A"},{"$error":"#N/A"},{"$error":"#N/A"},{"$error":"#N/A"},{"$error":"#N/A"},{"$error":"#N/A"},{"$error":"#N/A"},{"$error":"#N/A"},{"$error":"#N/A"},1]
[null,"li 454",null,null,null,null,null,null,null,null,null,null,null,null,null,null,null,null,null,null,null,null,{"$error":"#N/A"},{"$error":"#N/A"},{"$error":"#N/A"},{"$error":"#N/A"},{"$error":"#N/A"},{"$error":"#N/A"},{"$error":"#N/A"},{"$error":"#N/A"},{"$error":"#N/A"},{"$error":"#N/A"},{"$error":"#N/A"},5]
[null,"li 455",null,null,null,null,null,null,null,null,null,null,null,null,null,null,null,null,null,null,null,null,{"$error":"#N/A"},{"$error":"#N/A"},{"$error":"#N/A"},{"$error":"#N/A"},{"$error":"#N/A"},{"$error":"#N/A"},{"$error":"#N/A"},{"$error":"#N/A"},{"$error":"#N/A"},{"$error":"#N/A"},{"$error":"#N/A"},5]
[null,"li 456",null,null,null,null,null,null,null,null,null,null,null,null,null,null,null,null,null,null,null,null,{"$error":"#N/A"},{"$error":"#N/A"},{"$error":"#N/A"},{"$error":"#N/A"},{"$error":"#N/A"},{"$error":"#N/A"},{"$error":"#N/A"},{"$error":"#N/A"},{"$error":"#N/A"},{"$error":"#N/A"},{"$error":"#N/A"},2]
[null,"li 457",null,null,null,null,null,null,null,null,null,null,null,null,null,null,null,null,null,null,null,null,{"$error":"#N/A"},{"$error":"#N/A"},{"$error":"#N/A"},{"$error":"#N/A"},{"$error":"#N/A"},{"$error":"#N/A"},{"$error":"#N/A"},{"$error":"#N/A"},{"$error":"#N/A"},{"$error":"#N/A"},{"$error":"#N/A"},5]
[null,"li 458",null,null,null,null,null,null,null,null,null,null,null,null,null,null,null,null,null,null,null,null,{"$error":"#N/A"},{"$error":"#N/A"},{"$error":"#N/A"},{"$error":"#N/A"},{"$error":"#N/A"},{"$error":"#N/A"},{"$error":"#N/A"},{"$error":"#N/A"},{"$error":"#N/A"},{"$error":"#N/A"},{"$error":"#N/A"},4]
[null,"li 459",null,null,null,null,null,null,null,null,null,null,null,null,null,null,null,null,null,null,null,null,{"$error":"#N/A"},{"$error":"#N/A"},{"$error":"#N/A"},{"$error":"#N/A"},{"$error":"#N/A"},{"$error":"#N/A"},{"$error":"#N/A"},{"$error":"#N/A"},{"$error":"#N/A"},{"$error":"#N/A"},{"$error":"#N/A"},6]
[null,"li 460",null,null,null,null,null,null,null,null,null,null,null,null,null,null,null,null,null,null,null,null,{"$error":"#N/A"},{"$error":"#N/A"},{"$error":"#N/A"},{"$error":"#N/A"},{"$error":"#N/A"},{"$error":"#N/A"},{"$error":"#N/A"},{"$error":"#N/A"},{"$error":"#N/A"},{"$error":"#N/A"},{"$error":"#N/A"},1]
[null,"li 461",null,null,null,null,null,null,null,null,null,null,null,null,null,null,null,null,null,null,null,null,{"$error":"#N/A"},{"$error":"#N/A"},{"$error":"#N/A"},{"$error":"#N/A"},{"$error":"#N/A"},{"$error":"#N/A"},{"$error":"#N/A"},{"$error":"#N/A"},{"$error":"#N/A"},{"$error":"#N/A"},{"$error":"#N/A"},1]
[null,"li 462",null,null,null,null,null,null,null,null,null,null,null,null,null,null,null,null,null,null,null,null,{"$error":"#N/A"},{"$error":"#N/A"},{"$error":"#N/A"},{"$error":"#N/A"},{"$error":"#N/A"},{"$error":"#N/A"},{"$error":"#N/A"},{"$error":"#N/A"},{"$error":"#N/A"},{"$error":"#N/A"},{"$error":"#N/A"},5]
[null,"li 463",null,null,null,null,null,null,null,null,null,null,null,null,null,null,null,null,null,null,null,null,{"$error":"#N/A"},{"$error":"#N/A"},{"$error":"#N/A"},{"$error":"#N/A"},{"$error":"#N/A"},{"$error":"#N/A"},{"$error":"#N/A"},{"$error":"#N/A"},{"$error":"#N/A"},{"$error":"#N/A"},{"$error":"#N/A"},6]
[null,"li 464",null,null,null,null,null,null,null,null,null,null,null,null,null,null,null,null,null,null,null,null,{"$error":"#N/A"},{"$error":"#N/A"},{"$error":"#N/A"},{"$error":"#N/A"},{"$error":"#N/A"},{"$error":"#N/A"},{"$error":"#N/A"},{"$error":"#N/A"},{"$error":"#N/A"},{"$error":"#N/A"},{"$error":"#N/A"},3]
[null,"li 465",null,null,null,null,null,null,null,null,null,null,null,null,null,null,null,null,null,null,null,null,{"$error":"#N/A"},{"$error":"#N/A"},{"$error":"#N/A"},{"$error":"#N/A"},{"$error":"#N/A"},{"$error":"#N/A"},{"$error":"#N/A"},{"$error":"#N/A"},{"$error":"#N/A"},{"$error":"#N/A"},{"$error":"#N/A"},4]
[null,"li 466",null,null,null,null,null,null,null,null,null,null,null,null,null,null,null,null,null,null,null,null,{"$error":"#N/A"},{"$error":"#N/A"},{"$error":"#N/A"},{"$error":"#N/A"},{"$error":"#N/A"},{"$error":"#N/A"},{"$error":"#N/A"},{"$error":"#N/A"},{"$error":"#N/A"},{"$error":"#N/A"},{"$error":"#N/A"},6]
[null,"li 467",null,null,null,null,null,null,null,null,null,null,null,null,null,null,null,null,null,null,null,null,{"$error":"#N/A"},{"$error":"#N/A"},{"$error":"#N/A"},{"$error":"#N/A"},{"$error":"#N/A"},{"$error":"#N/A"},{"$error":"#N/A"},{"$error":"#N/A"},{"$error":"#N/A"},{"$error":"#N/A"},{"$error":"#N/A"},6]
[null,"li 468",null,null,null,null,null,null,null,null,null,null,null,null,null,null,null,null,null,null,null,null,{"$error":"#N/A"},{"$error":"#N/A"},{"$error":"#N/A"},{"$error":"#N/A"},{"$error":"#N/A"},{"$error":"#N/A"},{"$error":"#N/A"},{"$error":"#N/A"},{"$error":"#N/A"},{"$error":"#N/A"},{"$error":"#N/A"},4]
[null,"li 469",null,null,null,null,null,null,null,null,null,null,null,null,null,null,null,null,null,null,null,null,{"$error":"#N/A"},{"$error":"#N/A"},{"$error":"#N/A"},{"$error":"#N/A"},{"$error":"#N/A"},{"$error":"#N/A"},{"$error":"#N/A"},{"$error":"#N/A"},{"$error":"#N/A"},{"$error":"#N/A"},{"$error":"#N/A"},1]
[null,"li 470",null,null,null,null,null,null,null,null,null,null,null,null,null,null,null,null,null,null,null,null,{"$error":"#N/A"},{"$error":"#N/A"},{"$error":"#N/A"},{"$error":"#N/A"},{"$error":"#N/A"},{"$error":"#N/A"},{"$error":"#N/A"},{"$error":"#N/A"},{"$error":"#N/A"},{"$error":"#N/A"},{"$error":"#N/A"},2]
[null,"li 471",null,null,null,null,null,null,null,null,null,null,null,null,null,null,null,null,null,null,null,null,{"$error":"#N/A"},{"$error":"#N/A"},{"$error":"#N/A"},{"$error":"#N/A"},{"$error":"#N/A"},{"$error":"#N/A"},{"$error":"#N/A"},{"$error":"#N/A"},{"$error":"#N/A"},{"$error":"#N/A"},{"$error":"#N/A"},5]
[null,"li 472",null,null,null,null,null,null,null,null,null,null,null,null,null,null,null,null,null,null,null,null,{"$error":"#N/A"},{"$error":"#N/A"},{"$error":"#N/A"},{"$error":"#N/A"},{"$error":"#N/A"},{"$error":"#N/A"},{"$error":"#N/A"},{"$error":"#N/A"},{"$error":"#N/A"},{"$error":"#N/A"},{"$error":"#N/A"},4]
[null,"li 473",null,null,null,null,null,null,null,null,null,null,null,null,null,null,null,null,null,null,null,null,{"$error":"#N/A"},{"$error":"#N/A"},{"$error":"#N/A"},{"$error":"#N/A"},{"$error":"#N/A"},{"$error":"#N/A"},{"$error":"#N/A"},{"$error":"#N/A"},{"$error":"#N/A"},{"$error":"#N/A"},{"$error":"#N/A"},3]
[null,"li 474",null,null,null,null,null,null,null,null,null,null,null,null,null,null,null,null,null,null,null,null,{"$error":"#N/A"},{"$error":"#N/A"},{"$error":"#N/A"},{"$error":"#N/A"},{"$error":"#N/A"},{"$error":"#N/A"},{"$error":"#N/A"},{"$error":"#N/A"},{"$error":"#N/A"},{"$error":"#N/A"},{"$error":"#N/A"},7]
[null,"li 475",null,null,null,null,null,null,null,null,null,null,null,null,null,null,null,null,null,null,null,null,{"$error":"#N/A"},{"$error":"#N/A"},{"$error":"#N/A"},{"$error":"#N/A"},{"$error":"#N/A"},{"$error":"#N/A"},{"$error":"#N/A"},{"$error":"#N/A"},{"$error":"#N/A"},{"$error":"#N/A"},{"$error":"#N/A"},4]
[null,"li 476",null,null,null,null,null,null,null,null,null,null,null,null,null,null,null,null,null,null,null,null,{"$error":"#N/A"},{"$error":"#N/A"},{"$error":"#N/A"},{"$error":"#N/A"},{"$error":"#N/A"},{"$error":"#N/A"},{"$error":"#N/A"},{"$error":"#N/A"},{"$error":"#N/A"},{"$error":"#N/A"},{"$error":"#N/A"},3]
[null,"li 477",null,null,null,null,null,null,null,null,null,null,null,null,null,null,null,null,null,null,null,null,{"$error":"#N/A"},{"$error":"#N/A"},{"$error":"#N/A"},{"$error":"#N/A"},{"$error":"#N/A"},{"$error":"#N/A"},{"$error":"#N/A"},{"$error":"#N/A"},{"$error":"#N/A"},{"$error":"#N/A"},{"$error":"#N/A"},5]
[null,"li 478",null,null,null,null,null,null,null,null,null,null,null,null,null,null,null,null,null,null,null,null,{"$error":"#N/A"},{"$error":"#N/A"},{"$error":"#N/A"},{"$error":"#N/A"},{"$error":"#N/A"},{"$error":"#N/A"},{"$error":"#N/A"},{"$error":"#N/A"},{"$error":"#N/A"},{"$error":"#N/A"},{"$error":"#N/A"},3]
[null,"li 479",null,null,null,null,null,null,null,null,null,null,null,null,null,null,null,null,null,null,null,null,{"$error":"#N/A"},{"$error":"#N/A"},{"$error":"#N/A"},{"$error":"#N/A"},{"$error":"#N/A"},{"$error":"#N/A"},{"$error":"#N/A"},{"$error":"#N/A"},{"$error":"#N/A"},{"$error":"#N/A"},{"$error":"#N/A"},5]
[null,"li 480",null,null,null,null,null,null,null,null,null,null,null,null,null,null,null,null,null,null,null,null,{"$error":"#N/A"},{"$error":"#N/A"},{"$error":"#N/A"},{"$error":"#N/A"},{"$error":"#N/A"},{"$error":"#N/A"},{"$error":"#N/A"},{"$error":"#N/A"},{"$error":"#N/A"},{"$error":"#N/A"},{"$error":"#N/A"},1]
[null,"li 481",null,null,null,null,null,null,null,null,null,null,null,null,null,null,null,null,null,null,null,null,{"$error":"#N/A"},{"$error":"#N/A"},{"$error":"#N/A"},{"$error":"#N/A"},{"$error":"#N/A"},{"$error":"#N/A"},{"$error":"#N/A"},{"$error":"#N/A"},{"$error":"#N/A"},{"$error":"#N/A"},{"$error":"#N/A"},3]
[null,"li 482",null,null,null,null,null,null,null,null,null,null,null,null,null,null,null,null,null,null,null,null,{"$error":"#N/A"},{"$error":"#N/A"},{"$error":"#N/A"},{"$error":"#N/A"},{"$error":"#N/A"},{"$error":"#N/A"},{"$error":"#N/A"},{"$error":"#N/A"},{"$error":"#N/A"},{"$error":"#N/A"},{"$error":"#N/A"},5]
[null,"li 483",null,null,null,null,null,null,null,null,null,null,null,null,null,null,null,null,null,null,null,null,{"$error":"#N/A"},{"$error":"#N/A"},{"$error":"#N/A"},{"$error":"#N/A"},{"$error":"#N/A"},{"$error":"#N/A"},{"$error":"#N/A"},{"$error":"#N/A"},{"$error":"#N/A"},{"$error":"#N/A"},{"$error":"#N/A"},1]
[null,"li 484",null,null,null,null,null,null,null,null,null,null,null,null,null,null,null,null,null,null,null,null,{"$error":"#N/A"},{"$error":"#N/A"},{"$error":"#N/A"},{"$error":"#N/A"},{"$error":"#N/A"},{"$error":"#N/A"},{"$error":"#N/A"},{"$error":"#N/A"},{"$error":"#N/A"},{"$error":"#N/A"},{"$error":"#N/A"},6]
[null,"li 485",null,null,null,null,null,null,null,null,null,null,null,null,null,null,null,null,null,null,null,null,{"$error":"#N/A"},{"$error":"#N/A"},{"$error":"#N/A"},{"$error":"#N/A"},{"$error":"#N/A"},{"$error":"#N/A"},{"$error":"#N/A"},{"$error":"#N/A"},{"$error":"#N/A"},{"$error":"#N/A"},{"$error":"#N/A"},4]
[null,"li 486",null,null,null,null,null,null,null,null,null,null,null,null,null,null,null,null,null,null,null,null,{"$error":"#N/A"},{"$error":"#N/A"},{"$error":"#N/A"},{"$error":"#N/A"},{"$error":"#N/A"},{"$error":"#N/A"},{"$error":"#N/A"},{"$error":"#N/A"},{"$error":"#N/A"},{"$error":"#N/A"},{"$error":"#N/A"},2]
[null,"li 487",null,null,null,null,null,null,null,null,null,null,null,null,null,null,null,null,null,null,null,null,{"$error":"#N/A"},{"$error":"#N/A"},{"$error":"#N/A"},{"$error":"#N/A"},{"$error":"#N/A"},{"$error":"#N/A"},{"$error":"#N/A"},{"$error":"#N/A"},{"$error":"#N/A"},{"$error":"#N/A"},{"$error":"#N/A"},1]
[null,"li 488",null,null,null,null,null,null,null,null,null,null,null,null,null,null,null,null,null,null,null,null,{"$error":"#N/A"},{"$error":"#N/A"},{"$error":"#N/A"},{"$error":"#N/A"},{"$error":"#N/A"},{"$error":"#N/A"},{"$error":"#N/A"},{"$error":"#N/A"},{"$error":"#N/A"},{"$error":"#N/A"},{"$error":"#N/A"},3]
[null,"li 489",null,null,null,null,null,null,null,null,null,null,null,null,null,null,null,null,null,null,null,null,{"$error":"#N/A"},{"$error":"#N/A"},{"$error":"#N/A"},{"$error":"#N/A"},{"$error":"#N/A"},{"$error":"#N/A"},{"$error":"#N/A"},{"$error":"#N/A"},{"$error":"#N/A"},{"$error":"#N/A"},{"$error":"#N/A"},4]
[null,"li 490",null,null,null,null,null,null,null,null,null,null,null,null,null,null,null,null,null,null,null,null,{"$error":"#N/A"},{"$error":"#N/A"},{"$error":"#N/A"},{"$error":"#N/A"},{"$error":"#N/A"},{"$error":"#N/A"},{"$error":"#N/A"},{"$error":"#N/A"},{"$error":"#N/A"},{"$error":"#N/A"},{"$error":"#N/A"},3]
[null,"li 491",null,null,null,null,null,null,null,null,null,null,null,null,null,null,null,null,null,null,null,null,{"$error":"#N/A"},{"$error":"#N/A"},{"$error":"#N/A"},{"$error":"#N/A"},{"$error":"#N/A"},{"$error":"#N/A"},{"$error":"#N/A"},{"$error":"#N/A"},{"$error":"#N/A"},{"$error":"#N/A"},{"$error":"#N/A"},5]
[null,"li 492",null,null,null,null,null,null,null,null,null,null,null,null,null,null,null,null,null,null,null,null,{"$error":"#N/A"},{"$error":"#N/A"},{"$error":"#N/A"},{"$error":"#N/A"},{"$error":"#N/A"},{"$error":"#N/A"},{"$error":"#N/A"},{"$error":"#N/A"},{"$error":"#N/A"},{"$error":"#N/A"},{"$error":"#N/A"},6]
[null,"li 493",null,null,null,null,null,null,null,null,null,null,null,null,null,null,null,null,null,null,null,null,{"$error":"#N/A"},{"$error":"#N/A"},{"$error":"#N/A"},{"$error":"#N/A"},{"$error":"#N/A"},{"$error":"#N/A"},{"$error":"#N/A"},{"$error":"#N/A"},{"$error":"#N/A"},{"$error":"#N/A"},{"$error":"#N/A"},3]
[null,"li 494",null,null,null,null,null,null,null,null,null,null,null,null,null,null,null,null,null,null,null,null,{"$error":"#N/A"},{"$error":"#N/A"},{"$error":"#N/A"},{"$error":"#N/A"},{"$error":"#N/A"},{"$error":"#N/A"},{"$error":"#N/A"},{"$error":"#N/A"},{"$error":"#N/A"},{"$error":"#N/A"},{"$error":"#N/A"},7]
[null,"li 495",null,null,null,null,null,null,null,null,null,null,null,null,null,null,null,null,null,null,null,null,{"$error":"#N/A"},{"$error":"#N/A"},{"$error":"#N/A"},{"$error":"#N/A"},{"$error":"#N/A"},{"$error":"#N/A"},{"$error":"#N/A"},{"$error":"#N/A"},{"$error":"#N/A"},{"$error":"#N/A"},{"$error":"#N/A"},5]
[null,"li 496",null,null,null,null,null,null,null,null,null,null,null,null,null,null,null,null,null,null,null,null,{"$error":"#N/A"},{"$error":"#N/A"},{"$error":"#N/A"},{"$error":"#N/A"},{"$error":"#N/A"},{"$error":"#N/A"},{"$error":"#N/A"},{"$error":"#N/A"},{"$error":"#N/A"},{"$error":"#N/A"},{"$error":"#N/A"},6]
[null,"li 497",null,null,null,null,null,null,null,null,null,null,null,null,null,null,null,null,null,null,null,null,{"$error":"#N/A"},{"$error":"#N/A"},{"$error":"#N/A"},{"$error":"#N/A"},{"$error":"#N/A"},{"$error":"#N/A"},{"$error":"#N/A"},{"$error":"#N/A"},{"$error":"#N/A"},{"$error":"#N/A"},{"$error":"#N/A"},2]
[null,"li 498",null,null,null,null,null,null,null,null,null,null,null,null,null,null,null,null,null,null,null,null,{"$error":"#N/A"},{"$error":"#N/A"},{"$error":"#N/A"},{"$error":"#N/A"},{"$error":"#N/A"},{"$error":"#N/A"},{"$error":"#N/A"},{"$error":"#N/A"},{"$error":"#N/A"},{"$error":"#N/A"},{"$error":"#N/A"},5]
[null,"li 499",null,null,null,null,null,null,null,null,null,null,null,null,null,null,null,null,null,null,null,null,{"$error":"#N/A"},{"$error":"#N/A"},{"$error":"#N/A"},{"$error":"#N/A"},{"$error":"#N/A"},{"$error":"#N/A"},{"$error":"#N/A"},{"$error":"#N/A"},{"$error":"#N/A"},{"$error":"#N/A"},{"$error":"#N/A"},2]
[null,"li 500",null,null,null,null,null,null,null,null,null,null,null,null,null,null,null,null,null,null,null,null,{"$error":"#N/A"},{"$error":"#N/A"},{"$error":"#N/A"},{"$error":"#N/A"},{"$error":"#N/A"},{"$error":"#N/A"},{"$error":"#N/A"},{"$error":"#N/A"},{"$error":"#N/A"},{"$error":"#N/A"},{"$error":"#N/A"},5]
[null,"li 501",null,null,null,null,null,null,null,null,null,null,null,null,null,null,null,null,null,null,null,null,{"$error":"#N/A"},{"$error":"#N/A"},{"$error":"#N/A"},{"$error":"#N/A"},{"$error":"#N/A"},{"$error":"#N/A"},{"$error":"#N/A"},{"$error":"#N/A"},{"$error":"#N/A"},{"$error":"#N/A"},{"$error":"#N/A"},7]
[null,"li 502",null,null,null,null,null,null,null,null,null,null,null,null,null,null,null,null,null,null,null,null,{"$error":"#N/A"},{"$error":"#N/A"},{"$error":"#N/A"},{"$error":"#N/A"},{"$error":"#N/A"},{"$error":"#N/A"},{"$error":"#N/A"},{"$error":"#N/A"},{"$error":"#N/A"},{"$error":"#N/A"},{"$error":"#N/A"},5]
[null,"li 503",null,null,null,null,null,null,null,null,null,null,null,null,null,null,null,null,null,null,null,null,{"$error":"#N/A"},{"$error":"#N/A"},{"$error":"#N/A"},{"$error":"#N/A"},{"$error":"#N/A"},{"$error":"#N/A"},{"$error":"#N/A"},{"$error":"#N/A"},{"$error":"#N/A"},{"$error":"#N/A"},{"$error":"#N/A"},6]
[null,"li 504",null,null,null,null,null,null,null,null,null,null,null,null,null,null,null,null,null,null,null,null,{"$error":"#N/A"},{"$error":"#N/A"},{"$error":"#N/A"},{"$error":"#N/A"},{"$error":"#N/A"},{"$error":"#N/A"},{"$error":"#N/A"},{"$error":"#N/A"},{"$error":"#N/A"},{"$error":"#N/A"},{"$error":"#N/A"},4]
[null,"li 505",null,null,null,null,null,null,null,null,null,null,null,null,null,null,null,null,null,null,null,null,{"$error":"#N/A"},{"$error":"#N/A"},{"$error":"#N/A"},{"$error":"#N/A"},{"$error":"#N/A"},{"$error":"#N/A"},{"$error":"#N/A"},{"$error":"#N/A"},{"$error":"#N/A"},{"$error":"#N/A"},{"$error":"#N/A"},2]
[null,"li 506",null,null,null,null,null,null,null,null,null,null,null,null,null,null,null,null,null,null,null,null,{"$error":"#N/A"},{"$error":"#N/A"},{"$error":"#N/A"},{"$error":"#N/A"},{"$error":"#N/A"},{"$error":"#N/A"},{"$error":"#N/A"},{"$error":"#N/A"},{"$error":"#N/A"},{"$error":"#N/A"},{"$error":"#N/A"},1]
[null,"li 507",null,null,null,null,null,null,null,null,null,null,null,null,null,null,null,null,null,null,null,null,{"$error":"#N/A"},{"$error":"#N/A"},{"$error":"#N/A"},{"$error":"#N/A"},{"$error":"#N/A"},{"$error":"#N/A"},{"$error":"#N/A"},{"$error":"#N/A"},{"$error":"#N/A"},{"$error":"#N/A"},{"$error":"#N/A"},3]
[null,"li 508",null,null,null,null,null,null,null,null,null,null,null,null,null,null,null,null,null,null,null,null,{"$error":"#N/A"},{"$error":"#N/A"},{"$error":"#N/A"},{"$error":"#N/A"},{"$error":"#N/A"},{"$error":"#N/A"},{"$error":"#N/A"},{"$error":"#N/A"},{"$error":"#N/A"},{"$error":"#N/A"},{"$error":"#N/A"},7]
[null,"li 509",null,null,null,null,null,null,null,null,null,null,null,null,null,null,null,null,null,null,null,null,{"$error":"#N/A"},{"$error":"#N/A"},{"$error":"#N/A"},{"$error":"#N/A"},{"$error":"#N/A"},{"$error":"#N/A"},{"$error":"#N/A"},{"$error":"#N/A"},{"$error":"#N/A"},{"$error":"#N/A"},{"$error":"#N/A"},2]
[null,"li 510",null,null,null,null,null,null,null,null,null,null,null,null,null,null,null,null,null,null,null,null,{"$error":"#N/A"},{"$error":"#N/A"},{"$error":"#N/A"},{"$error":"#N/A"},{"$error":"#N/A"},{"$error":"#N/A"},{"$error":"#N/A"},{"$error":"#N/A"},{"$error":"#N/A"},{"$error":"#N/A"},{"$error":"#N/A"},5]
[null,"li 511",null,null,null,null,null,null,null,null,null,null,null,null,null,null,null,null,null,null,null,null,{"$error":"#N/A"},{"$error":"#N/A"},{"$error":"#N/A"},{"$error":"#N/A"},{"$error":"#N/A"},{"$error":"#N/A"},{"$error":"#N/A"},{"$error":"#N/A"},{"$error":"#N/A"},{"$error":"#N/A"},{"$error":"#N/A"},5]
[null,"li 512",null,null,null,null,null,null,null,null,null,null,null,null,null,null,null,null,null,null,null,null,{"$error":"#N/A"},{"$error":"#N/A"},{"$error":"#N/A"},{"$error":"#N/A"},{"$error":"#N/A"},{"$error":"#N/A"},{"$error":"#N/A"},{"$error":"#N/A"},{"$error":"#N/A"},{"$error":"#N/A"},{"$error":"#N/A"},2]
[null,"li 513",null,null,null,null,null,null,null,null,null,null,null,null,null,null,null,null,null,null,null,null,{"$error":"#N/A"},{"$error":"#N/A"},{"$error":"#N/A"},{"$error":"#N/A"},{"$error":"#N/A"},{"$f":"W516^2/$AG516","v":{"$error":"#N/A"}},{"$f":"X516^2/$AG516","v":{"$error":"#N/A"}},{"$f":"Y516^2/$AG516","v":{"$error":"#N/A"}},{"$f":"Z516^2/$AG516","v":{"$error":"#N/A"}},{"$f":"AA516^2/$AG516","v":{"$error":"#N/A"}},{"$f":"W516^2+X516^2+Y516^2+Z516^2+AA516^2","v":{"$error":"#N/A"}},4]
[null,"li 514",null,null,null,null,null,null,null,null,null,null,null,null,null,null,null,null,null,null,null,null,{"$error":"#N/A"},{"$error":"#N/A"},{"$error":"#N/A"},{"$error":"#N/A"},{"$error":"#N/A"},{"$error":"#N/A"},{"$error":"#N/A"},{"$error":"#N/A"},{"$error":"#N/A"},{"$error":"#N/A"},{"$error":"#N/A"},3]
[null,"li 515",null,null,null,null,null,null,null,null,null,null,null,null,null,null,null,null,null,null,null,null,{"$error":"#N/A"},{"$error":"#N/A"},{"$error":"#N/A"},{"$error":"#N/A"},{"$error":"#N/A"},{"$error":"#N/A"},{"$error":"#N/A"},{"$error":"#N/A"},{"$error":"#N/A"},{"$error":"#N/A"},{"$error":"#N/A"},2]
[null,"li 516",null,null,null,null,null,null,null,null,null,null,null,null,null,null,null,null,null,null,null,null,{"$error":"#N/A"},{"$error":"#N/A"},{"$error":"#N/A"},{"$error":"#N/A"},{"$error":"#N/A"},{"$error":"#N/A"},{"$error":"#N/A"},{"$error":"#N/A"},{"$error":"#N/A"},{"$error":"#N/A"},{"$error":"#N/A"},5]
[null,"li 517",null,null,null,null,null,null,null,null,null,null,null,null,null,null,null,null,null,null,null,null,{"$error":"#N/A"},{"$error":"#N/A"},{"$error":"#N/A"},{"$error":"#N/A"},{"$error":"#N/A"},{"$error":"#N/A"},{"$error":"#N/A"},{"$error":"#N/A"},{"$error":"#N/A"},{"$error":"#N/A"},{"$error":"#N/A"},3]
[null,"li 518",null,null,null,null,null,null,null,null,null,null,null,null,null,null,null,null,null,null,null,null,{"$error":"#N/A"},{"$error":"#N/A"},{"$error":"#N/A"},{"$error":"#N/A"},{"$error":"#N/A"},{"$error":"#N/A"},{"$error":"#N/A"},{"$error":"#N/A"},{"$error":"#N/A"},{"$error":"#N/A"},{"$error":"#N/A"},6]
[null,"li 519",null,null,null,null,null,null,null,null,null,null,null,null,null,null,null,null,null,null,null,null,{"$error":"#N/A"},{"$error":"#N/A"},{"$error":"#N/A"},{"$error":"#N/A"},{"$error":"#N/A"},{"$error":"#N/A"},{"$error":"#N/A"},{"$error":"#N/A"},{"$error":"#N/A"},{"$error":"#N/A"},{"$error":"#N/A"},4]
[null,"li 520",null,null,null,null,null,null,null,null,null,null,null,null,null,null,null,null,null,null,null,null,{"$error":"#N/A"},{"$error":"#N/A"},{"$error":"#N/A"},{"$error":"#N/A"},{"$error":"#N/A"},{"$error":"#N/A"},{"$error":"#N/A"},{"$error":"#N/A"},{"$error":"#N/A"},{"$error":"#N/A"},{"$error":"#N/A"},5]
[null,"li 521",null,null,null,null,null,null,null,null,null,null,null,null,null,null,null,null,null,null,null,null,{"$error":"#N/A"},{"$error":"#N/A"},{"$error":"#N/A"},{"$error":"#N/A"},{"$error":"#N/A"},{"$error":"#N/A"},{"$error":"#N/A"},{"$error":"#N/A"},{"$error":"#N/A"},{"$error":"#N/A"},{"$error":"#N/A"},3]
[null,"li 522",null,null,null,null,null,null,null,null,null,null,null,null,null,null,null,null,null,null,null,null,{"$error":"#N/A"},{"$error":"#N/A"},{"$error":"#N/A"},{"$error":"#N/A"},{"$error":"#N/A"},{"$error":"#N/A"},{"$error":"#N/A"},{"$error":"#N/A"},{"$error":"#N/A"},{"$error":"#N/A"},{"$error":"#N/A"},7]
[null,"li 523",null,null,null,null,null,null,null,null,null,null,null,null,null,null,null,null,null,null,null,null,{"$error":"#N/A"},{"$error":"#N/A"},{"$error":"#N/A"},{"$error":"#N/A"},{"$error":"#N/A"},{"$error":"#N/A"},{"$error":"#N/A"},{"$error":"#N/A"},{"$error":"#N/A"},{"$error":"#N/A"},{"$error":"#N/A"},1]
[null,"li 524",null,null,null,null,null,null,null,null,null,null,null,null,null,null,null,null,null,null,null,null,{"$error":"#N/A"},{"$error":"#N/A"},{"$error":"#N/A"},{"$error":"#N/A"},{"$error":"#N/A"},{"$error":"#N/A"},{"$error":"#N/A"},{"$error":"#N/A"},{"$error":"#N/A"},{"$error":"#N/A"},{"$error":"#N/A"},7]
[null,"li 525",null,null,null,null,null,null,null,null,null,null,null,null,null,null,null,null,null,null,null,null,{"$error":"#N/A"},{"$error":"#N/A"},{"$error":"#N/A"},{"$error":"#N/A"},{"$error":"#N/A"},{"$error":"#N/A"},{"$error":"#N/A"},{"$error":"#N/A"},{"$error":"#N/A"},{"$error":"#N/A"},{"$error":"#N/A"},4]
[null,"li 526",null,null,null,null,null,null,null,null,null,null,null,null,null,null,null,null,null,null,null,null,{"$error":"#N/A"},{"$error":"#N/A"},{"$error":"#N/A"},{"$error":"#N/A"},{"$error":"#N/A"},{"$error":"#N/A"},{"$error":"#N/A"},{"$error":"#N/A"},{"$error":"#N/A"},{"$error":"#N/A"},{"$error":"#N/A"},2]
[null,"li 527",null,null,null,null,null,null,null,null,null,null,null,null,null,null,null,null,null,null,null,null,{"$error":"#N/A"},{"$error":"#N/A"},{"$error":"#N/A"},{"$error":"#N/A"},{"$error":"#N/A"},{"$error":"#N/A"},{"$error":"#N/A"},{"$error":"#N/A"},{"$error":"#N/A"},{"$error":"#N/A"},{"$error":"#N/A"},6]
[null,"li 528",null,null,null,null,null,null,null,null,null,null,null,null,null,null,null,null,null,null,null,null,{"$error":"#N/A"},{"$error":"#N/A"},{"$error":"#N/A"},{"$error":"#N/A"},{"$error":"#N/A"},{"$error":"#N/A"},{"$error":"#N/A"},{"$error":"#N/A"},{"$error":"#N/A"},{"$error":"#N/A"},{"$error":"#N/A"},5]
[null,"li 529",null,null,null,null,null,null,null,null,null,null,null,null,null,null,null,null,null,null,null,null,{"$error":"#N/A"},{"$error":"#N/A"},{"$error":"#N/A"},{"$error":"#N/A"},{"$error":"#N/A"},{"$error":"#N/A"},{"$error":"#N/A"},{"$error":"#N/A"},{"$error":"#N/A"},{"$error":"#N/A"},{"$error":"#N/A"},5]
[null,"li 530",null,null,null,null,null,null,null,null,null,null,null,null,null,null,null,null,null,null,null,null,{"$error":"#N/A"},{"$error":"#N/A"},{"$error":"#N/A"},{"$error":"#N/A"},{"$error":"#N/A"},{"$error":"#N/A"},{"$error":"#N/A"},{"$error":"#N/A"},{"$error":"#N/A"},{"$error":"#N/A"},{"$error":"#N/A"},2]
[null,"li 531",null,null,null,null,null,null,null,null,null,null,null,null,null,null,null,null,null,null,null,null,{"$error":"#N/A"},{"$error":"#N/A"},{"$error":"#N/A"},{"$error":"#N/A"},{"$error":"#N/A"},{"$error":"#N/A"},{"$error":"#N/A"},{"$error":"#N/A"},{"$error":"#N/A"},{"$error":"#N/A"},{"$error":"#N/A"},4]
[null,"li 532",null,null,null,null,null,null,null,null,null,null,null,null,null,null,null,null,null,null,null,null,{"$error":"#N/A"},{"$error":"#N/A"},{"$error":"#N/A"},{"$error":"#N/A"},{"$error":"#N/A"},{"$error":"#N/A"},{"$error":"#N/A"},{"$error":"#N/A"},{"$error":"#N/A"},{"$error":"#N/A"},{"$error":"#N/A"},5]
[null,"li 533",null,null,null,null,null,null,null,null,null,null,null,null,null,null,null,null,null,null,null,null,{"$error":"#N/A"},{"$error":"#N/A"},{"$error":"#N/A"},{"$error":"#N/A"},{"$error":"#N/A"},{"$error":"#N/A"},{"$error":"#N/A"},{"$error":"#N/A"},{"$error":"#N/A"},{"$error":"#N/A"},{"$error":"#N/A"},1]
[null,"li 534",null,null,null,null,null,null,null,null,null,null,null,null,null,null,null,null,null,null,null,null,{"$error":"#N/A"},{"$error":"#N/A"},{"$error":"#N/A"},{"$error":"#N/A"},{"$error":"#N/A"},{"$error":"#N/A"},{"$error":"#N/A"},{"$error":"#N/A"},{"$error":"#N/A"},{"$error":"#N/A"},{"$error":"#N/A"},5]
[null,"li 535",null,null,null,null,null,null,null,null,null,null,null,null,null,null,null,null,null,null,null,null,{"$error":"#N/A"},{"$error":"#N/A"},{"$error":"#N/A"},{"$error":"#N/A"},{"$error":"#N/A"},{"$error":"#N/A"},{"$error":"#N/A"},{"$error":"#N/A"},{"$error":"#N/A"},{"$error":"#N/A"},{"$error":"#N/A"},7]
[null,"li 536",null,null,null,null,null,null,null,null,null,null,null,null,null,null,null,null,null,null,null,null,{"$error":"#N/A"},{"$error":"#N/A"},{"$error":"#N/A"},{"$error":"#N/A"},{"$error":"#N/A"},{"$error":"#N/A"},{"$error":"#N/A"},{"$error":"#N/A"},{"$error":"#N/A"},{"$error":"#N/A"},{"$error":"#N/A"},2]
[null,"li 537",null,null,null,null,null,null,null,null,null,null,null,null,null,null,null,null,null,null,null,null,{"$error":"#N/A"},{"$error":"#N/A"},{"$error":"#N/A"},{"$error":"#N/A"},{"$error":"#N/A"},{"$error":"#N/A"},{"$error":"#N/A"},{"$error":"#N/A"},{"$error":"#N/A"},{"$error":"#N/A"},{"$error":"#N/A"},6]
[null,"li 538",null,null,null,null,null,null,null,null,null,null,null,null,null,null,null,null,null,null,null,null,{"$error":"#N/A"},{"$error":"#N/A"},{"$error":"#N/A"},{"$error":"#N/A"},{"$error":"#N/A"},{"$error":"#N/A"},{"$error":"#N/A"},{"$error":"#N/A"},{"$error":"#N/A"},{"$error":"#N/A"},{"$error":"#N/A"},4]
[null,"li 539",null,null,null,null,null,null,null,null,null,null,null,null,null,null,null,null,null,null,null,null,{"$error":"#N/A"},{"$error":"#N/A"},{"$error":"#N/A"},{"$error":"#N/A"},{"$error":"#N/A"},{"$error":"#N/A"},{"$error":"#N/A"},{"$error":"#N/A"},{"$error":"#N/A"},{"$error":"#N/A"},{"$error":"#N/A"},2]
[null,"li 540",null,null,null,null,null,null,null,null,null,null,null,null,null,null,null,null,null,null,null,null,{"$error":"#N/A"},{"$error":"#N/A"},{"$error":"#N/A"},{"$error":"#N/A"},{"$error":"#N/A"},{"$error":"#N/A"},{"$error":"#N/A"},{"$error":"#N/A"},{"$error":"#N/A"},{"$error":"#N/A"},{"$error":"#N/A"},4]
[null,"li 541",null,null,null,null,null,null,null,null,null,null,null,null,null,null,null,null,null,null,null,null,{"$error":"#N/A"},{"$error":"#N/A"},{"$error":"#N/A"},{"$error":"#N/A"},{"$error":"#N/A"},{"$error":"#N/A"},{"$error":"#N/A"},{"$error":"#N/A"},{"$error":"#N/A"},{"$error":"#N/A"},{"$error":"#N/A"},2]
[null,"li 542",null,null,null,null,null,null,null,null,null,null,null,null,null,null,null,null,null,null,null,null,{"$error":"#N/A"},{"$error":"#N/A"},{"$error":"#N/A"},{"$error":"#N/A"},{"$error":"#N/A"},{"$error":"#N/A"},{"$error":"#N/A"},{"$error":"#N/A"},{"$error":"#N/A"},{"$error":"#N/A"},{"$error":"#N/A"},5]
[null,"li 543",null,null,null,null,null,null,null,null,null,null,null,null,null,null,null,null,null,null,null,null,{"$error":"#N/A"},{"$error":"#N/A"},{"$error":"#N/A"},{"$error":"#N/A"},{"$error":"#N/A"},{"$error":"#N/A"},{"$error":"#N/A"},{"$error":"#N/A"},{"$error":"#N/A"},{"$error":"#N/A"},{"$error":"#N/A"},4]
[null,"li 544",null,null,null,null,null,null,null,null,null,null,null,null,null,null,null,null,null,null,null,null,{"$error":"#N/A"},{"$error":"#N/A"},{"$error":"#N/A"},{"$error":"#N/A"},{"$error":"#N/A"},{"$error":"#N/A"},{"$error":"#N/A"},{"$error":"#N/A"},{"$error":"#N/A"},{"$error":"#N/A"},{"$error":"#N/A"},3]
[null,"li 545",null,null,null,null,null,null,null,null,null,null,null,null,null,null,null,null,null,null,null,null,{"$error":"#N/A"},{"$error":"#N/A"},{"$error":"#N/A"},{"$error":"#N/A"},{"$error":"#N/A"},{"$error":"#N/A"},{"$error":"#N/A"},{"$error":"#N/A"},{"$error":"#N/A"},{"$error":"#N/A"},{"$error":"#N/A"},7]
[null,"li 546",null,null,null,null,null,null,null,null,null,null,null,null,null,null,null,null,null,null,null,null,{"$error":"#N/A"},{"$error":"#N/A"},{"$error":"#N/A"},{"$error":"#N/A"},{"$error":"#N/A"},{"$error":"#N/A"},{"$error":"#N/A"},{"$error":"#N/A"},{"$error":"#N/A"},{"$error":"#N/A"},{"$error":"#N/A"},7]
[null,"li 547",null,null,null,null,null,null,null,null,null,null,null,null,null,null,null,null,null,null,null,null,{"$error":"#N/A"},{"$error":"#N/A"},{"$error":"#N/A"},{"$error":"#N/A"},{"$error":"#N/A"},{"$error":"#N/A"},{"$error":"#N/A"},{"$error":"#N/A"},{"$error":"#N/A"},{"$error":"#N/A"},{"$error":"#N/A"},6]
[null,"li 548",null,null,null,null,null,null,null,null,null,null,null,null,null,null,null,null,null,null,null,null,{"$error":"#N/A"},{"$error":"#N/A"},{"$error":"#N/A"},{"$error":"#N/A"},{"$error":"#N/A"},{"$error":"#N/A"},{"$error":"#N/A"},{"$error":"#N/A"},{"$error":"#N/A"},{"$error":"#N/A"},{"$error":"#N/A"},2]
[null,"li 549",null,null,null,null,null,null,null,null,null,null,null,null,null,null,null,null,null,null,null,null,{"$error":"#N/A"},{"$error":"#N/A"},{"$error":"#N/A"},{"$error":"#N/A"},{"$error":"#N/A"},{"$error":"#N/A"},{"$error":"#N/A"},{"$error":"#N/A"},{"$error":"#N/A"},{"$error":"#N/A"},{"$error":"#N/A"},6]
[null,"li 550",null,null,null,null,null,null,null,null,null,null,null,null,null,null,null,null,null,null,null,null,{"$error":"#N/A"},{"$error":"#N/A"},{"$error":"#N/A"},{"$error":"#N/A"},{"$error":"#N/A"},{"$error":"#N/A"},{"$error":"#N/A"},{"$error":"#N/A"},{"$error":"#N/A"},{"$error":"#N/A"},{"$error":"#N/A"},6]
[null,"li 551",null,null,null,null,null,null,null,null,null,null,null,null,null,null,null,null,null,null,null,null,{"$error":"#N/A"},{"$error":"#N/A"},{"$error":"#N/A"},{"$error":"#N/A"},{"$error":"#N/A"},{"$error":"#N/A"},{"$error":"#N/A"},{"$error":"#N/A"},{"$error":"#N/A"},{"$error":"#N/A"},{"$error":"#N/A"},3]
[null,"li 552",null,null,null,null,null,null,null,null,null,null,null,null,null,null,null,null,null,null,null,null,{"$error":"#N/A"},{"$error":"#N/A"},{"$error":"#N/A"},{"$error":"#N/A"},{"$error":"#N/A"},{"$error":"#N/A"},{"$error":"#N/A"},{"$error":"#N/A"},{"$error":"#N/A"},{"$error":"#N/A"},{"$error":"#N/A"},3]
[null,"li 553",null,null,null,null,null,null,null,null,null,null,null,null,null,null,null,null,null,null,null,null,{"$error":"#N/A"},{"$error":"#N/A"},{"$error":"#N/A"},{"$error":"#N/A"},{"$error":"#N/A"},{"$error":"#N/A"},{"$error":"#N/A"},{"$error":"#N/A"},{"$error":"#N/A"},{"$error":"#N/A"},{"$error":"#N/A"},6]
[null,"li 554",null,null,null,null,null,null,null,null,null,null,null,null,null,null,null,null,null,null,null,null,{"$error":"#N/A"},{"$error":"#N/A"},{"$error":"#N/A"},{"$error":"#N/A"},{"$error":"#N/A"},{"$error":"#N/A"},{"$error":"#N/A"},{"$error":"#N/A"},{"$error":"#N/A"},{"$error":"#N/A"},{"$error":"#N/A"},7]
[null,"li 555",null,null,null,null,null,null,null,null,null,null,null,null,null,null,null,null,null,null,null,null,{"$error":"#N/A"},{"$error":"#N/A"},{"$error":"#N/A"},{"$error":"#N/A"},{"$error":"#N/A"},{"$error":"#N/A"},{"$error":"#N/A"},{"$error":"#N/A"},{"$error":"#N/A"},{"$error":"#N/A"},{"$error":"#N/A"},4]
[null,"li 556",null,null,null,null,null,null,null,null,null,null,null,null,null,null,null,null,null,null,null,null,{"$error":"#N/A"},{"$error":"#N/A"},{"$error":"#N/A"},{"$error":"#N/A"},{"$error":"#N/A"},{"$error":"#N/A"},{"$error":"#N/A"},{"$error":"#N/A"},{"$error":"#N/A"},{"$error":"#N/A"},{"$error":"#N/A"},2]
[null,"li 557",null,null,null,null,null,null,null,null,null,null,null,null,null,null,null,null,null,null,null,null,{"$error":"#N/A"},{"$error":"#N/A"},{"$error":"#N/A"},{"$error":"#N/A"},{"$error":"#N/A"},{"$error":"#N/A"},{"$error":"#N/A"},{"$error":"#N/A"},{"$error":"#N/A"},{"$error":"#N/A"},{"$error":"#N/A"},4]
[null,"li 558",null,null,null,null,null,null,null,null,null,null,null,null,null,null,null,null,null,null,null,null,{"$error":"#N/A"},{"$error":"#N/A"},{"$error":"#N/A"},{"$error":"#N/A"},{"$error":"#N/A"},{"$error":"#N/A"},{"$error":"#N/A"},{"$error":"#N/A"},{"$error":"#N/A"},{"$error":"#N/A"},{"$error":"#N/A"},7]
[null,"li 559",null,null,null,null,null,null,null,null,null,null,null,null,null,null,null,null,null,null,null,null,{"$error":"#N/A"},{"$error":"#N/A"},{"$error":"#N/A"},{"$error":"#N/A"},{"$error":"#N/A"},{"$error":"#N/A"},{"$error":"#N/A"},{"$error":"#N/A"},{"$error":"#N/A"},{"$error":"#N/A"},{"$error":"#N/A"},7]
[null,"li 560",null,null,null,null,null,null,null,null,null,null,null,null,null,null,null,null,null,null,null,null,{"$error":"#N/A"},{"$error":"#N/A"},{"$error":"#N/A"},{"$error":"#N/A"},{"$error":"#N/A"},{"$error":"#N/A"},{"$error":"#N/A"},{"$error":"#N/A"},{"$error":"#N/A"},{"$error":"#N/A"},{"$error":"#N/A"},5]
[null,"li 561",null,null,null,null,null,null,null,null,null,null,null,null,null,null,null,null,null,null,null,null,{"$error":"#N/A"},{"$error":"#N/A"},{"$error":"#N/A"},{"$error":"#N/A"},{"$error":"#N/A"},{"$error":"#N/A"},{"$error":"#N/A"},{"$error":"#N/A"},{"$error":"#N/A"},{"$error":"#N/A"},{"$error":"#N/A"},5]
[null,"li 562",null,null,null,null,null,null,null,null,null,null,null,null,null,null,null,null,null,null,null,null,{"$error":"#N/A"},{"$error":"#N/A"},{"$error":"#N/A"},{"$error":"#N/A"},{"$error":"#N/A"},{"$error":"#N/A"},{"$error":"#N/A"},{"$error":"#N/A"},{"$error":"#N/A"},{"$error":"#N/A"},{"$error":"#N/A"},3]
[null,"li 563",null,null,null,null,null,null,null,null,null,null,null,null,null,null,null,null,null,null,null,null,{"$error":"#N/A"},{"$error":"#N/A"},{"$error":"#N/A"},{"$error":"#N/A"},{"$error":"#N/A"},{"$error":"#N/A"},{"$error":"#N/A"},{"$error":"#N/A"},{"$error":"#N/A"},{"$error":"#N/A"},{"$error":"#N/A"},2]
[null,"li 564",null,null,null,null,null,null,null,null,null,null,null,null,null,null,null,null,null,null,null,null,{"$error":"#N/A"},{"$error":"#N/A"},{"$error":"#N/A"},{"$error":"#N/A"},{"$error":"#N/A"},{"$error":"#N/A"},{"$error":"#N/A"},{"$error":"#N/A"},{"$error":"#N/A"},{"$error":"#N/A"},{"$error":"#N/A"},5]
[null,"li 565",null,null,null,null,null,null,null,null,null,null,null,null,null,null,null,null,null,null,null,null,{"$error":"#N/A"},{"$error":"#N/A"},{"$error":"#N/A"},{"$error":"#N/A"},{"$error":"#N/A"},{"$error":"#N/A"},{"$error":"#N/A"},{"$error":"#N/A"},{"$error":"#N/A"},{"$error":"#N/A"},{"$error":"#N/A"},7]
[null,"li 566",null,null,null,null,null,null,null,null,null,null,null,null,null,null,null,null,null,null,null,null,{"$error":"#N/A"},{"$error":"#N/A"},{"$error":"#N/A"},{"$error":"#N/A"},{"$error":"#N/A"},{"$error":"#N/A"},{"$error":"#N/A"},{"$error":"#N/A"},{"$error":"#N/A"},{"$error":"#N/A"},{"$error":"#N/A"},4]
[null,"li 567",null,null,null,null,null,null,null,null,null,null,null,null,null,null,null,null,null,null,null,null,{"$error":"#N/A"},{"$error":"#N/A"},{"$error":"#N/A"},{"$error":"#N/A"},{"$error":"#N/A"},{"$error":"#N/A"},{"$error":"#N/A"},{"$error":"#N/A"},{"$error":"#N/A"},{"$error":"#N/A"},{"$error":"#N/A"},4]
[null,"li 568",null,null,null,null,null,null,null,null,null,null,null,null,null,null,null,null,null,null,null,null,{"$error":"#N/A"},{"$error":"#N/A"},{"$error":"#N/A"},{"$error":"#N/A"},{"$error":"#N/A"},{"$error":"#N/A"},{"$error":"#N/A"},{"$error":"#N/A"},{"$error":"#N/A"},{"$error":"#N/A"},{"$error":"#N/A"},1]
[null,"li 569",null,null,null,null,null,null,null,null,null,null,null,null,null,null,null,null,null,null,null,null,{"$error":"#N/A"},{"$error":"#N/A"},{"$error":"#N/A"},{"$error":"#N/A"},{"$error":"#N/A"},{"$error":"#N/A"},{"$error":"#N/A"},{"$error":"#N/A"},{"$error":"#N/A"},{"$error":"#N/A"},{"$error":"#N/A"},7]
[null,"li 570",null,null,null,null,null,null,null,null,null,null,null,null,null,null,null,null,null,null,null,null,{"$error":"#N/A"},{"$error":"#N/A"},{"$error":"#N/A"},{"$error":"#N/A"},{"$error":"#N/A"},{"$error":"#N/A"},{"$error":"#N/A"},{"$error":"#N/A"},{"$error":"#N/A"},{"$error":"#N/A"},{"$error":"#N/A"},2]
[null,"li 571",null,null,null,null,null,null,null,null,null,null,null,null,null,null,null,null,null,null,null,null,{"$error":"#N/A"},{"$error":"#N/A"},{"$error":"#N/A"},{"$error":"#N/A"},{"$error":"#N/A"},{"$error":"#N/A"},{"$error":"#N/A"},{"$error":"#N/A"},{"$error":"#N/A"},{"$error":"#N/A"},{"$error":"#N/A"},2]
[null,"li 572",null,null,null,null,null,null,null,null,null,null,null,null,null,null,null,null,null,null,null,null,{"$error":"#N/A"},{"$error":"#N/A"},{"$error":"#N/A"},{"$error":"#N/A"},{"$error":"#N/A"},{"$error":"#N/A"},{"$error":"#N/A"},{"$error":"#N/A"},{"$error":"#N/A"},{"$error":"#N/A"},{"$error":"#N/A"},2]
[null,"li 573",null,null,null,null,null,null,null,null,null,null,null,null,null,null,null,null,null,null,null,null,{"$error":"#N/A"},{"$error":"#N/A"},{"$error":"#N/A"},{"$error":"#N/A"},{"$error":"#N/A"},{"$error":"#N/A"},{"$error":"#N/A"},{"$error":"#N/A"},{"$error":"#N/A"},{"$error":"#N/A"},{"$error":"#N/A"},7]
[null,"li 574",null,null,null,null,null,null,null,null,null,null,null,null,null,null,null,null,null,null,null,null,{"$error":"#N/A"},{"$error":"#N/A"},{"$error":"#N/A"},{"$error":"#N/A"},{"$error":"#N/A"},{"$error":"#N/A"},{"$error":"#N/A"},{"$error":"#N/A"},{"$error":"#N/A"},{"$error":"#N/A"},{"$error":"#N/A"},4]
[null,"li 575",null,null,null,null,null,null,null,null,null,null,null,null,null,null,null,null,null,null,null,null,{"$error":"#N/A"},{"$error":"#N/A"},{"$error":"#N/A"},{"$error":"#N/A"},{"$error":"#N/A"},{"$error":"#N/A"},{"$error":"#N/A"},{"$error":"#N/A"},{"$error":"#N/A"},{"$error":"#N/A"},{"$error":"#N/A"},3]
[null,"li 576",null,null,null,null,null,null,null,null,null,null,null,null,null,null,null,null,null,null,null,null,{"$error":"#N/A"},{"$error":"#N/A"},{"$error":"#N/A"},{"$error":"#N/A"},{"$error":"#N/A"},{"$error":"#N/A"},{"$error":"#N/A"},{"$error":"#N/A"},{"$error":"#N/A"},{"$error":"#N/A"},{"$error":"#N/A"},1]
[null,"li 577",null,null,null,null,null,null,null,null,null,null,null,null,null,null,null,null,null,null,null,null,{"$error":"#N/A"},{"$error":"#N/A"},{"$error":"#N/A"},{"$error":"#N/A"},{"$error":"#N/A"},{"$f":"W580^2/$AG580","v":{"$error":"#N/A"}},{"$f":"X580^2/$AG580","v":{"$error":"#N/A"}},{"$f":"Y580^2/$AG580","v":{"$error":"#N/A"}},{"$f":"Z580^2/$AG580","v":{"$error":"#N/A"}},{"$f":"AA580^2/$AG580","v":{"$error":"#N/A"}},{"$f":"W580^2+X580^2+Y580^2+Z580^2+AA580^2","v":{"$error":"#N/A"}},4]
[null,"li 578",null,null,null,null,null,null,null,null,null,null,null,null,null,null,null,null,null,null,null,null,{"$error":"#N/A"},{"$error":"#N/A"},{"$error":"#N/A"},{"$error":"#N/A"},{"$error":"#N/A"},{"$error":"#N/A"},{"$error":"#N/A"},{"$error":"#N/A"},{"$error":"#N/A"},{"$error":"#N/A"},{"$error":"#N/A"},7]
[null,"li 579",null,null,null,null,null,null,null,null,null,null,null,null,null,null,null,null,null,null,null,null,{"$error":"#N/A"},{"$error":"#N/A"},{"$error":"#N/A"},{"$error":"#N/A"},{"$error":"#N/A"},{"$error":"#N/A"},{"$error":"#N/A"},{"$error":"#N/A"},{"$error":"#N/A"},{"$error":"#N/A"},{"$error":"#N/A"},1]
[null,"li 580",null,null,null,null,null,null,null,null,null,null,null,null,null,null,null,null,null,null,null,null,{"$error":"#N/A"},{"$error":"#N/A"},{"$error":"#N/A"},{"$error":"#N/A"},{"$error":"#N/A"},{"$error":"#N/A"},{"$error":"#N/A"},{"$error":"#N/A"},{"$error":"#N/A"},{"$error":"#N/A"},{"$error":"#N/A"},6]
[null,"li 581",null,null,null,null,null,null,null,null,null,null,null,null,null,null,null,null,null,null,null,null,{"$error":"#N/A"},{"$error":"#N/A"},{"$error":"#N/A"},{"$error":"#N/A"},{"$error":"#N/A"},{"$error":"#N/A"},{"$error":"#N/A"},{"$error":"#N/A"},{"$error":"#N/A"},{"$error":"#N/A"},{"$error":"#N/A"},1]
[null,"li 582",null,null,null,null,null,null,null,null,null,null,null,null,null,null,null,null,null,null,null,null,{"$error":"#N/A"},{"$error":"#N/A"},{"$error":"#N/A"},{"$error":"#N/A"},{"$error":"#N/A"},{"$error":"#N/A"},{"$error":"#N/A"},{"$error":"#N/A"},{"$error":"#N/A"},{"$error":"#N/A"},{"$error":"#N/A"},7]
[null,"li 583",null,null,null,null,null,null,null,null,null,null,null,null,null,null,null,null,null,null,null,null,{"$error":"#N/A"},{"$error":"#N/A"},{"$error":"#N/A"},{"$error":"#N/A"},{"$error":"#N/A"},{"$error":"#N/A"},{"$error":"#N/A"},{"$error":"#N/A"},{"$error":"#N/A"},{"$error":"#N/A"},{"$error":"#N/A"},5]
[null,"li 584",null,null,null,null,null,null,null,null,null,null,null,null,null,null,null,null,null,null,null,null,{"$error":"#N/A"},{"$error":"#N/A"},{"$error":"#N/A"},{"$error":"#N/A"},{"$error":"#N/A"},{"$error":"#N/A"},{"$error":"#N/A"},{"$error":"#N/A"},{"$error":"#N/A"},{"$error":"#N/A"},{"$error":"#N/A"},6]
[null,"li 585",null,null,null,null,null,null,null,null,null,null,null,null,null,null,null,null,null,null,null,null,{"$error":"#N/A"},{"$error":"#N/A"},{"$error":"#N/A"},{"$error":"#N/A"},{"$error":"#N/A"},{"$error":"#N/A"},{"$error":"#N/A"},{"$error":"#N/A"},{"$error":"#N/A"},{"$error":"#N/A"},{"$error":"#N/A"},5]
[null,"li 586",null,null,null,null,null,null,null,null,null,null,null,null,null,null,null,null,null,null,null,null,{"$error":"#N/A"},{"$error":"#N/A"},{"$error":"#N/A"},{"$error":"#N/A"},{"$error":"#N/A"},{"$error":"#N/A"},{"$error":"#N/A"},{"$error":"#N/A"},{"$error":"#N/A"},{"$error":"#N/A"},{"$error":"#N/A"},3]
[null,"li 587",null,null,null,null,null,null,null,null,null,null,null,null,null,null,null,null,null,null,null,null,{"$error":"#N/A"},{"$error":"#N/A"},{"$error":"#N/A"},{"$error":"#N/A"},{"$error":"#N/A"},{"$error":"#N/A"},{"$error":"#N/A"},{"$error":"#N/A"},{"$error":"#N/A"},{"$error":"#N/A"},{"$error":"#N/A"},4]
[null,"li 588",null,null,null,null,null,null,null,null,null,null,null,null,null,null,null,null,null,null,null,null,{"$error":"#N/A"},{"$error":"#N/A"},{"$error":"#N/A"},{"$error":"#N/A"},{"$error":"#N/A"},{"$error":"#N/A"},{"$error":"#N/A"},{"$error":"#N/A"},{"$error":"#N/A"},{"$error":"#N/A"},{"$error":"#N/A"},3]
[null,"li 589",null,null,null,null,null,null,null,null,null,null,null,null,null,null,null,null,null,null,null,null,{"$error":"#N/A"},{"$error":"#N/A"},{"$error":"#N/A"},{"$error":"#N/A"},{"$error":"#N/A"},{"$error":"#N/A"},{"$error":"#N/A"},{"$error":"#N/A"},{"$error":"#N/A"},{"$error":"#N/A"},{"$error":"#N/A"},2]
[null,"li 590",null,null,null,null,null,null,null,null,null,null,null,null,null,null,null,null,null,null,null,null,{"$error":"#N/A"},{"$error":"#N/A"},{"$error":"#N/A"},{"$error":"#N/A"},{"$error":"#N/A"},{"$error":"#N/A"},{"$error":"#N/A"},{"$error":"#N/A"},{"$error":"#N/A"},{"$error":"#N/A"},{"$error":"#N/A"},2]
[null,"li 591",null,null,null,null,null,null,null,null,null,null,null,null,null,null,null,null,null,null,null,null,{"$error":"#N/A"},{"$error":"#N/A"},{"$error":"#N/A"},{"$error":"#N/A"},{"$error":"#N/A"},{"$error":"#N/A"},{"$error":"#N/A"},{"$error":"#N/A"},{"$error":"#N/A"},{"$error":"#N/A"},{"$error":"#N/A"},3]
[null,"li 592",null,null,null,null,null,null,null,null,null,null,null,null,null,null,null,null,null,null,null,null,{"$error":"#N/A"},{"$error":"#N/A"},{"$error":"#N/A"},{"$error":"#N/A"},{"$error":"#N/A"},{"$error":"#N/A"},{"$error":"#N/A"},{"$error":"#N/A"},{"$error":"#N/A"},{"$error":"#N/A"},{"$error":"#N/A"},3]
[null,"li 593",null,null,null,null,null,null,null,null,null,null,null,null,null,null,null,null,null,null,null,null,{"$error":"#N/A"},{"$error":"#N/A"},{"$error":"#N/A"},{"$error":"#N/A"},{"$error":"#N/A"},{"$error":"#N/A"},{"$error":"#N/A"},{"$error":"#N/A"},{"$error":"#N/A"},{"$error":"#N/A"},{"$error":"#N/A"},1]
[null,"li 594",null,null,null,null,null,null,null,null,null,null,null,null,null,null,null,null,null,null,null,null,{"$error":"#N/A"},{"$error":"#N/A"},{"$error":"#N/A"},{"$error":"#N/A"},{"$error":"#N/A"},{"$error":"#N/A"},{"$error":"#N/A"},{"$error":"#N/A"},{"$error":"#N/A"},{"$error":"#N/A"},{"$error":"#N/A"},7]
[null,"li 595",null,null,null,null,null,null,null,null,null,null,null,null,null,null,null,null,null,null,null,null,{"$error":"#N/A"},{"$error":"#N/A"},{"$error":"#N/A"},{"$error":"#N/A"},{"$error":"#N/A"},{"$error":"#N/A"},{"$error":"#N/A"},{"$error":"#N/A"},{"$error":"#N/A"},{"$error":"#N/A"},{"$error":"#N/A"},1]
[null,"li 596",null,null,null,null,null,null,null,null,null,null,null,null,null,null,null,null,null,null,null,null,{"$error":"#N/A"},{"$error":"#N/A"},{"$error":"#N/A"},{"$error":"#N/A"},{"$error":"#N/A"},{"$error":"#N/A"},{"$error":"#N/A"},{"$error":"#N/A"},{"$error":"#N/A"},{"$error":"#N/A"},{"$error":"#N/A"},5]
[null,"li 597",null,null,null,null,null,null,null,null,null,null,null,null,null,null,null,null,null,null,null,null,{"$error":"#N/A"},{"$error":"#N/A"},{"$error":"#N/A"},{"$error":"#N/A"},{"$error":"#N/A"},{"$error":"#N/A"},{"$error":"#N/A"},{"$error":"#N/A"},{"$error":"#N/A"},{"$error":"#N/A"},{"$error":"#N/A"},4]
[null,"li 598",null,null,null,null,null,null,null,null,null,null,null,null,null,null,null,null,null,null,null,null,{"$error":"#N/A"},{"$error":"#N/A"},{"$error":"#N/A"},{"$error":"#N/A"},{"$error":"#N/A"},{"$error":"#N/A"},{"$error":"#N/A"},{"$error":"#N/A"},{"$error":"#N/A"},{"$error":"#N/A"},{"$error":"#N/A"},6]
[null,"li 599",null,null,null,null,null,null,null,null,null,null,null,null,null,null,null,null,null,null,null,null,{"$error":"#N/A"},{"$error":"#N/A"},{"$error":"#N/A"},{"$error":"#N/A"},{"$error":"#N/A"},{"$error":"#N/A"},{"$error":"#N/A"},{"$error":"#N/A"},{"$error":"#N/A"},{"$error":"#N/A"},{"$error":"#N/A"},4]
[null,"li 600",null,null,null,null,null,null,null,null,null,null,null,null,null,null,null,null,null,null,null,null,{"$error":"#N/A"},{"$error":"#N/A"},{"$error":"#N/A"},{"$error":"#N/A"},{"$error":"#N/A"},{"$error":"#N/A"},{"$error":"#N/A"},{"$error":"#N/A"},{"$error":"#N/A"},{"$error":"#N/A"},{"$error":"#N/A"},5]
[null,"li 601",null,null,null,null,null,null,null,null,null,null,null,null,null,null,null,null,null,null,null,null,{"$error":"#N/A"},{"$error":"#N/A"},{"$error":"#N/A"},{"$error":"#N/A"},{"$error":"#N/A"},{"$error":"#N/A"},{"$error":"#N/A"},{"$error":"#N/A"},{"$error":"#N/A"},{"$error":"#N/A"},{"$error":"#N/A"},4]
[null,"li 602",null,null,null,null,null,null,null,null,null,null,null,null,null,null,null,null,null,null,null,null,{"$error":"#N/A"},{"$error":"#N/A"},{"$error":"#N/A"},{"$error":"#N/A"},{"$error":"#N/A"},{"$error":"#N/A"},{"$error":"#N/A"},{"$error":"#N/A"},{"$error":"#N/A"},{"$error":"#N/A"},{"$error":"#N/A"},5]
[null,"li 603",null,null,null,null,null,null,null,null,null,null,null,null,null,null,null,null,null,null,null,null,{"$error":"#N/A"},{"$error":"#N/A"},{"$error":"#N/A"},{"$error":"#N/A"},{"$error":"#N/A"},{"$error":"#N/A"},{"$error":"#N/A"},{"$error":"#N/A"},{"$error":"#N/A"},{"$error":"#N/A"},{"$error":"#N/A"},2]
[null,"li 604",null,null,null,null,null,null,null,null,null,null,null,null,null,null,null,null,null,null,null,null,{"$error":"#N/A"},{"$error":"#N/A"},{"$error":"#N/A"},{"$error":"#N/A"},{"$error":"#N/A"},{"$error":"#N/A"},{"$error":"#N/A"},{"$error":"#N/A"},{"$error":"#N/A"},{"$error":"#N/A"},{"$error":"#N/A"},1]
[null,"li 605",null,null,null,null,null,null,null,null,null,null,null,null,null,null,null,null,null,null,null,null,{"$error":"#N/A"},{"$error":"#N/A"},{"$error":"#N/A"},{"$error":"#N/A"},{"$error":"#N/A"},{"$error":"#N/A"},{"$error":"#N/A"},{"$error":"#N/A"},{"$error":"#N/A"},{"$error":"#N/A"},{"$error":"#N/A"},7]
[null,"li 606",null,null,null,null,null,null,null,null,null,null,null,null,null,null,null,null,null,null,null,null,{"$error":"#N/A"},{"$error":"#N/A"},{"$error":"#N/A"},{"$error":"#N/A"},{"$error":"#N/A"},{"$error":"#N/A"},{"$error":"#N/A"},{"$error":"#N/A"},{"$error":"#N/A"},{"$error":"#N/A"},{"$error":"#N/A"},1]
[null,"li 607",null,null,null,null,null,null,null,null,null,null,null,null,null,null,null,null,null,null,null,null,{"$error":"#N/A"},{"$error":"#N/A"},{"$error":"#N/A"},{"$error":"#N/A"},{"$error":"#N/A"},{"$error":"#N/A"},{"$error":"#N/A"},{"$error":"#N/A"},{"$error":"#N/A"},{"$error":"#N/A"},{"$error":"#N/A"},3]
[null,"li 608",null,null,null,null,null,null,null,null,null,null,null,null,null,null,null,null,null,null,null,null,{"$error":"#N/A"},{"$error":"#N/A"},{"$error":"#N/A"},{"$error":"#N/A"},{"$error":"#N/A"},{"$error":"#N/A"},{"$error":"#N/A"},{"$error":"#N/A"},{"$error":"#N/A"},{"$error":"#N/A"},{"$error":"#N/A"},3]
[null,"li 609",null,null,null,null,null,null,null,null,null,null,null,null,null,null,null,null,null,null,null,null,{"$error":"#N/A"},{"$error":"#N/A"},{"$error":"#N/A"},{"$error":"#N/A"},{"$error":"#N/A"},{"$error":"#N/A"},{"$error":"#N/A"},{"$error":"#N/A"},{"$error":"#N/A"},{"$error":"#N/A"},{"$error":"#N/A"},5]
[null,"li 610",null,null,null,null,null,null,null,null,null,null,null,null,null,null,null,null,null,null,null,null,{"$error":"#N/A"},{"$error":"#N/A"},{"$error":"#N/A"},{"$error":"#N/A"},{"$error":"#N/A"},{"$error":"#N/A"},{"$error":"#N/A"},{"$error":"#N/A"},{"$error":"#N/A"},{"$error":"#N/A"},{"$error":"#N/A"},4]
[null,"li 611",null,null,null,null,null,null,null,null,null,null,null,null,null,null,null,null,null,null,null,null,{"$error":"#N/A"},{"$error":"#N/A"},{"$error":"#N/A"},{"$error":"#N/A"},{"$error":"#N/A"},{"$error":"#N/A"},{"$error":"#N/A"},{"$error":"#N/A"},{"$error":"#N/A"},{"$error":"#N/A"},{"$error":"#N/A"},3]
[null,"li 612",null,null,null,null,null,null,null,null,null,null,null,null,null,null,null,null,null,null,null,null,{"$error":"#N/A"},{"$error":"#N/A"},{"$error":"#N/A"},{"$error":"#N/A"},{"$error":"#N/A"},{"$error":"#N/A"},{"$error":"#N/A"},{"$error":"#N/A"},{"$error":"#N/A"},{"$error":"#N/A"},{"$error":"#N/A"},3]
[null,"li 613",null,null,null,null,null,null,null,null,null,null,null,null,null,null,null,null,null,null,null,null,{"$error":"#N/A"},{"$error":"#N/A"},{"$error":"#N/A"},{"$error":"#N/A"},{"$error":"#N/A"},{"$error":"#N/A"},{"$error":"#N/A"},{"$error":"#N/A"},{"$error":"#N/A"},{"$error":"#N/A"},{"$error":"#N/A"},7]
[null,"li 614",null,null,null,null,null,null,null,null,null,null,null,null,null,null,null,null,null,null,null,null,{"$error":"#N/A"},{"$error":"#N/A"},{"$error":"#N/A"},{"$error":"#N/A"},{"$error":"#N/A"},{"$error":"#N/A"},{"$error":"#N/A"},{"$error":"#N/A"},{"$error":"#N/A"},{"$error":"#N/A"},{"$error":"#N/A"},4]
[null,"li 615",null,null,null,null,null,null,null,null,null,null,null,null,null,null,null,null,null,null,null,null,{"$error":"#N/A"},{"$error":"#N/A"},{"$error":"#N/A"},{"$error":"#N/A"},{"$error":"#N/A"},{"$error":"#N/A"},{"$error":"#N/A"},{"$error":"#N/A"},{"$error":"#N/A"},{"$error":"#N/A"},{"$error":"#N/A"},2]
[null,"li 616",null,null,null,null,null,null,null,null,null,null,null,null,null,null,null,null,null,null,null,null,{"$error":"#N/A"},{"$error":"#N/A"},{"$error":"#N/A"},{"$error":"#N/A"},{"$error":"#N/A"},{"$error":"#N/A"},{"$error":"#N/A"},{"$error":"#N/A"},{"$error":"#N/A"},{"$error":"#N/A"},{"$error":"#N/A"},6]
[null,"li 617",null,null,null,null,null,null,null,null,null,null,null,null,null,null,null,null,null,null,null,null,{"$error":"#N/A"},{"$error":"#N/A"},{"$error":"#N/A"},{"$error":"#N/A"},{"$error":"#N/A"},{"$error":"#N/A"},{"$error":"#N/A"},{"$error":"#N/A"},{"$error":"#N/A"},{"$error":"#N/A"},{"$error":"#N/A"},7]
[null,"li 618",null,null,null,null,null,null,null,null,null,null,null,null,null,null,null,null,null,null,null,null,{"$error":"#N/A"},{"$error":"#N/A"},{"$error":"#N/A"},{"$error":"#N/A"},{"$error":"#N/A"},{"$error":"#N/A"},{"$error":"#N/A"},{"$error":"#N/A"},{"$error":"#N/A"},{"$error":"#N/A"},{"$error":"#N/A"},4]
[null,"li 619",null,null,null,null,null,null,null,null,null,null,null,null,null,null,null,null,null,null,null,null,{"$error":"#N/A"},{"$error":"#N/A"},{"$error":"#N/A"},{"$error":"#N/A"},{"$error":"#N/A"},{"$error":"#N/A"},{"$error":"#N/A"},{"$error":"#N/A"},{"$error":"#N/A"},{"$error":"#N/A"},{"$error":"#N/A"},7]
[null,"li 620",null,null,null,null,null,null,null,null,null,null,null,null,null,null,null,null,null,null,null,null,{"$error":"#N/A"},{"$error":"#N/A"},{"$error":"#N/A"},{"$error":"#N/A"},{"$error":"#N/A"},{"$error":"#N/A"},{"$error":"#N/A"},{"$error":"#N/A"},{"$error":"#N/A"},{"$error":"#N/A"},{"$error":"#N/A"},7]
[null,"li 621",null,null,null,null,null,null,null,null,null,null,null,null,null,null,null,null,null,null,null,null,{"$error":"#N/A"},{"$error":"#N/A"},{"$error":"#N/A"},{"$error":"#N/A"},{"$error":"#N/A"},{"$error":"#N/A"},{"$error":"#N/A"},{"$error":"#N/A"},{"$error":"#N/A"},{"$error":"#N/A"},{"$error":"#N/A"},2]
[null,"li 622",null,null,null,null,null,null,null,null,null,null,null,null,null,null,null,null,null,null,null,null,{"$error":"#N/A"},{"$error":"#N/A"},{"$error":"#N/A"},{"$error":"#N/A"},{"$error":"#N/A"},{"$error":"#N/A"},{"$error":"#N/A"},{"$error":"#N/A"},{"$error":"#N/A"},{"$error":"#N/A"},{"$error":"#N/A"},3]
[null,"li 623",null,null,null,null,null,null,null,null,null,null,null,null,null,null,null,null,null,null,null,null,{"$error":"#N/A"},{"$error":"#N/A"},{"$error":"#N/A"},{"$error":"#N/A"},{"$error":"#N/A"},{"$error":"#N/A"},{"$error":"#N/A"},{"$error":"#N/A"},{"$error":"#N/A"},{"$error":"#N/A"},{"$error":"#N/A"},5]
[null,"li 624",null,null,null,null,null,null,null,null,null,null,null,null,null,null,null,null,null,null,null,null,{"$error":"#N/A"},{"$error":"#N/A"},{"$error":"#N/A"},{"$error":"#N/A"},{"$error":"#N/A"},{"$error":"#N/A"},{"$error":"#N/A"},{"$error":"#N/A"},{"$error":"#N/A"},{"$error":"#N/A"},{"$error":"#N/A"},4]
[null,"li 625",null,null,null,null,null,null,null,null,null,null,null,null,null,null,null,null,null,null,null,null,{"$error":"#N/A"},{"$error":"#N/A"},{"$error":"#N/A"},{"$error":"#N/A"},{"$error":"#N/A"},{"$error":"#N/A"},{"$error":"#N/A"},{"$error":"#N/A"},{"$error":"#N/A"},{"$error":"#N/A"},{"$error":"#N/A"},1]
[null,"li 626",null,null,null,null,null,null,null,null,null,null,null,null,null,null,null,null,null,null,null,null,{"$error":"#N/A"},{"$error":"#N/A"},{"$error":"#N/A"},{"$error":"#N/A"},{"$error":"#N/A"},{"$error":"#N/A"},{"$error":"#N/A"},{"$error":"#N/A"},{"$error":"#N/A"},{"$error":"#N/A"},{"$error":"#N/A"},1]
[null,"li 627",null,null,null,null,null,null,null,null,null,null,null,null,null,null,null,null,null,null,null,null,{"$error":"#N/A"},{"$error":"#N/A"},{"$error":"#N/A"},{"$error":"#N/A"},{"$error":"#N/A"},{"$error":"#N/A"},{"$error":"#N/A"},{"$error":"#N/A"},{"$error":"#N/A"},{"$error":"#N/A"},{"$error":"#N/A"},4]
[null,"li 628",null,null,null,null,null,null,null,null,null,null,null,null,null,null,null,null,null,null,null,null,{"$error":"#N/A"},{"$error":"#N/A"},{"$error":"#N/A"},{"$error":"#N/A"},{"$error":"#N/A"},{"$error":"#N/A"},{"$error":"#N/A"},{"$error":"#N/A"},{"$error":"#N/A"},{"$error":"#N/A"},{"$error":"#N/A"},5]
[null,"li 629",null,null,null,null,null,null,null,null,null,null,null,null,null,null,null,null,null,null,null,null,{"$error":"#N/A"},{"$error":"#N/A"},{"$error":"#N/A"},{"$error":"#N/A"},{"$error":"#N/A"},{"$error":"#N/A"},{"$error":"#N/A"},{"$error":"#N/A"},{"$error":"#N/A"},{"$error":"#N/A"},{"$error":"#N/A"},5]
[null,"li 630",null,null,null,null,null,null,null,null,null,null,null,null,null,null,null,null,null,null,null,null,{"$error":"#N/A"},{"$error":"#N/A"},{"$error":"#N/A"},{"$error":"#N/A"},{"$error":"#N/A"},{"$error":"#N/A"},{"$error":"#N/A"},{"$error":"#N/A"},{"$error":"#N/A"},{"$error":"#N/A"},{"$error":"#N/A"},5]
[null,"li 631",null,null,null,null,null,null,null,null,null,null,null,null,null,null,null,null,null,null,null,null,{"$error":"#N/A"},{"$error":"#N/A"},{"$error":"#N/A"},{"$error":"#N/A"},{"$error":"#N/A"},{"$error":"#N/A"},{"$error":"#N/A"},{"$error":"#N/A"},{"$error":"#N/A"},{"$error":"#N/A"},{"$error":"#N/A"},3]
[null,"li 632",null,null,null,null,null,null,null,null,null,null,null,null,null,null,null,null,null,null,null,null,{"$error":"#N/A"},{"$error":"#N/A"},{"$error":"#N/A"},{"$error":"#N/A"},{"$error":"#N/A"},{"$error":"#N/A"},{"$error":"#N/A"},{"$error":"#N/A"},{"$error":"#N/A"},{"$error":"#N/A"},{"$error":"#N/A"},5]
[null,"li 633",null,null,null,null,null,null,null,null,null,null,null,null,null,null,null,null,null,null,null,null,{"$error":"#N/A"},{"$error":"#N/A"},{"$error":"#N/A"},{"$error":"#N/A"},{"$error":"#N/A"},{"$error":"#N/A"},{"$error":"#N/A"},{"$error":"#N/A"},{"$error":"#N/A"},{"$error":"#N/A"},{"$error":"#N/A"},3]
[null,"li 634",null,null,null,null,null,null,null,null,null,null,null,null,null,null,null,null,null,null,null,null,{"$error":"#N/A"},{"$error":"#N/A"},{"$error":"#N/A"},{"$error":"#N/A"},{"$error":"#N/A"},{"$error":"#N/A"},{"$error":"#N/A"},{"$error":"#N/A"},{"$error":"#N/A"},{"$error":"#N/A"},{"$error":"#N/A"},5]
[null,"li 635",null,null,null,null,null,null,null,null,null,null,null,null,null,null,null,null,null,null,null,null,{"$error":"#N/A"},{"$error":"#N/A"},{"$error":"#N/A"},{"$error":"#N/A"},{"$error":"#N/A"},{"$error":"#N/A"},{"$error":"#N/A"},{"$error":"#N/A"},{"$error":"#N/A"},{"$error":"#N/A"},{"$error":"#N/A"},1]
[null,"li 636",null,null,null,null,null,null,null,null,null,null,null,null,null,null,null,null,null,null,null,null,{"$error":"#N/A"},{"$error":"#N/A"},{"$error":"#N/A"},{"$error":"#N/A"},{"$error":"#N/A"},{"$error":"#N/A"},{"$error":"#N/A"},{"$error":"#N/A"},{"$error":"#N/A"},{"$error":"#N/A"},{"$error":"#N/A"},2]
[null,"li 637",null,null,null,null,null,null,null,null,null,null,null,null,null,null,null,null,null,null,null,null,{"$error":"#N/A"},{"$error":"#N/A"},{"$error":"#N/A"},{"$error":"#N/A"},{"$error":"#N/A"},{"$error":"#N/A"},{"$error":"#N/A"},{"$error":"#N/A"},{"$error":"#N/A"},{"$error":"#N/A"},{"$error":"#N/A"},1]
[null,"li 638",null,null,null,null,null,null,null,null,null,null,null,null,null,null,null,null,null,null,null,null,{"$error":"#N/A"},{"$error":"#N/A"},{"$error":"#N/A"},{"$error":"#N/A"},{"$error":"#N/A"},{"$error":"#N/A"},{"$error":"#N/A"},{"$error":"#N/A"},{"$error":"#N/A"},{"$error":"#N/A"},{"$error":"#N/A"},3]
[null,"li 639",null,null,null,null,null,null,null,null,null,null,null,null,null,null,null,null,null,null,null,null,{"$error":"#N/A"},{"$error":"#N/A"},{"$error":"#N/A"},{"$error":"#N/A"},{"$error":"#N/A"},{"$error":"#N/A"},{"$error":"#N/A"},{"$error":"#N/A"},{"$error":"#N/A"},{"$error":"#N/A"},{"$error":"#N/A"},4]
[null,"li 640",null,null,null,null,null,null,null,null,null,null,null,null,null,null,null,null,null,null,null,null,{"$error":"#N/A"},{"$error":"#N/A"},{"$error":"#N/A"},{"$error":"#N/A"},{"$error":"#N/A"},{"$error":"#N/A"},{"$error":"#N/A"},{"$error":"#N/A"},{"$error":"#N/A"},{"$error":"#N/A"},{"$error":"#N/A"},3]
[null,"li 641",null,null,null,null,null,null,null,null,null,null,null,null,null,null,null,null,null,null,null,null,{"$error":"#N/A"},{"$error":"#N/A"},{"$error":"#N/A"},{"$error":"#N/A"},{"$error":"#N/A"},{"$f":"W644^2/$AG644","v":{"$error":"#N/A"}},{"$f":"X644^2/$AG644","v":{"$error":"#N/A"}},{"$f":"Y644^2/$AG644","v":{"$error":"#N/A"}},{"$f":"Z644^2/$AG644","v":{"$error":"#N/A"}},{"$f":"AA644^2/$AG644","v":{"$error":"#N/A"}},{"$f":"W644^2+X644^2+Y644^2+Z644^2+AA644^2","v":{"$error":"#N/A"}},7]
[null,"li 642",null,null,null,null,null,null,null,null,null,null,null,null,null,null,null,null,null,null,null,null,{"$error":"#N/A"},{"$error":"#N/A"},{"$error":"#N/A"},{"$error":"#N/A"},{"$error":"#N/A"},{"$error":"#N/A"},{"$error":"#N/A"},{"$error":"#N/A"},{"$error":"#N/A"},{"$error":"#N/A"},{"$error":"#N/A"},1]
[null,"li 643",null,null,null,null,null,null,null,null,null,null,null,null,null,null,null,null,null,null,null,null,{"$error":"#N/A"},{"$error":"#N/A"},{"$error":"#N/A"},{"$error":"#N/A"},{"$error":"#N/A"},{"$error":"#N/A"},{"$error":"#N/A"},{"$error":"#N/A"},{"$error":"#N/A"},{"$error":"#N/A"},{"$error":"#N/A"},3]
[null,"li 644",null,null,null,null,null,null,null,null,null,null,null,null,null,null,null,null,null,null,null,null,{"$error":"#N/A"},{"$error":"#N/A"},{"$error":"#N/A"},{"$error":"#N/A"},{"$error":"#N/A"},{"$error":"#N/A"},{"$error":"#N/A"},{"$error":"#N/A"},{"$error":"#N/A"},{"$error":"#N/A"},{"$error":"#N/A"},2]
[null,"li 645",null,null,null,null,null,null,null,null,null,null,null,null,null,null,null,null,null,null,null,null,{"$error":"#N/A"},{"$error":"#N/A"},{"$error":"#N/A"},{"$error":"#N/A"},{"$error":"#N/A"},{"$error":"#N/A"},{"$error":"#N/A"},{"$error":"#N/A"},{"$error":"#N/A"},{"$error":"#N/A"},{"$error":"#N/A"},2]
[null,"li 646",null,null,null,null,null,null,null,null,null,null,null,null,null,null,null,null,null,null,null,null,{"$error":"#N/A"},{"$error":"#N/A"},{"$error":"#N/A"},{"$error":"#N/A"},{"$error":"#N/A"},{"$error":"#N/A"},{"$error":"#N/A"},{"$error":"#N/A"},{"$error":"#N/A"},{"$error":"#N/A"},{"$error":"#N/A"},4]
[null,"li 647",null,null,null,null,null,null,null,null,null,null,null,null,null,null,null,null,null,null,null,null,{"$error":"#N/A"},{"$error":"#N/A"},{"$error":"#N/A"},{"$error":"#N/A"},{"$error":"#N/A"},{"$error":"#N/A"},{"$error":"#N/A"},{"$error":"#N/A"},{"$error":"#N/A"},{"$error":"#N/A"},{"$error":"#N/A"},7]
[null,"li 648",null,null,null,null,null,null,null,null,null,null,null,null,null,null,null,null,null,null,null,null,{"$error":"#N/A"},{"$error":"#N/A"},{"$error":"#N/A"},{"$error":"#N/A"},{"$error":"#N/A"},{"$error":"#N/A"},{"$error":"#N/A"},{"$error":"#N/A"},{"$error":"#N/A"},{"$error":"#N/A"},{"$error":"#N/A"},5]
[null,"li 649",null,null,null,null,null,null,null,null,null,null,null,null,null,null,null,null,null,null,null,null,{"$error":"#N/A"},{"$error":"#N/A"},{"$error":"#N/A"},{"$error":"#N/A"},{"$error":"#N/A"},{"$error":"#N/A"},{"$error":"#N/A"},{"$error":"#N/A"},{"$error":"#N/A"},{"$error":"#N/A"},{"$error":"#N/A"},4]
[null,"li 650",null,null,null,null,null,null,null,null,null,null,null,null,null,null,null,null,null,null,null,null,{"$error":"#N/A"},{"$error":"#N/A"},{"$error":"#N/A"},{"$error":"#N/A"},{"$error":"#N/A"},{"$error":"#N/A"},{"$error":"#N/A"},{"$error":"#N/A"},{"$error":"#N/A"},{"$error":"#N/A"},{"$error":"#N/A"},5]
[null,"li 651",null,null,null,null,null,null,null,null,null,null,null,null,null,null,null,null,null,null,null,null,{"$error":"#N/A"},{"$error":"#N/A"},{"$error":"#N/A"},{"$error":"#N/A"},{"$error":"#N/A"},{"$error":"#N/A"},{"$error":"#N/A"},{"$error":"#N/A"},{"$error":"#N/A"},{"$error":"#N/A"},{"$error":"#N/A"},2]
[null,"li 652",null,null,null,null,null,null,null,null,null,null,null,null,null,null,null,null,null,null,null,null,{"$error":"#N/A"},{"$error":"#N/A"},{"$error":"#N/A"},{"$error":"#N/A"},{"$error":"#N/A"},{"$error":"#N/A"},{"$error":"#N/A"},{"$error":"#N/A"},{"$error":"#N/A"},{"$error":"#N/A"},{"$error":"#N/A"},2]
[null,"li 653",null,null,null,null,null,null,null,null,null,null,null,null,null,null,null,null,null,null,null,null,{"$error":"#N/A"},{"$error":"#N/A"},{"$error":"#N/A"},{"$error":"#N/A"},{"$error":"#N/A"},{"$error":"#N/A"},{"$error":"#N/A"},{"$error":"#N/A"},{"$error":"#N/A"},{"$error":"#N/A"},{"$error":"#N/A"},5]
[null,"li 654",null,null,null,null,null,null,null,null,null,null,null,null,null,null,null,null,null,null,null,null,{"$error":"#N/A"},{"$error":"#N/A"},{"$error":"#N/A"},{"$error":"#N/A"},{"$error":"#N/A"},{"$error":"#N/A"},{"$error":"#N/A"},{"$error":"#N/A"},{"$error":"#N/A"},{"$error":"#N/A"},{"$error":"#N/A"},1]
[null,"li 655",null,null,null,null,null,null,null,null,null,null,null,null,null,null,null,null,null,null,null,null,{"$error":"#N/A"},{"$error":"#N/A"},{"$error":"#N/A"},{"$error":"#N/A"},{"$error":"#N/A"},{"$error":"#N/A"},{"$error":"#N/A"},{"$error":"#N/A"},{"$error":"#N/A"},{"$error":"#N/A"},{"$error":"#N/A"},6]
[null,"li 656",null,null,null,null,null,null,null,null,null,null,null,null,null,null,null,null,null,null,null,null,{"$error":"#N/A"},{"$error":"#N/A"},{"$error":"#N/A"},{"$error":"#N/A"},{"$error":"#N/A"},{"$error":"#N/A"},{"$error":"#N/A"},{"$error":"#N/A"},{"$error":"#N/A"},{"$error":"#N/A"},{"$error":"#N/A"},7]
[null,"li 657",null,null,null,null,null,null,null,null,null,null,null,null,null,null,null,null,null,null,null,null,{"$error":"#N/A"},{"$error":"#N/A"},{"$error":"#N/A"},{"$error":"#N/A"},{"$error":"#N/A"},{"$error":"#N/A"},{"$error":"#N/A"},{"$error":"#N/A"},{"$error":"#N/A"},{"$error":"#N/A"},{"$error":"#N/A"},7]
[null,"li 658",null,null,null,null,null,null,null,null,null,null,null,null,null,null,null,null,null,null,null,null,{"$error":"#N/A"},{"$error":"#N/A"},{"$error":"#N/A"},{"$error":"#N/A"},{"$error":"#N/A"},{"$error":"#N/A"},{"$error":"#N/A"},{"$error":"#N/A"},{"$error":"#N/A"},{"$error":"#N/A"},{"$error":"#N/A"},4]
[null,"li 659",null,null,null,null,null,null,null,null,null,null,null,null,null,null,null,null,null,null,null,null,{"$error":"#N/A"},{"$error":"#N/A"},{"$error":"#N/A"},{"$error":"#N/A"},{"$error":"#N/A"},{"$error":"#N/A"},{"$error":"#N/A"},{"$error":"#N/A"},{"$error":"#N/A"},{"$error":"#N/A"},{"$error":"#N/A"},6]
[null,"li 660",null,null,null,null,null,null,null,null,null,null,null,null,null,null,null,null,null,null,null,null,{"$error":"#N/A"},{"$error":"#N/A"},{"$error":"#N/A"},{"$error":"#N/A"},{"$error":"#N/A"},{"$error":"#N/A"},{"$error":"#N/A"},{"$error":"#N/A"},{"$error":"#N/A"},{"$error":"#N/A"},{"$error":"#N/A"},3]
[null,"li 661",null,null,null,null,null,null,null,null,null,null,null,null,null,null,null,null,null,null,null,null,{"$error":"#N/A"},{"$error":"#N/A"},{"$error":"#N/A"},{"$error":"#N/A"},{"$error":"#N/A"},{"$error":"#N/A"},{"$error":"#N/A"},{"$error":"#N/A"},{"$error":"#N/A"},{"$error":"#N/A"},{"$error":"#N/A"},4]
[null,"li 662",null,null,null,null,null,null,null,null,null,null,null,null,null,null,null,null,null,null,null,null,{"$error":"#N/A"},{"$error":"#N/A"},{"$error":"#N/A"},{"$error":"#N/A"},{"$error":"#N/A"},{"$error":"#N/A"},{"$error":"#N/A"},{"$error":"#N/A"},{"$error":"#N/A"},{"$error":"#N/A"},{"$error":"#N/A"},5]
[null,"li 663",null,null,null,null,null,null,null,null,null,null,null,null,null,null,null,null,null,null,null,null,{"$error":"#N/A"},{"$error":"#N/A"},{"$error":"#N/A"},{"$error":"#N/A"},{"$error":"#N/A"},{"$error":"#N/A"},{"$error":"#N/A"},{"$error":"#N/A"},{"$error":"#N/A"},{"$error":"#N/A"},{"$error":"#N/A"},3]
[null,"li 664",null,null,null,null,null,null,null,null,null,null,null,null,null,null,null,null,null,null,null,null,{"$error":"#N/A"},{"$error":"#N/A"},{"$error":"#N/A"},{"$error":"#N/A"},{"$error":"#N/A"},{"$error":"#N/A"},{"$error":"#N/A"},{"$error":"#N/A"},{"$error":"#N/A"},{"$error":"#N/A"},{"$error":"#N/A"},5]
[null,"li 665",null,null,null,null,null,null,null,null,null,null,null,null,null,null,null,null,null,null,null,null,{"$error":"#N/A"},{"$error":"#N/A"},{"$error":"#N/A"},{"$error":"#N/A"},{"$error":"#N/A"},{"$error":"#N/A"},{"$error":"#N/A"},{"$error":"#N/A"},{"$error":"#N/A"},{"$error":"#N/A"},{"$error":"#N/A"},7]
[null,"li 666",null,null,null,null,null,null,null,null,null,null,null,null,null,null,null,null,null,null,null,null,{"$error":"#N/A"},{"$error":"#N/A"},{"$error":"#N/A"},{"$error":"#N/A"},{"$error":"#N/A"},{"$error":"#N/A"},{"$error":"#N/A"},{"$error":"#N/A"},{"$error":"#N/A"},{"$error":"#N/A"},{"$error":"#N/A"},5]
[null,"li 667",null,null,null,null,null,null,null,null,null,null,null,null,null,null,null,null,null,null,null,null,{"$error":"#N/A"},{"$error":"#N/A"},{"$error":"#N/A"},{"$error":"#N/A"},{"$error":"#N/A"},{"$error":"#N/A"},{"$error":"#N/A"},{"$error":"#N/A"},{"$error":"#N/A"},{"$error":"#N/A"},{"$error":"#N/A"},5]
[null,"li 668",null,null,null,null,null,null,null,null,null,null,null,null,null,null,null,null,null,null,null,null,{"$error":"#N/A"},{"$error":"#N/A"},{"$error":"#N/A"},{"$error":"#N/A"},{"$error":"#N/A"},{"$error":"#N/A"},{"$error":"#N/A"},{"$error":"#N/A"},{"$error":"#N/A"},{"$error":"#N/A"},{"$error":"#N/A"},6]
[null,"li 669",null,null,null,null,null,null,null,null,null,null,null,null,null,null,null,null,null,null,null,null,{"$error":"#N/A"},{"$error":"#N/A"},{"$error":"#N/A"},{"$error":"#N/A"},{"$error":"#N/A"},{"$error":"#N/A"},{"$error":"#N/A"},{"$error":"#N/A"},{"$error":"#N/A"},{"$error":"#N/A"},{"$error":"#N/A"},4]
[null,"li 670",null,null,null,null,null,null,null,null,null,null,null,null,null,null,null,null,null,null,null,null,{"$error":"#N/A"},{"$error":"#N/A"},{"$error":"#N/A"},{"$error":"#N/A"},{"$error":"#N/A"},{"$error":"#N/A"},{"$error":"#N/A"},{"$error":"#N/A"},{"$error":"#N/A"},{"$error":"#N/A"},{"$error":"#N/A"},4]
[null,"li 671",null,null,null,null,null,null,null,null,null,null,null,null,null,null,null,null,null,null,null,null,{"$error":"#N/A"},{"$error":"#N/A"},{"$error":"#N/A"},{"$error":"#N/A"},{"$error":"#N/A"},{"$error":"#N/A"},{"$error":"#N/A"},{"$error":"#N/A"},{"$error":"#N/A"},{"$error":"#N/A"},{"$error":"#N/A"},5]
[null,"li 672",null,null,null,null,null,null,null,null,null,null,null,null,null,null,null,null,null,null,null,null,{"$error":"#N/A"},{"$error":"#N/A"},{"$error":"#N/A"},{"$error":"#N/A"},{"$error":"#N/A"},{"$error":"#N/A"},{"$error":"#N/A"},{"$error":"#N/A"},{"$error":"#N/A"},{"$error":"#N/A"},{"$error":"#N/A"},7]
[null,"li 673",null,null,null,null,null,null,null,null,null,null,null,null,null,null,null,null,null,null,null,null,{"$error":"#N/A"},{"$error":"#N/A"},{"$error":"#N/A"},{"$error":"#N/A"},{"$error":"#N/A"},{"$error":"#N/A"},{"$error":"#N/A"},{"$error":"#N/A"},{"$error":"#N/A"},{"$error":"#N/A"},{"$error":"#N/A"},3]
[null,"li 674",null,null,null,null,null,null,null,null,null,null,null,null,null,null,null,null,null,null,null,null,{"$error":"#N/A"},{"$error":"#N/A"},{"$error":"#N/A"},{"$error":"#N/A"},{"$error":"#N/A"},{"$error":"#N/A"},{"$error":"#N/A"},{"$error":"#N/A"},{"$error":"#N/A"},{"$error":"#N/A"},{"$error":"#N/A"},3]
[null,"li 675",null,null,null,null,null,null,null,null,null,null,null,null,null,null,null,null,null,null,null,null,{"$error":"#N/A"},{"$error":"#N/A"},{"$error":"#N/A"},{"$error":"#N/A"},{"$error":"#N/A"},{"$error":"#N/A"},{"$error":"#N/A"},{"$error":"#N/A"},{"$error":"#N/A"},{"$error":"#N/A"},{"$error":"#N/A"},7]
[null,"li 676",null,null,null,null,null,null,null,null,null,null,null,null,null,null,null,null,null,null,null,null,{"$error":"#N/A"},{"$error":"#N/A"},{"$error":"#N/A"},{"$error":"#N/A"},{"$error":"#N/A"},{"$error":"#N/A"},{"$error":"#N/A"},{"$error":"#N/A"},{"$error":"#N/A"},{"$error":"#N/A"},{"$error":"#N/A"},7]
[null,"li 677",null,null,null,null,null,null,null,null,null,null,null,null,null,null,null,null,null,null,null,null,{"$error":"#N/A"},{"$error":"#N/A"},{"$error":"#N/A"},{"$error":"#N/A"},{"$error":"#N/A"},{"$error":"#N/A"},{"$error":"#N/A"},{"$error":"#N/A"},{"$error":"#N/A"},{"$error":"#N/A"},{"$error":"#N/A"},1]
[null,"li 678",null,null,null,null,null,null,null,null,null,null,null,null,null,null,null,null,null,null,null,null,{"$error":"#N/A"},{"$error":"#N/A"},{"$error":"#N/A"},{"$error":"#N/A"},{"$error":"#N/A"},{"$error":"#N/A"},{"$error":"#N/A"},{"$error":"#N/A"},{"$error":"#N/A"},{"$error":"#N/A"},{"$error":"#N/A"},2]
[null,"li 679",null,null,null,null,null,null,null,null,null,null,null,null,null,null,null,null,null,null,null,null,{"$error":"#N/A"},{"$error":"#N/A"},{"$error":"#N/A"},{"$error":"#N/A"},{"$error":"#N/A"},{"$error":"#N/A"},{"$error":"#N/A"},{"$error":"#N/A"},{"$error":"#N/A"},{"$error":"#N/A"},{"$error":"#N/A"},4]
[null,"li 680",null,null,null,null,null,null,null,null,null,null,null,null,null,null,null,null,null,null,null,null,{"$error":"#N/A"},{"$error":"#N/A"},{"$error":"#N/A"},{"$error":"#N/A"},{"$error":"#N/A"},{"$error":"#N/A"},{"$error":"#N/A"},{"$error":"#N/A"},{"$error":"#N/A"},{"$error":"#N/A"},{"$error":"#N/A"},3]
[null,"li 681",null,null,null,null,null,null,null,null,null,null,null,null,null,null,null,null,null,null,null,null,{"$error":"#N/A"},{"$error":"#N/A"},{"$error":"#N/A"},{"$error":"#N/A"},{"$error":"#N/A"},{"$error":"#N/A"},{"$error":"#N/A"},{"$error":"#N/A"},{"$error":"#N/A"},{"$error":"#N/A"},{"$error":"#N/A"},4]
[null,"li 682",null,null,null,null,null,null,null,null,null,null,null,null,null,null,null,null,null,null,null,null,{"$error":"#N/A"},{"$error":"#N/A"},{"$error":"#N/A"},{"$error":"#N/A"},{"$error":"#N/A"},{"$error":"#N/A"},{"$error":"#N/A"},{"$error":"#N/A"},{"$error":"#N/A"},{"$error":"#N/A"},{"$error":"#N/A"},2]
[null,"li 683",null,null,null,null,null,null,null,null,null,null,null,null,null,null,null,null,null,null,null,null,{"$error":"#N/A"},{"$error":"#N/A"},{"$error":"#N/A"},{"$error":"#N/A"},{"$error":"#N/A"},{"$error":"#N/A"},{"$error":"#N/A"},{"$error":"#N/A"},{"$error":"#N/A"},{"$error":"#N/A"},{"$error":"#N/A"},3]
[null,"li 684",null,null,null,null,null,null,null,null,null,null,null,null,null,null,null,null,null,null,null,null,{"$error":"#N/A"},{"$error":"#N/A"},{"$error":"#N/A"},{"$error":"#N/A"},{"$error":"#N/A"},{"$error":"#N/A"},{"$error":"#N/A"},{"$error":"#N/A"},{"$error":"#N/A"},{"$error":"#N/A"},{"$error":"#N/A"},6]
[null,"li 685",null,null,null,null,null,null,null,null,null,null,null,null,null,null,null,null,null,null,null,null,{"$error":"#N/A"},{"$error":"#N/A"},{"$error":"#N/A"},{"$error":"#N/A"},{"$error":"#N/A"},{"$error":"#N/A"},{"$error":"#N/A"},{"$error":"#N/A"},{"$error":"#N/A"},{"$error":"#N/A"},{"$error":"#N/A"},2]
[null,"li 686",null,null,null,null,null,null,null,null,null,null,null,null,null,null,null,null,null,null,null,null,{"$error":"#N/A"},{"$error":"#N/A"},{"$error":"#N/A"},{"$error":"#N/A"},{"$error":"#N/A"},{"$error":"#N/A"},{"$error":"#N/A"},{"$error":"#N/A"},{"$error":"#N/A"},{"$error":"#N/A"},{"$error":"#N/A"},5]
[null,"li 687",null,null,null,null,null,null,null,null,null,null,null,null,null,null,null,null,null,null,null,null,{"$error":"#N/A"},{"$error":"#N/A"},{"$error":"#N/A"},{"$error":"#N/A"},{"$error":"#N/A"},{"$error":"#N/A"},{"$error":"#N/A"},{"$error":"#N/A"},{"$error":"#N/A"},{"$error":"#N/A"},{"$error":"#N/A"},6]
[null,"li 688",null,null,null,null,null,null,null,null,null,null,null,null,null,null,null,null,null,null,null,null,{"$error":"#N/A"},{"$error":"#N/A"},{"$error":"#N/A"},{"$error":"#N/A"},{"$error":"#N/A"},{"$error":"#N/A"},{"$error":"#N/A"},{"$error":"#N/A"},{"$error":"#N/A"},{"$error":"#N/A"},{"$error":"#N/A"},1]
[null,"li 689",null,null,null,null,null,null,null,null,null,null,null,null,null,null,null,null,null,null,null,null,{"$error":"#N/A"},{"$error":"#N/A"},{"$error":"#N/A"},{"$error":"#N/A"},{"$error":"#N/A"},{"$error":"#N/A"},{"$error":"#N/A"},{"$error":"#N/A"},{"$error":"#N/A"},{"$error":"#N/A"},{"$error":"#N/A"},7]
[null,"li 690",null,null,null,null,null,null,null,null,null,null,null,null,null,null,null,null,null,null,null,null,{"$error":"#N/A"},{"$error":"#N/A"},{"$error":"#N/A"},{"$error":"#N/A"},{"$error":"#N/A"},{"$error":"#N/A"},{"$error":"#N/A"},{"$error":"#N/A"},{"$error":"#N/A"},{"$error":"#N/A"},{"$error":"#N/A"},2]
[null,"li 691",null,null,null,null,null,null,null,null,null,null,null,null,null,null,null,null,null,null,null,null,{"$error":"#N/A"},{"$error":"#N/A"},{"$error":"#N/A"},{"$error":"#N/A"},{"$error":"#N/A"},{"$error":"#N/A"},{"$error":"#N/A"},{"$error":"#N/A"},{"$error":"#N/A"},{"$error":"#N/A"},{"$error":"#N/A"},2]
[null,"li 692",null,null,null,null,null,null,null,null,null,null,null,null,null,null,null,null,null,null,null,null,{"$error":"#N/A"},{"$error":"#N/A"},{"$error":"#N/A"},{"$error":"#N/A"},{"$error":"#N/A"},{"$error":"#N/A"},{"$error":"#N/A"},{"$error":"#N/A"},{"$error":"#N/A"},{"$error":"#N/A"},{"$error":"#N/A"},3]
[null,"li 693",null,null,null,null,null,null,null,null,null,null,null,null,null,null,null,null,null,null,null,null,{"$error":"#N/A"},{"$error":"#N/A"},{"$error":"#N/A"},{"$error":"#N/A"},{"$error":"#N/A"},{"$error":"#N/A"},{"$error":"#N/A"},{"$error":"#N/A"},{"$error":"#N/A"},{"$error":"#N/A"},{"$error":"#N/A"},4]
[null,"li 694",null,null,null,null,null,null,null,null,null,null,null,null,null,null,null,null,null,null,null,null,{"$error":"#N/A"},{"$error":"#N/A"},{"$error":"#N/A"},{"$error":"#N/A"},{"$error":"#N/A"},{"$error":"#N/A"},{"$error":"#N/A"},{"$error":"#N/A"},{"$error":"#N/A"},{"$error":"#N/A"},{"$error":"#N/A"},4]
[null,"li 695",null,null,null,null,null,null,null,null,null,null,null,null,null,null,null,null,null,null,null,null,{"$error":"#N/A"},{"$error":"#N/A"},{"$error":"#N/A"},{"$error":"#N/A"},{"$error":"#N/A"},{"$error":"#N/A"},{"$error":"#N/A"},{"$error":"#N/A"},{"$error":"#N/A"},{"$error":"#N/A"},{"$error":"#N/A"},3]
[null,"li 696",null,null,null,null,null,null,null,null,null,null,null,null,null,null,null,null,null,null,null,null,{"$error":"#N/A"},{"$error":"#N/A"},{"$error":"#N/A"},{"$error":"#N/A"},{"$error":"#N/A"},{"$error":"#N/A"},{"$error":"#N/A"},{"$error":"#N/A"},{"$error":"#N/A"},{"$error":"#N/A"},{"$error":"#N/A"},5]
[null,"li 697",null,null,null,null,null,null,null,null,null,null,null,null,null,null,null,null,null,null,null,null,{"$error":"#N/A"},{"$error":"#N/A"},{"$error":"#N/A"},{"$error":"#N/A"},{"$error":"#N/A"},{"$error":"#N/A"},{"$error":"#N/A"},{"$error":"#N/A"},{"$error":"#N/A"},{"$error":"#N/A"},{"$error":"#N/A"},5]
[null,"li 698",null,null,null,null,null,null,null,null,null,null,null,null,null,null,null,null,null,null,null,null,{"$error":"#N/A"},{"$error":"#N/A"},{"$error":"#N/A"},{"$error":"#N/A"},{"$error":"#N/A"},{"$error":"#N/A"},{"$error":"#N/A"},{"$error":"#N/A"},{"$error":"#N/A"},{"$error":"#N/A"},{"$error":"#N/A"},3]
[null,"li 699",null,null,null,null,null,null,null,null,null,null,null,null,null,null,null,null,null,null,null,null,{"$error":"#N/A"},{"$error":"#N/A"},{"$error":"#N/A"},{"$error":"#N/A"},{"$error":"#N/A"},{"$error":"#N/A"},{"$error":"#N/A"},{"$error":"#N/A"},{"$error":"#N/A"},{"$error":"#N/A"},{"$error":"#N/A"},7]
[null,"li 700",null,null,null,null,null,null,null,null,null,null,null,null,null,null,null,null,null,null,null,null,{"$error":"#N/A"},{"$error":"#N/A"},{"$error":"#N/A"},{"$error":"#N/A"},{"$error":"#N/A"},{"$error":"#N/A"},{"$error":"#N/A"},{"$error":"#N/A"},{"$error":"#N/A"},{"$error":"#N/A"},{"$error":"#N/A"},7]
[null,"li 701",null,null,null,null,null,null,null,null,null,null,null,null,null,null,null,null,null,null,null,null,{"$error":"#N/A"},{"$error":"#N/A"},{"$error":"#N/A"},{"$error":"#N/A"},{"$error":"#N/A"},{"$error":"#N/A"},{"$error":"#N/A"},{"$error":"#N/A"},{"$error":"#N/A"},{"$error":"#N/A"},{"$error":"#N/A"},7]
[null,"li 702",null,null,null,null,null,null,null,null,null,null,null,null,null,null,null,null,null,null,null,null,{"$error":"#N/A"},{"$error":"#N/A"},{"$error":"#N/A"},{"$error":"#N/A"},{"$error":"#N/A"},{"$error":"#N/A"},{"$error":"#N/A"},{"$error":"#N/A"},{"$error":"#N/A"},{"$error":"#N/A"},{"$error":"#N/A"},5]
[null,"li 703",null,null,null,null,null,null,null,null,null,null,null,null,null,null,null,null,null,null,null,null,{"$error":"#N/A"},{"$error":"#N/A"},{"$error":"#N/A"},{"$error":"#N/A"},{"$error":"#N/A"},{"$error":"#N/A"},{"$error":"#N/A"},{"$error":"#N/A"},{"$error":"#N/A"},{"$error":"#N/A"},{"$error":"#N/A"},1]
[null,"li 704",null,null,null,null,null,null,null,null,null,null,null,null,null,null,null,null,null,null,null,null,{"$error":"#N/A"},{"$error":"#N/A"},{"$error":"#N/A"},{"$error":"#N/A"},{"$error":"#N/A"},{"$error":"#N/A"},{"$error":"#N/A"},{"$error":"#N/A"},{"$error":"#N/A"},{"$error":"#N/A"},{"$error":"#N/A"},5]
[null,"li 705",null,null,null,null,null,null,null,null,null,null,null,null,null,null,null,null,null,null,null,null,{"$error":"#N/A"},{"$error":"#N/A"},{"$error":"#N/A"},{"$error":"#N/A"},{"$error":"#N/A"},{"$f":"W708^2/$AG708","v":{"$error":"#N/A"}},{"$f":"X708^2/$AG708","v":{"$error":"#N/A"}},{"$f":"Y708^2/$AG708","v":{"$error":"#N/A"}},{"$f":"Z708^2/$AG708","v":{"$error":"#N/A"}},{"$f":"AA708^2/$AG708","v":{"$error":"#N/A"}},{"$f":"W708^2+X708^2+Y708^2+Z708^2+AA708^2","v":{"$error":"#N/A"}},3]
[null,"li 706",null,null,null,null,null,null,null,null,null,null,null,null,null,null,null,null,null,null,null,null,{"$error":"#N/A"},{"$error":"#N/A"},{"$error":"#N/A"},{"$error":"#N/A"},{"$error":"#N/A"},{"$error":"#N/A"},{"$error":"#N/A"},{"$error":"#N/A"},{"$error":"#N/A"},{"$error":"#N/A"},{"$error":"#N/A"},7]
[null,"li 707",null,null,null,null,null,null,null,null,null,null,null,null,null,null,null,null,null,null,null,null,{"$error":"#N/A"},{"$error":"#N/A"},{"$error":"#N/A"},{"$error":"#N/A"},{"$error":"#N/A"},{"$error":"#N/A"},{"$error":"#N/A"},{"$error":"#N/A"},{"$error":"#N/A"},{"$error":"#N/A"},{"$error":"#N/A"},5]
[null,"li 708",null,null,null,null,null,null,null,null,null,null,null,null,null,null,null,null,null,null,null,null,{"$error":"#N/A"},{"$error":"#N/A"},{"$error":"#N/A"},{"$error":"#N/A"},{"$error":"#N/A"},{"$error":"#N/A"},{"$error":"#N/A"},{"$error":"#N/A"},{"$error":"#N/A"},{"$error":"#N/A"},{"$error":"#N/A"},4]
[null,"li 709",null,null,null,null,null,null,null,null,null,null,null,null,null,null,null,null,null,null,null,null,{"$error":"#N/A"},{"$error":"#N/A"},{"$error":"#N/A"},{"$error":"#N/A"},{"$error":"#N/A"},{"$error":"#N/A"},{"$error":"#N/A"},{"$error":"#N/A"},{"$error":"#N/A"},{"$error":"#N/A"},{"$error":"#N/A"},3]
[null,"li 710",null,null,null,null,null,null,null,null,null,null,null,null,null,null,null,null,null,null,null,null,{"$error":"#N/A"},{"$error":"#N/A"},{"$error":"#N/A"},{"$error":"#N/A"},{"$error":"#N/A"},{"$error":"#N/A"},{"$error":"#N/A"},{"$error":"#N/A"},{"$error":"#N/A"},{"$error":"#N/A"},{"$error":"#N/A"},3]
[null,"li 711",null,null,null,null,null,null,null,null,null,null,null,null,null,null,null,null,null,null,null,null,{"$error":"#N/A"},{"$error":"#N/A"},{"$error":"#N/A"},{"$error":"#N/A"},{"$error":"#N/A"},{"$error":"#N/A"},{"$error":"#N/A"},{"$error":"#N/A"},{"$error":"#N/A"},{"$error":"#N/A"},{"$error":"#N/A"},5]
[null,"li 712",null,null,null,null,null,null,null,null,null,null,null,null,null,null,null,null,null,null,null,null,{"$error":"#N/A"},{"$error":"#N/A"},{"$error":"#N/A"},{"$error":"#N/A"},{"$error":"#N/A"},{"$error":"#N/A"},{"$error":"#N/A"},{"$error":"#N/A"},{"$error":"#N/A"},{"$error":"#N/A"},{"$error":"#N/A"},5]
[null,"li 713",null,null,null,null,null,null,null,null,null,null,null,null,null,null,null,null,null,null,null,null,{"$error":"#N/A"},{"$error":"#N/A"},{"$error":"#N/A"},{"$error":"#N/A"},{"$error":"#N/A"},{"$error":"#N/A"},{"$error":"#N/A"},{"$error":"#N/A"},{"$error":"#N/A"},{"$error":"#N/A"},{"$error":"#N/A"},7]
[null,"li 714",null,null,null,null,null,null,null,null,null,null,null,null,null,null,null,null,null,null,null,null,{"$error":"#N/A"},{"$error":"#N/A"},{"$error":"#N/A"},{"$error":"#N/A"},{"$error":"#N/A"},{"$error":"#N/A"},{"$error":"#N/A"},{"$error":"#N/A"},{"$error":"#N/A"},{"$error":"#N/A"},{"$error":"#N/A"},4]
[null,"li 715",null,null,null,null,null,null,null,null,null,null,null,null,null,null,null,null,null,null,null,null,{"$error":"#N/A"},{"$error":"#N/A"},{"$error":"#N/A"},{"$error":"#N/A"},{"$error":"#N/A"},{"$error":"#N/A"},{"$error":"#N/A"},{"$error":"#N/A"},{"$error":"#N/A"},{"$error":"#N/A"},{"$error":"#N/A"},7]
[null,"li 716",null,null,null,null,null,null,null,null,null,null,null,null,null,null,null,null,null,null,null,null,{"$error":"#N/A"},{"$error":"#N/A"},{"$error":"#N/A"},{"$error":"#N/A"},{"$error":"#N/A"},{"$error":"#N/A"},{"$error":"#N/A"},{"$error":"#N/A"},{"$error":"#N/A"},{"$error":"#N/A"},{"$error":"#N/A"},2]
[null,"li 717",null,null,null,null,null,null,null,null,null,null,null,null,null,null,null,null,null,null,null,null,{"$error":"#N/A"},{"$error":"#N/A"},{"$error":"#N/A"},{"$error":"#N/A"},{"$error":"#N/A"},{"$error":"#N/A"},{"$error":"#N/A"},{"$error":"#N/A"},{"$error":"#N/A"},{"$error":"#N/A"},{"$error":"#N/A"},4]
[null,"li 718",null,null,null,null,null,null,null,null,null,null,null,null,null,null,null,null,null,null,null,null,{"$error":"#N/A"},{"$error":"#N/A"},{"$error":"#N/A"},{"$error":"#N/A"},{"$error":"#N/A"},{"$error":"#N/A"},{"$error":"#N/A"},{"$error":"#N/A"},{"$error":"#N/A"},{"$error":"#N/A"},{"$error":"#N/A"},1]
[null,"li 719",null,null,null,null,null,null,null,null,null,null,null,null,null,null,null,null,null,null,null,null,{"$error":"#N/A"},{"$error":"#N/A"},{"$error":"#N/A"},{"$error":"#N/A"},{"$error":"#N/A"},{"$error":"#N/A"},{"$error":"#N/A"},{"$error":"#N/A"},{"$error":"#N/A"},{"$error":"#N/A"},{"$error":"#N/A"},7]
[null,"li 720",null,null,null,null,null,null,null,null,null,null,null,null,null,null,null,null,null,null,null,null,{"$error":"#N/A"},{"$error":"#N/A"},{"$error":"#N/A"},{"$error":"#N/A"},{"$error":"#N/A"},{"$error":"#N/A"},{"$error":"#N/A"},{"$error":"#N/A"},{"$error":"#N/A"},{"$error":"#N/A"},{"$error":"#N/A"},5]
[null,"li 721",null,null,null,null,null,null,null,null,null,null,null,null,null,null,null,null,null,null,null,null,{"$error":"#N/A"},{"$error":"#N/A"},{"$error":"#N/A"},{"$error":"#N/A"},{"$error":"#N/A"},{"$error":"#N/A"},{"$error":"#N/A"},{"$error":"#N/A"},{"$error":"#N/A"},{"$error":"#N/A"},{"$error":"#N/A"},2]
[null,"li 722",null,null,null,null,null,null,null,null,null,null,null,null,null,null,null,null,null,null,null,null,{"$error":"#N/A"},{"$error":"#N/A"},{"$error":"#N/A"},{"$error":"#N/A"},{"$error":"#N/A"},{"$error":"#N/A"},{"$error":"#N/A"},{"$error":"#N/A"},{"$error":"#N/A"},{"$error":"#N/A"},{"$error":"#N/A"},6]
[null,"li 723",null,null,null,null,null,null,null,null,null,null,null,null,null,null,null,null,null,null,null,null,{"$error":"#N/A"},{"$error":"#N/A"},{"$error":"#N/A"},{"$error":"#N/A"},{"$error":"#N/A"},{"$error":"#N/A"},{"$error":"#N/A"},{"$error":"#N/A"},{"$error":"#N/A"},{"$error":"#N/A"},{"$error":"#N/A"},1]
[null,"li 724",null,null,null,null,null,null,null,null,null,null,null,null,null,null,null,null,null,null,null,null,{"$error":"#N/A"},{"$error":"#N/A"},{"$error":"#N/A"},{"$error":"#N/A"},{"$error":"#N/A"},{"$error":"#N/A"},{"$error":"#N/A"},{"$error":"#N/A"},{"$error":"#N/A"},{"$error":"#N/A"},{"$error":"#N/A"},1]
[null,"li 725",null,null,null,null,null,null,null,null,null,null,null,null,null,null,null,null,null,null,null,null,{"$error":"#N/A"},{"$error":"#N/A"},{"$error":"#N/A"},{"$error":"#N/A"},{"$error":"#N/A"},{"$error":"#N/A"},{"$error":"#N/A"},{"$error":"#N/A"},{"$error":"#N/A"},{"$error":"#N/A"},{"$error":"#N/A"},4]
[null,"li 726",null,null,null,null,null,null,null,null,null,null,null,null,null,null,null,null,null,null,null,null,{"$error":"#N/A"},{"$error":"#N/A"},{"$error":"#N/A"},{"$error":"#N/A"},{"$error":"#N/A"},{"$error":"#N/A"},{"$error":"#N/A"},{"$error":"#N/A"},{"$error":"#N/A"},{"$error":"#N/A"},{"$error":"#N/A"},2]
[null,"li 727",null,null,null,null,null,null,null,null,null,null,null,null,null,null,null,null,null,null,null,null,{"$error":"#N/A"},{"$error":"#N/A"},{"$error":"#N/A"},{"$error":"#N/A"},{"$error":"#N/A"},{"$error":"#N/A"},{"$error":"#N/A"},{"$error":"#N/A"},{"$error":"#N/A"},{"$error":"#N/A"},{"$error":"#N/A"},2]
[null,"li 728",null,null,null,null,null,null,null,null,null,null,null,null,null,null,null,null,null,null,null,null,{"$error":"#N/A"},{"$error":"#N/A"},{"$error":"#N/A"},{"$error":"#N/A"},{"$error":"#N/A"},{"$error":"#N/A"},{"$error":"#N/A"},{"$error":"#N/A"},{"$error":"#N/A"},{"$error":"#N/A"},{"$error":"#N/A"},7]
[null,"li 729",null,null,null,null,null,null,null,null,null,null,null,null,null,null,null,null,null,null,null,null,{"$error":"#N/A"},{"$error":"#N/A"},{"$error":"#N/A"},{"$error":"#N/A"},{"$error":"#N/A"},{"$error":"#N/A"},{"$error":"#N/A"},{"$error":"#N/A"},{"$error":"#N/A"},{"$error":"#N/A"},{"$error":"#N/A"},5]
[null,"li 730",null,null,null,null,null,null,null,null,null,null,null,null,null,null,null,null,null,null,null,null,{"$error":"#N/A"},{"$error":"#N/A"},{"$error":"#N/A"},{"$error":"#N/A"},{"$error":"#N/A"},{"$error":"#N/A"},{"$error":"#N/A"},{"$error":"#N/A"},{"$error":"#N/A"},{"$error":"#N/A"},{"$error":"#N/A"},2]
[null,"li 731",null,null,null,null,null,null,null,null,null,null,null,null,null,null,null,null,null,null,null,null,{"$error":"#N/A"},{"$error":"#N/A"},{"$error":"#N/A"},{"$error":"#N/A"},{"$error":"#N/A"},{"$error":"#N/A"},{"$error":"#N/A"},{"$error":"#N/A"},{"$error":"#N/A"},{"$error":"#N/A"},{"$error":"#N/A"},1]
[null,"li 732",null,null,null,null,null,null,null,null,null,null,null,null,null,null,null,null,null,null,null,null,{"$error":"#N/A"},{"$error":"#N/A"},{"$error":"#N/A"},{"$error":"#N/A"},{"$error":"#N/A"},{"$error":"#N/A"},{"$error":"#N/A"},{"$error":"#N/A"},{"$error":"#N/A"},{"$error":"#N/A"},{"$error":"#N/A"},7]
[null,"li 733",null,null,null,null,null,null,null,null,null,null,null,null,null,null,null,null,null,null,null,null,{"$error":"#N/A"},{"$error":"#N/A"},{"$error":"#N/A"},{"$error":"#N/A"},{"$error":"#N/A"},{"$error":"#N/A"},{"$error":"#N/A"},{"$error":"#N/A"},{"$error":"#N/A"},{"$error":"#N/A"},{"$error":"#N/A"},2]
[null,"li 734",null,null,null,null,null,null,null,null,null,null,null,null,null,null,null,null,null,null,null,null,{"$error":"#N/A"},{"$error":"#N/A"},{"$error":"#N/A"},{"$error":"#N/A"},{"$error":"#N/A"},{"$error":"#N/A"},{"$error":"#N/A"},{"$error":"#N/A"},{"$error":"#N/A"},{"$error":"#N/A"},{"$error":"#N/A"},1]
[null,"li 735",null,null,null,null,null,null,null,null,null,null,null,null,null,null,null,null,null,null,null,null,{"$error":"#N/A"},{"$error":"#N/A"},{"$error":"#N/A"},{"$error":"#N/A"},{"$error":"#N/A"},{"$error":"#N/A"},{"$error":"#N/A"},{"$error":"#N/A"},{"$error":"#N/A"},{"$error":"#N/A"},{"$error":"#N/A"},4]
[null,"li 736",null,null,null,null,null,null,null,null,null,null,null,null,null,null,null,null,null,null,null,null,{"$error":"#N/A"},{"$error":"#N/A"},{"$error":"#N/A"},{"$error":"#N/A"},{"$error":"#N/A"},{"$error":"#N/A"},{"$error":"#N/A"},{"$error":"#N/A"},{"$error":"#N/A"},{"$error":"#N/A"},{"$error":"#N/A"},7]
[null,"li 737",null,null,null,null,null,null,null,null,null,null,null,null,null,null,null,null,null,null,null,null,{"$error":"#N/A"},{"$error":"#N/A"},{"$error":"#N/A"},{"$error":"#N/A"},{"$error":"#N/A"},{"$error":"#N/A"},{"$error":"#N/A"},{"$error":"#N/A"},{"$error":"#N/A"},{"$error":"#N/A"},{"$error":"#N/A"},5]
[null,"li 738",null,null,null,null,null,null,null,null,null,null,null,null,null,null,null,null,null,null,null,null,{"$error":"#N/A"},{"$error":"#N/A"},{"$error":"#N/A"},{"$error":"#N/A"},{"$error":"#N/A"},{"$error":"#N/A"},{"$error":"#N/A"},{"$error":"#N/A"},{"$error":"#N/A"},{"$error":"#N/A"},{"$error":"#N/A"},2]
[null,"li 739",null,null,null,null,null,null,null,null,null,null,null,null,null,null,null,null,null,null,null,null,{"$error":"#N/A"},{"$error":"#N/A"},{"$error":"#N/A"},{"$error":"#N/A"},{"$error":"#N/A"},{"$error":"#N/A"},{"$error":"#N/A"},{"$error":"#N/A"},{"$error":"#N/A"},{"$error":"#N/A"},{"$error":"#N/A"},1]
[null,"li 740",null,null,null,null,null,null,null,null,null,null,null,null,null,null,null,null,null,null,null,null,{"$error":"#N/A"},{"$error":"#N/A"},{"$error":"#N/A"},{"$error":"#N/A"},{"$error":"#N/A"},{"$error":"#N/A"},{"$error":"#N/A"},{"$error":"#N/A"},{"$error":"#N/A"},{"$error":"#N/A"},{"$error":"#N/A"},7]
[null,"li 741",null,null,null,null,null,null,null,null,null,null,null,null,null,null,null,null,null,null,null,null,{"$error":"#N/A"},{"$error":"#N/A"},{"$error":"#N/A"},{"$error":"#N/A"},{"$error":"#N/A"},{"$error":"#N/A"},{"$error":"#N/A"},{"$error":"#N/A"},{"$error":"#N/A"},{"$error":"#N/A"},{"$error":"#N/A"},7]
[null,"li 742",null,null,null,null,null,null,null,null,null,null,null,null,null,null,null,null,null,null,null,null,{"$error":"#N/A"},{"$error":"#N/A"},{"$error":"#N/A"},{"$error":"#N/A"},{"$error":"#N/A"},{"$error":"#N/A"},{"$error":"#N/A"},{"$error":"#N/A"},{"$error":"#N/A"},{"$error":"#N/A"},{"$error":"#N/A"},3]
[null,"li 743",null,null,null,null,null,null,null,null,null,null,null,null,null,null,null,null,null,null,null,null,{"$error":"#N/A"},{"$error":"#N/A"},{"$error":"#N/A"},{"$error":"#N/A"},{"$error":"#N/A"},{"$error":"#N/A"},{"$error":"#N/A"},{"$error":"#N/A"},{"$error":"#N/A"},{"$error":"#N/A"},{"$error":"#N/A"},4]
[null,"li 744",null,null,null,null,null,null,null,null,null,null,null,null,null,null,null,null,null,null,null,null,{"$error":"#N/A"},{"$error":"#N/A"},{"$error":"#N/A"},{"$error":"#N/A"},{"$error":"#N/A"},{"$error":"#N/A"},{"$error":"#N/A"},{"$error":"#N/A"},{"$error":"#N/A"},{"$error":"#N/A"},{"$error":"#N/A"},7]
[null,"li 745",null,null,null,null,null,null,null,null,null,null,null,null,null,null,null,null,null,null,null,null,{"$error":"#N/A"},{"$error":"#N/A"},{"$error":"#N/A"},{"$error":"#N/A"},{"$error":"#N/A"},{"$error":"#N/A"},{"$error":"#N/A"},{"$error":"#N/A"},{"$error":"#N/A"},{"$error":"#N/A"},{"$error":"#N/A"},2]
[null,"li 746",null,null,null,null,null,null,null,null,null,null,null,null,null,null,null,null,null,null,null,null,{"$error":"#N/A"},{"$error":"#N/A"},{"$error":"#N/A"},{"$error":"#N/A"},{"$error":"#N/A"},{"$error":"#N/A"},{"$error":"#N/A"},{"$error":"#N/A"},{"$error":"#N/A"},{"$error":"#N/A"},{"$error":"#N/A"},5]
[null,"li 747",null,null,null,null,null,null,null,null,null,null,null,null,null,null,null,null,null,null,null,null,{"$error":"#N/A"},{"$error":"#N/A"},{"$error":"#N/A"},{"$error":"#N/A"},{"$error":"#N/A"},{"$error":"#N/A"},{"$error":"#N/A"},{"$error":"#N/A"},{"$error":"#N/A"},{"$error":"#N/A"},{"$error":"#N/A"},4]
[null,"li 748",null,null,null,null,null,null,null,null,null,null,null,null,null,null,null,null,null,null,null,null,{"$error":"#N/A"},{"$error":"#N/A"},{"$error":"#N/A"},{"$error":"#N/A"},{"$error":"#N/A"},{"$error":"#N/A"},{"$error":"#N/A"},{"$error":"#N/A"},{"$error":"#N/A"},{"$error":"#N/A"},{"$error":"#N/A"},3]
[null,"li 749",null,null,null,null,null,null,null,null,null,null,null,null,null,null,null,null,null,null,null,null,{"$error":"#N/A"},{"$error":"#N/A"},{"$error":"#N/A"},{"$error":"#N/A"},{"$error":"#N/A"},{"$error":"#N/A"},{"$error":"#N/A"},{"$error":"#N/A"},{"$error":"#N/A"},{"$error":"#N/A"},{"$error":"#N/A"},5]
[null,"li 750",null,null,null,null,null,null,null,null,null,null,null,null,null,null,null,null,null,null,null,null,{"$error":"#N/A"},{"$error":"#N/A"},{"$error":"#N/A"},{"$error":"#N/A"},{"$error":"#N/A"},{"$error":"#N/A"},{"$error":"#N/A"},{"$error":"#N/A"},{"$error":"#N/A"},{"$error":"#N/A"},{"$error":"#N/A"},4]
[null,"li 751",null,null,null,null,null,null,null,null,null,null,null,null,null,null,null,null,null,null,null,null,{"$error":"#N/A"},{"$error":"#N/A"},{"$error":"#N/A"},{"$error":"#N/A"},{"$error":"#N/A"},{"$error":"#N/A"},{"$error":"#N/A"},{"$error":"#N/A"},{"$error":"#N/A"},{"$error":"#N/A"},{"$error":"#N/A"},3]
[null,"li 752",null,null,null,null,null,null,null,null,null,null,null,null,null,null,null,null,null,null,null,null,{"$error":"#N/A"},{"$error":"#N/A"},{"$error":"#N/A"},{"$error":"#N/A"},{"$error":"#N/A"},{"$error":"#N/A"},{"$error":"#N/A"},{"$error":"#N/A"},{"$error":"#N/A"},{"$error":"#N/A"},{"$error":"#N/A"},3]
[null,"li 753",null,null,null,null,null,null,null,null,null,null,null,null,null,null,null,null,null,null,null,null,{"$error":"#N/A"},{"$error":"#N/A"},{"$error":"#N/A"},{"$error":"#N/A"},{"$error":"#N/A"},{"$error":"#N/A"},{"$error":"#N/A"},{"$error":"#N/A"},{"$error":"#N/A"},{"$error":"#N/A"},{"$error":"#N/A"},6]
[null,"li 754",null,null,null,null,null,null,null,null,null,null,null,null,null,null,null,null,null,null,null,null,{"$error":"#N/A"},{"$error":"#N/A"},{"$error":"#N/A"},{"$error":"#N/A"},{"$error":"#N/A"},{"$error":"#N/A"},{"$error":"#N/A"},{"$error":"#N/A"},{"$error":"#N/A"},{"$error":"#N/A"},{"$error":"#N/A"},1]
[null,"li 755",null,null,null,null,null,null,null,null,null,null,null,null,null,null,null,null,null,null,null,null,{"$error":"#N/A"},{"$error":"#N/A"},{"$error":"#N/A"},{"$error":"#N/A"},{"$error":"#N/A"},{"$error":"#N/A"},{"$error":"#N/A"},{"$error":"#N/A"},{"$error":"#N/A"},{"$error":"#N/A"},{"$error":"#N/A"},6]
[null,"li 756",null,null,null,null,null,null,null,null,null,null,null,null,null,null,null,null,null,null,null,null,{"$error":"#N/A"},{"$error":"#N/A"},{"$error":"#N/A"},{"$error":"#N/A"},{"$error":"#N/A"},{"$error":"#N/A"},{"$error":"#N/A"},{"$error":"#N/A"},{"$error":"#N/A"},{"$error":"#N/A"},{"$error":"#N/A"},6]
[null,"li 757",null,null,null,null,null,null,null,null,null,null,null,null,null,null,null,null,null,null,null,null,{"$error":"#N/A"},{"$error":"#N/A"},{"$error":"#N/A"},{"$error":"#N/A"},{"$error":"#N/A"},{"$error":"#N/A"},{"$error":"#N/A"},{"$error":"#N/A"},{"$error":"#N/A"},{"$error":"#N/A"},{"$error":"#N/A"},2]
[null,"li 758",null,null,null,null,null,null,null,null,null,null,null,null,null,null,null,null,null,null,null,null,{"$error":"#N/A"},{"$error":"#N/A"},{"$error":"#N/A"},{"$error":"#N/A"},{"$error":"#N/A"},{"$error":"#N/A"},{"$error":"#N/A"},{"$error":"#N/A"},{"$error":"#N/A"},{"$error":"#N/A"},{"$error":"#N/A"},6]
[null,"li 759",null,null,null,null,null,null,null,null,null,null,null,null,null,null,null,null,null,null,null,null,{"$error":"#N/A"},{"$error":"#N/A"},{"$error":"#N/A"},{"$error":"#N/A"},{"$error":"#N/A"},{"$error":"#N/A"},{"$error":"#N/A"},{"$error":"#N/A"},{"$error":"#N/A"},{"$error":"#N/A"},{"$error":"#N/A"},1]
[null,"li 760",null,null,null,null,null,null,null,null,null,null,null,null,null,null,null,null,null,null,null,null,{"$error":"#N/A"},{"$error":"#N/A"},{"$error":"#N/A"},{"$error":"#N/A"},{"$error":"#N/A"},{"$error":"#N/A"},{"$error":"#N/A"},{"$error":"#N/A"},{"$error":"#N/A"},{"$error":"#N/A"},{"$error":"#N/A"},1]
[null,"li 761",null,null,null,null,null,null,null,null,null,null,null,null,null,null,null,null,null,null,null,null,{"$error":"#N/A"},{"$error":"#N/A"},{"$error":"#N/A"},{"$error":"#N/A"},{"$error":"#N/A"},{"$error":"#N/A"},{"$error":"#N/A"},{"$error":"#N/A"},{"$error":"#N/A"},{"$error":"#N/A"},{"$error":"#N/A"},7]
[null,"li 762",null,null,null,null,null,null,null,null,null,null,null,null,null,null,null,null,null,null,null,null,{"$error":"#N/A"},{"$error":"#N/A"},{"$error":"#N/A"},{"$error":"#N/A"},{"$error":"#N/A"},{"$error":"#N/A"},{"$error":"#N/A"},{"$error":"#N/A"},{"$error":"#N/A"},{"$error":"#N/A"},{"$error":"#N/A"},4]
[null,"li 763",null,null,null,null,null,null,null,null,null,null,null,null,null,null,null,null,null,null,null,null,{"$error":"#N/A"},{"$error":"#N/A"},{"$error":"#N/A"},{"$error":"#N/A"},{"$error":"#N/A"},{"$error":"#N/A"},{"$error":"#N/A"},{"$error":"#N/A"},{"$error":"#N/A"},{"$error":"#N/A"},{"$error":"#N/A"},3]
[null,"li 764",null,null,null,null,null,null,null,null,null,null,null,null,null,null,null,null,null,null,null,null,{"$error":"#N/A"},{"$error":"#N/A"},{"$error":"#N/A"},{"$error":"#N/A"},{"$error":"#N/A"},{"$error":"#N/A"},{"$error":"#N/A"},{"$error":"#N/A"},{"$error":"#N/A"},{"$error":"#N/A"},{"$error":"#N/A"},2]
[null,"li 765",null,null,null,null,null,null,null,null,null,null,null,null,null,null,null,null,null,null,null,null,{"$error":"#N/A"},{"$error":"#N/A"},{"$error":"#N/A"},{"$error":"#N/A"},{"$error":"#N/A"},{"$error":"#N/A"},{"$error":"#N/A"},{"$error":"#N/A"},{"$error":"#N/A"},{"$error":"#N/A"},{"$error":"#N/A"},7]
[null,"li 766",null,null,null,null,null,null,null,null,null,null,null,null,null,null,null,null,null,null,null,null,{"$error":"#N/A"},{"$error":"#N/A"},{"$error":"#N/A"},{"$error":"#N/A"},{"$error":"#N/A"},{"$error":"#N/A"},{"$error":"#N/A"},{"$error":"#N/A"},{"$error":"#N/A"},{"$error":"#N/A"},{"$error":"#N/A"},1]
[null,"li 767",null,null,null,null,null,null,null,null,null,null,null,null,null,null,null,null,null,null,null,null,{"$error":"#N/A"},{"$error":"#N/A"},{"$error":"#N/A"},{"$error":"#N/A"},{"$error":"#N/A"},{"$error":"#N/A"},{"$error":"#N/A"},{"$error":"#N/A"},{"$error":"#N/A"},{"$error":"#N/A"},{"$error":"#N/A"},4]
[null,"li 768",null,null,null,null,null,null,null,null,null,null,null,null,null,null,null,null,null,null,null,null,{"$error":"#N/A"},{"$error":"#N/A"},{"$error":"#N/A"},{"$error":"#N/A"},{"$error":"#N/A"},{"$error":"#N/A"},{"$error":"#N/A"},{"$error":"#N/A"},{"$error":"#N/A"},{"$error":"#N/A"},{"$error":"#N/A"},7]
[null,"li 769",null,null,null,null,null,null,null,null,null,null,null,null,null,null,null,null,null,null,null,null,{"$error":"#N/A"},{"$error":"#N/A"},{"$error":"#N/A"},{"$error":"#N/A"},{"$error":"#N/A"},{"$f":"W772^2/$AG772","v":{"$error":"#N/A"}},{"$f":"X772^2/$AG772","v":{"$error":"#N/A"}},{"$f":"Y772^2/$AG772","v":{"$error":"#N/A"}},{"$f":"Z772^2/$AG772","v":{"$error":"#N/A"}},{"$f":"AA772^2/$AG772","v":{"$error":"#N/A"}},{"$f":"W772^2+X772^2+Y772^2+Z772^2+AA772^2","v":{"$error":"#N/A"}},2]
[null,"li 770",null,null,null,null,null,null,null,null,null,null,null,null,null,null,null,null,null,null,null,null,{"$error":"#N/A"},{"$error":"#N/A"},{"$error":"#N/A"},{"$error":"#N/A"},{"$error":"#N/A"},{"$error":"#N/A"},{"$error":"#N/A"},{"$error":"#N/A"},{"$error":"#N/A"},{"$error":"#N/A"},{"$error":"#N/A"},6]
[null,"li 771",null,null,null,null,null,null,null,null,null,null,null,null,null,null,null,null,null,null,null,null,{"$error":"#N/A"},{"$error":"#N/A"},{"$error":"#N/A"},{"$error":"#N/A"},{"$error":"#N/A"},{"$error":"#N/A"},{"$error":"#N/A"},{"$error":"#N/A"},{"$error":"#N/A"},{"$error":"#N/A"},{"$error":"#N/A"},3]
[null,"li 772",null,null,null,null,null,null,null,null,null,null,null,null,null,null,null,null,null,null,null,null,{"$error":"#N/A"},{"$error":"#N/A"},{"$error":"#N/A"},{"$error":"#N/A"},{"$error":"#N/A"},{"$error":"#N/A"},{"$error":"#N/A"},{"$error":"#N/A"},{"$error":"#N/A"},{"$error":"#N/A"},{"$error":"#N/A"},3]
[null,"li 773",null,null,null,null,null,null,null,null,null,null,null,null,null,null,null,null,null,null,null,null,{"$error":"#N/A"},{"$error":"#N/A"},{"$error":"#N/A"},{"$error":"#N/A"},{"$error":"#N/A"},{"$error":"#N/A"},{"$error":"#N/A"},{"$error":"#N/A"},{"$error":"#N/A"},{"$error":"#N/A"},{"$error":"#N/A"},2]
[null,"li 774",null,null,null,null,null,null,null,null,null,null,null,null,null,null,null,null,null,null,null,null,{"$error":"#N/A"},{"$error":"#N/A"},{"$error":"#N/A"},{"$error":"#N/A"},{"$error":"#N/A"},{"$error":"#N/A"},{"$error":"#N/A"},{"$error":"#N/A"},{"$error":"#N/A"},{"$error":"#N/A"},{"$error":"#N/A"},4]
[null,"li 775",null,null,null,null,null,null,null,null,null,null,null,null,null,null,null,null,null,null,null,null,{"$error":"#N/A"},{"$error":"#N/A"},{"$error":"#N/A"},{"$error":"#N/A"},{"$error":"#N/A"},{"$error":"#N/A"},{"$error":"#N/A"},{"$error":"#N/A"},{"$error":"#N/A"},{"$error":"#N/A"},{"$error":"#N/A"},3]
[null,"li 776",null,null,null,null,null,null,null,null,null,null,null,null,null,null,null,null,null,null,null,null,{"$error":"#N/A"},{"$error":"#N/A"},{"$error":"#N/A"},{"$error":"#N/A"},{"$error":"#N/A"},{"$error":"#N/A"},{"$error":"#N/A"},{"$error":"#N/A"},{"$error":"#N/A"},{"$error":"#N/A"},{"$error":"#N/A"},7]
[null,"li 777",null,null,null,null,null,null,null,null,null,null,null,null,null,null,null,null,null,null,null,null,{"$error":"#N/A"},{"$error":"#N/A"},{"$error":"#N/A"},{"$error":"#N/A"},{"$error":"#N/A"},{"$error":"#N/A"},{"$error":"#N/A"},{"$error":"#N/A"},{"$error":"#N/A"},{"$error":"#N/A"},{"$error":"#N/A"},6]
[null,"li 778",null,null,null,null,null,null,null,null,null,null,null,null,null,null,null,null,null,null,null,null,{"$error":"#N/A"},{"$error":"#N/A"},{"$error":"#N/A"},{"$error":"#N/A"},{"$error":"#N/A"},{"$error":"#N/A"},{"$error":"#N/A"},{"$error":"#N/A"},{"$error":"#N/A"},{"$error":"#N/A"},{"$error":"#N/A"},3]
[null,"li 779",null,null,null,null,null,null,null,null,null,null,null,null,null,null,null,null,null,null,null,null,{"$error":"#N/A"},{"$error":"#N/A"},{"$error":"#N/A"},{"$error":"#N/A"},{"$error":"#N/A"},{"$error":"#N/A"},{"$error":"#N/A"},{"$error":"#N/A"},{"$error":"#N/A"},{"$error":"#N/A"},{"$error":"#N/A"},2]
[null,"li 780",null,null,null,null,null,null,null,null,null,null,null,null,null,null,null,null,null,null,null,null,{"$error":"#N/A"},{"$error":"#N/A"},{"$error":"#N/A"},{"$error":"#N/A"},{"$error":"#N/A"},{"$error":"#N/A"},{"$error":"#N/A"},{"$error":"#N/A"},{"$error":"#N/A"},{"$error":"#N/A"},{"$error":"#N/A"},1]
[null,"li 781",null,null,null,null,null,null,null,null,null,null,null,null,null,null,null,null,null,null,null,null,{"$error":"#N/A"},{"$error":"#N/A"},{"$error":"#N/A"},{"$error":"#N/A"},{"$error":"#N/A"},{"$error":"#N/A"},{"$error":"#N/A"},{"$error":"#N/A"},{"$error":"#N/A"},{"$error":"#N/A"},{"$error":"#N/A"},5]
[null,"li 782",null,null,null,null,null,null,null,null,null,null,null,null,null,null,null,null,null,null,null,null,{"$error":"#N/A"},{"$error":"#N/A"},{"$error":"#N/A"},{"$error":"#N/A"},{"$error":"#N/A"},{"$error":"#N/A"},{"$error":"#N/A"},{"$error":"#N/A"},{"$error":"#N/A"},{"$error":"#N/A"},{"$error":"#N/A"},3]
[null,"li 783",null,null,null,null,null,null,null,null,null,null,null,null,null,null,null,null,null,null,null,null,{"$error":"#N/A"},{"$error":"#N/A"},{"$error":"#N/A"},{"$error":"#N/A"},{"$error":"#N/A"},{"$error":"#N/A"},{"$error":"#N/A"},{"$error":"#N/A"},{"$error":"#N/A"},{"$error":"#N/A"},{"$error":"#N/A"},1]
[null,"li 784",null,null,null,null,null,null,null,null,null,null,null,null,null,null,null,null,null,null,null,null,{"$error":"#N/A"},{"$error":"#N/A"},{"$error":"#N/A"},{"$error":"#N/A"},{"$error":"#N/A"},{"$error":"#N/A"},{"$error":"#N/A"},{"$error":"#N/A"},{"$error":"#N/A"},{"$error":"#N/A"},{"$error":"#N/A"},1]
[null,"li 785",null,null,null,null,null,null,null,null,null,null,null,null,null,null,null,null,null,null,null,null,{"$error":"#N/A"},{"$error":"#N/A"},{"$error":"#N/A"},{"$error":"#N/A"},{"$error":"#N/A"},{"$error":"#N/A"},{"$error":"#N/A"},{"$error":"#N/A"},{"$error":"#N/A"},{"$error":"#N/A"},{"$error":"#N/A"},6]
[null,"li 786",null,null,null,null,null,null,null,null,null,null,null,null,null,null,null,null,null,null,null,null,{"$error":"#N/A"},{"$error":"#N/A"},{"$error":"#N/A"},{"$error":"#N/A"},{"$error":"#N/A"},{"$error":"#N/A"},{"$error":"#N/A"},{"$error":"#N/A"},{"$error":"#N/A"},{"$error":"#N/A"},{"$error":"#N/A"},7]
[null,"li 787",null,null,null,null,null,null,null,null,null,null,null,null,null,null,null,null,null,null,null,null,{"$error":"#N/A"},{"$error":"#N/A"},{"$error":"#N/A"},{"$error":"#N/A"},{"$error":"#N/A"},{"$error":"#N/A"},{"$error":"#N/A"},{"$error":"#N/A"},{"$error":"#N/A"},{"$error":"#N/A"},{"$error":"#N/A"},5]
[null,"li 788",null,null,null,null,null,null,null,null,null,null,null,null,null,null,null,null,null,null,null,null,{"$error":"#N/A"},{"$error":"#N/A"},{"$error":"#N/A"},{"$error":"#N/A"},{"$error":"#N/A"},{"$error":"#N/A"},{"$error":"#N/A"},{"$error":"#N/A"},{"$error":"#N/A"},{"$error":"#N/A"},{"$error":"#N/A"},7]
[null,"li 789",null,null,null,null,null,null,null,null,null,null,null,null,null,null,null,null,null,null,null,null,{"$error":"#N/A"},{"$error":"#N/A"},{"$error":"#N/A"},{"$error":"#N/A"},{"$error":"#N/A"},{"$error":"#N/A"},{"$error":"#N/A"},{"$error":"#N/A"},{"$error":"#N/A"},{"$error":"#N/A"},{"$error":"#N/A"},5]
[null,"li 790",null,null,null,null,null,null,null,null,null,null,null,null,null,null,null,null,null,null,null,null,{"$error":"#N/A"},{"$error":"#N/A"},{"$error":"#N/A"},{"$error":"#N/A"},{"$error":"#N/A"},{"$error":"#N/A"},{"$error":"#N/A"},{"$error":"#N/A"},{"$error":"#N/A"},{"$error":"#N/A"},{"$error":"#N/A"},5]
[null,"li 791",null,null,null,null,null,null,null,null,null,null,null,null,null,null,null,null,null,null,null,null,{"$error":"#N/A"},{"$error":"#N/A"},{"$error":"#N/A"},{"$error":"#N/A"},{"$error":"#N/A"},{"$error":"#N/A"},{"$error":"#N/A"},{"$error":"#N/A"},{"$error":"#N/A"},{"$error":"#N/A"},{"$error":"#N/A"},2]
[null,"li 792",null,null,null,null,null,null,null,null,null,null,null,null,null,null,null,null,null,null,null,null,{"$error":"#N/A"},{"$error":"#N/A"},{"$error":"#N/A"},{"$error":"#N/A"},{"$error":"#N/A"},{"$error":"#N/A"},{"$error":"#N/A"},{"$error":"#N/A"},{"$error":"#N/A"},{"$error":"#N/A"},{"$error":"#N/A"},5]
[null,"li 793",null,null,null,null,null,null,null,null,null,null,null,null,null,null,null,null,null,null,null,null,{"$error":"#N/A"},{"$error":"#N/A"},{"$error":"#N/A"},{"$error":"#N/A"},{"$error":"#N/A"},{"$error":"#N/A"},{"$error":"#N/A"},{"$error":"#N/A"},{"$error":"#N/A"},{"$error":"#N/A"},{"$error":"#N/A"},6]
[null,"li 794",null,null,null,null,null,null,null,null,null,null,null,null,null,null,null,null,null,null,null,null,{"$error":"#N/A"},{"$error":"#N/A"},{"$error":"#N/A"},{"$error":"#N/A"},{"$error":"#N/A"},{"$error":"#N/A"},{"$error":"#N/A"},{"$error":"#N/A"},{"$error":"#N/A"},{"$error":"#N/A"},{"$error":"#N/A"},5]
[null,"li 795",null,null,null,null,null,null,null,null,null,null,null,null,null,null,null,null,null,null,null,null,{"$error":"#N/A"},{"$error":"#N/A"},{"$error":"#N/A"},{"$error":"#N/A"},{"$error":"#N/A"},{"$error":"#N/A"},{"$error":"#N/A"},{"$error":"#N/A"},{"$error":"#N/A"},{"$error":"#N/A"},{"$error":"#N/A"},6]
[null,"li 796",null,null,null,null,null,null,null,null,null,null,null,null,null,null,null,null,null,null,null,null,{"$error":"#N/A"},{"$error":"#N/A"},{"$error":"#N/A"},{"$error":"#N/A"},{"$error":"#N/A"},{"$error":"#N/A"},{"$error":"#N/A"},{"$error":"#N/A"},{"$error":"#N/A"},{"$error":"#N/A"},{"$error":"#N/A"},5]
[null,"li 797",null,null,null,null,null,null,null,null,null,null,null,null,null,null,null,null,null,null,null,null,{"$error":"#N/A"},{"$error":"#N/A"},{"$error":"#N/A"},{"$error":"#N/A"},{"$error":"#N/A"},{"$error":"#N/A"},{"$error":"#N/A"},{"$error":"#N/A"},{"$error":"#N/A"},{"$error":"#N/A"},{"$error":"#N/A"},3]
[null,"li 798",null,null,null,null,null,null,null,null,null,null,null,null,null,null,null,null,null,null,null,null,{"$error":"#N/A"},{"$error":"#N/A"},{"$error":"#N/A"},{"$error":"#N/A"},{"$error":"#N/A"},{"$error":"#N/A"},{"$error":"#N/A"},{"$error":"#N/A"},{"$error":"#N/A"},{"$error":"#N/A"},{"$error":"#N/A"},1]
[null,"li 799",null,null,null,null,null,null,null,null,null,null,null,null,null,null,null,null,null,null,null,null,{"$error":"#N/A"},{"$error":"#N/A"},{"$error":"#N/A"},{"$error":"#N/A"},{"$error":"#N/A"},{"$error":"#N/A"},{"$error":"#N/A"},{"$error":"#N/A"},{"$error":"#N/A"},{"$error":"#N/A"},{"$error":"#N/A"},2]
[null,"li 800",null,null,null,null,null,null,null,null,null,null,null,null,null,null,null,null,null,null,null,null,{"$error":"#N/A"},{"$error":"#N/A"},{"$error":"#N/A"},{"$error":"#N/A"},{"$error":"#N/A"},{"$error":"#N/A"},{"$error":"#N/A"},{"$error":"#N/A"},{"$error":"#N/A"},{"$error":"#N/A"},{"$error":"#N/A"},6]
[null,"li 801",null,null,null,null,null,null,null,null,null,null,null,null,null,null,null,null,null,null,null,null,{"$error":"#N/A"},{"$error":"#N/A"},{"$error":"#N/A"},{"$error":"#N/A"},{"$error":"#N/A"},{"$error":"#N/A"},{"$error":"#N/A"},{"$error":"#N/A"},{"$error":"#N/A"},{"$error":"#N/A"},{"$error":"#N/A"},7]
[null,"li 802",null,null,null,null,null,null,null,null,null,null,null,null,null,null,null,null,null,null,null,null,{"$error":"#N/A"},{"$error":"#N/A"},{"$error":"#N/A"},{"$error":"#N/A"},{"$error":"#N/A"},{"$error":"#N/A"},{"$error":"#N/A"},{"$error":"#N/A"},{"$error":"#N/A"},{"$error":"#N/A"},{"$error":"#N/A"},3]
[null,"li 803",null,null,null,null,null,null,null,null,null,null,null,null,null,null,null,null,null,null,null,null,{"$error":"#N/A"},{"$error":"#N/A"},{"$error":"#N/A"},{"$error":"#N/A"},{"$error":"#N/A"},{"$error":"#N/A"},{"$error":"#N/A"},{"$error":"#N/A"},{"$error":"#N/A"},{"$error":"#N/A"},{"$error":"#N/A"},5]
[null,"li 804",null,null,null,null,null,null,null,null,null,null,null,null,null,null,null,null,null,null,null,null,{"$error":"#N/A"},{"$error":"#N/A"},{"$error":"#N/A"},{"$error":"#N/A"},{"$error":"#N/A"},{"$error":"#N/A"},{"$error":"#N/A"},{"$error":"#N/A"},{"$error":"#N/A"},{"$error":"#N/A"},{"$error":"#N/A"},3]
[null,"li 805",null,null,null,null,null,null,null,null,null,null,null,null,null,null,null,null,null,null,null,null,{"$error":"#N/A"},{"$error":"#N/A"},{"$error":"#N/A"},{"$error":"#N/A"},{"$error":"#N/A"},{"$error":"#N/A"},{"$error":"#N/A"},{"$error":"#N/A"},{"$error":"#N/A"},{"$error":"#N/A"},{"$error":"#N/A"},7]
[null,"li 806",null,null,null,null,null,null,null,null,null,null,null,null,null,null,null,null,null,null,null,null,{"$error":"#N/A"},{"$error":"#N/A"},{"$error":"#N/A"},{"$error":"#N/A"},{"$error":"#N/A"},{"$error":"#N/A"},{"$error":"#N/A"},{"$error":"#N/A"},{"$error":"#N/A"},{"$error":"#N/A"},{"$error":"#N/A"},6]
[null,"li 807",null,null,null,null,null,null,null,null,null,null,null,null,null,null,null,null,null,null,null,null,{"$error":"#N/A"},{"$error":"#N/A"},{"$error":"#N/A"},{"$error":"#N/A"},{"$error":"#N/A"},{"$error":"#N/A"},{"$error":"#N/A"},{"$error":"#N/A"},{"$error":"#N/A"},{"$error":"#N/A"},{"$error":"#N/A"},1]
[null,"li 808",null,null,null,null,null,null,null,null,null,null,null,null,null,null,null,null,null,null,null,null,{"$error":"#N/A"},{"$error":"#N/A"},{"$error":"#N/A"},{"$error":"#N/A"},{"$error":"#N/A"},{"$error":"#N/A"},{"$error":"#N/A"},{"$error":"#N/A"},{"$error":"#N/A"},{"$error":"#N/A"},{"$error":"#N/A"},1]
[null,"li 809",null,null,null,null,null,null,null,null,null,null,null,null,null,null,null,null,null,null,null,null,{"$error":"#N/A"},{"$error":"#N/A"},{"$error":"#N/A"},{"$error":"#N/A"},{"$error":"#N/A"},{"$error":"#N/A"},{"$error":"#N/A"},{"$error":"#N/A"},{"$error":"#N/A"},{"$error":"#N/A"},{"$error":"#N/A"},3]
[null,"li 810",null,null,null,null,null,null,null,null,null,null,null,null,null,null,null,null,null,null,null,null,{"$error":"#N/A"},{"$error":"#N/A"},{"$error":"#N/A"},{"$error":"#N/A"},{"$error":"#N/A"},{"$error":"#N/A"},{"$error":"#N/A"},{"$error":"#N/A"},{"$error":"#N/A"},{"$error":"#N/A"},{"$error":"#N/A"},7]
[null,"li 811",null,null,null,null,null,null,null,null,null,null,null,null,null,null,null,null,null,null,null,null,{"$error":"#N/A"},{"$error":"#N/A"},{"$error":"#N/A"},{"$error":"#N/A"},{"$error":"#N/A"},{"$error":"#N/A"},{"$error":"#N/A"},{"$error":"#N/A"},{"$error":"#N/A"},{"$error":"#N/A"},{"$error":"#N/A"},3]
[null,"li 812",null,null,null,null,null,null,null,null,null,null,null,null,null,null,null,null,null,null,null,null,{"$error":"#N/A"},{"$error":"#N/A"},{"$error":"#N/A"},{"$error":"#N/A"},{"$error":"#N/A"},{"$error":"#N/A"},{"$error":"#N/A"},{"$error":"#N/A"},{"$error":"#N/A"},{"$error":"#N/A"},{"$error":"#N/A"},4]
[null,"li 813",null,null,null,null,null,null,null,null,null,null,null,null,null,null,null,null,null,null,null,null,{"$error":"#N/A"},{"$error":"#N/A"},{"$error":"#N/A"},{"$error":"#N/A"},{"$error":"#N/A"},{"$error":"#N/A"},{"$error":"#N/A"},{"$error":"#N/A"},{"$error":"#N/A"},{"$error":"#N/A"},{"$error":"#N/A"},7]
[null,"li 814",null,null,null,null,null,null,null,null,null,null,null,null,null,null,null,null,null,null,null,null,{"$error":"#N/A"},{"$error":"#N/A"},{"$error":"#N/A"},{"$error":"#N/A"},{"$error":"#N/A"},{"$error":"#N/A"},{"$error":"#N/A"},{"$error":"#N/A"},{"$error":"#N/A"},{"$error":"#N/A"},{"$error":"#N/A"},6]
[null,"li 815",null,null,null,null,null,null,null,null,null,null,null,null,null,null,null,null,null,null,null,null,{"$error":"#N/A"},{"$error":"#N/A"},{"$error":"#N/A"},{"$error":"#N/A"},{"$error":"#N/A"},{"$error":"#N/A"},{"$error":"#N/A"},{"$error":"#N/A"},{"$error":"#N/A"},{"$error":"#N/A"},{"$error":"#N/A"},6]
[null,"li 816",null,null,null,null,null,null,null,null,null,null,null,null,null,null,null,null,null,null,null,null,{"$error":"#N/A"},{"$error":"#N/A"},{"$error":"#N/A"},{"$error":"#N/A"},{"$error":"#N/A"},{"$error":"#N/A"},{"$error":"#N/A"},{"$error":"#N/A"},{"$error":"#N/A"},{"$error":"#N/A"},{"$error":"#N/A"},2]
[null,"li 817",null,null,null,null,null,null,null,null,null,null,null,null,null,null,null,null,null,null,null,null,{"$error":"#N/A"},{"$error":"#N/A"},{"$error":"#N/A"},{"$error":"#N/A"},{"$error":"#N/A"},{"$error":"#N/A"},{"$error":"#N/A"},{"$error":"#N/A"},{"$error":"#N/A"},{"$error":"#N/A"},{"$error":"#N/A"},1]
[null,"li 818",null,null,null,null,null,null,null,null,null,null,null,null,null,null,null,null,null,null,null,null,{"$error":"#N/A"},{"$error":"#N/A"},{"$error":"#N/A"},{"$error":"#N/A"},{"$error":"#N/A"},{"$error":"#N/A"},{"$error":"#N/A"},{"$error":"#N/A"},{"$error":"#N/A"},{"$error":"#N/A"},{"$error":"#N/A"},2]
[null,"li 819",null,null,null,null,null,null,null,null,null,null,null,null,null,null,null,null,null,null,null,null,{"$error":"#N/A"},{"$error":"#N/A"},{"$error":"#N/A"},{"$error":"#N/A"},{"$error":"#N/A"},{"$error":"#N/A"},{"$error":"#N/A"},{"$error":"#N/A"},{"$error":"#N/A"},{"$error":"#N/A"},{"$error":"#N/A"},2]
[null,"li 820",null,null,null,null,null,null,null,null,null,null,null,null,null,null,null,null,null,null,null,null,{"$error":"#N/A"},{"$error":"#N/A"},{"$error":"#N/A"},{"$error":"#N/A"},{"$error":"#N/A"},{"$error":"#N/A"},{"$error":"#N/A"},{"$error":"#N/A"},{"$error":"#N/A"},{"$error":"#N/A"},{"$error":"#N/A"},6]
[null,"li 821",null,null,null,null,null,null,null,null,null,null,null,null,null,null,null,null,null,null,null,null,{"$error":"#N/A"},{"$error":"#N/A"},{"$error":"#N/A"},{"$error":"#N/A"},{"$error":"#N/A"},{"$error":"#N/A"},{"$error":"#N/A"},{"$error":"#N/A"},{"$error":"#N/A"},{"$error":"#N/A"},{"$error":"#N/A"},3]
[null,"li 822",null,null,null,null,null,null,null,null,null,null,null,null,null,null,null,null,null,null,null,null,{"$error":"#N/A"},{"$error":"#N/A"},{"$error":"#N/A"},{"$error":"#N/A"},{"$error":"#N/A"},{"$error":"#N/A"},{"$error":"#N/A"},{"$error":"#N/A"},{"$error":"#N/A"},{"$error":"#N/A"},{"$error":"#N/A"},4]
[null,"li 823",null,null,null,null,null,null,null,null,null,null,null,null,null,null,null,null,null,null,null,null,{"$error":"#N/A"},{"$error":"#N/A"},{"$error":"#N/A"},{"$error":"#N/A"},{"$error":"#N/A"},{"$error":"#N/A"},{"$error":"#N/A"},{"$error":"#N/A"},{"$error":"#N/A"},{"$error":"#N/A"},{"$error":"#N/A"},2]
[null,"li 824",null,null,null,null,null,null,null,null,null,null,null,null,null,null,null,null,null,null,null,null,{"$error":"#N/A"},{"$error":"#N/A"},{"$error":"#N/A"},{"$error":"#N/A"},{"$error":"#N/A"},{"$error":"#N/A"},{"$error":"#N/A"},{"$error":"#N/A"},{"$error":"#N/A"},{"$error":"#N/A"},{"$error":"#N/A"},2]
[null,"li 825",null,null,null,null,null,null,null,null,null,null,null,null,null,null,null,null,null,null,null,null,{"$error":"#N/A"},{"$error":"#N/A"},{"$error":"#N/A"},{"$error":"#N/A"},{"$error":"#N/A"},{"$error":"#N/A"},{"$error":"#N/A"},{"$error":"#N/A"},{"$error":"#N/A"},{"$error":"#N/A"},{"$error":"#N/A"},2]
[null,"li 826",null,null,null,null,null,null,null,null,null,null,null,null,null,null,null,null,null,null,null,null,{"$error":"#N/A"},{"$error":"#N/A"},{"$error":"#N/A"},{"$error":"#N/A"},{"$error":"#N/A"},{"$error":"#N/A"},{"$error":"#N/A"},{"$error":"#N/A"},{"$error":"#N/A"},{"$error":"#N/A"},{"$error":"#N/A"},5]
[null,"li 827",null,null,null,null,null,null,null,null,null,null,null,null,null,null,null,null,null,null,null,null,{"$error":"#N/A"},{"$error":"#N/A"},{"$error":"#N/A"},{"$error":"#N/A"},{"$error":"#N/A"},{"$error":"#N/A"},{"$error":"#N/A"},{"$error":"#N/A"},{"$error":"#N/A"},{"$error":"#N/A"},{"$error":"#N/A"},5]
[null,"li 828",null,null,null,null,null,null,null,null,null,null,null,null,null,null,null,null,null,null,null,null,{"$error":"#N/A"},{"$error":"#N/A"},{"$error":"#N/A"},{"$error":"#N/A"},{"$error":"#N/A"},{"$error":"#N/A"},{"$error":"#N/A"},{"$error":"#N/A"},{"$error":"#N/A"},{"$error":"#N/A"},{"$error":"#N/A"},4]
[null,"li 829",null,null,null,null,null,null,null,null,null,null,null,null,null,null,null,null,null,null,null,null,{"$error":"#N/A"},{"$error":"#N/A"},{"$error":"#N/A"},{"$error":"#N/A"},{"$error":"#N/A"},{"$error":"#N/A"},{"$error":"#N/A"},{"$error":"#N/A"},{"$error":"#N/A"},{"$error":"#N/A"},{"$error":"#N/A"},4]
[null,"li 830",null,null,null,null,null,null,null,null,null,null,null,null,null,null,null,null,null,null,null,null,{"$error":"#N/A"},{"$error":"#N/A"},{"$error":"#N/A"},{"$error":"#N/A"},{"$error":"#N/A"},{"$error":"#N/A"},{"$error":"#N/A"},{"$error":"#N/A"},{"$error":"#N/A"},{"$error":"#N/A"},{"$error":"#N/A"},2]
[null,"li 831",null,null,null,null,null,null,null,null,null,null,null,null,null,null,null,null,null,null,null,null,{"$error":"#N/A"},{"$error":"#N/A"},{"$error":"#N/A"},{"$error":"#N/A"},{"$error":"#N/A"},{"$error":"#N/A"},{"$error":"#N/A"},{"$error":"#N/A"},{"$error":"#N/A"},{"$error":"#N/A"},{"$error":"#N/A"},7]
[null,"li 832",null,null,null,null,null,null,null,null,null,null,null,null,null,null,null,null,null,null,null,null,{"$error":"#N/A"},{"$error":"#N/A"},{"$error":"#N/A"},{"$error":"#N/A"},{"$error":"#N/A"},{"$error":"#N/A"},{"$error":"#N/A"},{"$error":"#N/A"},{"$error":"#N/A"},{"$error":"#N/A"},{"$error":"#N/A"},5]
[null,"li 833",null,null,null,null,null,null,null,null,null,null,null,null,null,null,null,null,null,null,null,null,{"$error":"#N/A"},{"$error":"#N/A"},{"$error":"#N/A"},{"$error":"#N/A"},{"$error":"#N/A"},{"$f":"W836^2/$AG836","v":{"$error":"#N/A"}},{"$f":"X836^2/$AG836","v":{"$error":"#N/A"}},{"$f":"Y836^2/$AG836","v":{"$error":"#N/A"}},{"$f":"Z836^2/$AG836","v":{"$error":"#N/A"}},{"$f":"AA836^2/$AG836","v":{"$error":"#N/A"}},{"$f":"W836^2+X836^2+Y836^2+Z836^2+AA836^2","v":{"$error":"#N/A"}},5]
[null,"li 834",null,null,null,null,null,null,null,null,null,null,null,null,null,null,null,null,null,null,null,null,{"$error":"#N/A"},{"$error":"#N/A"},{"$error":"#N/A"},{"$error":"#N/A"},{"$error":"#N/A"},{"$error":"#N/A"},{"$error":"#N/A"},{"$error":"#N/A"},{"$error":"#N/A"},{"$error":"#N/A"},{"$error":"#N/A"},2]
[null,"li 835",null,null,null,null,null,null,null,null,null,null,null,null,null,null,null,null,null,null,null,null,{"$error":"#N/A"},{"$error":"#N/A"},{"$error":"#N/A"},{"$error":"#N/A"},{"$error":"#N/A"},{"$error":"#N/A"},{"$error":"#N/A"},{"$error":"#N/A"},{"$error":"#N/A"},{"$error":"#N/A"},{"$error":"#N/A"},5]
[null,"li 836",null,null,null,null,null,null,null,null,null,null,null,null,null,null,null,null,null,null,null,null,{"$error":"#N/A"},{"$error":"#N/A"},{"$error":"#N/A"},{"$error":"#N/A"},{"$error":"#N/A"},{"$error":"#N/A"},{"$error":"#N/A"},{"$error":"#N/A"},{"$error":"#N/A"},{"$error":"#N/A"},{"$error":"#N/A"},2]
[null,"li 837",null,null,null,null,null,null,null,null,null,null,null,null,null,null,null,null,null,null,null,null,{"$error":"#N/A"},{"$error":"#N/A"},{"$error":"#N/A"},{"$error":"#N/A"},{"$error":"#N/A"},{"$error":"#N/A"},{"$error":"#N/A"},{"$error":"#N/A"},{"$error":"#N/A"},{"$error":"#N/A"},{"$error":"#N/A"},5]
[null,"li 838",null,null,null,null,null,null,null,null,null,null,null,null,null,null,null,null,null,null,null,null,{"$error":"#N/A"},{"$error":"#N/A"},{"$error":"#N/A"},{"$error":"#N/A"},{"$error":"#N/A"},{"$error":"#N/A"},{"$error":"#N/A"},{"$error":"#N/A"},{"$error":"#N/A"},{"$error":"#N/A"},{"$error":"#N/A"},7]
[null,"li 839",null,null,null,null,null,null,null,null,null,null,null,null,null,null,null,null,null,null,null,null,{"$error":"#N/A"},{"$error":"#N/A"},{"$error":"#N/A"},{"$error":"#N/A"},{"$error":"#N/A"},{"$error":"#N/A"},{"$error":"#N/A"},{"$error":"#N/A"},{"$error":"#N/A"},{"$error":"#N/A"},{"$error":"#N/A"},6]
[null,"li 840",null,null,null,null,null,null,null,null,null,null,null,null,null,null,null,null,null,null,null,null,{"$error":"#N/A"},{"$error":"#N/A"},{"$error":"#N/A"},{"$error":"#N/A"},{"$error":"#N/A"},{"$error":"#N/A"},{"$error":"#N/A"},{"$error":"#N/A"},{"$error":"#N/A"},{"$error":"#N/A"},{"$error":"#N/A"},5]
[null,"li 841",null,null,null,null,null,null,null,null,null,null,null,null,null,null,null,null,null,null,null,null,{"$error":"#N/A"},{"$error":"#N/A"},{"$error":"#N/A"},{"$error":"#N/A"},{"$error":"#N/A"},{"$error":"#N/A"},{"$error":"#N/A"},{"$error":"#N/A"},{"$error":"#N/A"},{"$error":"#N/A"},{"$error":"#N/A"},4]
[null,"li 842",null,null,null,null,null,null,null,null,null,null,null,null,null,null,null,null,null,null,null,null,{"$error":"#N/A"},{"$error":"#N/A"},{"$error":"#N/A"},{"$error":"#N/A"},{"$error":"#N/A"},{"$error":"#N/A"},{"$error":"#N/A"},{"$error":"#N/A"},{"$error":"#N/A"},{"$error":"#N/A"},{"$error":"#N/A"},1]
[null,"li 843",null,null,null,null,null,null,null,null,null,null,null,null,null,null,null,null,null,null,null,null,{"$error":"#N/A"},{"$error":"#N/A"},{"$error":"#N/A"},{"$error":"#N/A"},{"$error":"#N/A"},{"$error":"#N/A"},{"$error":"#N/A"},{"$error":"#N/A"},{"$error":"#N/A"},{"$error":"#N/A"},{"$error":"#N/A"},7]
[null,"li 844",null,null,null,null,null,null,null,null,null,null,null,null,null,null,null,null,null,null,null,null,{"$error":"#N/A"},{"$error":"#N/A"},{"$error":"#N/A"},{"$error":"#N/A"},{"$error":"#N/A"},{"$error":"#N/A"},{"$error":"#N/A"},{"$error":"#N/A"},{"$error":"#N/A"},{"$error":"#N/A"},{"$error":"#N/A"},7]
[null,"li 845",null,null,null,null,null,null,null,null,null,null,null,null,null,null,null,null,null,null,null,null,{"$error":"#N/A"},{"$error":"#N/A"},{"$error":"#N/A"},{"$error":"#N/A"},{"$error":"#N/A"},{"$error":"#N/A"},{"$error":"#N/A"},{"$error":"#N/A"},{"$error":"#N/A"},{"$error":"#N/A"},{"$error":"#N/A"},5]
[null,"li 846",null,null,null,null,null,null,null,null,null,null,null,null,null,null,null,null,null,null,null,null,{"$error":"#N/A"},{"$error":"#N/A"},{"$error":"#N/A"},{"$error":"#N/A"},{"$error":"#N/A"},{"$error":"#N/A"},{"$error":"#N/A"},{"$error":"#N/A"},{"$error":"#N/A"},{"$error":"#N/A"},{"$error":"#N/A"},3]
[null,"li 847",null,null,null,null,null,null,null,null,null,null,null,null,null,null,null,null,null,null,null,null,{"$error":"#N/A"},{"$error":"#N/A"},{"$error":"#N/A"},{"$error":"#N/A"},{"$error":"#N/A"},{"$error":"#N/A"},{"$error":"#N/A"},{"$error":"#N/A"},{"$error":"#N/A"},{"$error":"#N/A"},{"$error":"#N/A"},6]
[null,"li 848",null,null,null,null,null,null,null,null,null,null,null,null,null,null,null,null,null,null,null,null,{"$error":"#N/A"},{"$error":"#N/A"},{"$error":"#N/A"},{"$error":"#N/A"},{"$error":"#N/A"},{"$error":"#N/A"},{"$error":"#N/A"},{"$error":"#N/A"},{"$error":"#N/A"},{"$error":"#N/A"},{"$error":"#N/A"},7]
[null,"li 849",null,null,null,null,null,null,null,null,null,null,null,null,null,null,null,null,null,null,null,null,{"$error":"#N/A"},{"$error":"#N/A"},{"$error":"#N/A"},{"$error":"#N/A"},{"$error":"#N/A"},{"$error":"#N/A"},{"$error":"#N/A"},{"$error":"#N/A"},{"$error":"#N/A"},{"$error":"#N/A"},{"$error":"#N/A"},7]
[null,"li 850",null,null,null,null,null,null,null,null,null,null,null,null,null,null,null,null,null,null,null,null,{"$error":"#N/A"},{"$error":"#N/A"},{"$error":"#N/A"},{"$error":"#N/A"},{"$error":"#N/A"},{"$error":"#N/A"},{"$error":"#N/A"},{"$error":"#N/A"},{"$error":"#N/A"},{"$error":"#N/A"},{"$error":"#N/A"},5]
[null,"li 851",null,null,null,null,null,null,null,null,null,null,null,null,null,null,null,null,null,null,null,null,{"$error":"#N/A"},{"$error":"#N/A"},{"$error":"#N/A"},{"$error":"#N/A"},{"$error":"#N/A"},{"$error":"#N/A"},{"$error":"#N/A"},{"$error":"#N/A"},{"$error":"#N/A"},{"$error":"#N/A"},{"$error":"#N/A"},2]
[null,"li 852",null,null,null,null,null,null,null,null,null,null,null,null,null,null,null,null,null,null,null,null,{"$error":"#N/A"},{"$error":"#N/A"},{"$error":"#N/A"},{"$error":"#N/A"},{"$error":"#N/A"},{"$error":"#N/A"},{"$error":"#N/A"},{"$error":"#N/A"},{"$error":"#N/A"},{"$error":"#N/A"},{"$error":"#N/A"},2]
[null,"li 853",null,null,null,null,null,null,null,null,null,null,null,null,null,null,null,null,null,null,null,null,{"$error":"#N/A"},{"$error":"#N/A"},{"$error":"#N/A"},{"$error":"#N/A"},{"$error":"#N/A"},{"$error":"#N/A"},{"$error":"#N/A"},{"$error":"#N/A"},{"$error":"#N/A"},{"$error":"#N/A"},{"$error":"#N/A"},3]
[null,"li 854",null,null,null,null,null,null,null,null,null,null,null,null,null,null,null,null,null,null,null,null,{"$error":"#N/A"},{"$error":"#N/A"},{"$error":"#N/A"},{"$error":"#N/A"},{"$error":"#N/A"},{"$error":"#N/A"},{"$error":"#N/A"},{"$error":"#N/A"},{"$error":"#N/A"},{"$error":"#N/A"},{"$error":"#N/A"},6]
[null,"li 855",null,null,null,null,null,null,null,null,null,null,null,null,null,null,null,null,null,null,null,null,{"$error":"#N/A"},{"$error":"#N/A"},{"$error":"#N/A"},{"$error":"#N/A"},{"$error":"#N/A"},{"$error":"#N/A"},{"$error":"#N/A"},{"$error":"#N/A"},{"$error":"#N/A"},{"$error":"#N/A"},{"$error":"#N/A"},6]
[null,"li 856",null,null,null,null,null,null,null,null,null,null,null,null,null,null,null,null,null,null,null,null,{"$error":"#N/A"},{"$error":"#N/A"},{"$error":"#N/A"},{"$error":"#N/A"},{"$error":"#N/A"},{"$error":"#N/A"},{"$error":"#N/A"},{"$error":"#N/A"},{"$error":"#N/A"},{"$error":"#N/A"},{"$error":"#N/A"},5]
[null,"li 857",null,null,null,null,null,null,null,null,null,null,null,null,null,null,null,null,null,null,null,null,{"$error":"#N/A"},{"$error":"#N/A"},{"$error":"#N/A"},{"$error":"#N/A"},{"$error":"#N/A"},{"$error":"#N/A"},{"$error":"#N/A"},{"$error":"#N/A"},{"$error":"#N/A"},{"$error":"#N/A"},{"$error":"#N/A"},2]
[null,"li 858",null,null,null,null,null,null,null,null,null,null,null,null,null,null,null,null,null,null,null,null,{"$error":"#N/A"},{"$error":"#N/A"},{"$error":"#N/A"},{"$error":"#N/A"},{"$error":"#N/A"},{"$error":"#N/A"},{"$error":"#N/A"},{"$error":"#N/A"},{"$error":"#N/A"},{"$error":"#N/A"},{"$error":"#N/A"},3]
[null,"li 859",null,null,null,null,null,null,null,null,null,null,null,null,null,null,null,null,null,null,null,null,{"$error":"#N/A"},{"$error":"#N/A"},{"$error":"#N/A"},{"$error":"#N/A"},{"$error":"#N/A"},{"$error":"#N/A"},{"$error":"#N/A"},{"$error":"#N/A"},{"$error":"#N/A"},{"$error":"#N/A"},{"$error":"#N/A"},1]
[null,"li 860",null,null,null,null,null,null,null,null,null,null,null,null,null,null,null,null,null,null,null,null,{"$error":"#N/A"},{"$error":"#N/A"},{"$error":"#N/A"},{"$error":"#N/A"},{"$error":"#N/A"},{"$error":"#N/A"},{"$error":"#N/A"},{"$error":"#N/A"},{"$error":"#N/A"},{"$error":"#N/A"},{"$error":"#N/A"},6]
[null,"li 861",null,null,null,null,null,null,null,null,null,null,null,null,null,null,null,null,null,null,null,null,{"$error":"#N/A"},{"$error":"#N/A"},{"$error":"#N/A"},{"$error":"#N/A"},{"$error":"#N/A"},{"$error":"#N/A"},{"$error":"#N/A"},{"$error":"#N/A"},{"$error":"#N/A"},{"$error":"#N/A"},{"$error":"#N/A"},4]
[null,"li 862",null,null,null,null,null,null,null,null,null,null,null,null,null,null,null,null,null,null,null,null,{"$error":"#N/A"},{"$error":"#N/A"},{"$error":"#N/A"},{"$error":"#N/A"},{"$error":"#N/A"},{"$error":"#N/A"},{"$error":"#N/A"},{"$error":"#N/A"},{"$error":"#N/A"},{"$error":"#N/A"},{"$error":"#N/A"},4]
[null,"li 863",null,null,null,null,null,null,null,null,null,null,null,null,null,null,null,null,null,null,null,null,{"$error":"#N/A"},{"$error":"#N/A"},{"$error":"#N/A"},{"$error":"#N/A"},{"$error":"#N/A"},{"$error":"#N/A"},{"$error":"#N/A"},{"$error":"#N/A"},{"$error":"#N/A"},{"$error":"#N/A"},{"$error":"#N/A"},3]
[null,"li 864",null,null,null,null,null,null,null,null,null,null,null,null,null,null,null,null,null,null,null,null,{"$error":"#N/A"},{"$error":"#N/A"},{"$error":"#N/A"},{"$error":"#N/A"},{"$error":"#N/A"},{"$error":"#N/A"},{"$error":"#N/A"},{"$error":"#N/A"},{"$error":"#N/A"},{"$error":"#N/A"},{"$error":"#N/A"},3]
[null,"li 865",null,null,null,null,null,null,null,null,null,null,null,null,null,null,null,null,null,null,null,null,{"$error":"#N/A"},{"$error":"#N/A"},{"$error":"#N/A"},{"$error":"#N/A"},{"$error":"#N/A"},{"$error":"#N/A"},{"$error":"#N/A"},{"$error":"#N/A"},{"$error":"#N/A"},{"$error":"#N/A"},{"$error":"#N/A"},4]
[null,"li 866",null,null,null,null,null,null,null,null,null,null,null,null,null,null,null,null,null,null,null,null,{"$error":"#N/A"},{"$error":"#N/A"},{"$error":"#N/A"},{"$error":"#N/A"},{"$error":"#N/A"},{"$error":"#N/A"},{"$error":"#N/A"},{"$error":"#N/A"},{"$error":"#N/A"},{"$error":"#N/A"},{"$error":"#N/A"},6]
[null,"li 867",null,null,null,null,null,null,null,null,null,null,null,null,null,null,null,null,null,null,null,null,{"$error":"#N/A"},{"$error":"#N/A"},{"$error":"#N/A"},{"$error":"#N/A"},{"$error":"#N/A"},{"$error":"#N/A"},{"$error":"#N/A"},{"$error":"#N/A"},{"$error":"#N/A"},{"$error":"#N/A"},{"$error":"#N/A"},5]
[null,"li 868",null,null,null,null,null,null,null,null,null,null,null,null,null,null,null,null,null,null,null,null,{"$error":"#N/A"},{"$error":"#N/A"},{"$error":"#N/A"},{"$error":"#N/A"},{"$error":"#N/A"},{"$error":"#N/A"},{"$error":"#N/A"},{"$error":"#N/A"},{"$error":"#N/A"},{"$error":"#N/A"},{"$error":"#N/A"},3]
[null,"li 869",null,null,null,null,null,null,null,null,null,null,null,null,null,null,null,null,null,null,null,null,{"$error":"#N/A"},{"$error":"#N/A"},{"$error":"#N/A"},{"$error":"#N/A"},{"$error":"#N/A"},{"$error":"#N/A"},{"$error":"#N/A"},{"$error":"#N/A"},{"$error":"#N/A"},{"$error":"#N/A"},{"$error":"#N/A"},4]
[null,"li 870",null,null,null,null,null,null,null,null,null,null,null,null,null,null,null,null,null,null,null,null,{"$error":"#N/A"},{"$error":"#N/A"},{"$error":"#N/A"},{"$error":"#N/A"},{"$error":"#N/A"},{"$error":"#N/A"},{"$error":"#N/A"},{"$error":"#N/A"},{"$error":"#N/A"},{"$error":"#N/A"},{"$error":"#N/A"},3]
[null,"li 871",null,null,null,null,null,null,null,null,null,null,null,null,null,null,null,null,null,null,null,null,{"$error":"#N/A"},{"$error":"#N/A"},{"$error":"#N/A"},{"$error":"#N/A"},{"$error":"#N/A"},{"$error":"#N/A"},{"$error":"#N/A"},{"$error":"#N/A"},{"$error":"#N/A"},{"$error":"#N/A"},{"$error":"#N/A"},3]
[null,"li 872",null,null,null,null,null,null,null,null,null,null,null,null,null,null,null,null,null,null,null,null,{"$error":"#N/A"},{"$error":"#N/A"},{"$error":"#N/A"},{"$error":"#N/A"},{"$error":"#N/A"},{"$error":"#N/A"},{"$error":"#N/A"},{"$error":"#N/A"},{"$error":"#N/A"},{"$error":"#N/A"},{"$error":"#N/A"},1]
[null,"li 873",null,null,null,null,null,null,null,null,null,null,null,null,null,null,null,null,null,null,null,null,{"$error":"#N/A"},{"$error":"#N/A"},{"$error":"#N/A"},{"$error":"#N/A"},{"$error":"#N/A"},{"$error":"#N/A"},{"$error":"#N/A"},{"$error":"#N/A"},{"$error":"#N/A"},{"$error":"#N/A"},{"$error":"#N/A"},5]
[null,"li 874",null,null,null,null,null,null,null,null,null,null,null,null,null,null,null,null,null,null,null,null,{"$error":"#N/A"},{"$error":"#N/A"},{"$error":"#N/A"},{"$error":"#N/A"},{"$error":"#N/A"},{"$error":"#N/A"},{"$error":"#N/A"},{"$error":"#N/A"},{"$error":"#N/A"},{"$error":"#N/A"},{"$error":"#N/A"},1]
[null,"li 875",null,null,null,null,null,null,null,null,null,null,null,null,null,null,null,null,null,null,null,null,{"$error":"#N/A"},{"$error":"#N/A"},{"$error":"#N/A"},{"$error":"#N/A"},{"$error":"#N/A"},{"$error":"#N/A"},{"$error":"#N/A"},{"$error":"#N/A"},{"$error":"#N/A"},{"$error":"#N/A"},{"$error":"#N/A"},2]
[null,"li 876",null,null,null,null,null,null,null,null,null,null,null,null,null,null,null,null,null,null,null,null,{"$error":"#N/A"},{"$error":"#N/A"},{"$error":"#N/A"},{"$error":"#N/A"},{"$error":"#N/A"},{"$error":"#N/A"},{"$error":"#N/A"},{"$error":"#N/A"},{"$error":"#N/A"},{"$error":"#N/A"},{"$error":"#N/A"},2]
[null,"li 877",null,null,null,null,null,null,null,null,null,null,null,null,null,null,null,null,null,null,null,null,{"$error":"#N/A"},{"$error":"#N/A"},{"$error":"#N/A"},{"$error":"#N/A"},{"$error":"#N/A"},{"$error":"#N/A"},{"$error":"#N/A"},{"$error":"#N/A"},{"$error":"#N/A"},{"$error":"#N/A"},{"$error":"#N/A"},2]
[null,"li 878",null,null,null,null,null,null,null,null,null,null,null,null,null,null,null,null,null,null,null,null,{"$error":"#N/A"},{"$error":"#N/A"},{"$error":"#N/A"},{"$error":"#N/A"},{"$error":"#N/A"},{"$error":"#N/A"},{"$error":"#N/A"},{"$error":"#N/A"},{"$error":"#N/A"},{"$error":"#N/A"},{"$error":"#N/A"},4]
[null,"li 879",null,null,null,null,null,null,null,null,null,null,null,null,null,null,null,null,null,null,null,null,{"$error":"#N/A"},{"$error":"#N/A"},{"$error":"#N/A"},{"$error":"#N/A"},{"$error":"#N/A"},{"$error":"#N/A"},{"$error":"#N/A"},{"$error":"#N/A"},{"$error":"#N/A"},{"$error":"#N/A"},{"$error":"#N/A"},5]
[null,"li 880",null,null,null,null,null,null,null,null,null,null,null,null,null,null,null,null,null,null,null,null,{"$error":"#N/A"},{"$error":"#N/A"},{"$error":"#N/A"},{"$error":"#N/A"},{"$error":"#N/A"},{"$error":"#N/A"},{"$error":"#N/A"},{"$error":"#N/A"},{"$error":"#N/A"},{"$error":"#N/A"},{"$error":"#N/A"},4]
[null,"li 881",null,null,null,null,null,null,null,null,null,null,null,null,null,null,null,null,null,null,null,null,{"$error":"#N/A"},{"$error":"#N/A"},{"$error":"#N/A"},{"$error":"#N/A"},{"$error":"#N/A"},{"$error":"#N/A"},{"$error":"#N/A"},{"$error":"#N/A"},{"$error":"#N/A"},{"$error":"#N/A"},{"$error":"#N/A"},5]
[null,"li 882",null,null,null,null,null,null,null,null,null,null,null,null,null,null,null,null,null,null,null,null,{"$error":"#N/A"},{"$error":"#N/A"},{"$error":"#N/A"},{"$error":"#N/A"},{"$error":"#N/A"},{"$error":"#N/A"},{"$error":"#N/A"},{"$error":"#N/A"},{"$error":"#N/A"},{"$error":"#N/A"},{"$error":"#N/A"},2]
[null,"li 883",null,null,null,null,null,null,null,null,null,null,null,null,null,null,null,null,null,null,null,null,{"$error":"#N/A"},{"$error":"#N/A"},{"$error":"#N/A"},{"$error":"#N/A"},{"$error":"#N/A"},{"$error":"#N/A"},{"$error":"#N/A"},{"$error":"#N/A"},{"$error":"#N/A"},{"$error":"#N/A"},{"$error":"#N/A"},2]
[null,"li 884",null,null,null,null,null,null,null,null,null,null,null,null,null,null,null,null,null,null,null,null,{"$error":"#N/A"},{"$error":"#N/A"},{"$error":"#N/A"},{"$error":"#N/A"},{"$error":"#N/A"},{"$error":"#N/A"},{"$error":"#N/A"},{"$error":"#N/A"},{"$error":"#N/A"},{"$error":"#N/A"},{"$error":"#N/A"},5]
[null,"li 885",null,null,null,null,null,null,null,null,null,null,null,null,null,null,null,null,null,null,null,null,{"$error":"#N/A"},{"$error":"#N/A"},{"$error":"#N/A"},{"$error":"#N/A"},{"$error":"#N/A"},{"$error":"#N/A"},{"$error":"#N/A"},{"$error":"#N/A"},{"$error":"#N/A"},{"$error":"#N/A"},{"$error":"#N/A"},7]
[null,"li 886",null,null,null,null,null,null,null,null,null,null,null,null,null,null,null,null,null,null,null,null,{"$error":"#N/A"},{"$error":"#N/A"},{"$error":"#N/A"},{"$error":"#N/A"},{"$error":"#N/A"},{"$error":"#N/A"},{"$error":"#N/A"},{"$error":"#N/A"},{"$error":"#N/A"},{"$error":"#N/A"},{"$error":"#N/A"},3]
[null,"li 887",null,null,null,null,null,null,null,null,null,null,null,null,null,null,null,null,null,null,null,null,{"$error":"#N/A"},{"$error":"#N/A"},{"$error":"#N/A"},{"$error":"#N/A"},{"$error":"#N/A"},{"$error":"#N/A"},{"$error":"#N/A"},{"$error":"#N/A"},{"$error":"#N/A"},{"$error":"#N/A"},{"$error":"#N/A"},7]
[null,"li 888",null,null,null,null,null,null,null,null,null,null,null,null,null,null,null,null,null,null,null,null,{"$error":"#N/A"},{"$error":"#N/A"},{"$error":"#N/A"},{"$error":"#N/A"},{"$error":"#N/A"},{"$error":"#N/A"},{"$error":"#N/A"},{"$error":"#N/A"},{"$error":"#N/A"},{"$error":"#N/A"},{"$error":"#N/A"},5]
[null,"li 889",null,null,null,null,null,null,null,null,null,null,null,null,null,null,null,null,null,null,null,null,{"$error":"#N/A"},{"$error":"#N/A"},{"$error":"#N/A"},{"$error":"#N/A"},{"$error":"#N/A"},{"$error":"#N/A"},{"$error":"#N/A"},{"$error":"#N/A"},{"$error":"#N/A"},{"$error":"#N/A"},{"$error":"#N/A"},5]
[null,"li 890",null,null,null,null,null,null,null,null,null,null,null,null,null,null,null,null,null,null,null,null,{"$error":"#N/A"},{"$error":"#N/A"},{"$error":"#N/A"},{"$error":"#N/A"},{"$error":"#N/A"},{"$error":"#N/A"},{"$error":"#N/A"},{"$error":"#N/A"},{"$error":"#N/A"},{"$error":"#N/A"},{"$error":"#N/A"},2]
[null,"li 891",null,null,null,null,null,null,null,null,null,null,null,null,null,null,null,null,null,null,null,null,{"$error":"#N/A"},{"$error":"#N/A"},{"$error":"#N/A"},{"$error":"#N/A"},{"$error":"#N/A"},{"$error":"#N/A"},{"$error":"#N/A"},{"$error":"#N/A"},{"$error":"#N/A"},{"$error":"#N/A"},{"$error":"#N/A"},1]
[null,"li 892",null,null,null,null,null,null,null,null,null,null,null,null,null,null,null,null,null,null,null,null,{"$error":"#N/A"},{"$error":"#N/A"},{"$error":"#N/A"},{"$error":"#N/A"},{"$error":"#N/A"},{"$error":"#N/A"},{"$error":"#N/A"},{"$error":"#N/A"},{"$error":"#N/A"},{"$error":"#N/A"},{"$error":"#N/A"},2]
[null,"li 893",null,null,null,null,null,null,null,null,null,null,null,null,null,null,null,null,null,null,null,null,{"$error":"#N/A"},{"$error":"#N/A"},{"$error":"#N/A"},{"$error":"#N/A"},{"$error":"#N/A"},{"$error":"#N/A"},{"$error":"#N/A"},{"$error":"#N/A"},{"$error":"#N/A"},{"$error":"#N/A"},{"$error":"#N/A"},5]
[null,"li 894",null,null,null,null,null,null,null,null,null,null,null,null,null,null,null,null,null,null,null,null,{"$error":"#N/A"},{"$error":"#N/A"},{"$error":"#N/A"},{"$error":"#N/A"},{"$error":"#N/A"},{"$error":"#N/A"},{"$error":"#N/A"},{"$error":"#N/A"},{"$error":"#N/A"},{"$error":"#N/A"},{"$error":"#N/A"},2]
[null,"li 895",null,null,null,null,null,null,null,null,null,null,null,null,null,null,null,null,null,null,null,null,{"$error":"#N/A"},{"$error":"#N/A"},{"$error":"#N/A"},{"$error":"#N/A"},{"$error":"#N/A"},{"$error":"#N/A"},{"$error":"#N/A"},{"$error":"#N/A"},{"$error":"#N/A"},{"$error":"#N/A"},{"$error":"#N/A"},6]
[null,"li 896",null,null,null,null,null,null,null,null,null,null,null,null,null,null,null,null,null,null,null,null,{"$error":"#N/A"},{"$error":"#N/A"},{"$error":"#N/A"},{"$error":"#N/A"},{"$error":"#N/A"},{"$error":"#N/A"},{"$error":"#N/A"},{"$error":"#N/A"},{"$error":"#N/A"},{"$error":"#N/A"},{"$error":"#N/A"},6]
[null,"li 897",null,null,null,null,null,null,null,null,null,null,null,null,null,null,null,null,null,null,null,null,{"$error":"#N/A"},{"$error":"#N/A"},{"$error":"#N/A"},{"$error":"#N/A"},{"$error":"#N/A"},{"$f":"W900^2/$AG900","v":{"$error":"#N/A"}},{"$f":"X900^2/$AG900","v":{"$error":"#N/A"}},{"$f":"Y900^2/$AG900","v":{"$error":"#N/A"}},{"$f":"Z900^2/$AG900","v":{"$error":"#N/A"}},{"$f":"AA900^2/$AG900","v":{"$error":"#N/A"}},{"$f":"W900^2+X900^2+Y900^2+Z900^2+AA900^2","v":{"$error":"#N/A"}},6]
[null,"li 898",null,null,null,null,null,null,null,null,null,null,null,null,null,null,null,null,null,null,null,null,{"$error":"#N/A"},{"$error":"#N/A"},{"$error":"#N/A"},{"$error":"#N/A"},{"$error":"#N/A"},{"$error":"#N/A"},{"$error":"#N/A"},{"$error":"#N/A"},{"$error":"#N/A"},{"$error":"#N/A"},{"$error":"#N/A"},1]
[null,"li 899",null,null,null,null,null,null,null,null,null,null,null,null,null,null,null,null,null,null,null,null,{"$error":"#N/A"},{"$error":"#N/A"},{"$error":"#N/A"},{"$error":"#N/A"},{"$error":"#N/A"},{"$error":"#N/A"},{"$error":"#N/A"},{"$error":"#N/A"},{"$error":"#N/A"},{"$error":"#N/A"},{"$error":"#N/A"},4]
[null,"li 900",null,null,null,null,null,null,null,null,null,null,null,null,null,null,null,null,null,null,null,null,{"$error":"#N/A"},{"$error":"#N/A"},{"$error":"#N/A"},{"$error":"#N/A"},{"$error":"#N/A"},{"$error":"#N/A"},{"$error":"#N/A"},{"$error":"#N/A"},{"$error":"#N/A"},{"$error":"#N/A"},{"$error":"#N/A"},7]
[null,"li 901",null,null,null,null,null,null,null,null,null,null,null,null,null,null,null,null,null,null,null,null,{"$error":"#N/A"},{"$error":"#N/A"},{"$error":"#N/A"},{"$error":"#N/A"},{"$error":"#N/A"},{"$error":"#N/A"},{"$error":"#N/A"},{"$error":"#N/A"},{"$error":"#N/A"},{"$error":"#N/A"},{"$error":"#N/A"},6]
[null,"li 902",null,null,null,null,null,null,null,null,null,null,null,null,null,null,null,null,null,null,null,null,{"$error":"#N/A"},{"$error":"#N/A"},{"$error":"#N/A"},{"$error":"#N/A"},{"$error":"#N/A"},{"$error":"#N/A"},{"$error":"#N/A"},{"$error":"#N/A"},{"$error":"#N/A"},{"$error":"#N/A"},{"$error":"#N/A"},4]
[null,"li 903",null,null,null,null,null,null,null,null,null,null,null,null,null,null,null,null,null,null,null,null,{"$error":"#N/A"},{"$error":"#N/A"},{"$error":"#N/A"},{"$error":"#N/A"},{"$error":"#N/A"},{"$error":"#N/A"},{"$error":"#N/A"},{"$error":"#N/A"},{"$error":"#N/A"},{"$error":"#N/A"},{"$error":"#N/A"},4]
[null,"li 904",null,null,null,null,null,null,null,null,null,null,null,null,null,null,null,null,null,null,null,null,{"$error":"#N/A"},{"$error":"#N/A"},{"$error":"#N/A"},{"$error":"#N/A"},{"$error":"#N/A"},{"$error":"#N/A"},{"$error":"#N/A"},{"$error":"#N/A"},{"$error":"#N/A"},{"$error":"#N/A"},{"$error":"#N/A"},1]
[null,"li 905",null,null,null,null,null,null,null,null,null,null,null,null,null,null,null,null,null,null,null,null,{"$error":"#N/A"},{"$error":"#N/A"},{"$error":"#N/A"},{"$error":"#N/A"},{"$error":"#N/A"},{"$error":"#N/A"},{"$error":"#N/A"},{"$error":"#N/A"},{"$error":"#N/A"},{"$error":"#N/A"},{"$error":"#N/A"},4]
[null,"li 906",null,null,null,null,null,null,null,null,null,null,null,null,null,null,null,null,null,null,null,null,{"$error":"#N/A"},{"$error":"#N/A"},{"$error":"#N/A"},{"$error":"#N/A"},{"$error":"#N/A"},{"$error":"#N/A"},{"$error":"#N/A"},{"$error":"#N/A"},{"$error":"#N/A"},{"$error":"#N/A"},{"$error":"#N/A"},2]
[null,"li 907",null,null,null,null,null,null,null,null,null,null,null,null,null,null,null,null,null,null,null,null,{"$error":"#N/A"},{"$error":"#N/A"},{"$error":"#N/A"},{"$error":"#N/A"},{"$error":"#N/A"},{"$error":"#N/A"},{"$error":"#N/A"},{"$error":"#N/A"},{"$error":"#N/A"},{"$error":"#N/A"},{"$error":"#N/A"},2]
[null,"li 908",null,null,null,null,null,null,null,null,null,null,null,null,null,null,null,null,null,null,null,null,{"$error":"#N/A"},{"$error":"#N/A"},{"$error":"#N/A"},{"$error":"#N/A"},{"$error":"#N/A"},{"$error":"#N/A"},{"$error":"#N/A"},{"$error":"#N/A"},{"$error":"#N/A"},{"$error":"#N/A"},{"$error":"#N/A"},5]
[null,"li 909",null,null,null,null,null,null,null,null,null,null,null,null,null,null,null,null,null,null,null,null,{"$error":"#N/A"},{"$error":"#N/A"},{"$error":"#N/A"},{"$error":"#N/A"},{"$error":"#N/A"},{"$error":"#N/A"},{"$error":"#N/A"},{"$error":"#N/A"},{"$error":"#N/A"},{"$error":"#N/A"},{"$error":"#N/A"},3]
[null,"li 910",null,null,null,null,null,null,null,null,null,null,null,null,null,null,null,null,null,null,null,null,{"$error":"#N/A"},{"$error":"#N/A"},{"$error":"#N/A"},{"$error":"#N/A"},{"$error":"#N/A"},{"$error":"#N/A"},{"$error":"#N/A"},{"$error":"#N/A"},{"$error":"#N/A"},{"$error":"#N/A"},{"$error":"#N/A"},7]
[null,"li 911",null,null,null,null,null,null,null,null,null,null,null,null,null,null,null,null,null,null,null,null,{"$error":"#N/A"},{"$error":"#N/A"},{"$error":"#N/A"},{"$error":"#N/A"},{"$error":"#N/A"},{"$error":"#N/A"},{"$error":"#N/A"},{"$error":"#N/A"},{"$error":"#N/A"},{"$error":"#N/A"},{"$error":"#N/A"},1]
[null,"li 912",null,null,null,null,null,null,null,null,null,null,null,null,null,null,null,null,null,null,null,null,{"$error":"#N/A"},{"$error":"#N/A"},{"$error":"#N/A"},{"$error":"#N/A"},{"$error":"#N/A"},{"$error":"#N/A"},{"$error":"#N/A"},{"$error":"#N/A"},{"$error":"#N/A"},{"$error":"#N/A"},{"$error":"#N/A"},7]
[null,"li 913",null,null,null,null,null,null,null,null,null,null,null,null,null,null,null,null,null,null,null,null,{"$error":"#N/A"},{"$error":"#N/A"},{"$error":"#N/A"},{"$error":"#N/A"},{"$error":"#N/A"},{"$error":"#N/A"},{"$error":"#N/A"},{"$error":"#N/A"},{"$error":"#N/A"},{"$error":"#N/A"},{"$error":"#N/A"},2]
[null,"li 914",null,null,null,null,null,null,null,null,null,null,null,null,null,null,null,null,null,null,null,null,{"$error":"#N/A"},{"$error":"#N/A"},{"$error":"#N/A"},{"$error":"#N/A"},{"$error":"#N/A"},{"$error":"#N/A"},{"$error":"#N/A"},{"$error":"#N/A"},{"$error":"#N/A"},{"$error":"#N/A"},{"$error":"#N/A"},3]
[null,"li 915",null,null,null,null,null,null,null,null,null,null,null,null,null,null,null,null,null,null,null,null,{"$error":"#N/A"},{"$error":"#N/A"},{"$error":"#N/A"},{"$error":"#N/A"},{"$error":"#N/A"},{"$error":"#N/A"},{"$error":"#N/A"},{"$error":"#N/A"},{"$error":"#N/A"},{"$error":"#N/A"},{"$error":"#N/A"},7]
[null,"li 916",null,null,null,null,null,null,null,null,null,null,null,null,null,null,null,null,null,null,null,null,{"$error":"#N/A"},{"$error":"#N/A"},{"$error":"#N/A"},{"$error":"#N/A"},{"$error":"#N/A"},{"$error":"#N/A"},{"$error":"#N/A"},{"$error":"#N/A"},{"$error":"#N/A"},{"$error":"#N/A"},{"$error":"#N/A"},1]
[null,"li 917",null,null,null,null,null,null,null,null,null,null,null,null,null,null,null,null,null,null,null,null,{"$error":"#N/A"},{"$error":"#N/A"},{"$error":"#N/A"},{"$error":"#N/A"},{"$error":"#N/A"},{"$error":"#N/A"},{"$error":"#N/A"},{"$error":"#N/A"},{"$error":"#N/A"},{"$error":"#N/A"},{"$error":"#N/A"},3]
[null,"li 918",null,null,null,null,null,null,null,null,null,null,null,null,null,null,null,null,null,null,null,null,{"$error":"#N/A"},{"$error":"#N/A"},{"$error":"#N/A"},{"$error":"#N/A"},{"$error":"#N/A"},{"$error":"#N/A"},{"$error":"#N/A"},{"$error":"#N/A"},{"$error":"#N/A"},{"$error":"#N/A"},{"$error":"#N/A"},1]
[null,"li 919",null,null,null,null,null,null,null,null,null,null,null,null,null,null,null,null,null,null,null,null,{"$error":"#N/A"},{"$error":"#N/A"},{"$error":"#N/A"},{"$error":"#N/A"},{"$error":"#N/A"},{"$error":"#N/A"},{"$error":"#N/A"},{"$error":"#N/A"},{"$error":"#N/A"},{"$error":"#N/A"},{"$error":"#N/A"},3]
[null,"li 920",null,null,null,null,null,null,null,null,null,null,null,null,null,null,null,null,null,null,null,null,{"$error":"#N/A"},{"$error":"#N/A"},{"$error":"#N/A"},{"$error":"#N/A"},{"$error":"#N/A"},{"$error":"#N/A"},{"$error":"#N/A"},{"$error":"#N/A"},{"$error":"#N/A"},{"$error":"#N/A"},{"$error":"#N/A"},5]
[null,"li 921",null,null,null,null,null,null,null,null,null,null,null,null,null,null,null,null,null,null,null,null,{"$error":"#N/A"},{"$error":"#N/A"},{"$error":"#N/A"},{"$error":"#N/A"},{"$error":"#N/A"},{"$error":"#N/A"},{"$error":"#N/A"},{"$error":"#N/A"},{"$error":"#N/A"},{"$error":"#N/A"},{"$error":"#N/A"},6]
[null,"li 922",null,null,null,null,null,null,null,null,null,null,null,null,null,null,null,null,null,null,null,null,{"$error":"#N/A"},{"$error":"#N/A"},{"$error":"#N/A"},{"$error":"#N/A"},{"$error":"#N/A"},{"$error":"#N/A"},{"$error":"#N/A"},{"$error":"#N/A"},{"$error":"#N/A"},{"$error":"#N/A"},{"$error":"#N/A"},5]
[null,"li 923",null,null,null,null,null,null,null,null,null,null,null,null,null,null,null,null,null,null,null,null,{"$error":"#N/A"},{"$error":"#N/A"},{"$error":"#N/A"},{"$error":"#N/A"},{"$error":"#N/A"},{"$error":"#N/A"},{"$error":"#N/A"},{"$error":"#N/A"},{"$error":"#N/A"},{"$error":"#N/A"},{"$error":"#N/A"},1]
[null,"li 924",null,null,null,null,null,null,null,null,null,null,null,null,null,null,null,null,null,null,null,null,{"$error":"#N/A"},{"$error":"#N/A"},{"$error":"#N/A"},{"$error":"#N/A"},{"$error":"#N/A"},{"$error":"#N/A"},{"$error":"#N/A"},{"$error":"#N/A"},{"$error":"#N/A"},{"$error":"#N/A"},{"$error":"#N/A"},3]
[null,"li 925",null,null,null,null,null,null,null,null,null,null,null,null,null,null,null,null,null,null,null,null,{"$error":"#N/A"},{"$error":"#N/A"},{"$error":"#N/A"},{"$error":"#N/A"},{"$error":"#N/A"},{"$error":"#N/A"},{"$error":"#N/A"},{"$error":"#N/A"},{"$error":"#N/A"},{"$error":"#N/A"},{"$error":"#N/A"},7]
[null,"li 926",null,null,null,null,null,null,null,null,null,null,null,null,null,null,null,null,null,null,null,null,{"$error":"#N/A"},{"$error":"#N/A"},{"$error":"#N/A"},{"$error":"#N/A"},{"$error":"#N/A"},{"$error":"#N/A"},{"$error":"#N/A"},{"$error":"#N/A"},{"$error":"#N/A"},{"$error":"#N/A"},{"$error":"#N/A"},1]
[null,"li 927",null,null,null,null,null,null,null,null,null,null,null,null,null,null,null,null,null,null,null,null,{"$error":"#N/A"},{"$error":"#N/A"},{"$error":"#N/A"},{"$error":"#N/A"},{"$error":"#N/A"},{"$error":"#N/A"},{"$error":"#N/A"},{"$error":"#N/A"},{"$error":"#N/A"},{"$error":"#N/A"},{"$error":"#N/A"},5]
[null,"li 928",null,null,null,null,null,null,null,null,null,null,null,null,null,null,null,null,null,null,null,null,{"$error":"#N/A"},{"$error":"#N/A"},{"$error":"#N/A"},{"$error":"#N/A"},{"$error":"#N/A"},{"$error":"#N/A"},{"$error":"#N/A"},{"$error":"#N/A"},{"$error":"#N/A"},{"$error":"#N/A"},{"$error":"#N/A"},2]
[null,"li 929",null,null,null,null,null,null,null,null,null,null,null,null,null,null,null,null,null,null,null,null,{"$error":"#N/A"},{"$error":"#N/A"},{"$error":"#N/A"},{"$error":"#N/A"},{"$error":"#N/A"},{"$error":"#N/A"},{"$error":"#N/A"},{"$error":"#N/A"},{"$error":"#N/A"},{"$error":"#N/A"},{"$error":"#N/A"},4]
[null,"li 930",null,null,null,null,null,null,null,null,null,null,null,null,null,null,null,null,null,null,null,null,{"$error":"#N/A"},{"$error":"#N/A"},{"$error":"#N/A"},{"$error":"#N/A"},{"$error":"#N/A"},{"$error":"#N/A"},{"$error":"#N/A"},{"$error":"#N/A"},{"$error":"#N/A"},{"$error":"#N/A"},{"$error":"#N/A"},2]
[null,"li 931",null,null,null,null,null,null,null,null,null,null,null,null,null,null,null,null,null,null,null,null,{"$error":"#N/A"},{"$error":"#N/A"},{"$error":"#N/A"},{"$error":"#N/A"},{"$error":"#N/A"},{"$error":"#N/A"},{"$error":"#N/A"},{"$error":"#N/A"},{"$error":"#N/A"},{"$error":"#N/A"},{"$error":"#N/A"},3]
[null,"li 932",null,null,null,null,null,null,null,null,null,null,null,null,null,null,null,null,null,null,null,null,{"$error":"#N/A"},{"$error":"#N/A"},{"$error":"#N/A"},{"$error":"#N/A"},{"$error":"#N/A"},{"$error":"#N/A"},{"$error":"#N/A"},{"$error":"#N/A"},{"$error":"#N/A"},{"$error":"#N/A"},{"$error":"#N/A"},1]
[null,"li 933",null,null,null,null,null,null,null,null,null,null,null,null,null,null,null,null,null,null,null,null,{"$error":"#N/A"},{"$error":"#N/A"},{"$error":"#N/A"},{"$error":"#N/A"},{"$error":"#N/A"},{"$error":"#N/A"},{"$error":"#N/A"},{"$error":"#N/A"},{"$error":"#N/A"},{"$error":"#N/A"},{"$error":"#N/A"},7]
[null,"li 934",null,null,null,null,null,null,null,null,null,null,null,null,null,null,null,null,null,null,null,null,{"$error":"#N/A"},{"$error":"#N/A"},{"$error":"#N/A"},{"$error":"#N/A"},{"$error":"#N/A"},{"$error":"#N/A"},{"$error":"#N/A"},{"$error":"#N/A"},{"$error":"#N/A"},{"$error":"#N/A"},{"$error":"#N/A"},3]
[null,"li 935",null,null,null,null,null,null,null,null,null,null,null,null,null,null,null,null,null,null,null,null,{"$error":"#N/A"},{"$error":"#N/A"},{"$error":"#N/A"},{"$error":"#N/A"},{"$error":"#N/A"},{"$error":"#N/A"},{"$error":"#N/A"},{"$error":"#N/A"},{"$error":"#N/A"},{"$error":"#N/A"},{"$error":"#N/A"},7]
[null,"li 936",null,null,null,null,null,null,null,null,null,null,null,null,null,null,null,null,null,null,null,null,{"$error":"#N/A"},{"$error":"#N/A"},{"$error":"#N/A"},{"$error":"#N/A"},{"$error":"#N/A"},{"$error":"#N/A"},{"$error":"#N/A"},{"$error":"#N/A"},{"$error":"#N/A"},{"$error":"#N/A"},{"$error":"#N/A"},7]
[null,"li 937",null,null,null,null,null,null,null,null,null,null,null,null,null,null,null,null,null,null,null,null,{"$error":"#N/A"},{"$error":"#N/A"},{"$error":"#N/A"},{"$error":"#N/A"},{"$error":"#N/A"},{"$error":"#N/A"},{"$error":"#N/A"},{"$error":"#N/A"},{"$error":"#N/A"},{"$error":"#N/A"},{"$error":"#N/A"},2]
[null,"li 938",null,null,null,null,null,null,null,null,null,null,null,null,null,null,null,null,null,null,null,null,{"$error":"#N/A"},{"$error":"#N/A"},{"$error":"#N/A"},{"$error":"#N/A"},{"$error":"#N/A"},{"$error":"#N/A"},{"$error":"#N/A"},{"$error":"#N/A"},{"$error":"#N/A"},{"$error":"#N/A"},{"$error":"#N/A"},4]
[null,"li 939",null,null,null,null,null,null,null,null,null,null,null,null,null,null,null,null,null,null,null,null,{"$error":"#N/A"},{"$error":"#N/A"},{"$error":"#N/A"},{"$error":"#N/A"},{"$error":"#N/A"},{"$error":"#N/A"},{"$error":"#N/A"},{"$error":"#N/A"},{"$error":"#N/A"},{"$error":"#N/A"},{"$error":"#N/A"},2]
[null,"li 940",null,null,null,null,null,null,null,null,null,null,null,null,null,null,null,null,null,null,null,null,{"$error":"#N/A"},{"$error":"#N/A"},{"$error":"#N/A"},{"$error":"#N/A"},{"$error":"#N/A"},{"$error":"#N/A"},{"$error":"#N/A"},{"$error":"#N/A"},{"$error":"#N/A"},{"$error":"#N/A"},{"$error":"#N/A"},7]
[null,"li 941",null,null,null,null,null,null,null,null,null,null,null,null,null,null,null,null,null,null,null,null,{"$error":"#N/A"},{"$error":"#N/A"},{"$error":"#N/A"},{"$error":"#N/A"},{"$error":"#N/A"},{"$error":"#N/A"},{"$error":"#N/A"},{"$error":"#N/A"},{"$error":"#N/A"},{"$error":"#N/A"},{"$error":"#N/A"},7]
[null,"li 942",null,null,null,null,null,null,null,null,null,null,null,null,null,null,null,null,null,null,null,null,{"$error":"#N/A"},{"$error":"#N/A"},{"$error":"#N/A"},{"$error":"#N/A"},{"$error":"#N/A"},{"$error":"#N/A"},{"$error":"#N/A"},{"$error":"#N/A"},{"$error":"#N/A"},{"$error":"#N/A"},{"$error":"#N/A"},2]
[null,"li 943",null,null,null,null,null,null,null,null,null,null,null,null,null,null,null,null,null,null,null,null,{"$error":"#N/A"},{"$error":"#N/A"},{"$error":"#N/A"},{"$error":"#N/A"},{"$error":"#N/A"},{"$error":"#N/A"},{"$error":"#N/A"},{"$error":"#N/A"},{"$error":"#N/A"},{"$error":"#N/A"},{"$error":"#N/A"},3]
[null,"li 944",null,null,null,null,null,null,null,null,null,null,null,null,null,null,null,null,null,null,null,null,{"$error":"#N/A"},{"$error":"#N/A"},{"$error":"#N/A"},{"$error":"#N/A"},{"$error":"#N/A"},{"$error":"#N/A"},{"$error":"#N/A"},{"$error":"#N/A"},{"$error":"#N/A"},{"$error":"#N/A"},{"$error":"#N/A"},3]
[null,"li 945",null,null,null,null,null,null,null,null,null,null,null,null,null,null,null,null,null,null,null,null,{"$error":"#N/A"},{"$error":"#N/A"},{"$error":"#N/A"},{"$error":"#N/A"},{"$error":"#N/A"},{"$error":"#N/A"},{"$error":"#N/A"},{"$error":"#N/A"},{"$error":"#N/A"},{"$error":"#N/A"},{"$error":"#N/A"},5]
[null,"li 946",null,null,null,null,null,null,null,null,null,null,null,null,null,null,null,null,null,null,null,null,{"$error":"#N/A"},{"$error":"#N/A"},{"$error":"#N/A"},{"$error":"#N/A"},{"$error":"#N/A"},{"$error":"#N/A"},{"$error":"#N/A"},{"$error":"#N/A"},{"$error":"#N/A"},{"$error":"#N/A"},{"$error":"#N/A"},7]
[null,"li 947",null,null,null,null,null,null,null,null,null,null,null,null,null,null,null,null,null,null,null,null,{"$error":"#N/A"},{"$error":"#N/A"},{"$error":"#N/A"},{"$error":"#N/A"},{"$error":"#N/A"},{"$error":"#N/A"},{"$error":"#N/A"},{"$error":"#N/A"},{"$error":"#N/A"},{"$error":"#N/A"},{"$error":"#N/A"},4]
[null,"li 948",null,null,null,null,null,null,null,null,null,null,null,null,null,null,null,null,null,null,null,null,{"$error":"#N/A"},{"$error":"#N/A"},{"$error":"#N/A"},{"$error":"#N/A"},{"$error":"#N/A"},{"$error":"#N/A"},{"$error":"#N/A"},{"$error":"#N/A"},{"$error":"#N/A"},{"$error":"#N/A"},{"$error":"#N/A"},3]
[null,"li 949",null,null,null,null,null,null,null,null,null,null,null,null,null,null,null,null,null,null,null,null,{"$error":"#N/A"},{"$error":"#N/A"},{"$error":"#N/A"},{"$error":"#N/A"},{"$error":"#N/A"},{"$error":"#N/A"},{"$error":"#N/A"},{"$error":"#N/A"},{"$error":"#N/A"},{"$error":"#N/A"},{"$error":"#N/A"},5]
[null,"li 950",null,null,null,null,null,null,null,null,null,null,null,null,null,null,null,null,null,null,null,null,{"$error":"#N/A"},{"$error":"#N/A"},{"$error":"#N/A"},{"$error":"#N/A"},{"$error":"#N/A"},{"$error":"#N/A"},{"$error":"#N/A"},{"$error":"#N/A"},{"$error":"#N/A"},{"$error":"#N/A"},{"$error":"#N/A"},7]
[null,"li 951",null,null,null,null,null,null,null,null,null,null,null,null,null,null,null,null,null,null,null,null,{"$error":"#N/A"},{"$error":"#N/A"},{"$error":"#N/A"},{"$error":"#N/A"},{"$error":"#N/A"},{"$error":"#N/A"},{"$error":"#N/A"},{"$error":"#N/A"},{"$error":"#N/A"},{"$error":"#N/A"},{"$error":"#N/A"},3]
[null,"li 952",null,null,null,null,null,null,null,null,null,null,null,null,null,null,null,null,null,null,null,null,{"$error":"#N/A"},{"$error":"#N/A"},{"$error":"#N/A"},{"$error":"#N/A"},{"$error":"#N/A"},{"$error":"#N/A"},{"$error":"#N/A"},{"$error":"#N/A"},{"$error":"#N/A"},{"$error":"#N/A"},{"$error":"#N/A"},1]
[null,"li 953",null,null,null,null,null,null,null,null,null,null,null,null,null,null,null,null,null,null,null,null,{"$error":"#N/A"},{"$error":"#N/A"},{"$error":"#N/A"},{"$error":"#N/A"},{"$error":"#N/A"},{"$error":"#N/A"},{"$error":"#N/A"},{"$error":"#N/A"},{"$error":"#N/A"},{"$error":"#N/A"},{"$error":"#N/A"},4]
[null,"li 954",null,null,null,null,null,null,null,null,null,null,null,null,null,null,null,null,null,null,null,null,{"$error":"#N/A"},{"$error":"#N/A"},{"$error":"#N/A"},{"$error":"#N/A"},{"$error":"#N/A"},{"$error":"#N/A"},{"$error":"#N/A"},{"$error":"#N/A"},{"$error":"#N/A"},{"$error":"#N/A"},{"$error":"#N/A"},6]
[null,"li 955",null,null,null,null,null,null,null,null,null,null,null,null,null,null,null,null,null,null,null,null,{"$error":"#N/A"},{"$error":"#N/A"},{"$error":"#N/A"},{"$error":"#N/A"},{"$error":"#N/A"},{"$error":"#N/A"},{"$error":"#N/A"},{"$error":"#N/A"},{"$error":"#N/A"},{"$error":"#N/A"},{"$error":"#N/A"},2]
[null,"li 956",null,null,null,null,null,null,null,null,null,null,null,null,null,null,null,null,null,null,null,null,{"$error":"#N/A"},{"$error":"#N/A"},{"$error":"#N/A"},{"$error":"#N/A"},{"$error":"#N/A"},{"$error":"#N/A"},{"$error":"#N/A"},{"$error":"#N/A"},{"$error":"#N/A"},{"$error":"#N/A"},{"$error":"#N/A"},7]
[null,"li 957",null,null,null,null,null,null,null,null,null,null,null,null,null,null,null,null,null,null,null,null,{"$error":"#N/A"},{"$error":"#N/A"},{"$error":"#N/A"},{"$error":"#N/A"},{"$error":"#N/A"},{"$error":"#N/A"},{"$error":"#N/A"},{"$error":"#N/A"},{"$error":"#N/A"},{"$error":"#N/A"},{"$error":"#N/A"},5]
[null,"li 958",null,null,null,null,null,null,null,null,null,null,null,null,null,null,null,null,null,null,null,null,{"$error":"#N/A"},{"$error":"#N/A"},{"$error":"#N/A"},{"$error":"#N/A"},{"$error":"#N/A"},{"$error":"#N/A"},{"$error":"#N/A"},{"$error":"#N/A"},{"$error":"#N/A"},{"$error":"#N/A"},{"$error":"#N/A"},2]
[null,"li 959",null,null,null,null,null,null,null,null,null,null,null,null,null,null,null,null,null,null,null,null,{"$error":"#N/A"},{"$error":"#N/A"},{"$error":"#N/A"},{"$error":"#N/A"},{"$error":"#N/A"},{"$error":"#N/A"},{"$error":"#N/A"},{"$error":"#N/A"},{"$error":"#N/A"},{"$error":"#N/A"},{"$error":"#N/A"},2]
[null,"li 960",null,null,null,null,null,null,null,null,null,null,null,null,null,null,null,null,null,null,null,null,{"$error":"#N/A"},{"$error":"#N/A"},{"$error":"#N/A"},{"$error":"#N/A"},{"$error":"#N/A"},{"$error":"#N/A"},{"$error":"#N/A"},{"$error":"#N/A"},{"$error":"#N/A"},{"$error":"#N/A"},{"$error":"#N/A"},5]
[null,"li 961",null,null,null,null,null,null,null,null,null,null,null,null,null,null,null,null,null,null,null,null,{"$error":"#N/A"},{"$error":"#N/A"},{"$error":"#N/A"},{"$error":"#N/A"},{"$error":"#N/A"},{"$f":"W964^2/$AG964","v":{"$error":"#N/A"}},{"$f":"X964^2/$AG964","v":{"$error":"#N/A"}},{"$f":"Y964^2/$AG964","v":{"$error":"#N/A"}},{"$f":"Z964^2/$AG964","v":{"$error":"#N/A"}},{"$f":"AA964^2/$AG964","v":{"$error":"#N/A"}},{"$f":"W964^2+X964^2+Y964^2+Z964^2+AA964^2","v":{"$error":"#N/A"}},1]
[null,"li 962",null,null,null,null,null,null,null,null,null,null,null,null,null,null,null,null,null,null,null,null,{"$error":"#N/A"},{"$error":"#N/A"},{"$error":"#N/A"},{"$error":"#N/A"},{"$error":"#N/A"},{"$error":"#N/A"},{"$error":"#N/A"},{"$error":"#N/A"},{"$error":"#N/A"},{"$error":"#N/A"},{"$error":"#N/A"},6]
[null,"li 963",null,null,null,null,null,null,null,null,null,null,null,null,null,null,null,null,null,null,null,null,{"$error":"#N/A"},{"$error":"#N/A"},{"$error":"#N/A"},{"$error":"#N/A"},{"$error":"#N/A"},{"$error":"#N/A"},{"$error":"#N/A"},{"$error":"#N/A"},{"$error":"#N/A"},{"$error":"#N/A"},{"$error":"#N/A"},6]
[null,"li 964",null,null,null,null,null,null,null,null,null,null,null,null,null,null,null,null,null,null,null,null,{"$error":"#N/A"},{"$error":"#N/A"},{"$error":"#N/A"},{"$error":"#N/A"},{"$error":"#N/A"},{"$error":"#N/A"},{"$error":"#N/A"},{"$error":"#N/A"},{"$error":"#N/A"},{"$error":"#N/A"},{"$error":"#N/A"},5]
[null,"li 965",null,null,null,null,null,null,null,null,null,null,null,null,null,null,null,null,null,null,null,null,{"$error":"#N/A"},{"$error":"#N/A"},{"$error":"#N/A"},{"$error":"#N/A"},{"$error":"#N/A"},{"$error":"#N/A"},{"$error":"#N/A"},{"$error":"#N/A"},{"$error":"#N/A"},{"$error":"#N/A"},{"$error":"#N/A"},7]
[null,"li 966",null,null,null,null,null,null,null,null,null,null,null,null,null,null,null,null,null,null,null,null,{"$error":"#N/A"},{"$error":"#N/A"},{"$error":"#N/A"},{"$error":"#N/A"},{"$error":"#N/A"},{"$error":"#N/A"},{"$error":"#N/A"},{"$error":"#N/A"},{"$error":"#N/A"},{"$error":"#N/A"},{"$error":"#N/A"},1]
[null,"li 967",null,null,null,null,null,null,null,null,null,null,null,null,null,null,null,null,null,null,null,null,{"$error":"#N/A"},{"$error":"#N/A"},{"$error":"#N/A"},{"$error":"#N/A"},{"$error":"#N/A"},{"$error":"#N/A"},{"$error":"#N/A"},{"$error":"#N/A"},{"$error":"#N/A"},{"$error":"#N/A"},{"$error":"#N/A"},3]
[null,"li 968",null,null,null,null,null,null,null,null,null,null,null,null,null,null,null,null,null,null,null,null,{"$error":"#N/A"},{"$error":"#N/A"},{"$error":"#N/A"},{"$error":"#N/A"},{"$error":"#N/A"},{"$error":"#N/A"},{"$error":"#N/A"},{"$error":"#N/A"},{"$error":"#N/A"},{"$error":"#N/A"},{"$error":"#N/A"},3]
[null,"li 969",null,null,null,null,null,null,null,null,null,null,null,null,null,null,null,null,null,null,null,null,{"$error":"#N/A"},{"$error":"#N/A"},{"$error":"#N/A"},{"$error":"#N/A"},{"$error":"#N/A"},{"$error":"#N/A"},{"$error":"#N/A"},{"$error":"#N/A"},{"$error":"#N/A"},{"$error":"#N/A"},{"$error":"#N/A"},5]
[null,"li 970",null,null,null,null,null,null,null,null,null,null,null,null,null,null,null,null,null,null,null,null,{"$error":"#N/A"},{"$error":"#N/A"},{"$error":"#N/A"},{"$error":"#N/A"},{"$error":"#N/A"},{"$error":"#N/A"},{"$error":"#N/A"},{"$error":"#N/A"},{"$error":"#N/A"},{"$error":"#N/A"},{"$error":"#N/A"},6]
[null,"li 971",null,null,null,null,null,null,null,null,null,null,null,null,null,null,null,null,null,null,null,null,{"$error":"#N/A"},{"$error":"#N/A"},{"$error":"#N/A"},{"$error":"#N/A"},{"$error":"#N/A"},{"$error":"#N/A"},{"$error":"#N/A"},{"$error":"#N/A"},{"$error":"#N/A"},{"$error":"#N/A"},{"$error":"#N/A"},4]
[null,"li 972",null,null,null,null,null,null,null,null,null,null,null,null,null,null,null,null,null,null,null,null,{"$error":"#N/A"},{"$error":"#N/A"},{"$error":"#N/A"},{"$error":"#N/A"},{"$error":"#N/A"},{"$error":"#N/A"},{"$error":"#N/A"},{"$error":"#N/A"},{"$error":"#N/A"},{"$error":"#N/A"},{"$error":"#N/A"},5]
[null,"li 973",null,null,null,null,null,null,null,null,null,null,null,null,null,null,null,null,null,null,null,null,{"$error":"#N/A"},{"$error":"#N/A"},{"$error":"#N/A"},{"$error":"#N/A"},{"$error":"#N/A"},{"$error":"#N/A"},{"$error":"#N/A"},{"$error":"#N/A"},{"$error":"#N/A"},{"$error":"#N/A"},{"$error":"#N/A"},6]
[null,"li 974",null,null,null,null,null,null,null,null,null,null,null,null,null,null,null,null,null,null,null,null,{"$error":"#N/A"},{"$error":"#N/A"},{"$error":"#N/A"},{"$error":"#N/A"},{"$error":"#N/A"},{"$error":"#N/A"},{"$error":"#N/A"},{"$error":"#N/A"},{"$error":"#N/A"},{"$error":"#N/A"},{"$error":"#N/A"},4]
[null,"li 975",null,null,null,null,null,null,null,null,null,null,null,null,null,null,null,null,null,null,null,null,{"$error":"#N/A"},{"$error":"#N/A"},{"$error":"#N/A"},{"$error":"#N/A"},{"$error":"#N/A"},{"$error":"#N/A"},{"$error":"#N/A"},{"$error":"#N/A"},{"$error":"#N/A"},{"$error":"#N/A"},{"$error":"#N/A"},3]
[null,"li 976",null,null,null,null,null,null,null,null,null,null,null,null,null,null,null,null,null,null,null,null,{"$error":"#N/A"},{"$error":"#N/A"},{"$error":"#N/A"},{"$error":"#N/A"},{"$error":"#N/A"},{"$error":"#N/A"},{"$error":"#N/A"},{"$error":"#N/A"},{"$error":"#N/A"},{"$error":"#N/A"},{"$error":"#N/A"},2]
[null,"li 977",null,null,null,null,null,null,null,null,null,null,null,null,null,null,null,null,null,null,null,null,{"$error":"#N/A"},{"$error":"#N/A"},{"$error":"#N/A"},{"$error":"#N/A"},{"$error":"#N/A"},{"$error":"#N/A"},{"$error":"#N/A"},{"$error":"#N/A"},{"$error":"#N/A"},{"$error":"#N/A"},{"$error":"#N/A"},1]
[null,"li 978",null,null,null,null,null,null,null,null,null,null,null,null,null,null,null,null,null,null,null,null,{"$error":"#N/A"},{"$error":"#N/A"},{"$error":"#N/A"},{"$error":"#N/A"},{"$error":"#N/A"},{"$error":"#N/A"},{"$error":"#N/A"},{"$error":"#N/A"},{"$error":"#N/A"},{"$error":"#N/A"},{"$error":"#N/A"},7]
[null,"li 979",null,null,null,null,null,null,null,null,null,null,null,null,null,null,null,null,null,null,null,null,{"$error":"#N/A"},{"$error":"#N/A"},{"$error":"#N/A"},{"$error":"#N/A"},{"$error":"#N/A"},{"$error":"#N/A"},{"$error":"#N/A"},{"$error":"#N/A"},{"$error":"#N/A"},{"$error":"#N/A"},{"$error":"#N/A"},1]
[null,"li 980",null,null,null,null,null,null,null,null,null,null,null,null,null,null,null,null,null,null,null,null,{"$error":"#N/A"},{"$error":"#N/A"},{"$error":"#N/A"},{"$error":"#N/A"},{"$error":"#N/A"},{"$error":"#N/A"},{"$error":"#N/A"},{"$error":"#N/A"},{"$error":"#N/A"},{"$error":"#N/A"},{"$error":"#N/A"},6]
[null,"li 981",null,null,null,null,null,null,null,null,null,null,null,null,null,null,null,null,null,null,null,null,{"$error":"#N/A"},{"$error":"#N/A"},{"$error":"#N/A"},{"$error":"#N/A"},{"$error":"#N/A"},{"$error":"#N/A"},{"$error":"#N/A"},{"$error":"#N/A"},{"$error":"#N/A"},{"$error":"#N/A"},{"$error":"#N/A"},2]
[null,"li 982",null,null,null,null,null,null,null,null,null,null,null,null,null,null,null,null,null,null,null,null,{"$error":"#N/A"},{"$error":"#N/A"},{"$error":"#N/A"},{"$error":"#N/A"},{"$error":"#N/A"},{"$error":"#N/A"},{"$error":"#N/A"},{"$error":"#N/A"},{"$error":"#N/A"},{"$error":"#N/A"},{"$error":"#N/A"},5]
[null,"li 983",null,null,null,null,null,null,null,null,null,null,null,null,null,null,null,null,null,null,null,null,{"$error":"#N/A"},{"$error":"#N/A"},{"$error":"#N/A"},{"$error":"#N/A"},{"$error":"#N/A"},{"$error":"#N/A"},{"$error":"#N/A"},{"$error":"#N/A"},{"$error":"#N/A"},{"$error":"#N/A"},{"$error":"#N/A"},5]
[null,"li 984",null,null,null,null,null,null,null,null,null,null,null,null,null,null,null,null,null,null,null,null,{"$error":"#N/A"},{"$error":"#N/A"},{"$error":"#N/A"},{"$error":"#N/A"},{"$error":"#N/A"},{"$error":"#N/A"},{"$error":"#N/A"},{"$error":"#N/A"},{"$error":"#N/A"},{"$error":"#N/A"},{"$error":"#N/A"},3]
[null,"li 985",null,null,null,null,null,null,null,null,null,null,null,null,null,null,null,null,null,null,null,null,{"$error":"#N/A"},{"$error":"#N/A"},{"$error":"#N/A"},{"$error":"#N/A"},{"$error":"#N/A"},{"$error":"#N/A"},{"$error":"#N/A"},{"$error":"#N/A"},{"$error":"#N/A"},{"$error":"#N/A"},{"$error":"#N/A"},1]
[null,"li 986",null,null,null,null,null,null,null,null,null,null,null,null,null,null,null,null,null,null,null,null,{"$error":"#N/A"},{"$error":"#N/A"},{"$error":"#N/A"},{"$error":"#N/A"},{"$error":"#N/A"},{"$error":"#N/A"},{"$error":"#N/A"},{"$error":"#N/A"},{"$error":"#N/A"},{"$error":"#N/A"},{"$error":"#N/A"},1]
[null,"li 987",null,null,null,null,null,null,null,null,null,null,null,null,null,null,null,null,null,null,null,null,{"$error":"#N/A"},{"$error":"#N/A"},{"$error":"#N/A"},{"$error":"#N/A"},{"$error":"#N/A"},{"$error":"#N/A"},{"$error":"#N/A"},{"$error":"#N/A"},{"$error":"#N/A"},{"$error":"#N/A"},{"$error":"#N/A"},5]
[null,"li 988",null,null,null,null,null,null,null,null,null,null,null,null,null,null,null,null,null,null,null,null,{"$error":"#N/A"},{"$error":"#N/A"},{"$error":"#N/A"},{"$error":"#N/A"},{"$error":"#N/A"},{"$error":"#N/A"},{"$error":"#N/A"},{"$error":"#N/A"},{"$error":"#N/A"},{"$error":"#N/A"},{"$error":"#N/A"},1]
[null,"li 989",null,null,null,null,null,null,null,null,null,null,null,null,null,null,null,null,null,null,null,null,{"$error":"#N/A"},{"$error":"#N/A"},{"$error":"#N/A"},{"$error":"#N/A"},{"$error":"#N/A"},{"$error":"#N/A"},{"$error":"#N/A"},{"$error":"#N/A"},{"$error":"#N/A"},{"$error":"#N/A"},{"$error":"#N/A"},5]
[null,"li 990",null,null,null,null,null,null,null,null,null,null,null,null,null,null,null,null,null,null,null,null,{"$error":"#N/A"},{"$error":"#N/A"},{"$error":"#N/A"},{"$error":"#N/A"},{"$error":"#N/A"},{"$error":"#N/A"},{"$error":"#N/A"},{"$error":"#N/A"},{"$error":"#N/A"},{"$error":"#N/A"},{"$error":"#N/A"},1]
[null,"li 991",null,null,null,null,null,null,null,null,null,null,null,null,null,null,null,null,null,null,null,null,{"$error":"#N/A"},{"$error":"#N/A"},{"$error":"#N/A"},{"$error":"#N/A"},{"$error":"#N/A"},{"$error":"#N/A"},{"$error":"#N/A"},{"$error":"#N/A"},{"$error":"#N/A"},{"$error":"#N/A"},{"$error":"#N/A"},7]
[null,"li 992",null,null,null,null,null,null,null,null,null,null,null,null,null,null,null,null,null,null,null,null,{"$error":"#N/A"},{"$error":"#N/A"},{"$error":"#N/A"},{"$error":"#N/A"},{"$error":"#N/A"},{"$error":"#N/A"},{"$error":"#N/A"},{"$error":"#N/A"},{"$error":"#N/A"},{"$error":"#N/A"},{"$error":"#N/A"},5]
[null,"li 993",null,null,null,null,null,null,null,null,null,null,null,null,null,null,null,null,null,null,null,null,{"$error":"#N/A"},{"$error":"#N/A"},{"$error":"#N/A"},{"$error":"#N/A"},{"$error":"#N/A"},{"$error":"#N/A"},{"$error":"#N/A"},{"$error":"#N/A"},{"$error":"#N/A"},{"$error":"#N/A"},{"$error":"#N/A"},2]
[null,"li 994",null,null,null,null,null,null,null,null,null,null,null,null,null,null,null,null,null,null,null,null,{"$error":"#N/A"},{"$error":"#N/A"},{"$error":"#N/A"},{"$error":"#N/A"},{"$error":"#N/A"},{"$error":"#N/A"},{"$error":"#N/A"},{"$error":"#N/A"},{"$error":"#N/A"},{"$error":"#N/A"},{"$error":"#N/A"},4]
[null,"li 995",null,null,null,null,null,null,null,null,null,null,null,null,null,null,null,null,null,null,null,null,{"$error":"#N/A"},{"$error":"#N/A"},{"$error":"#N/A"},{"$error":"#N/A"},{"$error":"#N/A"},{"$error":"#N/A"},{"$error":"#N/A"},{"$error":"#N/A"},{"$error":"#N/A"},{"$error":"#N/A"},{"$error":"#N/A"},4]
[null,"li 996",null,null,null,null,null,null,null,null,null,null,null,null,null,null,null,null,null,null,null,null,{"$error":"#N/A"},{"$error":"#N/A"},{"$error":"#N/A"},{"$error":"#N/A"},{"$error":"#N/A"},{"$error":"#N/A"},{"$error":"#N/A"},{"$error":"#N/A"},{"$error":"#N/A"},{"$error":"#N/A"},{"$error":"#N/A"},6]
[null,"li 997",null,null,null,null,null,null,null,null,null,null,null,null,null,null,null,null,null,null,null,null,{"$error":"#N/A"},{"$error":"#N/A"},{"$error":"#N/A"},{"$error":"#N/A"},{"$error":"#N/A"},{"$error":"#N/A"},{"$error":"#N/A"},{"$error":"#N/A"},{"$error":"#N/A"},{"$error":"#N/A"},{"$error":"#N/A"},1]
[null,"li 998",null,null,null,null,null,null,null,null,null,null,null,null,null,null,null,null,null,null,null,null,{"$error":"#N/A"},{"$error":"#N/A"},{"$error":"#N/A"},{"$error":"#N/A"},{"$error":"#N/A"},{"$error":"#N/A"},{"$error":"#N/A"},{"$error":"#N/A"},{"$error":"#N/A"},{"$error":"#N/A"},{"$error":"#N/A"},1]
[null,"li 999",null,null,null,null,null,null,null,null,null,null,null,null,null,null,null,null,null,null,null,null,{"$error":"#N/A"},{"$error":"#N/A"},{"$error":"#N/A"},{"$error":"#N/A"},{"$error":"#N/A"},{"$error":"#N/A"},{"$error":"#N/A"},{"$error":"#N/A"},{"$error":"#N/A"},{"$error":"#N/A"},{"$error":"#N/A"},1]
[null,"li 1000",null,null,null,null,null,null,null,null,null,null,null,null,null,null,null,null,null,null,null,null,{"$error":"#N/A"},{"$error":"#N/A"},{"$error":"#N/A"},{"$error":"#N/A"},{"$error":"#N/A"},{"$error":"#N/A"},{"$error":"#N/A"},{"$error":"#N/A"},{"$error":"#N/A"},{"$error":"#N/A"},{"$error":"#N/A"},1]
[]
["Individus à ajouter","IA0",0.35277777799999999,66.010000000000005,2.13,1.47,64.98,2.44,9.99,null,null,null,null,null,null,null,null,null,null,null,null,null,{"$f":"MMULT(ajout_cr,vecteurs_propres)","v":-0.29465542988452376},2.0405111916785561,-0.1263056926442076,0.54609345802679921,9.3559618773830178E-2,{"$f":"W1005^2/$AG1005","v":1.8983952508551397E-2},{"$f":"X1005^2/$AG1005","v":0.91040724187465505},{"$f":"Y1005^2/$AG1005","v":3.488217777208012E-3},{"$f":"Z1005^2/$AG1005","v":6.5206620033207055E-2},{"$f":"AA1005^2/$AG1005","v":1.913967806378571E-3},{"$f":"W1005^2+X1005^2+Y1005^2+Z1005^2+AA1005^2","v":4.5734323408849793},4.4869709089773924]
[null,"IA1",null,null,null,null,null,null,null,null,null,null,null,null,null,null,null,null,null,null,null,null,217.22940105919247,-474.49338094743729,346.79776565204537,-472.58375109967932,142.47653351139576,{"$f":"W1006^2/$AG1006","v":7.416838278124234E-2},0.35386850961049288,0.18903150036488389,0.35102590704025538,3.1905700203125567E-2,636236.23591358378,589047.62872999732]
[null,"IA2",null,null,null,null,null,null,null,null,null,null,null,null,null,null,null,null,null,null,null,null,217.22940105919247,-474.49338094743729,346.79776565204537,-472.58375109967932,142.47653351139576,7.416838278124234E-2,0.35386850961049288,0.18903150036488389,0.35102590704025538,3.1905700203125567E-2,636236.23591358378,589047.62872999732]
[null,"IA3",null,null,null,null,null,null,null,null,null,null,null,null,null,null,null,null,null,null,null,null,217.22940105919247,-474.49338094743729,346.79776565204537,-472.58375109967932,142.47653351139576,7.416838278124234E-2,0.35386850961049288,0.18903150036488389,0.35102590704025538,3.1905700203125567E-2,636236.23591358378,589047.62872999732]
[null,"IA4",null,null,null,null,null,null,null,null,null,null,null,null,null,null,null,null,null,null,null,null,217.22940105919247,-474.49338094743729,346.79776565204537,-472.58375109967932,142.47653351139576,7.416838278124234E-2,0.35386850961049288,0.18903150036488389,0.35102590704025538,3.1905700203125567E-2,636236.23591358378,589047.62872999732]
[null,"IA5",null,null,null,null,null,null,null,null,null,null,null,null,null,null,null,null,null,null,null,null,217.22940105919247,-474.49338094743729,346.79776565204537,-472.58375109967932,142.47653351139576,7.416838278124234E-2,0.35386850961049288,0.18903150036488389,0.35102590704025538,3.1905700203125567E-2,636236.23591358378,589047.62872999732]
[null,"IA6",null,null,null,null,null,null,null,null,null,null,null,null,null,null,null,null,null,null,null,null,217.22940105919247,-474.49338094743729,346.79776565204537,-472.58375109967932,142.47653351139576,7.416838278124234E-2,0.35386850961049288,0.18903150036488389,0.35102590704025538,3.1905700203125567E-2,636236.23591358378,589047.62872999732]
[null,"IA7",null,null,null,null,null,null,null,null,null,null,null,null,null,null,null,null,null,null,null,null,217.22940105919247,-474.49338094743729,346.79776565204537,-472.58375109967932,142.47653351139576,7.416838278124234E-2,0.35386850961049288,0.18903150036488389,0.35102590704025538,3.1905700203125567E-2,636236.23591358378,589047.62872999732]
[null,"IA8",null,null,null,null,null,null,null,null,null,null,null,null,null,null,null,null,null,null,null,null,217.22940105919247,-474.49338094743729,346.79776565204537,-472.58375109967932,142.47653351139576,7.416838278124234E-2,0.35386850961049288,0.18903150036488389,0.35102590704025538,3.1905700203125567E-2,636236.23591358378,589047.62872999732]
[null,"IA9",null,null,null,null,null,null,null,null,null,null,null,null,null,null,null,null,null,null,null,null,217.22940105919247,-474.49338094743729,346.79776565204537,-472.58375109967932,142.47653351139576,7.416838278124234E-2,0.35386850961049288,0.18903150036488389,0.35102590704025538,3.1905700203125567E-2,636236.23591358378,589047.62872999732]
[null,"IA10",null,null,null,null,null,null,null,null,null,null,null,null,null,null,null,null,null,null,null,null,217.22940105919247,-474.49338094743729,346.79776565204537,-472.58375109967932,142.47653351139576,7.416838278124234E-2,0.35386850961049288,0.18903150036488389,0.35102590704025538,3.1905700203125567E-2,636236.23591358378,589047.62872999732]
[null,"IA11",null,null,null,null,null,null,null,null,null,null,null,null,null,null,null,null,null,null,null,null,217.22940105919247,-474.49338094743729,346.79776565204537,-472.58375109967932,142.47653351139576,7.416838278124234E-2,0.35386850961049288,0.18903150036488389,0.35102590704025538,3.1905700203125567E-2,636236.23591358378,589047.62872999732]
[null,"IA12",null,null,null,null,null,null,null,null,null,null,null,null,null,null,null,null,null,null,null,null,217.22940105919247,-474.49338094743729,346.79776565204537,-472.58375109967932,142.47653351139576,7.416838278124234E-2,0.35386850961049288,0.18903150036488389,0.35102590704025538,3.1905700203125567E-2,636236.23591358378,589047.62872999732]
[null,"IA13",null,null,null,null,null,null,null,null,null,null,null,null,null,null,null,null,null,null,null,null,217.22940105919247,-474.49338094743729,346.79776565204537,-472.58375109967932,142.47653351139576,7.416838278124234E-2,0.35386850961049288,0.18903150036488389,0.35102590704025538,3.1905700203125567E-2,636236.23591358378,589047.62872999732]
[null,"IA14",null,null,null,null,null,null,null,null,null,null,null,null,null,null,null,null,null,null,null,null,217.22940105919247,-474.49338094743729,346.79776565204537,-472.58375109967932,142.47653351139576,7.416838278124234E-2,0.35386850961049288,0.18903150036488389,0.35102590704025538,3.1905700203125567E-2,636236.23591358378,589047.62872999732]
[null,"IA15",null,null,null,null,null,null,null,null,null,null,null,null,null,null,null,null,null,null,null,null,217.22940105919247,-474.49338094743729,346.79776565204537,-472.58375109967932,142.47653351139576,7.416838278124234E-2,0.35386850961049288,0.18903150036488389,0.35102590704025538,3.1905700203125567E-2,636236.23591358378,589047.62872999732]
[null,"IA16",null,null,null,null,null,null,null,null,null,null,null,null,null,null,null,null,null,null,null,null,217.22940105919247,-474.49338094743729,346.79776565204537,-472.58375109967932,142.47653351139576,7.416838278124234E-2,0.35386850961049288,0.18903150036488389,0.35102590704025538,3.1905700203125567E-2,636236.23591358378,589047.62872999732]
[null,"IA17",null,null,null,null,null,null,null,null,null,null,null,null,null,null,null,null,null,null,null,null,217.22940105919247,-474.49338094743729,346.79776565204537,-472.58375109967932,142.47653351139576,7.416838278124234E-2,0.35386850961049288,0.18903150036488389,0.35102590704025538,3.1905700203125567E-2,636236.23591358378,589047.62872999732]
[null,"IA18",null,null,null,null,null,null,null,null,null,null,null,null,null,null,null,null,null,null,null,null,217.22940105919247,-474.49338094743729,346.79776565204537,-472.58375109967932,142.47653351139576,7.416838278124234E-2,0.35386850961049288,0.18903150036488389,0.35102590704025538,3.1905700203125567E-2,636236.23591358378,589047.62872999732]
[null,"IA19",null,null,null,null,null,null,null,null,null,null,null,null,null,null,null,null,null,null,null,null,217.22940105919247,-474.49338094743729,346.79776565204537,-472.58375109967932,142.47653351139576,7.416838278124234E-2,0.35386850961049288,0.18903150036488389,0.35102590704025538,3.1905700203125567E-2,636236.23591358378,589047.62872999732]
[null,"IA20",null,null,null,null,null,null,null,null,null,null,null,null,null,null,null,null,null,null,null,null,217.22940105919247,-474.49338094743729,346.79776565204537,-472.58375109967932,142.47653351139576,7.416838278124234E-2,0.35386850961049288,0.18903150036488389,0.35102590704025538,3.1905700203125567E-2,636236.23591358378,589047.62872999732]
[null,"IA21",null,null,null,null,null,null,null,null,null,null,null,null,null,null,null,null,null,null,null,null,217.22940105919247,-474.49338094743729,346.79776565204537,-472.58375109967932,142.47653351139576,7.416838278124234E-2,0.35386850961049288,0.18903150036488389,0.35102590704025538,3.1905700203125567E-2,636236.23591358378,589047.62872999732]
[null,"IA22",null,null,null,null,null,null,null,null,null,null,null,null,null,null,null,null,null,null,null,null,217.22940105919247,-474.49338094743729,346.79776565204537,-472.58375109967932,142.47653351139576,7.416838278124234E-2,0.35386850961049288,0.18903150036488389,0.35102590704025538,3.1905700203125567E-2,636236.23591358378,589047.62872999732]
[null,"IA23",null,null,null,null,null,null,null,null,null,null,null,null,null,null,null,null,null,null,null,null,217.22940105919247,-474.49338094743729,346.79776565204537,-472.58375109967932,142.47653351139576,7.416838278124234E-2,0.35386850961049288,0.18903150036488389,0.35102590704025538,3.1905700203125567E-2,636236.23591358378,589047.62872999732]
[null,"IA24",null,null,null,null,null,null,null,null,null,null,null,null,null,null,null,null,null,null,null,null,217.22940105919247,-474.49338094743729,346.79776565204537,-472.58375109967932,142.47653351139576,7.416838278124234E-2,0.35386850961049288,0.18903150036488389,0.35102590704025538,3.1905700203125567E-2,636236.23591358378,589047.62872999732]
[null,"IA25",null,null,null,null,null,null,null,null,null,null,null,null,null,null,null,null,null,null,null,null,217.22940105919247,-474.49338094743729,346.79776565204537,-472.58375109967932,142.47653351139576,7.416838278124234E-2,0.35386850961049288,0.18903150036488389,0.35102590704025538,3.1905700203125567E-2,636236.23591358378,589047.62872999732]
[null,"IA26",null,null,null,null,null,null,null,null,null,null,null,null,null,null,null,null,null,null,null,null,217.22940105919247,-474.49338094743729,346.79776565204537,-472.58375109967932,142.47653351139576,7.416838278124234E-2,0.35386850961049288,0.18903150036488389,0.35102590704025538,3.1905700203125567E-2,636236.23591358378,589047.62872999732]
[null,"IA27",null,null,null,null,null,null,null,null,null,null,null,null,null,null,null,null,null,null,null,null,217.22940105919247,-474.49338094743729,346.79776565204537,-472.58375109967932,142.47653351139576,7.416838278124234E-2,0.35386850961049288,0.18903150036488389,0.35102590704025538,3.1905700203125567E-2,636236.23591358378,589047.62872999732]
[null,"IA28",null,null,null,null,null,null,null,null,null,null,null,null,null,null,null,null,null,null,null,null,217.22940105919247,-474.49338094743729,346.79776565204537,-472.58375109967932,142.47653351139576,7.416838278124234E-2,0.35386850961049288,0.18903150036488389,0.35102590704025538,3.1905700203125567E-2,636236.23591358378,589047.62872999732]
[null,"IA29",null,null,null,null,null,null,null,null,null,null,null,null,null,null,null,null,null,null,null,null,217.22940105919247,-474.49338094743729,346.79776565204537,-472.58375109967932,142.47653351139576,7.416838278124234E-2,0.35386850961049288,0.18903150036488389,0.35102590704025538,3.1905700203125567E-2,636236.23591358378,589047.62872999732]
[null,"IA30",null,null,null,null,null,null,null,null,null,null,null,null,null,null,null,null,null,null,null,null,217.22940105919247,-474.49338094743729,346.79776565204537,-472.58375109967932,142.47653351139576,7.416838278124234E-2,0.35386850961049288,0.18903150036488389,0.35102590704025538,3.1905700203125567E-2,636236.23591358378,589047.62872999732]
[null,"IA31",null,null,null,null,null,null,null,null,null,null,null,null,null,null,null,null,null,null,null,null,217.22940105919247,-474.49338094743729,346.79776565204537,-472.58375109967932,142.47653351139576,7.416838278124234E-2,0.35386850961049288,0.18903150036488389,0.35102590704025538,3.1905700203125567E-2,636236.23591358378,589047.62872999732]
[null,"IA32",null,null,null,null,null,null,null,null,null,null,null,null,null,null,null,null,null,null,null,null,217.22940105919247,-474.49338094743729,346.79776565204537,-472.58375109967932,142.47653351139576,7.416838278124234E-2,0.35386850961049288,0.18903150036488389,0.35102590704025538,3.1905700203125567E-2,636236.23591358378,589047.62872999732]
[null,"IA33",null,null,null,null,null,null,null,null,null,null,null,null,null,null,null,null,null,null,null,null,217.22940105919247,-474.49338094743729,346.79776565204537,-472.58375109967932,142.47653351139576,7.416838278124234E-2,0.35386850961049288,0.18903150036488389,0.35102590704025538,3.1905700203125567E-2,636236.23591358378,589047.62872999732]
[null,"IA34",null,null,null,null,null,null,null,null,null,null,null,null,null,null,null,null,null,null,null,null,217.22940105919247,-474.49338094743729,346.79776565204537,-472.58375109967932,142.47653351139576,7.416838278124234E-2,0.35386850961049288,0.18903150036488389,0.35102590704025538,3.1905700203125567E-2,636236.23591358378,589047.62872999732]
[null,"IA35",null,null,null,null,null,null,null,null,null,null,null,null,null,null,null,null,null,null,null,null,217.22940105919247,-474.49338094743729,346.79776565204537,-472.58375109967932,142.47653351139576,7.416838278124234E-2,0.35386850961049288,0.18903150036488389,0.35102590704025538,3.1905700203125567E-2,636236.23591358378,589047.62872999732]
[null,"IA36",null,null,null,null,null,null,null,null,null,null,null,null,null,null,null,null,null,null,null,null,217.22940105919247,-474.49338094743729,346.79776565204537,-472.58375109967932,142.47653351139576,7.416838278124234E-2,0.35386850961049288,0.18903150036488389,0.35102590704025538,3.1905700203125567E-2,636236.23591358378,589047.62872999732]
[null,"IA37",null,null,null,null,null,null,null,null,null,null,null,null,null,null,null,null,null,null,null,null,217.22940105919247,-474.49338094743729,346.79776565204537,-472.58375109967932,142.47653351139576,7.416838278124234E-2,0.35386850961049288,0.18903150036488389,0.35102590704025538,3.1905700203125567E-2,636236.23591358378,589047.62872999732]
[null,"IA38",null,null,null,null,null,null,null,null,null,null,null,null,null,null,null,null,null,null,null,null,217.22940105919247,-474.49338094743729,346.79776565204537,-472.58375109967932,142.47653351139576,7.416838278124234E-2,0.35386850961049288,0.18903150036488389,0.35102590704025538,3.1905700203125567E-2,636236.23591358378,589047.62872999732]
[null,"IA39",null,null,null,null,null,null,null,null,null,null,null,null,null,null,null,null,null,null,null,null,217.22940105919247,-474.49338094743729,346.79776565204537,-472.58375109967932,142.47653351139576,7.416838278124234E-2,0.35386850961049288,0.18903150036488389,0.35102590704025538,3.1905700203125567E-2,636236.23591358378,589047.62872999732]
[null,"IA40",null,null,null,null,null,null,null,null,null,null,null,null,null,null,null,null,null,null,null,null,217.22940105919247,-474.49338094743729,346.79776565204537,-472.58375109967932,142.47653351139576,7.416838278124234E-2,0.35386850961049288,0.18903150036488389,0.35102590704025538,3.1905700203125567E-2,636236.23591358378,589047.62872999732]
[null,"IA41",null,null,null,null,null,null,null,null,null,null,null,null,null,null,null,null,null,null,null,null,217.22940105919247,-474.49338094743729,346.79776565204537,-472.58375109967932,142.47653351139576,7.416838278124234E-2,0.35386850961049288,0.18903150036488389,0.35102590704025538,3.1905700203125567E-2,636236.23591358378,589047.62872999732]
[null,"IA42",null,null,null,null,null,null,null,null,null,null,null,null,null,null,null,null,null,null,null,null,217.22940105919247,-474.49338094743729,346.79776565204537,-472.58375109967932,142.47653351139576,7.416838278124234E-2,0.35386850961049288,0.18903150036488389,0.35102590704025538,3.1905700203125567E-2,636236.23591358378,589047.62872999732]
[null,"IA43",null,null,null,null,null,null,null,null,null,null,null,null,null,null,null,null,null,null,null,null,217.22940105919247,-474.49338094743729,346.79776565204537,-472.58375109967932,142.47653351139576,7.416838278124234E-2,0.35386850961049288,0.18903150036488389,0.35102590704025538,3.1905700203125567E-2,636236.23591358378,589047.62872999732]
[null,"IA44",null,null,null,null,null,null,null,null,null,null,null,null,null,null,null,null,null,null,null,null,217.22940105919247,-474.49338094743729,346.79776565204537,-472.58375109967932,142.47653351139576,7.416838278124234E-2,0.35386850961049288,0.18903150036488389,0.35102590704025538,3.1905700203125567E-2,636236.23591358378,589047.62872999732]
[null,"IA45",null,null,null,null,null,null,null,null,null,null,null,null,null,null,null,null,null,null,null,null,217.22940105919247,-474.49338094743729,346.79776565204537,-472.58375109967932,142.47653351139576,7.416838278124234E-2,0.35386850961049288,0.18903150036488389,0.35102590704025538,3.1905700203125567E-2,636236.23591358378,589047.62872999732]
[null,"IA46",null,null,null,null,null,null,null,null,null,null,null,null,null,null,null,null,null,null,null,null,217.22940105919247,-474.49338094743729,346.79776565204537,-472.58375109967932,142.47653351139576,7.416838278124234E-2,0.35386850961049288,0.18903150036488389,0.35102590704025538,3.1905700203125567E-2,636236.23591358378,589047.62872999732]
[null,"IA47",null,null,null,null,null,null,null,null,null,null,null,null,null,null,null,null,null,null,null,null,217.22940105919247,-474.49338094743729,346.79776565204537,-472.58375109967932,142.47653351139576,7.416838278124234E-2,0.35386850961049288,0.18903150036488389,0.35102590704025538,3.1905700203125567E-2,636236.23591358378,589047.62872999732]
[null,"IA48",null,null,null,null,null,null,null,null,null,null,null,null,null,null,null,null,null,null,null,null,217.22940105919247,-474.49338094743729,346.79776565204537,-472.58375109967932,142.47653351139576,7.416838278124234E-2,0.35386850961049288,0.18903150036488389,0.35102590704025538,3.1905700203125567E-2,636236.23591358378,589047.62872999732]
[null,"IA49",null,null,null,null,null,null,null,null,null,null,null,null,null,null,null,null,null,null,null,null,217.22940105919247,-474.49338094743729,346.79776565204537,-472.58375109967932,142.47653351139576,7.416838278124234E-2,0.35386850961049288,0.18903150036488389,0.35102590704025538,3.1905700203125567E-2,636236.23591358378,589047.62872999732]
[null,"IA50",null,null,null,null,null,null,null,null,null,null,null,null,null,null,null,null,null,null,null,null,217.22940105919247,-474.49338094743729,346.79776565204537,-472.58375109967932,142.47653351139576,7.416838278124234E-2,0.35386850961049288,0.18903150036488389,0.35102590704025538,3.1905700203125567E-2,636236.23591358378,589047.62872999732]
[null,"IA51",null,null,null,null,null,null,null,null,null,null,null,null,null,null,null,null,null,null,null,null,217.22940105919247,-474.49338094743729,346.79776565204537,-472.58375109967932,142.47653351139576,7.416838278124234E-2,0.35386850961049288,0.18903150036488389,0.35102590704025538,3.1905700203125567E-2,636236.23591358378,589047.62872999732]
[null,"IA52",null,null,null,null,null,null,null,null,null,null,null,null,null,null,null,null,null,null,null,null,217.22940105919247,-474.49338094743729,346.79776565204537,-472.58375109967932,142.47653351139576,7.416838278124234E-2,0.35386850961049288,0.18903150036488389,0.35102590704025538,3.1905700203125567E-2,636236.23591358378,589047.62872999732]
[null,"IA53",null,null,null,null,null,null,null,null,null,null,null,null,null,null,null,null,null,null,null,null,217.22940105919247,-474.49338094743729,346.79776565204537,-472.58375109967932,142.47653351139576,7.416838278124234E-2,0.35386850961049288,0.18903150036488389,0.35102590704025538,3.1905700203125567E-2,636236.23591358378,589047.62872999732]
[null,"IA54",null,null,null,null,null,null,null,null,null,null,null,null,null,null,null,null,null,null,null,null,217.22940105919247,-474.49338094743729,346.79776565204537,-472.58375109967932,142.47653351139576,7.416838278124234E-2,0.35386850961049288,0.18903150036488389,0.35102590704025538,3.1905700203125567E-2,636236.23591358378,589047.62872999732]
[null,"IA55",null,null,null,null,null,null,null,null,null,null,null,null,null,null,null,null,null,null,null,null,217.22940105919247,-474.49338094743729,346.79776565204537,-472.58375109967932,142.47653351139576,7.416838278124234E-2,0.35386850961049288,0.18903150036488389,0.35102590704025538,3.1905700203125567E-2,636236.23591358378,589047.62872999732]
[null,"IA56",null,null,null,null,null,null,null,null,null,null,null,null,null,null,null,null,null,null,null,null,217.22940105919247,-474.49338094743729,346.79776565204537,-472.58375109967932,142.47653351139576,7.416838278124234E-2,0.35386850961049288,0.18903150036488389,0.35102590704025538,3.1905700203125567E-2,636236.23591358378,589047.62872999732]
[null,"IA57",null,null,null,null,null,null,null,null,null,null,null,null,null,null,null,null,null,null,null,null,217.22940105919247,-474.49338094743729,346.79776565204537,-472.58375109967932,142.47653351139576,7.416838278124234E-2,0.35386850961049288,0.18903150036488389,0.35102590704025538,3.1905700203125567E-2,636236.23591358378,589047.62872999732]
[null,"IA58",null,null,null,null,null,null,null,null,null,null,null,null,null,null,null,null,null,null,null,null,217.22940105919247,-474.49338094743729,346.79776565204537,-472.58375109967932,142.47653351139576,7.416838278124234E-2,0.35386850961049288,0.18903150036488389,0.35102590704025538,3.1905700203125567E-2,636236.23591358378,589047.62872999732]
[null,"IA59",null,null,null,null,null,null,null,null,null,null,null,null,null,null,null,null,null,null,null,null,217.22940105919247,-474.49338094743729,346.79776565204537,-472.58375109967932,142.47653351139576,7.416838278124234E-2,0.35386850961049288,0.18903150036488389,0.35102590704025538,3.1905700203125567E-2,636236.23591358378,589047.62872999732]
[null,"IA60",null,null,null,null,null,null,null,null,null,null,null,null,null,null,null,null,null,null,null,null,217.22940105919247,-474.49338094743729,346.79776565204537,-472.58375109967932,142.47653351139576,7.416838278124234E-2,0.35386850961049288,0.18903150036488389,0.35102590704025538,3.1905700203125567E-2,636236.23591358378,589047.62872999732]
[null,"IA61",null,null,null,null,null,null,null,null,null,null,null,null,null,null,null,null,null,null,null,null,217.22940105919247,-474.49338094743729,346.79776565204537,-472.58375109967932,142.47653351139576,7.416838278124234E-2,0.35386850961049288,0.18903150036488389,0.35102590704025538,3.1905700203125567E-2,636236.23591358378,589047.62872999732]
[null,"IA62",null,null,null,null,null,null,null,null,null,null,null,null,null,null,null,null,null,null,null,null,217.22940105919247,-474.49338094743729,346.79776565204537,-472.58375109967932,142.47653351139576,7.416838278124234E-2,0.35386850961049288,0.18903150036488389,0.35102590704025538,3.1905700203125567E-2,636236.23591358378,589047.62872999732]
[null,"IA63",null,null,null,null,null,null,null,null,null,null,null,null,null,null,null,null,null,null,null,null,217.22940105919247,-474.49338094743729,346.79776565204537,-472.58375109967932,142.47653351139576,7.416838278124234E-2,0.35386850961049288,0.18903150036488389,0.35102590704025538,3.1905700203125567E-2,636236.23591358378,589047.62872999732]
[null,"IA64",null,null,null,null,null,null,null,null,null,null,null,null,null,null,null,null,null,null,null,null,217.22940105919247,-474.49338094743729,346.79776565204537,-472.58375109967932,142.47653351139576,{"$f":"W1069^2/$AG1069","v":7.416838278124234E-2},{"$f":"X1069^2/$AG1069","v":0.35386850961049288},{"$f":"Y1069^2/$AG1069","v":0.18903150036488389},{"$f":"Z1069^2/$AG1069","v":0.35102590704025538},{"$f":"AA1069^2/$AG1069","v":3.1905700203125567E-2},{"$f":"W1069^2+X1069^2+Y1069^2+Z1069^2+AA1069^2","v":636236.23591358378},589047.62872999732]
[null,"IA65",null,null,null,null,null,null,null,null,null,null,null,null,null,null,null,null,null,null,null,null,217.22940105919247,-474.49338094743729,346.79776565204537,-472.58375109967932,142.47653351139576,7.416838278124234E-2,0.35386850961049288,0.18903150036488389,0.35102590704025538,3.1905700203125567E-2,636236.23591358378,589047.62872999732]
[null,"IA66",null,null,null,null,null,null,null,null,null,null,null,null,null,null,null,null,null,null,null,null,217.22940105919247,-474.49338094743729,346.79776565204537,-472.58375109967932,142.47653351139576,7.416838278124234E-2,0.35386850961049288,0.18903150036488389,0.35102590704025538,3.1905700203125567E-2,636236.23591358378,589047.62872999732]
[null,"IA67",null,null,null,null,null,null,null,null,null,null,null,null,null,null,null,null,null,null,null,null,217.22940105919247,-474.49338094743729,346.79776565204537,-472.58375109967932,142.47653351139576,7.416838278124234E-2,0.35386850961049288,0.18903150036488389,0.35102590704025538,3.1905700203125567E-2,636236.23591358378,589047.62872999732]
[null,"IA68",null,null,null,null,null,null,null,null,null,null,null,null,null,null,null,null,null,null,null,null,217.22940105919247,-474.49338094743729,346.79776565204537,-472.58375109967932,142.47653351139576,7.416838278124234E-2,0.35386850961049288,0.18903150036488389,0.35102590704025538,3.1905700203125567E-2,636236.23591358378,589047.62872999732]
[null,"IA69",null,null,null,null,null,null,null,null,null,null,null,null,null,null,null,null,null,null,null,null,217.22940105919247,-474.49338094743729,346.79776565204537,-472.58375109967932,142.47653351139576,7.416838278124234E-2,0.35386850961049288,0.18903150036488389,0.35102590704025538,3.1905700203125567E-2,636236.23591358378,589047.62872999732]
[null,"IA70",null,null,null,null,null,null,null,null,null,null,null,null,null,null,null,null,null,null,null,null,217.22940105919247,-474.49338094743729,346.79776565204537,-472.58375109967932,142.47653351139576,7.416838278124234E-2,0.35386850961049288,0.18903150036488389,0.35102590704025538,3.1905700203125567E-2,636236.23591358378,589047.62872999732]
[null,"IA71",null,null,null,null,null,null,null,null,null,null,null,null,null,null,null,null,null,null,null,null,217.22940105919247,-474.49338094743729,346.79776565204537,-472.58375109967932,142.47653351139576,7.416838278124234E-2,0.35386850961049288,0.18903150036488389,0.35102590704025538,3.1905700203125567E-2,636236.23591358378,589047.62872999732]
[null,"IA72",null,null,null,null,null,null,null,null,null,null,null,null,null,null,null,null,null,null,null,null,217.22940105919247,-474.49338094743729,346.79776565204537,-472.58375109967932,142.47653351139576,7.416838278124234E-2,0.35386850961049288,0.18903150036488389,0.35102590704025538,3.1905700203125567E-2,636236.23591358378,589047.62872999732]
[null,"IA73",null,null,null,null,null,null,null,null,null,null,null,null,null,null,null,null,null,null,null,null,217.22940105919247,-474.49338094743729,346.79776565204537,-472.58375109967932,142.47653351139576,7.416838278124234E-2,0.35386850961049288,0.18903150036488389,0.35102590704025538,3.1905700203125567E-2,636236.23591358378,589047.62872999732]
[null,"IA74",null,null,null,null,null,null,null,null,null,null,null,null,null,null,null,null,null,null,null,null,217.22940105919247,-474.49338094743729,346.79776565204537,-472.58375109967932,142.47653351139576,7.416838278124234E-2,0.35386850961049288,0.18903150036488389,0.35102590704025538,3.1905700203125567E-2,636236.23591358378,589047.62872999732]
[null,"IA75",null,null,null,null,null,null,null,null,null,null,null,null,null,null,null,null,null,null,null,null,217.22940105919247,-474.49338094743729,346.79776565204537,-472.58375109967932,142.47653351139576,7.416838278124234E-2,0.35386850961049288,0.18903150036488389,0.35102590704025538,3.1905700203125567E-2,636236.23591358378,589047.62872999732]
[null,"IA76",null,null,null,null,null,null,null,null,null,null,null,null,null,null,null,null,null,null,null,null,217.22940105919247,-474.49338094743729,346.79776565204537,-472.58375109967932,142.47653351139576,7.416838278124234E-2,0.35386850961049288,0.18903150036488389,0.35102590704025538,3.1905700203125567E-2,636236.23591358378,589047.62872999732]
[null,"IA77",null,null,null,null,null,null,null,null,null,null,null,null,null,null,null,null,null,null,null,null,217.22940105919247,-474.49338094743729,346.79776565204537,-472.58375109967932,142.47653351139576,7.416838278124234E-2,0.35386850961049288,0.18903150036488389,0.35102590704025538,3.1905700203125567E-2,636236.23591358378,589047.62872999732]
[null,"IA78",null,null,null,null,null,null,null,null,null,null,null,null,null,null,null,null,null,null,null,null,217.22940105919247,-474.49338094743729,346.79776565204537,-472.58375109967932,142.47653351139576,7.416838278124234E-2,0.35386850961049288,0.18903150036488389,0.35102590704025538,3.1905700203125567E-2,636236.23591358378,589047.62872999732]
[null,"IA79",null,null,null,null,null,null,null,null,null,null,null,null,null,null,null,null,null,null,null,null,217.22940105919247,-474.49338094743729,346.79776565204537,-472.58375109967932,142.47653351139576,7.416838278124234E-2,0.35386850961049288,0.18903150036488389,0.35102590704025538,3.1905700203125567E-2,636236.23591358378,589047.62872999732]
[null,"IA80",null,null,null,null,null,null,null,null,null,null,null,null,null,null,null,null,null,null,null,null,217.22940105919247,-474.49338094743729,346.79776565204537,-472.58375109967932,142.47653351139576,7.416838278124234E-2,0.35386850961049288,0.18903150036488389,0.35102590704025538,3.1905700203125567E-2,636236.23591358378,589047.62872999732]
[null,"IA81",null,null,null,null,null,null,null,null,null,null,null,null,null,null,null,null,null,null,null,null,217.22940105919247,-474.49338094743729,346.79776565204537,-472.58375109967932,142.47653351139576,7.416838278124234E-2,0.35386850961049288,0.18903150036488389,0.35102590704025538,3.1905700203125567E-2,636236.23591358378,589047.62872999732]
[null,"IA82",null,null,null,null,null,null,null,null,null,null,null,null,null,null,null,null,null,null,null,null,217.22940105919247,-474.49338094743729,346.79776565204537,-472.58375109967932,142.47653351139576,7.416838278124234E-2,0.35386850961049288,0.18903150036488389,0.35102590704025538,3.1905700203125567E-2,636236.23591358378,589047.62872999732]
[null,"IA83",null,null,null,null,null,null,null,null,null,null,null,null,null,null,null,null,null,null,null,null,217.22940105919247,-474.49338094743729,346.79776565204537,-472.58375109967932,142.47653351139576,7.416838278124234E-2,0.35386850961049288,0.18903150036488389,0.35102590704025538,3.1905700203125567E-2,636236.23591358378,589047.62872999732]
[null,"IA84",null,null,null,null,null,null,null,null,null,null,null,null,null,null,null,null,null,null,null,null,217.22940105919247,-474.49338094743729,346.79776565204537,-472.58375109967932,142.47653351139576,7.416838278124234E-2,0.35386850961049288,0.18903150036488389,0.35102590704025538,3.1905700203125567E-2,636236.23591358378,589047.62872999732]
[null,"IA85",null,null,null,null,null,null,null,null,null,null,null,null,null,null,null,null,null,null,null,null,217.22940105919247,-474.49338094743729,346.79776565204537,-472.58375109967932,142.47653351139576,7.416838278124234E-2,0.35386850961049288,0.18903150036488389,0.35102590704025538,3.1905700203125567E-2,636236.23591358378,589047.62872999732]
[null,"IA86",null,null,null,null,null,null,null,null,null,null,null,null,null,null,null,null,null,null,null,null,217.22940105919247,-474.49338094743729,346.79776565204537,-472.58375109967932,142.47653351139576,7.416838278124234E-2,0.35386850961049288,0.18903150036488389,0.35102590704025538,3.1905700203125567E-2,636236.23591358378,589047.62872999732]
[null,"IA87",null,null,null,null,null,null,null,null,null,null,null,null,null,null,null,null,null,null,null,null,217.22940105919247,-474.49338094743729,346.79776565204537,-472.58375109967932,142.47653351139576,7.416838278124234E-2,0.35386850961049288,0.18903150036488389,0.35102590704025538,3.1905700203125567E-2,636236.23591358378,589047.62872999732]
[null,"IA88",null,null,null,null,null,null,null,null,null,null,null,null,null,null,null,null,null,null,null,null,217.22940105919247,-474.49338094743729,346.79776565204537,-472.58375109967932,142.47653351139576,7.416838278124234E-2,0.35386850961049288,0.18903150036488389,0.35102590704025538,3.1905700203125567E-2,636236.23591358378,589047.62872999732]
[null,"IA89",null,null,null,null,null,null,null,null,null,null,null,null,null,null,null,null,null,null,null,null,217.22940105919247,-474.49338094743729,346.79776565204537,-472.58375109967932,142.47653351139576,7.416838278124234E-2,0.35386850961049288,0.18903150036488389,0.35102590704025538,3.1905700203125567E-2,636236.23591358378,589047.62872999732]
[null,"IA90",null,null,null,null,null,null,null,null,null,null,null,null,null,null,null,null,null,null,null,null,217.22940105919247,-474.49338094743729,346.79776565204537,-472.58375109967932,142.47653351139576,7.416838278124234E-2,0.35386850961049288,0.18903150036488389,0.35102590704025538,3.1905700203125567E-2,636236.23591358378,589047.62872999732]
[null,"IA91",null,null,null,null,null,null,null,null,null,null,null,null,null,null,null,null,null,null,null,null,217.22940105919247,-474.49338094743729,346.79776565204537,-472.58375109967932,142.47653351139576,7.416838278124234E-2,0.35386850961049288,0.18903150036488389,0.35102590704025538,3.1905700203125567E-2,636236.23591358378,589047.62872999732]
[null,"IA92",null,null,null,null,null,null,null,null,null,null,null,null,null,null,null,null,null,null,null,null,217.22940105919247,-474.49338094743729,346.79776565204537,-472.58375109967932,142.47653351139576,7.416838278124234E-2,0.35386850961049288,0.18903150036488389,0.35102590704025538,3.1905700203125567E-2,636236.23591358378,589047.62872999732]
[null,"IA93",null,null,null,null,null,null,null,null,null,null,null,null,null,null,null,null,null,null,null,null,217.22940105919247,-474.49338094743729,346.79776565204537,-472.58375109967932,142.47653351139576,7.416838278124234E-2,0.35386850961049288,0.18903150036488389,0.35102590704025538,3.1905700203125567E-2,636236.23591358378,589047.62872999732]
[null,"IA94",null,null,null,null,null,null,null,null,null,null,null,null,null,null,null,null,null,null,null,null,217.22940105919247,-474.49338094743729,346.79776565204537,-472.58375109967932,142.47653351139576,7.416838278124234E-2,0.35386850961049288,0.18903150036488389,0.35102590704025538,3.1905700203125567E-2,636236.23591358378,589047.62872999732]
[null,"IA95",null,null,null,null,null,null,null,null,null,null,null,null,null,null,null,null,null,null,null,null,217.22940105919247,-474.49338094743729,346.79776565204537,-472.58375109967932,142.47653351139576,7.416838278124234E-2,0.35386850961049288,0.18903150036488389,0.35102590704025538,3.1905700203125567E-2,636236.23591358378,589047.62872999732]
[null,"IA96",null,null,null,null,null,null,null,null,null,null,null,null,null,null,null,null,null,null,null,null,217.22940105919247,-474.49338094743729,346.79776565204537,-472.58375109967932,142.47653351139576,7.416838278124234E-2,0.35386850961049288,0.18903150036488389,0.35102590704025538,3.1905700203125567E-2,636236.23591358378,589047.62872999732]
[null,"IA97",null,null,null,null,null,null,null,null,null,null,null,null,null,null,null,null,null,null,null,null,217.22940105919247,-474.49338094743729,346.79776565204537,-472.58375109967932,142.47653351139576,7.416838278124234E-2,0.35386850961049288,0.18903150036488389,0.35102590704025538,3.1905700203125567E-2,636236.23591358378,589047.62872999732]
[null,"IA98",null,null,null,null,null,null,null,null,null,null,null,null,null,null,null,null,null,null,null,null,217.22940105919247,-474.49338094743729,346.79776565204537,-472.58375109967932,142.47653351139576,7.416838278124234E-2,0.35386850961049288,0.18903150036488389,0.35102590704025538,3.1905700203125567E-2,636236.23591358378,589047.62872999732]
[null,"IA99",null,null,null,null,null,null,null,null,null,null,null,null,null,null,null,null,null,null,null,null,217.22940105919247,-474.49338094743729,346.79776565204537,-472.58375109967932,142.47653351139576,7.416838278124234E-2,0.35386850961049288,0.18903150036488389,0.35102590704025538,3.1905700203125567E-2,636236.23591358378,589047.62872999732]
[null,"IA100",null,null,null,null,null,null,null,null,null,null,null,null,null,null,null,null,null,null,null,null,217.22940105919247,-474.49338094743729,346.79776565204537,-472.58375109967932,142.47653351139576,7.416838278124234E-2,0.35386850961049288,0.18903150036488389,0.35102590704025538,3.1905700203125567E-2,636236.23591358378,589047.62872999732]

{"sheet":"centrée_réduite","index":3,"n_rows":1205,"n_cols":22,"rows_kept":1205,"cut":false,"hidden":false,"merged":[]}
[{"$f":"données!A1","v":"nb lignes"},{"$f":"données!B1","v":"moyennes"},{"$f":"AVERAGE(OFFSET(C$4,0,0,$A$2,1))","v":-1.3421671181864289E-13},{"$f":"AVERAGE(OFFSET(D$4,0,0,$A$2,1))","v":1.8908485888147197E-15},3.0068540250264658E-16,-9.0205620750793969E-17,4.6798502573164313E-15,-2.1973164029039557E-16,0,{"$error":"#N/A"},{"$error":"#N/A"},{"$error":"#N/A"},{"$error":"#N/A"},{"$error":"#N/A"},{"$error":"#N/A"},{"$error":"#N/A"},{"$error":"#N/A"},{"$error":"#N/A"},{"$error":"#N/A"},{"$error":"#N/A"},{"$error":"#N/A"},{"$error":"#N/A"}]
[{"$f":"données!A2","v":48},{"$f":"données!B2","v":"écarts type"},{"$f":"STDEV(OFFSET(C$4,0,0,$A$2,1))","v":1},{"$f":"STDEV(OFFSET(D$4,0,0,$A$2,1))","v":1},1,0.99999999999999978,1.0000000000000002,1.0000000000000009,1,{"$error":"#N/A"},{"$error":"#N/A"},{"$error":"#N/A"},{"$error":"#N/A"},{"$error":"#N/A"},{"$error":"#N/A"},{"$error":"#N/A"},{"$error":"#N/A"},{"$error":"#N/A"},{"$error":"#N/A"},{"$error":"#N/A"},{"$error":"#N/A"},{"$error":"#N/A"}]
[{"$f":"données!A3","v":"nb colonnes"},{"$f":"données!B3","v":"numéro"},{"$f":"données!C3","v":"heure"},{"$f":"données!D3","v":"diamètre1"},{"$f":"données!E3","v":"décalage1"},{"$f":"données!F3","v":"aspérités1"},{"$f":"données!G3","v":"diamètre2"},{"$f":"données!H3","v":"décalage2"},{"$f":"données!I3","v":"aspérités2"},{"$f":"données!J3","v":0},{"$f":"données!K3","v":0},{"$f":"données!L3","v":0},{"$f":"données!M3","v":0},{"$f":"données!N3","v":0},{"$f":"données!O3","v":0},{"$f":"données!P3","v":0},{"$f":"données!Q3","v":0},{"$f":"données!R3","v":0},{"$f":"données!S3","v":0},{"$f":"données!T3","v":0},{"$f":"données!U3","v":0},{"$f":"données!V3","v":0}]
[{"$f":"données!A4","v":7},{"$f":"données!B4","v":1},{"$f":"(mdonnées-données!C1:V1)/données!C2:V2","v":-1.241536898568782},0.12747467053300429,0.48044035208420327,-0.25048880409361668,0.7209821424915217,0.33231058424977555,-0.9625512999142507,{"$error":"#N/A"},{"$error":"#N/A"},{"$error":"#N/A"},{"$error":"#N/A"},{"$error":"#N/A"},{"$error":"#N/A"},{"$error":"#N/A"},{"$error":"#N/A"},{"$error":"#N/A"},{"$error":"#N/A"},{"$error":"#N/A"},{"$error":"#N/A"},{"$error":"#N/A"}]
[null,{"$f":"données!B5","v":2},-1.1910764657733934,0.2066589364640915,0.34168501574219506,-0.15590180636023285,0.62717219846438532,0.60559034334427086,-0.87568415557416313,{"$error":"#N/A"},{"$error":"#N/A"},{"$error":"#N/A"},{"$error":"#N/A"},{"$error":"#N/A"},{"$error":"#N/A"},{"$error":"#N/A"},{"$error":"#N/A"},{"$error":"#N/A"},{"$error":"#N/A"},{"$error":"#N/A"},{"$error":"#N/A"},{"$error":"#N/A"}]
[null,{"$f":"données!B6","v":3},-1.1658462493756991,0.19466132041392398,0.56369355388940823,-0.12134117257303492,0.66862310396474811,0.47614203640477321,-0.99874594338928691,{"$error":"#N/A"},{"$error":"#N/A"},{"$error":"#N/A"},{"$error":"#N/A"},{"$error":"#N/A"},{"$error":"#N/A"},{"$error":"#N/A"},{"$error":"#N/A"},{"$error":"#N/A"},{"$error":"#N/A"},{"$error":"#N/A"},{"$error":"#N/A"},{"$error":"#N/A"}]
[null,{"$f":"données!B7","v":4},-1.140616032978145,0.23065416856441973,0.21680521303438796,-0.21592817030641875,0.70571075625454727,0.26039485817227637,-0.94807344252423598,{"$error":"#N/A"},{"$error":"#N/A"},{"$error":"#N/A"},{"$error":"#N/A"},{"$error":"#N/A"},{"$error":"#N/A"},{"$error":"#N/A"},{"$error":"#N/A"},{"$error":"#N/A"},{"$error":"#N/A"},{"$error":"#N/A"},{"$error":"#N/A"},{"$error":"#N/A"}]
[null,{"$f":"données!B8","v":5},-1.0649253837850621,0.21865655251425561,0.27230734757119124,-0.28686841860645657,0.64026195809607633,0.51929147205127224,-1.0518314204860071,{"$error":"#N/A"},{"$error":"#N/A"},{"$error":"#N/A"},{"$error":"#N/A"},{"$error":"#N/A"},{"$error":"#N/A"},{"$error":"#N/A"},{"$error":"#N/A"},{"$error":"#N/A"},{"$error":"#N/A"},{"$error":"#N/A"},{"$error":"#N/A"},{"$error":"#N/A"}]
[null,{"$f":"données!B9","v":6},-1.0396951673873678,0.20905845967412229,0.52206695298680539,-0.17954855579357887,0.86496949844015147,-0.24301522437021494,-0.93359558513422147,{"$error":"#N/A"},{"$error":"#N/A"},{"$error":"#N/A"},{"$error":"#N/A"},{"$error":"#N/A"},{"$error":"#N/A"},{"$error":"#N/A"},{"$error":"#N/A"},{"$error":"#N/A"},{"$error":"#N/A"},{"$error":"#N/A"},{"$error":"#N/A"},{"$error":"#N/A"}]
[null,{"$f":"données!B10","v":7},-1.0144649509898136,0.2330536917744539,0.50819141935260492,-0.16499670998844287,0.83006347275563575,0.6199734885597703,-1.0120173126634671,{"$error":"#N/A"},{"$error":"#N/A"},{"$error":"#N/A"},{"$error":"#N/A"},{"$error":"#N/A"},{"$error":"#N/A"},{"$error":"#N/A"},{"$error":"#N/A"},{"$error":"#N/A"},{"$error":"#N/A"},{"$error":"#N/A"},{"$error":"#N/A"},{"$error":"#N/A"}]
[null,{"$f":"données!B11","v":8},-0.9892347345921193,0.18266370436375989,0.42493821754739997,-0.21229020885513475,0.70789238285982758,0.6199734885597703,-0.98185510976760337,{"$error":"#N/A"},{"$error":"#N/A"},{"$error":"#N/A"},{"$error":"#N/A"},{"$error":"#N/A"},{"$error":"#N/A"},{"$error":"#N/A"},{"$error":"#N/A"},{"$error":"#N/A"},{"$error":"#N/A"},{"$error":"#N/A"},{"$error":"#N/A"},{"$error":"#N/A"}]
[null,{"$f":"données!B12","v":9},-0.96400451819442501,0.22585512214435477,0.64694675569461313,-0.11770321112175093,0.85406136541374078,-8.4800626999717479E-2,-0.9697902286092579,{"$error":"#N/A"},{"$error":"#N/A"},{"$error":"#N/A"},{"$error":"#N/A"},{"$error":"#N/A"},{"$error":"#N/A"},{"$error":"#N/A"},{"$error":"#N/A"},{"$error":"#N/A"},{"$error":"#N/A"},{"$error":"#N/A"},{"$error":"#N/A"},{"$error":"#N/A"}]
[null,{"$f":"données!B13","v":10},-0.88831386900134213,0.13707276337313423,0.16130307849758466,-0.19773836304999878,0.60099267920099686,0.56244090769777189,-0.97702915730426509,{"$error":"#N/A"},{"$error":"#N/A"},{"$error":"#N/A"},{"$error":"#N/A"},{"$error":"#N/A"},{"$error":"#N/A"},{"$error":"#N/A"},{"$error":"#N/A"},{"$error":"#N/A"},{"$error":"#N/A"},{"$error":"#N/A"},{"$error":"#N/A"},{"$error":"#N/A"}]
[null,{"$f":"données!B14","v":11},-0.86308365260378783,0.17786465794369491,0.24455628030278959,-0.20501428595256677,0.75588816817603743,0.23162856774127683,-1.0301146344009853,{"$error":"#N/A"},{"$error":"#N/A"},{"$error":"#N/A"},{"$error":"#N/A"},{"$error":"#N/A"},{"$error":"#N/A"},{"$error":"#N/A"},{"$error":"#N/A"},{"$error":"#N/A"},{"$error":"#N/A"},{"$error":"#N/A"},{"$error":"#N/A"},{"$error":"#N/A"}]
[null,{"$f":"données!B15","v":12},-0.83785343620609354,0.12267562411293594,0.35556054937639614,-0.18682447869614685,0.79297582046583659,0.17409598687927838,-1.0083978483159632,{"$error":"#N/A"},{"$error":"#N/A"},{"$error":"#N/A"},{"$error":"#N/A"},{"$error":"#N/A"},{"$error":"#N/A"},{"$error":"#N/A"},{"$error":"#N/A"},{"$error":"#N/A"},{"$error":"#N/A"},{"$error":"#N/A"},{"$error":"#N/A"},{"$error":"#N/A"}]
[null,{"$f":"données!B16","v":13},-0.83785343620609354,-0.36682711073378732,0.38331161664479779,0.29520541359898234,0.82351859293978869,0.60559034334427086,-1.0614833254126836,{"$error":"#N/A"},{"$error":"#N/A"},{"$error":"#N/A"},{"$error":"#N/A"},{"$error":"#N/A"},{"$error":"#N/A"},{"$error":"#N/A"},{"$error":"#N/A"},{"$error":"#N/A"},{"$error":"#N/A"},{"$error":"#N/A"},{"$error":"#N/A"},{"$error":"#N/A"}]
[null,{"$f":"données!B17","v":14},-0.81262321980839924,0.20425941325405733,0.45268928481580162,-6.313378935249106E-2,0.83224509936091917,-7.0417481784218028E-2,-0.9625512999142507,{"$error":"#N/A"},{"$error":"#N/A"},{"$error":"#N/A"},{"$error":"#N/A"},{"$error":"#N/A"},{"$error":"#N/A"},{"$error":"#N/A"},{"$error":"#N/A"},{"$error":"#N/A"},{"$error":"#N/A"},{"$error":"#N/A"},{"$error":"#N/A"},{"$error":"#N/A"}]
[null,{"$f":"données!B18","v":15},-0.78739300341070495,0.12267562411293594,2.254774215557645E-2,-0.24503186191669074,0.69262099662285304,0.70627235985276893,-0.87206469122665953,{"$error":"#N/A"},{"$error":"#N/A"},{"$error":"#N/A"},{"$error":"#N/A"},{"$error":"#N/A"},{"$error":"#N/A"},{"$error":"#N/A"},{"$error":"#N/A"},{"$error":"#N/A"},{"$error":"#N/A"},{"$error":"#N/A"},{"$error":"#N/A"},{"$error":"#N/A"}]
[null,{"$f":"données!B19","v":16},-0.76216278701301066,0.13227371695306928,0.31393394847379341,-7.4047673706343048E-2,0.73189027551793251,0.34669372946527499,-1.0385600512118269,{"$error":"#N/A"},{"$error":"#N/A"},{"$error":"#N/A"},{"$error":"#N/A"},{"$error":"#N/A"},{"$error":"#N/A"},{"$error":"#N/A"},{"$error":"#N/A"},{"$error":"#N/A"},{"$error":"#N/A"},{"$error":"#N/A"},{"$error":"#N/A"},{"$error":"#N/A"}]
[null,{"$f":"données!B20","v":17},-0.73693257061545647,0.21385750609419066,0.50819141935260492,-0.16317772926280086,0.88460413788769277,-2.72680461377184E-2,-0.87085820311082507,{"$error":"#N/A"},{"$error":"#N/A"},{"$error":"#N/A"},{"$error":"#N/A"},{"$error":"#N/A"},{"$error":"#N/A"},{"$error":"#N/A"},{"$error":"#N/A"},{"$error":"#N/A"},{"$error":"#N/A"},{"$error":"#N/A"},{"$error":"#N/A"},{"$error":"#N/A"}]
[null,{"$f":"données!B21","v":18},-0.68647213782006788,0.24985035424468299,0.41106268391319944,-0.16863467143972688,0.87805925807184571,0.20286227731027792,-0.8696517149949905,{"$error":"#N/A"},{"$error":"#N/A"},{"$error":"#N/A"},{"$error":"#N/A"},{"$error":"#N/A"},{"$error":"#N/A"},{"$error":"#N/A"},{"$error":"#N/A"},{"$error":"#N/A"},{"$error":"#N/A"},{"$error":"#N/A"},{"$error":"#N/A"},{"$error":"#N/A"}]
[null,{"$f":"données!B22","v":19},-0.66124192142237359,0.20905845967412229,0.53594248662100652,-0.1995573437756408,0.64244358470135976,0.44737574597377366,-0.88654254861667403,{"$error":"#N/A"},{"$error":"#N/A"},{"$error":"#N/A"},{"$error":"#N/A"},{"$error":"#N/A"},{"$error":"#N/A"},{"$error":"#N/A"},{"$error":"#N/A"},{"$error":"#N/A"},{"$error":"#N/A"},{"$error":"#N/A"},{"$error":"#N/A"},{"$error":"#N/A"}]
[null,{"$f":"données!B23","v":20},-0.6360117050246793,-0.34523140184348988,5.0298809423978096E-2,0.13513510974248658,0.82351859293978869,0.1165634060172793,-0.95772534745091242,{"$error":"#N/A"},{"$error":"#N/A"},{"$error":"#N/A"},{"$error":"#N/A"},{"$error":"#N/A"},{"$error":"#N/A"},{"$error":"#N/A"},{"$error":"#N/A"},{"$error":"#N/A"},{"$error":"#N/A"},{"$error":"#N/A"},{"$error":"#N/A"},{"$error":"#N/A"}]
[null,{"$f":"données!B24","v":21},-0.610781488626985,0.20185989004402313,0.5498180202552071,-0.18136753651922083,0.67953123699115892,0.46175889118927316,-0.8877490367325086,{"$error":"#N/A"},{"$error":"#N/A"},{"$error":"#N/A"},{"$error":"#N/A"},{"$error":"#N/A"},{"$error":"#N/A"},{"$error":"#N/A"},{"$error":"#N/A"},{"$error":"#N/A"},{"$error":"#N/A"},{"$error":"#N/A"},{"$error":"#N/A"},{"$error":"#N/A"}]
[null,{"$f":"données!B25","v":23},-0.43416997384340505,1.3464324612297465,-0.42146933413884924,5.5099957814238702E-2,-5.3495302383687347E-2,0.21724542252577736,1.4287081456698241,{"$error":"#N/A"},{"$error":"#N/A"},{"$error":"#N/A"},{"$error":"#N/A"},{"$error":"#N/A"},{"$error":"#N/A"},{"$error":"#N/A"},{"$error":"#N/A"},{"$error":"#N/A"},{"$error":"#N/A"},{"$error":"#N/A"},{"$error":"#N/A"},{"$error":"#N/A"}]
[null,{"$f":"données!B26","v":24},-0.40893975744571076,1.8287366264463689,0.56369355388940823,-0.33598089819879057,-1.8589276699171594E-2,0.27477800338777647,1.2573868332213183,{"$error":"#N/A"},{"$error":"#N/A"},{"$error":"#N/A"},{"$error":"#N/A"},{"$error":"#N/A"},{"$error":"#N/A"},{"$error":"#N/A"},{"$error":"#N/A"},{"$error":"#N/A"},{"$error":"#N/A"},{"$error":"#N/A"},{"$error":"#N/A"},{"$error":"#N/A"}]
[null,{"$f":"données!B27","v":25},-0.38370954104801647,1.823937580026304,0.17517861213178518,-0.20683326667820881,-0.11676247393687331,0.1165634060172793,1.3901005259631185,{"$error":"#N/A"},{"$error":"#N/A"},{"$error":"#N/A"},{"$error":"#N/A"},{"$error":"#N/A"},{"$error":"#N/A"},{"$error":"#N/A"},{"$error":"#N/A"},{"$error":"#N/A"},{"$error":"#N/A"},{"$error":"#N/A"},{"$error":"#N/A"},{"$error":"#N/A"}]
[null,{"$f":"données!B28","v":26},-0.35847932465032217,1.8719280442269639,0.30005841483959289,-0.18318651724486287,-7.9674821647075705E-2,0.28916114860327591,1.4275016575539896,{"$error":"#N/A"},{"$error":"#N/A"},{"$error":"#N/A"},{"$error":"#N/A"},{"$error":"#N/A"},{"$error":"#N/A"},{"$error":"#N/A"},{"$error":"#N/A"},{"$error":"#N/A"},{"$error":"#N/A"},{"$error":"#N/A"},{"$error":"#N/A"},{"$error":"#N/A"}]
[null,{"$f":"données!B29","v":27},-0.25755845905968505,1.1568701276371414,-0.87936194406747603,-3.4030097742219087E-2,-0.19748265833231868,0.26039485817227637,1.0884784970044814,{"$error":"#N/A"},{"$error":"#N/A"},{"$error":"#N/A"},{"$error":"#N/A"},{"$error":"#N/A"},{"$error":"#N/A"},{"$error":"#N/A"},{"$error":"#N/A"},{"$error":"#N/A"},{"$error":"#N/A"},{"$error":"#N/A"},{"$error":"#N/A"},{"$error":"#N/A"}]
[null,{"$f":"données!B30","v":28},-0.20709802626429644,0.61937692858976001,0.30005841483959289,0.61170805986068966,-9.0582954673486496E-2,0.33231058424977555,1.2899620123488511,{"$error":"#N/A"},{"$error":"#N/A"},{"$error":"#N/A"},{"$error":"#N/A"},{"$error":"#N/A"},{"$error":"#N/A"},{"$error":"#N/A"},{"$error":"#N/A"},{"$error":"#N/A"},{"$error":"#N/A"},{"$error":"#N/A"},{"$error":"#N/A"},{"$error":"#N/A"}]
[null,{"$f":"données!B31","v":29},-0.10617716067365933,-2.2528523538196921,-1.0597438813120863,-1.4528350637429766,-1.4257384371062418,-1.9114600693681867,0.14983074288520287,{"$error":"#N/A"},{"$error":"#N/A"},{"$error":"#N/A"},{"$error":"#N/A"},{"$error":"#N/A"},{"$error":"#N/A"},{"$error":"#N/A"},{"$error":"#N/A"},{"$error":"#N/A"},{"$error":"#N/A"},{"$error":"#N/A"},{"$error":"#N/A"},{"$error":"#N/A"}]
[null,{"$f":"données!B32","v":31},4.5204137712366373E-2,-2.5024027676631198,-1.0874949485804881,-1.0544782848273793,-0.97196010320752779,-1.9833757954456854,3.6420859996755331E-2,{"$error":"#N/A"},{"$error":"#N/A"},{"$error":"#N/A"},{"$error":"#N/A"},{"$error":"#N/A"},{"$error":"#N/A"},{"$error":"#N/A"},{"$error":"#N/A"},{"$error":"#N/A"},{"$error":"#N/A"},{"$error":"#N/A"},{"$error":"#N/A"},{"$error":"#N/A"}]
[null,{"$f":"données!B33","v":32},7.0434354110060673E-2,-1.7585505725529023,-1.6286407603143198,1.9704866619152612,-2.6365412030379085,-1.8107780528596886,-2.8729498258310279E-2,{"$error":"#N/A"},{"$error":"#N/A"},{"$error":"#N/A"},{"$error":"#N/A"},{"$error":"#N/A"},{"$error":"#N/A"},{"$error":"#N/A"},{"$error":"#N/A"},{"$error":"#N/A"},{"$error":"#N/A"},{"$error":"#N/A"},{"$error":"#N/A"},{"$error":"#N/A"}]
[null,{"$f":"données!B34","v":33},9.5664570507754967E-2,-1.967309091825769,-1.7812716302905287,-0.17954855579357887,-1.6133583251605179,-1.8539274885061876,1.4576638604498533,{"$error":"#N/A"},{"$error":"#N/A"},{"$error":"#N/A"},{"$error":"#N/A"},{"$error":"#N/A"},{"$error":"#N/A"},{"$error":"#N/A"},{"$error":"#N/A"},{"$error":"#N/A"},{"$error":"#N/A"},{"$error":"#N/A"},{"$error":"#N/A"},{"$error":"#N/A"}]
[null,{"$f":"données!B35","v":37},0.34796673448441778,-1.9625100454057041,-1.3233790203619018,-1.6511039628379542,-1.8642453847679814,-0.58821070954220911,0.60347027443899304,{"$error":"#N/A"},{"$error":"#N/A"},{"$error":"#N/A"},{"$error":"#N/A"},{"$error":"#N/A"},{"$error":"#N/A"},{"$error":"#N/A"},{"$error":"#N/A"},{"$error":"#N/A"},{"$error":"#N/A"},{"$error":"#N/A"},{"$error":"#N/A"},{"$error":"#N/A"}]
[null,{"$f":"données!B36","v":38},0.42365738367736061,-0.17726477714118211,-0.44922040140725089,-1.2545661646479989,-1.5064586215016871,-1.9977589406611853,1.0993368900469924,{"$error":"#N/A"},{"$error":"#N/A"},{"$error":"#N/A"},{"$error":"#N/A"},{"$error":"#N/A"},{"$error":"#N/A"},{"$error":"#N/A"},{"$error":"#N/A"},{"$error":"#N/A"},{"$error":"#N/A"},{"$error":"#N/A"},{"$error":"#N/A"},{"$error":"#N/A"}]
[null,{"$f":"données!B37","v":44},0.75165019684710632,-1.8041415135435279,-1.6008896930459182,2.026875064410163,-2.4751008342470193,-1.595030874627192,-6.6130629849181249E-2,{"$error":"#N/A"},{"$error":"#N/A"},{"$error":"#N/A"},{"$error":"#N/A"},{"$error":"#N/A"},{"$error":"#N/A"},{"$error":"#N/A"},{"$error":"#N/A"},{"$error":"#N/A"},{"$error":"#N/A"},{"$error":"#N/A"},{"$error":"#N/A"},{"$error":"#N/A"}]
[null,{"$f":"données!B38","v":46},0.87780127883543768,-0.93791363472163025,-0.89323747770167683,1.4939137117970578,-2.3747460104040341,-1.8251611980751881,-0.1686821196951179,{"$error":"#N/A"},{"$error":"#N/A"},{"$error":"#N/A"},{"$error":"#N/A"},{"$error":"#N/A"},{"$error":"#N/A"},{"$error":"#N/A"},{"$error":"#N/A"},{"$error":"#N/A"},{"$error":"#N/A"},{"$error":"#N/A"},{"$error":"#N/A"},{"$error":"#N/A"}]
[null,{"$f":"données!B39","v":48},1.0291825772214633,-1.8425338849040562,-1.5453875585091148,2.210592117700005,-2.1194956975860069,-2.2135061188936813,0.18964485070774295,{"$error":"#N/A"},{"$error":"#N/A"},{"$error":"#N/A"},{"$error":"#N/A"},{"$error":"#N/A"},{"$error":"#N/A"},{"$error":"#N/A"},{"$error":"#N/A"},{"$error":"#N/A"},{"$error":"#N/A"},{"$error":"#N/A"},{"$error":"#N/A"},{"$error":"#N/A"}]
[null,{"$f":"données!B40","v":50},1.1805638756074892,-8.8482418369963275E-2,2.409139527238116,-3.1408491771387497,-2.9497409725582381E-2,2.5329318022212379,-0.73935099848485919,{"$error":"#N/A"},{"$error":"#N/A"},{"$error":"#N/A"},{"$error":"#N/A"},{"$error":"#N/A"},{"$error":"#N/A"},{"$error":"#N/A"},{"$error":"#N/A"},{"$error":"#N/A"},{"$error":"#N/A"},{"$error":"#N/A"},{"$error":"#N/A"},{"$error":"#N/A"}]
[null,{"$f":"données!B41","v":51},1.1805638756074892,-0.56358801395648994,2.6311480653853283,-2.8370793959565361,9.7036933380789531E-2,2.2740351883422427,-0.74900290341153564,{"$error":"#N/A"},{"$error":"#N/A"},{"$error":"#N/A"},{"$error":"#N/A"},{"$error":"#N/A"},{"$error":"#N/A"},{"$error":"#N/A"},{"$error":"#N/A"},{"$error":"#N/A"},{"$error":"#N/A"},{"$error":"#N/A"},{"$error":"#N/A"},{"$error":"#N/A"}]
[null,{"$f":"données!B42","v":53},1.3067149575958206,0.35302985227610179,1.0077106301838339,0.9664093013608791,0.20393663703962017,3.026453472428068E-2,1.3949264784264568,{"$error":"#N/A"},{"$error":"#N/A"},{"$error":"#N/A"},{"$error":"#N/A"},{"$error":"#N/A"},{"$error":"#N/A"},{"$error":"#N/A"},{"$error":"#N/A"},{"$error":"#N/A"},{"$error":"#N/A"},{"$error":"#N/A"},{"$error":"#N/A"},{"$error":"#N/A"}]
[null,{"$f":"données!B43","v":54},1.357175390391069,0.80414021576229677,1.0354616974522355,0.85545147709671721,0.27811194161921848,0.5049083268357728,1.2670387381479946,{"$error":"#N/A"},{"$error":"#N/A"},{"$error":"#N/A"},{"$error":"#N/A"},{"$error":"#N/A"},{"$error":"#N/A"},{"$error":"#N/A"},{"$error":"#N/A"},{"$error":"#N/A"},{"$error":"#N/A"},{"$error":"#N/A"},{"$error":"#N/A"},{"$error":"#N/A"}]
[null,{"$f":"données!B44","v":55},1.3824056067887633,0.42021650215702488,0.34168501574219506,0.71175199977099946,0.20829989025018697,0.4905251816202727,1.3370150488663985,{"$error":"#N/A"},{"$error":"#N/A"},{"$error":"#N/A"},{"$error":"#N/A"},{"$error":"#N/A"},{"$error":"#N/A"},{"$error":"#N/A"},{"$error":"#N/A"},{"$error":"#N/A"},{"$error":"#N/A"},{"$error":"#N/A"},{"$error":"#N/A"},{"$error":"#N/A"}]
[null,{"$f":"données!B45","v":56},1.4076358231864576,0.44901078067741806,1.3545989710388542,0.76450244081461738,0.27593031501393817,0.17409598687927838,1.3008204053913619,{"$error":"#N/A"},{"$error":"#N/A"},{"$error":"#N/A"},{"$error":"#N/A"},{"$error":"#N/A"},{"$error":"#N/A"},{"$error":"#N/A"},{"$error":"#N/A"},{"$error":"#N/A"},{"$error":"#N/A"},{"$error":"#N/A"},{"$error":"#N/A"},{"$error":"#N/A"}]
[null,{"$f":"données!B46","v":57},1.4328660395841519,0.6985611945208472,0.95220849564703058,0.89546905306084112,0.28683844804034897,-0.2142489339392154,0.13173342114768466,{"$error":"#N/A"},{"$error":"#N/A"},{"$error":"#N/A"},{"$error":"#N/A"},{"$error":"#N/A"},{"$error":"#N/A"},{"$error":"#N/A"},{"$error":"#N/A"},{"$error":"#N/A"},{"$error":"#N/A"},{"$error":"#N/A"},{"$error":"#N/A"},{"$error":"#N/A"}]
[null,{"$f":"données!B47","v":59},1.5842473379701776,0.37942460758646424,-1.4343832894355086,0.55531965736578781,1.4135122380063857E-2,4.4647679939780131E-2,0.98954647150604846,{"$error":"#N/A"},{"$error":"#N/A"},{"$error":"#N/A"},{"$error":"#N/A"},{"$error":"#N/A"},{"$error":"#N/A"},{"$error":"#N/A"},{"$error":"#N/A"},{"$error":"#N/A"},{"$error":"#N/A"},{"$error":"#N/A"},{"$error":"#N/A"},{"$error":"#N/A"}]
[null,{"$f":"données!B48","v":60},1.6094775543678719,0.50659933771821131,-1.4898854239723116,0.50620717777345392,0.24320591593470273,0.77818808593026811,1.1463899265645399,{"$error":"#N/A"},{"$error":"#N/A"},{"$error":"#N/A"},{"$error":"#N/A"},{"$error":"#N/A"},{"$error":"#N/A"},{"$error":"#N/A"},{"$error":"#N/A"},{"$error":"#N/A"},{"$error":"#N/A"},{"$error":"#N/A"},{"$error":"#N/A"},{"$error":"#N/A"}]
[null,{"$f":"données!B49","v":61},1.6347077707655662,0.16826656510356158,-1.406632222167107,0.6426307321966036,8.3947173749095355E-2,0.74942179549926857,0.81098623036253525,{"$error":"#N/A"},{"$error":"#N/A"},{"$error":"#N/A"},{"$error":"#N/A"},{"$error":"#N/A"},{"$error":"#N/A"},{"$error":"#N/A"},{"$error":"#N/A"},{"$error":"#N/A"},{"$error":"#N/A"},{"$error":"#N/A"},{"$error":"#N/A"},{"$error":"#N/A"}]
[null,{"$f":"données!B50","v":62},1.6599379871631206,8.1883729542375244E-2,-0.80998427589647193,0.62625990566582568,7.7402293933248267E-2,0.27477800338777647,1.0993368900469924,{"$error":"#N/A"},{"$error":"#N/A"},{"$error":"#N/A"},{"$error":"#N/A"},{"$error":"#N/A"},{"$error":"#N/A"},{"$error":"#N/A"},{"$error":"#N/A"},{"$error":"#N/A"},{"$error":"#N/A"},{"$error":"#N/A"},{"$error":"#N/A"},{"$error":"#N/A"}]
[null,{"$f":"données!B51","v":63},1.7103984199585092,0.46100839672758559,-1.2262502849224963,0.39706833423493415,4.6859521459296206E-2,-0.2142489339392154,1.0124697457069047,{"$error":"#N/A"},{"$error":"#N/A"},{"$error":"#N/A"},{"$error":"#N/A"},{"$error":"#N/A"},{"$error":"#N/A"},{"$error":"#N/A"},{"$error":"#N/A"},{"$error":"#N/A"},{"$error":"#N/A"},{"$error":"#N/A"},{"$error":"#N/A"},{"$error":"#N/A"}]
[null,{"$f":"données!B52","v":"li 49"},{"$error":"#N/A"},{"$error":"#N/A"},{"$error":"#N/A"},{"$error":"#N/A"},{"$error":"#N/A"},{"$error":"#N/A"},{"$error":"#N/A"},{"$error":"#N/A"},{"$error":"#N/A"},{"$error":"#N/A"},{"$error":"#N/A"},{"$error":"#N/A"},{"$error":"#N/A"},{"$error":"#N/A"},{"$error":"#N/A"},{"$error":"#N/A"},{"$error":"#N/A"},{"$error":"#N/A"},{"$error":"#N/A"},{"$error":"#N/A"}]
[null,{"$f":"données!B53","v":"li 50"},{"$error":"#N/A"},{"$error":"#N/A"},{"$error":"#N/A"},{"$error":"#N/A"},{"$error":"#N/A"},{"$error":"#N/A"},{"$error":"#N/A"},{"$error":"#N/A"},{"$error":"#N/A"},{"$error":"#N/A"},{"$error":"#N/A"},{"$error":"#N/A"},{"$error":"#N/A"},{"$error":"#N/A"},{"$error":"#N/A"},{"$error":"#N/A"},{"$error":"#N/A"},{"$error":"#N/A"},{"$error":"#N/A"},{"$error":"#N/A"}]
[null,{"$f":"données!B54","v":"li 51"},{"$error":"#N/A"},{"$error":"#N/A"},{"$error":"#N/A"},{"$error":"#N/A"},{"$error":"#N/A"},{"$error":"#N/A"},{"$error":"#N/A"},{"$error":"#N/A"},{"$error":"#N/A"},{"$error":"#N/A"},{"$error":"#N/A"},{"$error":"#N/A"},{"$error":"#N/A"},{"$error":"#N/A"},{"$error":"#N/A"},{"$error":"#N/A"},{"$error":"#N/A"},{"$error":"#N/A"},{"$error":"#N/A"},{"$error":"#N/A"}]
[null,{"$f":"données!B55","v":"li 52"},{"$error":"#N/A"},{"$error":"#N/A"},{"$error":"#N/A"},{"$error":"#N/A"},{"$error":"#N/A"},{"$error":"#N/A"},{"$error":"#N/A"},{"$error":"#N/A"},{"$error":"#N/A"},{"$error":"#N/A"},{"$error":"#N/A"},{"$error":"#N/A"},{"$error":"#N/A"},{"$error":"#N/A"},{"$error":"#N/A"},{"$error":"#N/A"},{"$error":"#N/A"},{"$error":"#N/A"},{"$error":"#N/A"},{"$error":"#N/A"}]
[null,{"$f":"données!B56","v":"li 53"},{"$error":"#N/A"},{"$error":"#N/A"},{"$error":"#N/A"},{"$error":"#N/A"},{"$error":"#N/A"},{"$error":"#N/A"},{"$error":"#N/A"},{"$error":"#N/A"},{"$error":"#N/A"},{"$error":"#N/A"},{"$error":"#N/A"},{"$error":"#N/A"},{"$error":"#N/A"},{"$error":"#N/A"},{"$error":"#N/A"},{"$error":"#N/A"},{"$error":"#N/A"},{"$error":"#N/A"},{"$error":"#N/A"},{"$error":"#N/A"}]
[null,{"$f":"données!B57","v":"li 54"},{"$error":"#N/A"},{"$error":"#N/A"},{"$error":"#N/A"},{"$error":"#N/A"},{"$error":"#N/A"},{"$error":"#N/A"},{"$error":"#N/A"},{"$error":"#N/A"},{"$error":"#N/A"},{"$error":"#N/A"},{"$error":"#N/A"},{"$error":"#N/A"},{"$error":"#N/A"},{"$error":"#N/A"},{"$error":"#N/A"},{"$error":"#N/A"},{"$error":"#N/A"},{"$error":"#N/A"},{"$error":"#N/A"},{"$error":"#N/A"}]
[null,{"$f":"données!B58","v":"li 55"},{"$error":"#N/A"},{"$error":"#N/A"},{"$error":"#N/A"},{"$error":"#N/A"},{"$error":"#N/A"},{"$error":"#N/A"},{"$error":"#N/A"},{"$error":"#N/A"},{"$error":"#N/A"},{"$error":"#N/A"},{"$error":"#N/A"},{"$error":"#N/A"},{"$error":"#N/A"},{"$error":"#N/A"},{"$error":"#N/A"},{"$error":"#N/A"},{"$error":"#N/A"},{"$error":"#N/A"},{"$error":"#N/A"},{"$error":"#N/A"}]
[null,{"$f":"données!B59","v":"li 56"},{"$error":"#N/A"},{"$error":"#N/A"},{"$error":"#N/A"},{"$error":"#N/A"},{"$error":"#N/A"},{"$error":"#N/A"},{"$error":"#N/A"},{"$error":"#N/A"},{"$error":"#N/A"},{"$error":"#N/A"},{"$error":"#N/A"},{"$error":"#N/A"},{"$error":"#N/A"},{"$error":"#N/A"},{"$error":"#N/A"},{"$error":"#N/A"},{"$error":"#N/A"},{"$error":"#N/A"},{"$error":"#N/A"},{"$error":"#N/A"}]
[null,{"$f":"données!B60","v":"li 57"},{"$error":"#N/A"},{"$error":"#N/A"},{"$error":"#N/A"},{"$error":"#N/A"},{"$error":"#N/A"},{"$error":"#N/A"},{"$error":"#N/A"},{"$error":"#N/A"},{"$error":"#N/A"},{"$error":"#N/A"},{"$error":"#N/A"},{"$error":"#N/A"},{"$error":"#N/A"},{"$error":"#N/A"},{"$error":"#N/A"},{"$error":"#N/A"},{"$error":"#N/A"},{"$error":"#N/A"},{"$error":"#N/A"},{"$error":"#N/A"}]
[null,{"$f":"données!B61","v":"li 58"},{"$error":"#N/A"},{"$error":"#N/A"},{"$error":"#N/A"},{"$error":"#N/A"},{"$error":"#N/A"},{"$error":"#N/A"},{"$error":"#N/A"},{"$error":"#N/A"},{"$error":"#N/A"},{"$error":"#N/A"},{"$error":"#N/A"},{"$error":"#N/A"},{"$error":"#N/A"},{"$error":"#N/A"},{"$error":"#N/A"},{"$error":"#N/A"},{"$error":"#N/A"},{"$error":"#N/A"},{"$error":"#N/A"},{"$error":"#N/A"}]
[null,{"$f":"données!B62","v":"li 59"},{"$error":"#N/A"},{"$error":"#N/A"},{"$error":"#N/A"},{"$error":"#N/A"},{"$error":"#N/A"},{"$error":"#N/A"},{"$error":"#N/A"},{"$error":"#N/A"},{"$error":"#N/A"},{"$error":"#N/A"},{"$error":"#N/A"},{"$error":"#N/A"},{"$error":"#N/A"},{"$error":"#N/A"},{"$error":"#N/A"},{"$error":"#N/A"},{"$error":"#N/A"},{"$error":"#N/A"},{"$error":"#N/A"},{"$error":"#N/A"}]
[null,{"$f":"données!B63","v":"li 60"},{"$error":"#N/A"},{"$error":"#N/A"},{"$error":"#N/A"},{"$error":"#N/A"},{"$error":"#N/A"},{"$error":"#N/A"},{"$error":"#N/A"},{"$error":"#N/A"},{"$error":"#N/A"},{"$error":"#N/A"},{"$error":"#N/A"},{"$error":"#N/A"},{"$error":"#N/A"},{"$error":"#N/A"},{"$error":"#N/A"},{"$error":"#N/A"},{"$error":"#N/A"},{"$error":"#N/A"},{"$error":"#N/A"},{"$error":"#N/A"}]
[null,{"$f":"données!B64","v":"li 61"},{"$error":"#N/A"},{"$error":"#N/A"},{"$error":"#N/A"},{"$error":"#N/A"},{"$error":"#N/A"},{"$error":"#N/A"},{"$error":"#N/A"},{"$error":"#N/A"},{"$error":"#N/A"},{"$error":"#N/A"},{"$error":"#N/A"},{"$error":"#N/A"},{"$error":"#N/A"},{"$error":"#N/A"},{"$error":"#N/A"},{"$error":"#N/A"},{"$error":"#N/A"},{"$error":"#N/A"},{"$error":"#N/A"},{"$error":"#N/A"}]
[null,{"$f":"données!B65","v":"li 62"},{"$error":"#N/A"},{"$error":"#N/A"},{"$error":"#N/A"},{"$error":"#N/A"},{"$error":"#N/A"},{"$error":"#N/A"},{"$error":"#N/A"},{"$error":"#N/A"},{"$error":"#N/A"},{"$error":"#N/A"},{"$error":"#N/A"},{"$error":"#N/A"},{"$error":"#N/A"},{"$error":"#N/A"},{"$error":"#N/A"},{"$error":"#N/A"},{"$error":"#N/A"},{"$error":"#N/A"},{"$error":"#N/A"},{"$error":"#N/A"}]
[null,{"$f":"données!B66","v":"li 63"},{"$error":"#N/A"},{"$error":"#N/A"},{"$error":"#N/A"},{"$error":"#N/A"},{"$error":"#N/A"},{"$error":"#N/A"},{"$error":"#N/A"},{"$error":"#N/A"},{"$error":"#N/A"},{"$error":"#N/A"},{"$error":"#N/A"},{"$error":"#N/A"},{"$error":"#N/A"},{"$error":"#N/A"},{"$error":"#N/A"},{"$error":"#N/A"},{"$error":"#N/A"},{"$error":"#N/A"},{"$error":"#N/A"},{"$error":"#N/A"}]
[null,{"$f":"données!B67","v":"li 64"},{"$error":"#N/A"},{"$error":"#N/A"},{"$error":"#N/A"},{"$error":"#N/A"},{"$error":"#N/A"},{"$error":"#N/A"},{"$error":"#N/A"},{"$error":"#N/A"},{"$error":"#N/A"},{"$error":"#N/A"},{"$error":"#N/A"},{"$error":"#N/A"},{"$error":"#N/A"},{"$error":"#N/A"},{"$error":"#N/A"},{"$error":"#N/A"},{"$error":"#N/A"},{"$error":"#N/A"},{"$error":"#N/A"},{"$error":"#N/A"}]
[null,{"$f":"données!B68","v":"li 65"},{"$error":"#N/A"},{"$error":"#N/A"},{"$error":"#N/A"},{"$error":"#N/A"},{"$error":"#N/A"},{"$error":"#N/A"},{"$error":"#N/A"},{"$error":"#N/A"},{"$error":"#N/A"},{"$error":"#N/A"},{"$error":"#N/A"},{"$error":"#N/A"},{"$error":"#N/A"},{"$error":"#N/A"},{"$error":"#N/A"},{"$error":"#N/A"},{"$error":"#N/A"},{"$error":"#N/A"},{"$error":"#N/A"},{"$error":"#N/A"}]
[null,{"$f":"données!B69","v":"li 66"},{"$error":"#N/A"},{"$error":"#N/A"},{"$error":"#N/A"},{"$error":"#N/A"},{"$error":"#N/A"},{"$error":"#N/A"},{"$error":"#N/A"},{"$error":"#N/A"},{"$error":"#N/A"},{"$error":"#N/A"},{"$error":"#N/A"},{"$error":"#N/A"},{"$error":"#N/A"},{"$error":"#N/A"},{"$error":"#N/A"},{"$error":"#N/A"},{"$error":"#N/A"},{"$error":"#N/A"},{"$error":"#N/A"},{"$error":"#N/A"}]
[null,{"$f":"données!B70","v":"li 67"},{"$error":"#N/A"},{"$error":"#N/A"},{"$error":"#N/A"},{"$error":"#N/A"},{"$error":"#N/A"},{"$error":"#N/A"},{"$error":"#N/A"},{"$error":"#N/A"},{"$error":"#N/A"},{"$error":"#N/A"},{"$error":"#N/A"},{"$error":"#N/A"},{"$error":"#N/A"},{"$error":"#N/A"},{"$error":"#N/A"},{"$error":"#N/A"},{"$error":"#N/A"},{"$error":"#N/A"},{"$error":"#N/A"},{"$error":"#N/A"}]
[null,{"$f":"données!B71","v":"li 68"},{"$error":"#N/A"},{"$error":"#N/A"},{"$error":"#N/A"},{"$error":"#N/A"},{"$error":"#N/A"},{"$error":"#N/A"},{"$error":"#N/A"},{"$error":"#N/A"},{"$error":"#N/A"},{"$error":"#N/A"},{"$error":"#N/A"},{"$error":"#N/A"},{"$error":"#N/A"},{"$error":"#N/A"},{"$error":"#N/A"},{"$error":"#N/A"},{"$error":"#N/A"},{"$error":"#N/A"},{"$error":"#N/A"},{"$error":"#N/A"}]
[null,{"$f":"données!B72","v":"li 69"},{"$error":"#N/A"},{"$error":"#N/A"},{"$error":"#N/A"},{"$error":"#N/A"},{"$error":"#N/A"},{"$error":"#N/A"},{"$error":"#N/A"},{"$error":"#N/A"},{"$error":"#N/A"},{"$error":"#N/A"},{"$error":"#N/A"},{"$error":"#N/A"},{"$error":"#N/A"},{"$error":"#N/A"},{"$error":"#N/A"},{"$error":"#N/A"},{"$error":"#N/A"},{"$error":"#N/A"},{"$error":"#N/A"},{"$error":"#N/A"}]
[null,{"$f":"données!B73","v":"li 70"},{"$error":"#N/A"},{"$error":"#N/A"},{"$error":"#N/A"},{"$error":"#N/A"},{"$error":"#N/A"},{"$error":"#N/A"},{"$error":"#N/A"},{"$error":"#N/A"},{"$error":"#N/A"},{"$error":"#N/A"},{"$error":"#N/A"},{"$error":"#N/A"},{"$error":"#N/A"},{"$error":"#N/A"},{"$error":"#N/A"},{"$error":"#N/A"},{"$error":"#N/A"},{"$error":"#N/A"},{"$error":"#N/A"},{"$error":"#N/A"}]
[null,{"$f":"données!B74","v":"li 71"},{"$error":"#N/A"},{"$error":"#N/A"},{"$error":"#N/A"},{"$error":"#N/A"},{"$error":"#N/A"},{"$error":"#N/A"},{"$error":"#N/A"},{"$error":"#N/A"},{"$error":"#N/A"},{"$error":"#N/A"},{"$error":"#N/A"},{"$error":"#N/A"},{"$error":"#N/A"},{"$error":"#N/A"},{"$error":"#N/A"},{"$error":"#N/A"},{"$error":"#N/A"},{"$error":"#N/A"},{"$error":"#N/A"},{"$error":"#N/A"}]
[null,{"$f":"données!B75","v":"li 72"},{"$error":"#N/A"},{"$error":"#N/A"},{"$error":"#N/A"},{"$error":"#N/A"},{"$error":"#N/A"},{"$error":"#N/A"},{"$error":"#N/A"},{"$error":"#N/A"},{"$error":"#N/A"},{"$error":"#N/A"},{"$error":"#N/A"},{"$error":"#N/A"},{"$error":"#N/A"},{"$error":"#N/A"},{"$error":"#N/A"},{"$error":"#N/A"},{"$error":"#N/A"},{"$error":"#N/A"},{"$error":"#N/A"},{"$error":"#N/A"}]
[null,{"$f":"données!B76","v":"li 73"},{"$error":"#N/A"},{"$error":"#N/A"},{"$error":"#N/A"},{"$error":"#N/A"},{"$error":"#N/A"},{"$error":"#N/A"},{"$error":"#N/A"},{"$error":"#N/A"},{"$error":"#N/A"},{"$error":"#N/A"},{"$error":"#N/A"},{"$error":"#N/A"},{"$error":"#N/A"},{"$error":"#N/A"},{"$error":"#N/A"},{"$error":"#N/A"},{"$error":"#N/A"},{"$error":"#N/A"},{"$error":"#N/A"},{"$error":"#N/A"}]
[null,{"$f":"données!B77","v":"li 74"},{"$error":"#N/A"},{"$error":"#N/A"},{"$error":"#N/A"},{"$error":"#N/A"},{"$error":"#N/A"},{"$error":"#N/A"},{"$error":"#N/A"},{"$error":"#N/A"},{"$error":"#N/A"},{"$error":"#N/A"},{"$error":"#N/A"},{"$error":"#N/A"},{"$error":"#N/A"},{"$error":"#N/A"},{"$error":"#N/A"},{"$error":"#N/A"},{"$error":"#N/A"},{"$error":"#N/A"},{"$error":"#N/A"},{"$error":"#N/A"}]
[null,{"$f":"données!B78","v":"li 75"},{"$error":"#N/A"},{"$error":"#N/A"},{"$error":"#N/A"},{"$error":"#N/A"},{"$error":"#N/A"},{"$error":"#N/A"},{"$error":"#N/A"},{"$error":"#N/A"},{"$error":"#N/A"},{"$error":"#N/A"},{"$error":"#N/A"},{"$error":"#N/A"},{"$error":"#N/A"},{"$error":"#N/A"},{"$error":"#N/A"},{"$error":"#N/A"},{"$error":"#N/A"},{"$error":"#N/A"},{"$error":"#N/A"},{"$error":"#N/A"}]
[null,{"$f":"données!B79","v":"li 76"},{"$error":"#N/A"},{"$error":"#N/A"},{"$error":"#N/A"},{"$error":"#N/A"},{"$error":"#N/A"},{"$error":"#N/A"},{"$error":"#N/A"},{"$error":"#N/A"},{"$error":"#N/A"},{"$error":"#N/A"},{"$error":"#N/A"},{"$error":"#N/A"},{"$error":"#N/A"},{"$error":"#N/A"},{"$error":"#N/A"},{"$error":"#N/A"},{"$error":"#N/A"},{"$error":"#N/A"},{"$error":"#N/A"},{"$error":"#N/A"}]
[null,{"$f":"données!B80","v":"li 77"},{"$error":"#N/A"},{"$error":"#N/A"},{"$error":"#N/A"},{"$error":"#N/A"},{"$error":"#N/A"},{"$error":"#N/A"},{"$error":"#N/A"},{"$error":"#N/A"},{"$error":"#N/A"},{"$error":"#N/A"},{"$error":"#N/A"},{"$error":"#N/A"},{"$error":"#N/A"},{"$error":"#N/A"},{"$error":"#N/A"},{"$error":"#N/A"},{"$error":"#N/A"},{"$error":"#N/A"},{"$error":"#N/A"},{"$error":"#N/A"}]
[null,{"$f":"données!B81","v":"li 78"},{"$error":"#N/A"},{"$error":"#N/A"},{"$error":"#N/A"},{"$error":"#N/A"},{"$error":"#N/A"},{"$error":"#N/A"},{"$error":"#N/A"},{"$error":"#N/A"},{"$error":"#N/A"},{"$error":"#N/A"},{"$error":"#N/A"},{"$error":"#N/A"},{"$error":"#N/A"},{"$error":"#N/A"},{"$error":"#N/A"},{"$error":"#N/A"},{"$error":"#N/A"},{"$error":"#N/A"},{"$error":"#N/A"},{"$error":"#N/A"}]
[null,{"$f":"données!B82","v":"li 79"},{"$error":"#N/A"},{"$error":"#N/A"},{"$error":"#N/A"},{"$error":"#N/A"},{"$error":"#N/A"},{"$error":"#N/A"},{"$error":"#N/A"},{"$error":"#N/A"},{"$error":"#N/A"},{"$error":"#N/A"},{"$error":"#N/A"},{"$error":"#N/A"},{"$error":"#N/A"},{"$error":"#N/A"},{"$error":"#N/A"},{"$error":"#N/A"},{"$error":"#N/A"},{"$error":"#N/A"},{"$error":"#N/A"},{"$error":"#N/A"}]
[null,{"$f":"données!B83","v":"li 80"},{"$error":"#N/A"},{"$error":"#N/A"},{"$error":"#N/A"},{"$error":"#N/A"},{"$error":"#N/A"},{"$error":"#N/A"},{"$error":"#N/A"},{"$error":"#N/A"},{"$error":"#N/A"},{"$error":"#N/A"},{"$error":"#N/A"},{"$error":"#N/A"},{"$error":"#N/A"},{"$error":"#N/A"},{"$error":"#N/A"},{"$error":"#N/A"},{"$error":"#N/A"},{"$error":"#N/A"},{"$error":"#N/A"},{"$error":"#N/A"}]
[null,{"$f":"données!B84","v":"li 81"},{"$error":"#N/A"},{"$error":"#N/A"},{"$error":"#N/A"},{"$error":"#N/A"},{"$error":"#N/A"},{"$error":"#N/A"},{"$error":"#N/A"},{"$error":"#N/A"},{"$error":"#N/A"},{"$error":"#N/A"},{"$error":"#N/A"},{"$error":"#N/A"},{"$error":"#N/A"},{"$error":"#N/A"},{"$error":"#N/A"},{"$error":"#N/A"},{"$error":"#N/A"},{"$error":"#N/A"},{"$error":"#N/A"},{"$error":"#N/A"}]
[null,{"$f":"données!B85","v":"li 82"},{"$error":"#N/A"},{"$error":"#N/A"},{"$error":"#N/A"},{"$error":"#N/A"},{"$error":"#N/A"},{"$error":"#N/A"},{"$error":"#N/A"},{"$error":"#N/A"},{"$error":"#N/A"},{"$error":"#N/A"},{"$error":"#N/A"},{"$error":"#N/A"},{"$error":"#N/A"},{"$error":"#N/A"},{"$error":"#N/A"},{"$error":"#N/A"},{"$error":"#N/A"},{"$error":"#N/A"},{"$error":"#N/A"},{"$error":"#N/A"}]
[null,{"$f":"données!B86","v":"li 83"},{"$error":"#N/A"},{"$error":"#N/A"},{"$error":"#N/A"},{"$error":"#N/A"},{"$error":"#N/A"},{"$error":"#N/A"},{"$error":"#N/A"},{"$error":"#N/A"},{"$error":"#N/A"},{"$error":"#N/A"},{"$error":"#N/A"},{"$error":"#N/A"},{"$error":"#N/A"},{"$error":"#N/A"},{"$error":"#N/A"},{"$error":"#N/A"},{"$error":"#N/A"},{"$error":"#N/A"},{"$error":"#N/A"},{"$error":"#N/A"}]
[null,{"$f":"données!B87","v":"li 84"},{"$error":"#N/A"},{"$error":"#N/A"},{"$error":"#N/A"},{"$error":"#N/A"},{"$error":"#N/A"},{"$error":"#N/A"},{"$error":"#N/A"},{"$error":"#N/A"},{"$error":"#N/A"},{"$error":"#N/A"},{"$error":"#N/A"},{"$error":"#N/A"},{"$error":"#N/A"},{"$error":"#N/A"},{"$error":"#N/A"},{"$error":"#N/A"},{"$error":"#N/A"},{"$error":"#N/A"},{"$error":"#N/A"},{"$error":"#N/A"}]
[null,{"$f":"données!B88","v":"li 85"},{"$error":"#N/A"},{"$error":"#N/A"},{"$error":"#N/A"},{"$error":"#N/A"},{"$error":"#N/A"},{"$error":"#N/A"},{"$error":"#N/A"},{"$error":"#N/A"},{"$error":"#N/A"},{"$error":"#N/A"},{"$error":"#N/A"},{"$error":"#N/A"},{"$error":"#N/A"},{"$error":"#N/A"},{"$error":"#N/A"},{"$error":"#N/A"},{"$error":"#N/A"},{"$error":"#N/A"},{"$error":"#N/A"},{"$error":"#N/A"}]
[null,{"$f":"données!B89","v":"li 86"},{"$error":"#N/A"},{"$error":"#N/A"},{"$error":"#N/A"},{"$error":"#N/A"},{"$error":"#N/A"},{"$error":"#N/A"},{"$error":"#N/A"},{"$error":"#N/A"},{"$error":"#N/A"},{"$error":"#N/A"},{"$error":"#N/A"},{"$error":"#N/A"},{"$error":"#N/A"},{"$error":"#N/A"},{"$error":"#N/A"},{"$error":"#N/A"},{"$error":"#N/A"},{"$error":"#N/A"},{"$error":"#N/A"},{"$error":"#N/A"}]
[null,{"$f":"données!B90","v":"li 87"},{"$error":"#N/A"},{"$error":"#N/A"},{"$error":"#N/A"},{"$error":"#N/A"},{"$error":"#N/A"},{"$error":"#N/A"},{"$error":"#N/A"},{"$error":"#N/A"},{"$error":"#N/A"},{"$error":"#N/A"},{"$error":"#N/A"},{"$error":"#N/A"},{"$error":"#N/A"},{"$error":"#N/A"},{"$error":"#N/A"},{"$error":"#N/A"},{"$error":"#N/A"},{"$error":"#N/A"},{"$error":"#N/A"},{"$error":"#N/A"}]
[null,{"$f":"données!B91","v":"li 88"},{"$error":"#N/A"},{"$error":"#N/A"},{"$error":"#N/A"},{"$error":"#N/A"},{"$error":"#N/A"},{"$error":"#N/A"},{"$error":"#N/A"},{"$error":"#N/A"},{"$error":"#N/A"},{"$error":"#N/A"},{"$error":"#N/A"},{"$error":"#N/A"},{"$error":"#N/A"},{"$error":"#N/A"},{"$error":"#N/A"},{"$error":"#N/A"},{"$error":"#N/A"},{"$error":"#N/A"},{"$error":"#N/A"},{"$error":"#N/A"}]
[null,{"$f":"données!B92","v":"li 89"},{"$error":"#N/A"},{"$error":"#N/A"},{"$error":"#N/A"},{"$error":"#N/A"},{"$error":"#N/A"},{"$error":"#N/A"},{"$error":"#N/A"},{"$error":"#N/A"},{"$error":"#N/A"},{"$error":"#N/A"},{"$error":"#N/A"},{"$error":"#N/A"},{"$error":"#N/A"},{"$error":"#N/A"},{"$error":"#N/A"},{"$error":"#N/A"},{"$error":"#N/A"},{"$error":"#N/A"},{"$error":"#N/A"},{"$error":"#N/A"}]
[null,{"$f":"données!B93","v":"li 90"},{"$error":"#N/A"},{"$error":"#N/A"},{"$error":"#N/A"},{"$error":"#N/A"},{"$error":"#N/A"},{"$error":"#N/A"},{"$error":"#N/A"},{"$error":"#N/A"},{"$error":"#N/A"},{"$error":"#N/A"},{"$error":"#N/A"},{"$error":"#N/A"},{"$error":"#N/A"},{"$error":"#N/A"},{"$error":"#N/A"},{"$error":"#N/A"},{"$error":"#N/A"},{"$error":"#N/A"},{"$error":"#N/A"},{"$error":"#N/A"}]
[null,{"$f":"données!B94","v":"li 91"},{"$error":"#N/A"},{"$error":"#N/A"},{"$error":"#N/A"},{"$error":"#N/A"},{"$error":"#N/A"},{"$error":"#N/A"},{"$error":"#N/A"},{"$error":"#N/A"},{"$error":"#N/A"},{"$error":"#N/A"},{"$error":"#N/A"},{"$error":"#N/A"},{"$error":"#N/A"},{"$error":"#N/A"},{"$error":"#N/A"},{"$error":"#N/A"},{"$error":"#N/A"},{"$error":"#N/A"},{"$error":"#N/A"},{"$error":"#N/A"}]
[null,{"$f":"données!B95","v":"li 92"},{"$error":"#N/A"},{"$error":"#N/A"},{"$error":"#N/A"},{"$error":"#N/A"},{"$error":"#N/A"},{"$error":"#N/A"},{"$error":"#N/A"},{"$error":"#N/A"},{"$error":"#N/A"},{"$error":"#N/A"},{"$error":"#N/A"},{"$error":"#N/A"},{"$error":"#N/A"},{"$error":"#N/A"},{"$error":"#N/A"},{"$error":"#N/A"},{"$error":"#N/A"},{"$error":"#N/A"},{"$error":"#N/A"},{"$error":"#N/A"}]
[null,{"$f":"données!B96","v":"li 93"},{"$error":"#N/A"},{"$error":"#N/A"},{"$error":"#N/A"},{"$error":"#N/A"},{"$error":"#N/A"},{"$error":"#N/A"},{"$error":"#N/A"},{"$error":"#N/A"},{"$error":"#N/A"},{"$error":"#N/A"},{"$error":"#N/A"},{"$error":"#N/A"},{"$error":"#N/A"},{"$error":"#N/A"},{"$error":"#N/A"},{"$error":"#N/A"},{"$error":"#N/A"},{"$error":"#N/A"},{"$error":"#N/A"},{"$error":"#N/A"}]
[null,{"$f":"données!B97","v":"li 94"},{"$error":"#N/A"},{"$error":"#N/A"},{"$error":"#N/A"},{"$error":"#N/A"},{"$error":"#N/A"},{"$error":"#N/A"},{"$error":"#N/A"},{"$error":"#N/A"},{"$error":"#N/A"},{"$error":"#N/A"},{"$error":"#N/A"},{"$error":"#N/A"},{"$error":"#N/A"},{"$error":"#N/A"},{"$error":"#N/A"},{"$error":"#N/A"},{"$error":"#N/A"},{"$error":"#N/A"},{"$error":"#N/A"},{"$error":"#N/A"}]
[null,{"$f":"données!B98","v":"li 95"},{"$error":"#N/A"},{"$error":"#N/A"},{"$error":"#N/A"},{"$error":"#N/A"},{"$error":"#N/A"},{"$error":"#N/A"},{"$error":"#N/A"},{"$error":"#N/A"},{"$error":"#N/A"},{"$error":"#N/A"},{"$error":"#N/A"},{"$error":"#N/A"},{"$error":"#N/A"},{"$error":"#N/A"},{"$error":"#N/A"},{"$error":"#N/A"},{"$error":"#N/A"},{"$error":"#N/A"},{"$error":"#N/A"},{"$error":"#N/A"}]
[null,{"$f":"données!B99","v":"li 96"},{"$error":"#N/A"},{"$error":"#N/A"},{"$error":"#N/A"},{"$error":"#N/A"},{"$error":"#N/A"},{"$error":"#N/A"},{"$error":"#N/A"},{"$error":"#N/A"},{"$error":"#N/A"},{"$error":"#N/A"},{"$error":"#N/A"},{"$error":"#N/A"},{"$error":"#N/A"},{"$error":"#N/A"},{"$error":"#N/A"},{"$error":"#N/A"},{"$error":"#N/A"},{"$error":"#N/A"},{"$error":"#N/A"},{"$error":"#N/A"}]
[null,{"$f":"données!B100","v":"li 97"},{"$error":"#N/A"},{"$error":"#N/A"},{"$error":"#N/A"},{"$error":"#N/A"},{"$error":"#N/A"},{"$error":"#N/A"},{"$error":"#N/A"},{"$error":"#N/A"},{"$error":"#N/A"},{"$error":"#N/A"},{"$error":"#N/A"},{"$error":"#N/A"},{"$error":"#N/A"},{"$error":"#N/A"},{"$error":"#N/A"},{"$error":"#N/A"},{"$error":"#N/A"},{"$error":"#N/A"},{"$error":"#N/A"},{"$error":"#N/A"}]
[null,{"$f":"données!B101","v":"li 98"},{"$error":"#N/A"},{"$error":"#N/A"},{"$error":"#N/A"},{"$error":"#N/A"},{"$error":"#N/A"},{"$error":"#N/A"},{"$error":"#N/A"},{"$error":"#N/A"},{"$error":"#N/A"},{"$error":"#N/A"},{"$error":"#N/A"},{"$error":"#N/A"},{"$error":"#N/A"},{"$error":"#N/A"},{"$error":"#N/A"},{"$error":"#N/A"},{"$error":"#N/A"},{"$error":"#N/A"},{"$error":"#N/A"},{"$error":"#N/A"}]
[null,{"$f":"données!B102","v":"li 99"},{"$error":"#N/A"},{"$error":"#N/A"},{"$error":"#N/A"},{"$error":"#N/A"},{"$error":"#N/A"},{"$error":"#N/A"},{"$error":"#N/A"},{"$error":"#N/A"},{"$error":"#N/A"},{"$error":"#N/A"},{"$error":"#N/A"},{"$error":"#N/A"},{"$error":"#N/A"},{"$error":"#N/A"},{"$error":"#N/A"},{"$error":"#N/A"},{"$error":"#N/A"},{"$error":"#N/A"},{"$error":"#N/A"},{"$error":"#N/A"}]
[null,{"$f":"données!B103","v":"li 100"},{"$error":"#N/A"},{"$error":"#N/A"},{"$error":"#N/A"},{"$error":"#N/A"},{"$error":"#N/A"},{"$error":"#N/A"},{"$error":"#N/A"},{"$error":"#N/A"},{"$error":"#N/A"},{"$error":"#N/A"},{"$error":"#N/A"},{"$error":"#N/A"},{"$error":"#N/A"},{"$error":"#N/A"},{"$error":"#N/A"},{"$error":"#N/A"},{"$error":"#N/A"},{"$error":"#N/A"},{"$error":"#N/A"},{"$error":"#N/A"}]
[null,{"$f":"données!B104","v":"li 101"},{"$error":"#N/A"},{"$error":"#N/A"},{"$error":"#N/A"},{"$error":"#N/A"},{"$error":"#N/A"},{"$error":"#N/A"},{"$error":"#N/A"},{"$error":"#N/A"},{"$error":"#N/A"},{"$error":"#N/A"},{"$error":"#N/A"},{"$error":"#N/A"},{"$error":"#N/A"},{"$error":"#N/A"},{"$error":"#N/A"},{"$error":"#N/A"},{"$error":"#N/A"},{"$error":"#N/A"},{"$error":"#N/A"},{"$error":"#N/A"}]
[null,{"$f":"données!B105","v":"li 102"},{"$error":"#N/A"},{"$error":"#N/A"},{"$error":"#N/A"},{"$error":"#N/A"},{"$error":"#N/A"},{"$error":"#N/A"},{"$error":"#N/A"},{"$error":"#N/A"},{"$error":"#N/A"},{"$error":"#N/A"},{"$error":"#N/A"},{"$error":"#N/A"},{"$error":"#N/A"},{"$error":"#N/A"},{"$error":"#N/A"},{"$error":"#N/A"},{"$error":"#N/A"},{"$error":"#N/A"},{"$error":"#N/A"},{"$error":"#N/A"}]
[null,{"$f":"données!B106","v":"li 103"},{"$error":"#N/A"},{"$error":"#N/A"},{"$error":"#N/A"},{"$error":"#N/A"},{"$error":"#N/A"},{"$error":"#N/A"},{"$error":"#N/A"},{"$error":"#N/A"},{"$error":"#N/A"},{"$error":"#N/A"},{"$error":"#N/A"},{"$error":"#N/A"},{"$error":"#N/A"},{"$error":"#N/A"},{"$error":"#N/A"},{"$error":"#N/A"},{"$error":"#N/A"},{"$error":"#N/A"},{"$error":"#N/A"},{"$error":"#N/A"}]
[null,{"$f":"données!B107","v":"li 104"},{"$error":"#N/A"},{"$error":"#N/A"},{"$error":"#N/A"},{"$error":"#N/A"},{"$error":"#N/A"},{"$error":"#N/A"},{"$error":"#N/A"},{"$error":"#N/A"},{"$error":"#N/A"},{"$error":"#N/A"},{"$error":"#N/A"},{"$error":"#N/A"},{"$error":"#N/A"},{"$error":"#N/A"},{"$error":"#N/A"},{"$error":"#N/A"},{"$error":"#N/A"},{"$error":"#N/A"},{"$error":"#N/A"},{"$error":"#N/A"}]
[null,{"$f":"données!B108","v":"li 105"},{"$error":"#N/A"},{"$error":"#N/A"},{"$error":"#N/A"},{"$error":"#N/A"},{"$error":"#N/A"},{"$error":"#N/A"},{"$error":"#N/A"},{"$error":"#N/A"},{"$error":"#N/A"},{"$error":"#N/A"},{"$error":"#N/A"},{"$error":"#N/A"},{"$error":"#N/A"},{"$error":"#N/A"},{"$error":"#N/A"},{"$error":"#N/A"},{"$error":"#N/A"},{"$error":"#N/A"},{"$error":"#N/A"},{"$error":"#N/A"}]
[null,{"$f":"données!B109","v":"li 106"},{"$error":"#N/A"},{"$error":"#N/A"},{"$error":"#N/A"},{"$error":"#N/A"},{"$error":"#N/A"},{"$error":"#N/A"},{"$error":"#N/A"},{"$error":"#N/A"},{"$error":"#N/A"},{"$error":"#N/A"},{"$error":"#N/A"},{"$error":"#N/A"},{"$error":"#N/A"},{"$error":"#N/A"},{"$error":"#N/A"},{"$error":"#N/A"},{"$error":"#N/A"},{"$error":"#N/A"},{"$error":"#N/A"},{"$error":"#N/A"}]
[null,{"$f":"données!B110","v":"li 107"},{"$error":"#N/A"},{"$error":"#N/A"},{"$error":"#N/A"},{"$error":"#N/A"},{"$error":"#N/A"},{"$error":"#N/A"},{"$error":"#N/A"},{"$error":"#N/A"},{"$error":"#N/A"},{"$error":"#N/A"},{"$error":"#N/A"},{"$error":"#N/A"},{"$error":"#N/A"},{"$error":"#N/A"},{"$error":"#N/A"},{"$error":"#N/A"},{"$error":"#N/A"},{"$error":"#N/A"},{"$error":"#N/A"},{"$error":"#N/A"}]
[null,{"$f":"données!B111","v":"li 108"},{"$error":"#N/A"},{"$error":"#N/A"},{"$error":"#N/A"},{"$error":"#N/A"},{"$error":"#N/A"},{"$error":"#N/A"},{"$error":"#N/A"},{"$error":"#N/A"},{"$error":"#N/A"},{"$error":"#N/A"},{"$error":"#N/A"},{"$error":"#N/A"},{"$error":"#N/A"},{"$error":"#N/A"},{"$error":"#N/A"},{"$error":"#N/A"},{"$error":"#N/A"},{"$error":"#N/A"},{"$error":"#N/A"},{"$error":"#N/A"}]
[null,{"$f":"données!B112","v":"li 109"},{"$error":"#N/A"},{"$error":"#N/A"},{"$error":"#N/A"},{"$error":"#N/A"},{"$error":"#N/A"},{"$error":"#N/A"},{"$error":"#N/A"},{"$error":"#N/A"},{"$error":"#N/A"},{"$error":"#N/A"},{"$error":"#N/A"},{"$error":"#N/A"},{"$error":"#N/A"},{"$error":"#N/A"},{"$error":"#N/A"},{"$error":"#N/A"},{"$error":"#N/A"},{"$error":"#N/A"},{"$error":"#N/A"},{"$error":"#N/A"}]
[null,{"$f":"données!B113","v":"li 110"},{"$error":"#N/A"},{"$error":"#N/A"},{"$error":"#N/A"},{"$error":"#N/A"},{"$error":"#N/A"},{"$error":"#N/A"},{"$error":"#N/A"},{"$error":"#N/A"},{"$error":"#N/A"},{"$error":"#N/A"},{"$error":"#N/A"},{"$error":"#N/A"},{"$error":"#N/A"},{"$error":"#N/A"},{"$error":"#N/A"},{"$error":"#N/A"},{"$error":"#N/A"},{"$error":"#N/A"},{"$error":"#N/A"},{"$error":"#N/A"}]
[null,{"$f":"données!B114","v":"li 111"},{"$error":"#N/A"},{"$error":"#N/A"},{"$error":"#N/A"},{"$error":"#N/A"},{"$error":"#N/A"},{"$error":"#N/A"},{"$error":"#N/A"},{"$error":"#N/A"},{"$error":"#N/A"},{"$error":"#N/A"},{"$error":"#N/A"},{"$error":"#N/A"},{"$error":"#N/A"},{"$error":"#N/A"},{"$error":"#N/A"},{"$error":"#N/A"},{"$error":"#N/A"},{"$error":"#N/A"},{"$error":"#N/A"},{"$error":"#N/A"}]
[null,{"$f":"données!B115","v":"li 112"},{"$error":"#N/A"},{"$error":"#N/A"},{"$error":"#N/A"},{"$error":"#N/A"},{"$error":"#N/A"},{"$error":"#N/A"},{"$error":"#N/A"},{"$error":"#N/A"},{"$error":"#N/A"},{"$error":"#N/A"},{"$error":"#N/A"},{"$error":"#N/A"},{"$error":"#N/A"},{"$error":"#N/A"},{"$error":"#N/A"},{"$error":"#N/A"},{"$error":"#N/A"},{"$error":"#N/A"},{"$error":"#N/A"},{"$error":"#N/A"}]
[null,{"$f":"données!B116","v":"li 113"},{"$error":"#N/A"},{"$error":"#N/A"},{"$error":"#N/A"},{"$error":"#N/A"},{"$error":"#N/A"},{"$error":"#N/A"},{"$error":"#N/A"},{"$error":"#N/A"},{"$error":"#N/A"},{"$error":"#N/A"},{"$error":"#N/A"},{"$error":"#N/A"},{"$error":"#N/A"},{"$error":"#N/A"},{"$error":"#N/A"},{"$error":"#N/A"},{"$error":"#N/A"},{"$error":"#N/A"},{"$error":"#N/A"},{"$error":"#N/A"}]
[null,{"$f":"données!B117","v":"li 114"},{"$error":"#N/A"},{"$error":"#N/A"},{"$error":"#N/A"},{"$error":"#N/A"},{"$error":"#N/A"},{"$error":"#N/A"},{"$error":"#N/A"},{"$error":"#N/A"},{"$error":"#N/A"},{"$error":"#N/A"},{"$error":"#N/A"},{"$error":"#N/A"},{"$error":"#N/A"},{"$error":"#N/A"},{"$error":"#N/A"},{"$error":"#N/A"},{"$error":"#N/A"},{"$error":"#N/A"},{"$error":"#N/A"},{"$error":"#N/A"}]
[null,{"$f":"données!B118","v":"li 115"},{"$error":"#N/A"},{"$error":"#N/A"},{"$error":"#N/A"},{"$error":"#N/A"},{"$error":"#N/A"},{"$error":"#N/A"},{"$error":"#N/A"},{"$error":"#N/A"},{"$error":"#N/A"},{"$error":"#N/A"},{"$error":"#N/A"},{"$error":"#N/A"},{"$error":"#N/A"},{"$error":"#N/A"},{"$error":"#N/A"},{"$error":"#N/A"},{"$error":"#N/A"},{"$error":"#N/A"},{"$error":"#N/A"},{"$error":"#N/A"}]
[null,{"$f":"données!B119","v":"li 116"},{"$error":"#N/A"},{"$error":"#N/A"},{"$error":"#N/A"},{"$error":"#N/A"},{"$error":"#N/A"},{"$error":"#N/A"},{"$error":"#N/A"},{"$error":"#N/A"},{"$error":"#N/A"},{"$error":"#N/A"},{"$error":"#N/A"},{"$error":"#N/A"},{"$error":"#N/A"},{"$error":"#N/A"},{"$error":"#N/A"},{"$error":"#N/A"},{"$error":"#N/A"},{"$error":"#N/A"},{"$error":"#N/A"},{"$error":"#N/A"}]
[null,{"$f":"données!B120","v":"li 117"},{"$error":"#N/A"},{"$error":"#N/A"},{"$error":"#N/A"},{"$error":"#N/A"},{"$error":"#N/A"},{"$error":"#N/A"},{"$error":"#N/A"},{"$error":"#N/A"},{"$error":"#N/A"},{"$error":"#N/A"},{"$error":"#N/A"},{"$error":"#N/A"},{"$error":"#N/A"},{"$error":"#N/A"},{"$error":"#N/A"},{"$error":"#N/A"},{"$error":"#N/A"},{"$error":"#N/A"},{"$error":"#N/A"},{"$error":"#N/A"}]
[null,{"$f":"données!B121","v":"li 118"},{"$error":"#N/A"},{"$error":"#N/A"},{"$error":"#N/A"},{"$error":"#N/A"},{"$error":"#N/A"},{"$error":"#N/A"},{"$error":"#N/A"},{"$error":"#N/A"},{"$error":"#N/A"},{"$error":"#N/A"},{"$error":"#N/A"},{"$error":"#N/A"},{"$error":"#N/A"},{"$error":"#N/A"},{"$error":"#N/A"},{"$error":"#N/A"},{"$error":"#N/A"},{"$error":"#N/A"},{"$error":"#N/A"},{"$error":"#N/A"}]
[null,{"$f":"données!B122","v":"li 119"},{"$error":"#N/A"},{"$error":"#N/A"},{"$error":"#N/A"},{"$error":"#N/A"},{"$error":"#N/A"},{"$error":"#N/A"},{"$error":"#N/A"},{"$error":"#N/A"},{"$error":"#N/A"},{"$error":"#N/A"},{"$error":"#N/A"},{"$error":"#N/A"},{"$error":"#N/A"},{"$error":"#N/A"},{"$error":"#N/A"},{"$error":"#N/A"},{"$error":"#N/A"},{"$error":"#N/A"},{"$error":"#N/A"},{"$error":"#N/A"}]
[null,{"$f":"données!B123","v":"li 120"},{"$error":"#N/A"},{"$error":"#N/A"},{"$error":"#N/A"},{"$error":"#N/A"},{"$error":"#N/A"},{"$error":"#N/A"},{"$error":"#N/A"},{"$error":"#N/A"},{"$error":"#N/A"},{"$error":"#N/A"},{"$error":"#N/A"},{"$error":"#N/A"},{"$error":"#N/A"},{"$error":"#N/A"},{"$error":"#N/A"},{"$error":"#N/A"},{"$error":"#N/A"},{"$error":"#N/A"},{"$error":"#N/A"},{"$error":"#N/A"}]
[null,{"$f":"données!B124","v":"li 121"},{"$error":"#N/A"},{"$error":"#N/A"},{"$error":"#N/A"},{"$error":"#N/A"},{"$error":"#N/A"},{"$error":"#N/A"},{"$error":"#N/A"},{"$error":"#N/A"},{"$error":"#N/A"},{"$error":"#N/A"},{"$error":"#N/A"},{"$error":"#N/A"},{"$error":"#N/A"},{"$error":"#N/A"},{"$error":"#N/A"},{"$error":"#N/A"},{"$error":"#N/A"},{"$error":"#N/A"},{"$error":"#N/A"},{"$error":"#N/A"}]
[null,{"$f":"données!B125","v":"li 122"},{"$error":"#N/A"},{"$error":"#N/A"},{"$error":"#N/A"},{"$error":"#N/A"},{"$error":"#N/A"},{"$error":"#N/A"},{"$error":"#N/A"},{"$error":"#N/A"},{"$error":"#N/A"},{"$error":"#N/A"},{"$error":"#N/A"},{"$error":"#N/A"},{"$error":"#N/A"},{"$error":"#N/A"},{"$error":"#N/A"},{"$error":"#N/A"},{"$error":"#N/A"},{"$error":"#N/A"},{"$error":"#N/A"},{"$error":"#N/A"}]
[null,{"$f":"données!B126","v":"li 123"},{"$error":"#N/A"},{"$error":"#N/A"},{"$error":"#N/A"},{"$error":"#N/A"},{"$error":"#N/A"},{"$error":"#N/A"},{"$error":"#N/A"},{"$error":"#N/A"},{"$error":"#N/A"},{"$error":"#N/A"},{"$error":"#N/A"},{"$error":"#N/A"},{"$error":"#N/A"},{"$error":"#N/A"},{"$error":"#N/A"},{"$error":"#N/A"},{"$error":"#N/A"},{"$error":"#N/A"},{"$error":"#N/A"},{"$error":"#N/A"}]
[null,{"$f":"données!B127","v":"li 124"},{"$error":"#N/A"},{"$error":"#N/A"},{"$error":"#N/A"},{"$error":"#N/A"},{"$error":"#N/A"},{"$error":"#N/A"},{"$error":"#N/A"},{"$error":"#N/A"},{"$error":"#N/A"},{"$error":"#N/A"},{"$error":"#N/A"},{"$error":"#N/A"},{"$error":"#N/A"},{"$error":"#N/A"},{"$error":"#N/A"},{"$error":"#N/A"},{"$error":"#N/A"},{"$error":"#N/A"},{"$error":"#N/A"},{"$error":"#N/A"}]
[null,{"$f":"données!B128","v":"li 125"},{"$error":"#N/A"},{"$error":"#N/A"},{"$error":"#N/A"},{"$error":"#N/A"},{"$error":"#N/A"},{"$error":"#N/A"},{"$error":"#N/A"},{"$error":"#N/A"},{"$error":"#N/A"},{"$error":"#N/A"},{"$error":"#N/A"},{"$error":"#N/A"},{"$error":"#N/A"},{"$error":"#N/A"},{"$error":"#N/A"},{"$error":"#N/A"},{"$error":"#N/A"},{"$error":"#N/A"},{"$error":"#N/A"},{"$error":"#N/A"}]
[null,{"$f":"données!B129","v":"li 126"},{"$error":"#N/A"},{"$error":"#N/A"},{"$error":"#N/A"},{"$error":"#N/A"},{"$error":"#N/A"},{"$error":"#N/A"},{"$error":"#N/A"},{"$error":"#N/A"},{"$error":"#N/A"},{"$error":"#N/A"},{"$error":"#N/A"},{"$error":"#N/A"},{"$error":"#N/A"},{"$error":"#N/A"},{"$error":"#N/A"},{"$error":"#N/A"},{"$error":"#N/A"},{"$error":"#N/A"},{"$error":"#N/A"},{"$error":"#N/A"}]
[null,{"$f":"données!B130","v":"li 127"},{"$error":"#N/A"},{"$error":"#N/A"},{"$error":"#N/A"},{"$error":"#N/A"},{"$error":"#N/A"},{"$error":"#N/A"},{"$error":"#N/A"},{"$error":"#N/A"},{"$error":"#N/A"},{"$error":"#N/A"},{"$error":"#N/A"},{"$error":"#N/A"},{"$error":"#N/A"},{"$error":"#N/A"},{"$error":"#N/A"},{"$error":"#N/A"},{"$error":"#N/A"},{"$error":"#N/A"},{"$error":"#N/A"},{"$error":"#N/A"}]
[null,{"$f":"données!B131","v":"li 128"},{"$error":"#N/A"},{"$error":"#N/A"},{"$error":"#N/A"},{"$error":"#N/A"},{"$error":"#N/A"},{"$error":"#N/A"},{"$error":"#N/A"},{"$error":"#N/A"},{"$error":"#N/A"},{"$error":"#N/A"},{"$error":"#N/A"},{"$error":"#N/A"},{"$error":"#N/A"},{"$error":"#N/A"},{"$error":"#N/A"},{"$error":"#N/A"},{"$error":"#N/A"},{"$error":"#N/A"},{"$error":"#N/A"},{"$error":"#N/A"}]
[null,{"$f":"données!B132","v":"li 129"},{"$error":"#N/A"},{"$error":"#N/A"},{"$error":"#N/A"},{"$error":"#N/A"},{"$error":"#N/A"},{"$error":"#N/A"},{"$error":"#N/A"},{"$error":"#N/A"},{"$error":"#N/A"},{"$error":"#N/A"},{"$error":"#N/A"},{"$error":"#N/A"},{"$error":"#N/A"},{"$error":"#N/A"},{"$error":"#N/A"},{"$error":"#N/A"},{"$error":"#N/A"},{"$error":"#N/A"},{"$error":"#N/A"},{"$error":"#N/A"}]
[null,{"$f":"données!B133","v":"li 130"},{"$error":"#N/A"},{"$error":"#N/A"},{"$error":"#N/A"},{"$error":"#N/A"},{"$error":"#N/A"},{"$error":"#N/A"},{"$error":"#N/A"},{"$error":"#N/A"},{"$error":"#N/A"},{"$error":"#N/A"},{"$error":"#N/A"},{"$error":"#N/A"},{"$error":"#N/A"},{"$error":"#N/A"},{"$error":"#N/A"},{"$error":"#N/A"},{"$error":"#N/A"},{"$error":"#N/A"},{"$error":"#N/A"},{"$error":"#N/A"}]
[null,{"$f":"données!B134","v":"li 131"},{"$error":"#N/A"},{"$error":"#N/A"},{"$error":"#N/A"},{"$error":"#N/A"},{"$error":"#N/A"},{"$error":"#N/A"},{"$error":"#N/A"},{"$error":"#N/A"},{"$error":"#N/A"},{"$error":"#N/A"},{"$error":"#N/A"},{"$error":"#N/A"},{"$error":"#N/A"},{"$error":"#N/A"},{"$error":"#N/A"},{"$error":"#N/A"},{"$error":"#N/A"},{"$error":"#N/A"},{"$error":"#N/A"},{"$error":"#N/A"}]
[null,{"$f":"données!B135","v":"li 132"},{"$error":"#N/A"},{"$error":"#N/A"},{"$error":"#N/A"},{"$error":"#N/A"},{"$error":"#N/A"},{"$error":"#N/A"},{"$error":"#N/A"},{"$error":"#N/A"},{"$error":"#N/A"},{"$error":"#N/A"},{"$error":"#N/A"},{"$error":"#N/A"},{"$error":"#N/A"},{"$error":"#N/A"},{"$error":"#N/A"},{"$error":"#N/A"},{"$error":"#N/A"},{"$error":"#N/A"},{"$error":"#N/A"},{"$error":"#N/A"}]
[null,{"$f":"données!B136","v":"li 133"},{"$error":"#N/A"},{"$error":"#N/A"},{"$error":"#N/A"},{"$error":"#N/A"},{"$error":"#N/A"},{"$error":"#N/A"},{"$error":"#N/A"},{"$error":"#N/A"},{"$error":"#N/A"},{"$error":"#N/A"},{"$error":"#N/A"},{"$error":"#N/A"},{"$error":"#N/A"},{"$error":"#N/A"},{"$error":"#N/A"},{"$error":"#N/A"},{"$error":"#N/A"},{"$error":"#N/A"},{"$error":"#N/A"},{"$error":"#N/A"}]
[null,{"$f":"données!B137","v":"li 134"},{"$error":"#N/A"},{"$error":"#N/A"},{"$error":"#N/A"},{"$error":"#N/A"},{"$error":"#N/A"},{"$error":"#N/A"},{"$error":"#N/A"},{"$error":"#N/A"},{"$error":"#N/A"},{"$error":"#N/A"},{"$error":"#N/A"},{"$error":"#N/A"},{"$error":"#N/A"},{"$error":"#N/A"},{"$error":"#N/A"},{"$error":"#N/A"},{"$error":"#N/A"},{"$error":"#N/A"},{"$error":"#N/A"},{"$error":"#N/A"}]
[null,{"$f":"données!B138","v":"li 135"},{"$error":"#N/A"},{"$error":"#N/A"},{"$error":"#N/A"},{"$error":"#N/A"},{"$error":"#N/A"},{"$error":"#N/A"},{"$error":"#N/A"},{"$error":"#N/A"},{"$error":"#N/A"},{"$error":"#N/A"},{"$error":"#N/A"},{"$error":"#N/A"},{"$error":"#N/A"},{"$error":"#N/A"},{"$error":"#N/A"},{"$error":"#N/A"},{"$error":"#N/A"},{"$error":"#N/A"},{"$error":"#N/A"},{"$error":"#N/A"}]
[null,{"$f":"données!B139","v":"li 136"},{"$error":"#N/A"},{"$error":"#N/A"},{"$error":"#N/A"},{"$error":"#N/A"},{"$error":"#N/A"},{"$error":"#N/A"},{"$error":"#N/A"},{"$error":"#N/A"},{"$error":"#N/A"},{"$error":"#N/A"},{"$error":"#N/A"},{"$error":"#N/A"},{"$error":"#N/A"},{"$error":"#N/A"},{"$error":"#N/A"},{"$error":"#N/A"},{"$error":"#N/A"},{"$error":"#N/A"},{"$error":"#N/A"},{"$error":"#N/A"}]
[null,{"$f":"données!B140","v":"li 137"},{"$error":"#N/A"},{"$error":"#N/A"},{"$error":"#N/A"},{"$error":"#N/A"},{"$error":"#N/A"},{"$error":"#N/A"},{"$error":"#N/A"},{"$error":"#N/A"},{"$error":"#N/A"},{"$error":"#N/A"},{"$error":"#N/A"},{"$error":"#N/A"},{"$error":"#N/A"},{"$error":"#N/A"},{"$error":"#N/A"},{"$error":"#N/A"},{"$error":"#N/A"},{"$error":"#N/A"},{"$error":"#N/A"},{"$error":"#N/A"}]
[null,{"$f":"données!B141","v":"li 138"},{"$error":"#N/A"},{"$error":"#N/A"},{"$error":"#N/A"},{"$error":"#N/A"},{"$error":"#N/A"},{"$error":"#N/A"},{"$error":"#N/A"},{"$error":"#N/A"},{"$error":"#N/A"},{"$error":"#N/A"},{"$error":"#N/A"},{"$error":"#N/A"},{"$error":"#N/A"},{"$error":"#N/A"},{"$error":"#N/A"},{"$error":"#N/A"},{"$error":"#N/A"},{"$error":"#N/A"},{"$error":"#N/A"},{"$error":"#N/A"}]
[null,{"$f":"données!B142","v":"li 139"},{"$error":"#N/A"},{"$error":"#N/A"},{"$error":"#N/A"},{"$error":"#N/A"},{"$error":"#N/A"},{"$error":"#N/A"},{"$error":"#N/A"},{"$error":"#N/A"},{"$error":"#N/A"},{"$error":"#N/A"},{"$error":"#N/A"},{"$error":"#N/A"},{"$error":"#N/A"},{"$error":"#N/A"},{"$error":"#N/A"},{"$error":"#N/A"},{"$error":"#N/A"},{"$error":"#N/A"},{"$error":"#N/A"},{"$error":"#N/A"}]
[null,{"$f":"données!B143","v":"li 140"},{"$error":"#N/A"},{"$error":"#N/A"},{"$error":"#N/A"},{"$error":"#N/A"},{"$error":"#N/A"},{"$error":"#N/A"},{"$error":"#N/A"},{"$error":"#N/A"},{"$error":"#N/A"},{"$error":"#N/A"},{"$error":"#N/A"},{"$error":"#N/A"},{"$error":"#N/A"},{"$error":"#N/A"},{"$error":"#N/A"},{"$error":"#N/A"},{"$error":"#N/A"},{"$error":"#N/A"},{"$error":"#N/A"},{"$error":"#N/A"}]
[null,{"$f":"données!B144","v":"li 141"},{"$error":"#N/A"},{"$error":"#N/A"},{"$error":"#N/A"},{"$error":"#N/A"},{"$error":"#N/A"},{"$error":"#N/A"},{"$error":"#N/A"},{"$error":"#N/A"},{"$error":"#N/A"},{"$error":"#N/A"},{"$error":"#N/A"},{"$error":"#N/A"},{"$error":"#N/A"},{"$error":"#N/A"},{"$error":"#N/A"},{"$error":"#N/A"},{"$error":"#N/A"},{"$error":"#N/A"},{"$error":"#N/A"},{"$error":"#N/A"}]
[null,{"$f":"données!B145","v":"li 142"},{"$error":"#N/A"},{"$error":"#N/A"},{"$error":"#N/A"},{"$error":"#N/A"},{"$error":"#N/A"},{"$error":"#N/A"},{"$error":"#N/A"},{"$error":"#N/A"},{"$error":"#N/A"},{"$error":"#N/A"},{"$error":"#N/A"},{"$error":"#N/A"},{"$error":"#N/A"},{"$error":"#N/A"},{"$error":"#N/A"},{"$error":"#N/A"},{"$error":"#N/A"},{"$error":"#N/A"},{"$error":"#N/A"},{"$error":"#N/A"}]
[null,{"$f":"données!B146","v":"li 143"},{"$error":"#N/A"},{"$error":"#N/A"},{"$error":"#N/A"},{"$error":"#N/A"},{"$error":"#N/A"},{"$error":"#N/A"},{"$error":"#N/A"},{"$error":"#N/A"},{"$error":"#N/A"},{"$error":"#N/A"},{"$error":"#N/A"},{"$error":"#N/A"},{"$error":"#N/A"},{"$error":"#N/A"},{"$error":"#N/A"},{"$error":"#N/A"},{"$error":"#N/A"},{"$error":"#N/A"},{"$error":"#N/A"},{"$error":"#N/A"}]
[null,{"$f":"données!B147","v":"li 144"},{"$error":"#N/A"},{"$error":"#N/A"},{"$error":"#N/A"},{"$error":"#N/A"},{"$error":"#N/A"},{"$error":"#N/A"},{"$error":"#N/A"},{"$error":"#N/A"},{"$error":"#N/A"},{"$error":"#N/A"},{"$error":"#N/A"},{"$error":"#N/A"},{"$error":"#N/A"},{"$error":"#N/A"},{"$error":"#N/A"},{"$error":"#N/A"},{"$error":"#N/A"},{"$error":"#N/A"},{"$error":"#N/A"},{"$error":"#N/A"}]
[null,{"$f":"données!B148","v":"li 145"},{"$error":"#N/A"},{"$error":"#N/A"},{"$error":"#N/A"},{"$error":"#N/A"},{"$error":"#N/A"},{"$error":"#N/A"},{"$error":"#N/A"},{"$error":"#N/A"},{"$error":"#N/A"},{"$error":"#N/A"},{"$error":"#N/A"},{"$error":"#N/A"},{"$error":"#N/A"},{"$error":"#N/A"},{"$error":"#N/A"},{"$error":"#N/A"},{"$error":"#N/A"},{"$error":"#N/A"},{"$error":"#N/A"},{"$error":"#N/A"}]
[null,{"$f":"données!B149","v":"li 146"},{"$error":"#N/A"},{"$error":"#N/A"},{"$error":"#N/A"},{"$error":"#N/A"},{"$error":"#N/A"},{"$error":"#N/A"},{"$error":"#N/A"},{"$error":"#N/A"},{"$error":"#N/A"},{"$error":"#N/A"},{"$error":"#N/A"},{"$error":"#N/A"},{"$error":"#N/A"},{"$error":"#N/A"},{"$error":"#N/A"},{"$error":"#N/A"},{"$error":"#N/A"},{"$error":"#N/A"},{"$error":"#N/A"},{"$error":"#N/A"}]
[null,{"$f":"données!B150","v":"li 147"},{"$error":"#N/A"},{"$error":"#N/A"},{"$error":"#N/A"},{"$error":"#N/A"},{"$error":"#N/A"},{"$error":"#N/A"},{"$error":"#N/A"},{"$error":"#N/A"},{"$error":"#N/A"},{"$error":"#N/A"},{"$error":"#N/A"},{"$error":"#N/A"},{"$error":"#N/A"},{"$error":"#N/A"},{"$error":"#N/A"},{"$error":"#N/A"},{"$error":"#N/A"},{"$error":"#N/A"},{"$error":"#N/A"},{"$error":"#N/A"}]
[null,{"$f":"données!B151","v":"li 148"},{"$error":"#N/A"},{"$error":"#N/A"},{"$error":"#N/A"},{"$error":"#N/A"},{"$error":"#N/A"},{"$error":"#N/A"},{"$error":"#N/A"},{"$error":"#N/A"},{"$error":"#N/A"},{"$error":"#N/A"},{"$error":"#N/A"},{"$error":"#N/A"},{"$error":"#N/A"},{"$error":"#N/A"},{"$error":"#N/A"},{"$error":"#N/A"},{"$error":"#N/A"},{"$error":"#N/A"},{"$error":"#N/A"},{"$error":"#N/A"}]
[null,{"$f":"données!B152","v":"li 149"},{"$error":"#N/A"},{"$error":"#N/A"},{"$error":"#N/A"},{"$error":"#N/A"},{"$error":"#N/A"},{"$error":"#N/A"},{"$error":"#N/A"},{"$error":"#N/A"},{"$error":"#N/A"},{"$error":"#N/A"},{"$error":"#N/A"},{"$error":"#N/A"},{"$error":"#N/A"},{"$error":"#N/A"},{"$error":"#N/A"},{"$error":"#N/A"},{"$error":"#N/A"},{"$error":"#N/A"},{"$error":"#N/A"},{"$error":"#N/A"}]
[null,{"$f":"données!B153","v":"li 150"},{"$error":"#N/A"},{"$error":"#N/A"},{"$error":"#N/A"},{"$error":"#N/A"},{"$error":"#N/A"},{"$error":"#N/A"},{"$error":"#N/A"},{"$error":"#N/A"},{"$error":"#N/A"},{"$error":"#N/A"},{"$error":"#N/A"},{"$error":"#N/A"},{"$error":"#N/A"},{"$error":"#N/A"},{"$error":"#N/A"},{"$error":"#N/A"},{"$error":"#N/A"},{"$error":"#N/A"},{"$error":"#N/A"},{"$error":"#N/A"}]
[null,{"$f":"données!B154","v":"li 151"},{"$error":"#N/A"},{"$error":"#N/A"},{"$error":"#N/A"},{"$error":"#N/A"},{"$error":"#N/A"},{"$error":"#N/A"},{"$error":"#N/A"},{"$error":"#N/A"},{"$error":"#N/A"},{"$error":"#N/A"},{"$error":"#N/A"},{"$error":"#N/A"},{"$error":"#N/A"},{"$error":"#N/A"},{"$error":"#N/A"},{"$error":"#N/A"},{"$error":"#N/A"},{"$error":"#N/A"},{"$error":"#N/A"},{"$error":"#N/A"}]
[null,{"$f":"données!B155","v":"li 152"},{"$error":"#N/A"},{"$error":"#N/A"},{"$error":"#N/A"},{"$error":"#N/A"},{"$error":"#N/A"},{"$error":"#N/A"},{"$error":"#N/A"},{"$error":"#N/A"},{"$error":"#N/A"},{"$error":"#N/A"},{"$error":"#N/A"},{"$error":"#N/A"},{"$error":"#N/A"},{"$error":"#N/A"},{"$error":"#N/A"},{"$error":"#N/A"},{"$error":"#N/A"},{"$error":"#N/A"},{"$error":"#N/A"},{"$error":"#N/A"}]
[null,{"$f":"données!B156","v":"li 153"},{"$error":"#N/A"},{"$error":"#N/A"},{"$error":"#N/A"},{"$error":"#N/A"},{"$error":"#N/A"},{"$error":"#N/A"},{"$error":"#N/A"},{"$error":"#N/A"},{"$error":"#N/A"},{"$error":"#N/A"},{"$error":"#N/A"},{"$error":"#N/A"},{"$error":"#N/A"},{"$error":"#N/A"},{"$error":"#N/A"},{"$error":"#N/A"},{"$error":"#N/A"},{"$error":"#N/A"},{"$error":"#N/A"},{"$error":"#N/A"}]
[null,{"$f":"données!B157","v":"li 154"},{"$error":"#N/A"},{"$error":"#N/A"},{"$error":"#N/A"},{"$error":"#N/A"},{"$error":"#N/A"},{"$error":"#N/A"},{"$error":"#N/A"},{"$error":"#N/A"},{"$error":"#N/A"},{"$error":"#N/A"},{"$error":"#N/A"},{"$error":"#N/A"},{"$error":"#N/A"},{"$error":"#N/A"},{"$error":"#N/A"},{"$error":"#N/A"},{"$error":"#N/A"},{"$error":"#N/A"},{"$error":"#N/A"},{"$error":"#N/A"}]
[null,{"$f":"données!B158","v":"li 155"},{"$error":"#N/A"},{"$error":"#N/A"},{"$error":"#N/A"},{"$error":"#N/A"},{"$error":"#N/A"},{"$error":"#N/A"},{"$error":"#N/A"},{"$error":"#N/A"},{"$error":"#N/A"},{"$error":"#N/A"},{"$error":"#N/A"},{"$error":"#N/A"},{"$error":"#N/A"},{"$error":"#N/A"},{"$error":"#N/A"},{"$error":"#N/A"},{"$error":"#N/A"},{"$error":"#N/A"},{"$error":"#N/A"},{"$error":"#N/A"}]
[null,{"$f":"données!B159","v":"li 156"},{"$error":"#N/A"},{"$error":"#N/A"},{"$error":"#N/A"},{"$error":"#N/A"},{"$error":"#N/A"},{"$error":"#N/A"},{"$error":"#N/A"},{"$error":"#N/A"},{"$error":"#N/A"},{"$error":"#N/A"},{"$error":"#N/A"},{"$error":"#N/A"},{"$error":"#N/A"},{"$error":"#N/A"},{"$error":"#N/A"},{"$error":"#N/A"},{"$error":"#N/A"},{"$error":"#N/A"},{"$error":"#N/A"},{"$error":"#N/A"}]
[null,{"$f":"données!B160","v":"li 157"},{"$error":"#N/A"},{"$error":"#N/A"},{"$error":"#N/A"},{"$error":"#N/A"},{"$error":"#N/A"},{"$error":"#N/A"},{"$error":"#N/A"},{"$error":"#N/A"},{"$error":"#N/A"},{"$error":"#N/A"},{"$error":"#N/A"},{"$error":"#N/A"},{"$error":"#N/A"},{"$error":"#N/A"},{"$error":"#N/A"},{"$error":"#N/A"},{"$error":"#N/A"},{"$error":"#N/A"},{"$error":"#N/A"},{"$error":"#N/A"}]
[null,{"$f":"données!B161","v":"li 158"},{"$error":"#N/A"},{"$error":"#N/A"},{"$error":"#N/A"},{"$error":"#N/A"},{"$error":"#N/A"},{"$error":"#N/A"},{"$error":"#N/A"},{"$error":"#N/A"},{"$error":"#N/A"},{"$error":"#N/A"},{"$error":"#N/A"},{"$error":"#N/A"},{"$error":"#N/A"},{"$error":"#N/A"},{"$error":"#N/A"},{"$error":"#N/A"},{"$error":"#N/A"},{"$error":"#N/A"},{"$error":"#N/A"},{"$error":"#N/A"}]
[null,{"$f":"données!B162","v":"li 159"},{"$error":"#N/A"},{"$error":"#N/A"},{"$error":"#N/A"},{"$error":"#N/A"},{"$error":"#N/A"},{"$error":"#N/A"},{"$error":"#N/A"},{"$error":"#N/A"},{"$error":"#N/A"},{"$error":"#N/A"},{"$error":"#N/A"},{"$error":"#N/A"},{"$error":"#N/A"},{"$error":"#N/A"},{"$error":"#N/A"},{"$error":"#N/A"},{"$error":"#N/A"},{"$error":"#N/A"},{"$error":"#N/A"},{"$error":"#N/A"}]
[null,{"$f":"données!B163","v":"li 160"},{"$error":"#N/A"},{"$error":"#N/A"},{"$error":"#N/A"},{"$error":"#N/A"},{"$error":"#N/A"},{"$error":"#N/A"},{"$error":"#N/A"},{"$error":"#N/A"},{"$error":"#N/A"},{"$error":"#N/A"},{"$error":"#N/A"},{"$error":"#N/A"},{"$error":"#N/A"},{"$error":"#N/A"},{"$error":"#N/A"},{"$error":"#N/A"},{"$error":"#N/A"},{"$error":"#N/A"},{"$error":"#N/A"},{"$error":"#N/A"}]
[null,{"$f":"données!B164","v":"li 161"},{"$error":"#N/A"},{"$error":"#N/A"},{"$error":"#N/A"},{"$error":"#N/A"},{"$error":"#N/A"},{"$error":"#N/A"},{"$error":"#N/A"},{"$error":"#N/A"},{"$error":"#N/A"},{"$error":"#N/A"},{"$error":"#N/A"},{"$error":"#N/A"},{"$error":"#N/A"},{"$error":"#N/A"},{"$error":"#N/A"},{"$error":"#N/A"},{"$error":"#N/A"},{"$error":"#N/A"},{"$error":"#N/A"},{"$error":"#N/A"}]
[null,{"$f":"données!B165","v":"li 162"},{"$error":"#N/A"},{"$error":"#N/A"},{"$error":"#N/A"},{"$error":"#N/A"},{"$error":"#N/A"},{"$error":"#N/A"},{"$error":"#N/A"},{"$error":"#N/A"},{"$error":"#N/A"},{"$error":"#N/A"},{"$error":"#N/A"},{"$error":"#N/A"},{"$error":"#N/A"},{"$error":"#N/A"},{"$error":"#N/A"},{"$error":"#N/A"},{"$error":"#N/A"},{"$error":"#N/A"},{"$error":"#N/A"},{"$error":"#N/A"}]
[null,{"$f":"données!B166","v":"li 163"},{"$error":"#N/A"},{"$error":"#N/A"},{"$error":"#N/A"},{"$error":"#N/A"},{"$error":"#N/A"},{"$error":"#N/A"},{"$error":"#N/A"},{"$error":"#N/A"},{"$error":"#N/A"},{"$error":"#N/A"},{"$error":"#N/A"},{"$error":"#N/A"},{"$error":"#N/A"},{"$error":"#N/A"},{"$error":"#N/A"},{"$error":"#N/A"},{"$error":"#N/A"},{"$error":"#N/A"},{"$error":"#N/A"},{"$error":"#N/A"}]
[null,{"$f":"données!B167","v":"li 164"},{"$error":"#N/A"},{"$error":"#N/A"},{"$error":"#N/A"},{"$error":"#N/A"},{"$error":"#N/A"},{"$error":"#N/A"},{"$error":"#N/A"},{"$error":"#N/A"},{"$error":"#N/A"},{"$error":"#N/A"},{"$error":"#N/A"},{"$error":"#N/A"},{"$error":"#N/A"},{"$error":"#N/A"},{"$error":"#N/A"},{"$error":"#N/A"},{"$error":"#N/A"},{"$error":"#N/A"},{"$error":"#N/A"},{"$error":"#N/A"}]
[null,{"$f":"données!B168","v":"li 165"},{"$error":"#N/A"},{"$error":"#N/A"},{"$error":"#N/A"},{"$error":"#N/A"},{"$error":"#N/A"},{"$error":"#N/A"},{"$error":"#N/A"},{"$error":"#N/A"},{"$error":"#N/A"},{"$error":"#N/A"},{"$error":"#N/A"},{"$error":"#N/A"},{"$error":"#N/A"},{"$error":"#N/A"},{"$error":"#N/A"},{"$error":"#N/A"},{"$error":"#N/A"},{"$error":"#N/A"},{"$error":"#N/A"},{"$error":"#N/A"}]
[null,{"$f":"données!B169","v":"li 166"},{"$error":"#N/A"},{"$error":"#N/A"},{"$error":"#N/A"},{"$error":"#N/A"},{"$error":"#N/A"},{"$error":"#N/A"},{"$error":"#N/A"},{"$error":"#N/A"},{"$error":"#N/A"},{"$error":"#N/A"},{"$error":"#N/A"},{"$error":"#N/A"},{"$error":"#N/A"},{"$error":"#N/A"},{"$error":"#N/A"},{"$error":"#N/A"},{"$error":"#N/A"},{"$error":"#N/A"},{"$error":"#N/A"},{"$error":"#N/A"}]
[null,{"$f":"données!B170","v":"li 167"},{"$error":"#N/A"},{"$error":"#N/A"},{"$error":"#N/A"},{"$error":"#N/A"},{"$error":"#N/A"},{"$error":"#N/A"},{"$error":"#N/A"},{"$error":"#N/A"},{"$error":"#N/A"},{"$error":"#N/A"},{"$error":"#N/A"},{"$error":"#N/A"},{"$error":"#N/A"},{"$error":"#N/A"},{"$error":"#N/A"},{"$error":"#N/A"},{"$error":"#N/A"},{"$error":"#N/A"},{"$error":"#N/A"},{"$error":"#N/A"}]
[null,{"$f":"données!B171","v":"li 168"},{"$error":"#N/A"},{"$error":"#N/A"},{"$error":"#N/A"},{"$error":"#N/A"},{"$error":"#N/A"},{"$error":"#N/A"},{"$error":"#N/A"},{"$error":"#N/A"},{"$error":"#N/A"},{"$error":"#N/A"},{"$error":"#N/A"},{"$error":"#N/A"},{"$error":"#N/A"},{"$error":"#N/A"},{"$error":"#N/A"},{"$error":"#N/A"},{"$error":"#N/A"},{"$error":"#N/A"},{"$error":"#N/A"},{"$error":"#N/A"}]
[null,{"$f":"données!B172","v":"li 169"},{"$error":"#N/A"},{"$error":"#N/A"},{"$error":"#N/A"},{"$error":"#N/A"},{"$error":"#N/A"},{"$error":"#N/A"},{"$error":"#N/A"},{"$error":"#N/A"},{"$error":"#N/A"},{"$error":"#N/A"},{"$error":"#N/A"},{"$error":"#N/A"},{"$error":"#N/A"},{"$error":"#N/A"},{"$error":"#N/A"},{"$error":"#N/A"},{"$error":"#N/A"},{"$error":"#N/A"},{"$error":"#N/A"},{"$error":"#N/A"}]
[null,{"$f":"données!B173","v":"li 170"},{"$error":"#N/A"},{"$error":"#N/A"},{"$error":"#N/A"},{"$error":"#N/A"},{"$error":"#N/A"},{"$error":"#N/A"},{"$error":"#N/A"},{"$error":"#N/A"},{"$error":"#N/A"},{"$error":"#N/A"},{"$error":"#N/A"},{"$error":"#N/A"},{"$error":"#N/A"},{"$error":"#N/A"},{"$error":"#N/A"},{"$error":"#N/A"},{"$error":"#N/A"},{"$error":"#N/A"},{"$error":"#N/A"},{"$error":"#N/A"}]
[null,{"$f":"données!B174","v":"li 171"},{"$error":"#N/A"},{"$error":"#N/A"},{"$error":"#N/A"},{"$error":"#N/A"},{"$error":"#N/A"},{"$error":"#N/A"},{"$error":"#N/A"},{"$error":"#N/A"},{"$error":"#N/A"},{"$error":"#N/A"},{"$error":"#N/A"},{"$error":"#N/A"},{"$error":"#N/A"},{"$error":"#N/A"},{"$error":"#N/A"},{"$error":"#N/A"},{"$error":"#N/A"},{"$error":"#N/A"},{"$error":"#N/A"},{"$error":"#N/A"}]
[null,{"$f":"données!B175","v":"li 172"},{"$error":"#N/A"},{"$error":"#N/A"},{"$error":"#N/A"},{"$error":"#N/A"},{"$error":"#N/A"},{"$error":"#N/A"},{"$error":"#N/A"},{"$error":"#N/A"},{"$error":"#N/A"},{"$error":"#N/A"},{"$error":"#N/A"},{"$error":"#N/A"},{"$error":"#N/A"},{"$error":"#N/A"},{"$error":"#N/A"},{"$error":"#N/A"},{"$error":"#N/A"},{"$error":"#N/A"},{"$error":"#N/A"},{"$error":"#N/A"}]
[null,{"$f":"données!B176","v":"li 173"},{"$error":"#N/A"},{"$error":"#N/A"},{"$error":"#N/A"},{"$error":"#N/A"},{"$error":"#N/A"},{"$error":"#N/A"},{"$error":"#N/A"},{"$error":"#N/A"},{"$error":"#N/A"},{"$error":"#N/A"},{"$error":"#N/A"},{"$error":"#N/A"},{"$error":"#N/A"},{"$error":"#N/A"},{"$error":"#N/A"},{"$error":"#N/A"},{"$error":"#N/A"},{"$error":"#N/A"},{"$error":"#N/A"},{"$error":"#N/A"}]
[null,{"$f":"données!B177","v":"li 174"},{"$error":"#N/A"},{"$error":"#N/A"},{"$error":"#N/A"},{"$error":"#N/A"},{"$error":"#N/A"},{"$error":"#N/A"},{"$error":"#N/A"},{"$error":"#N/A"},{"$error":"#N/A"},{"$error":"#N/A"},{"$error":"#N/A"},{"$error":"#N/A"},{"$error":"#N/A"},{"$error":"#N/A"},{"$error":"#N/A"},{"$error":"#N/A"},{"$error":"#N/A"},{"$error":"#N/A"},{"$error":"#N/A"},{"$error":"#N/A"}]
[null,{"$f":"données!B178","v":"li 175"},{"$error":"#N/A"},{"$error":"#N/A"},{"$error":"#N/A"},{"$error":"#N/A"},{"$error":"#N/A"},{"$error":"#N/A"},{"$error":"#N/A"},{"$error":"#N/A"},{"$error":"#N/A"},{"$error":"#N/A"},{"$error":"#N/A"},{"$error":"#N/A"},{"$error":"#N/A"},{"$error":"#N/A"},{"$error":"#N/A"},{"$error":"#N/A"},{"$error":"#N/A"},{"$error":"#N/A"},{"$error":"#N/A"},{"$error":"#N/A"}]
[null,{"$f":"données!B179","v":"li 176"},{"$error":"#N/A"},{"$error":"#N/A"},{"$error":"#N/A"},{"$error":"#N/A"},{"$error":"#N/A"},{"$error":"#N/A"},{"$error":"#N/A"},{"$error":"#N/A"},{"$error":"#N/A"},{"$error":"#N/A"},{"$error":"#N/A"},{"$error":"#N/A"},{"$error":"#N/A"},{"$error":"#N/A"},{"$error":"#N/A"},{"$error":"#N/A"},{"$error":"#N/A"},{"$error":"#N/A"},{"$error":"#N/A"},{"$error":"#N/A"}]
[null,{"$f":"données!B180","v":"li 177"},{"$error":"#N/A"},{"$error":"#N/A"},{"$error":"#N/A"},{"$error":"#N/A"},{"$error":"#N/A"},{"$error":"#N/A"},{"$error":"#N/A"},{"$error":"#N/A"},{"$error":"#N/A"},{"$error":"#N/A"},{"$error":"#N/A"},{"$error":"#N/A"},{"$error":"#N/A"},{"$error":"#N/A"},{"$error":"#N/A"},{"$error":"#N/A"},{"$error":"#N/A"},{"$error":"#N/A"},{"$error":"#N/A"},{"$error":"#N/A"}]
[null,{"$f":"données!B181","v":"li 178"},{"$error":"#N/A"},{"$error":"#N/A"},{"$error":"#N/A"},{"$error":"#N/A"},{"$error":"#N/A"},{"$error":"#N/A"},{"$error":"#N/A"},{"$error":"#N/A"},{"$error":"#N/A"},{"$error":"#N/A"},{"$error":"#N/A"},{"$error":"#N/A"},{"$error":"#N/A"},{"$error":"#N/A"},{"$error":"#N/A"},{"$error":"#N/A"},{"$error":"#N/A"},{"$error":"#N/A"},{"$error":"#N/A"},{"$error":"#N/A"}]
[null,{"$f":"données!B182","v":"li 179"},{"$error":"#N/A"},{"$error":"#N/A"},{"$error":"#N/A"},{"$error":"#N/A"},{"$error":"#N/A"},{"$error":"#N/A"},{"$error":"#N/A"},{"$error":"#N/A"},{"$error":"#N/A"},{"$error":"#N/A"},{"$error":"#N/A"},{"$error":"#N/A"},{"$error":"#N/A"},{"$error":"#N/A"},{"$error":"#N/A"},{"$error":"#N/A"},{"$error":"#N/A"},{"$error":"#N/A"},{"$error":"#N/A"},{"$error":"#N/A"}]
[null,{"$f":"données!B183","v":"li 180"},{"$error":"#N/A"},{"$error":"#N/A"},{"$error":"#N/A"},{"$error":"#N/A"},{"$error":"#N/A"},{"$error":"#N/A"},{"$error":"#N/A"},{"$error":"#N/A"},{"$error":"#N/A"},{"$error":"#N/A"},{"$error":"#N/A"},{"$error":"#N/A"},{"$error":"#N/A"},{"$error":"#N/A"},{"$error":"#N/A"},{"$error":"#N/A"},{"$error":"#N/A"},{"$error":"#N/A"},{"$error":"#N/A"},{"$error":"#N/A"}]
[null,{"$f":"données!B184","v":"li 181"},{"$error":"#N/A"},{"$error":"#N/A"},{"$error":"#N/A"},{"$error":"#N/A"},{"$error":"#N/A"},{"$error":"#N/A"},{"$error":"#N/A"},{"$error":"#N/A"},{"$error":"#N/A"},{"$error":"#N/A"},{"$error":"#N/A"},{"$error":"#N/A"},{"$error":"#N/A"},{"$error":"#N/A"},{"$error":"#N/A"},{"$error":"#N/A"},{"$error":"#N/A"},{"$error":"#N/A"},{"$error":"#N/A"},{"$error":"#N/A"}]
[null,{"$f":"données!B185","v":"li 182"},{"$error":"#N/A"},{"$error":"#N/A"},{"$error":"#N/A"},{"$error":"#N/A"},{"$error":"#N/A"},{"$error":"#N/A"},{"$error":"#N/A"},{"$error":"#N/A"},{"$error":"#N/A"},{"$error":"#N/A"},{"$error":"#N/A"},{"$error":"#N/A"},{"$error":"#N/A"},{"$error":"#N/A"},{"$error":"#N/A"},{"$error":"#N/A"},{"$error":"#N/A"},{"$error":"#N/A"},{"$error":"#N/A"},{"$error":"#N/A"}]
[null,{"$f":"données!B186","v":"li 183"},{"$error":"#N/A"},{"$error":"#N/A"},{"$error":"#N/A"},{"$error":"#N/A"},{"$error":"#N/A"},{"$error":"#N/A"},{"$error":"#N/A"},{"$error":"#N/A"},{"$error":"#N/A"},{"$error":"#N/A"},{"$error":"#N/A"},{"$error":"#N/A"},{"$error":"#N/A"},{"$error":"#N/A"},{"$error":"#N/A"},{"$error":"#N/A"},{"$error":"#N/A"},{"$error":"#N/A"},{"$error":"#N/A"},{"$error":"#N/A"}]
[null,{"$f":"données!B187","v":"li 184"},{"$error":"#N/A"},{"$error":"#N/A"},{"$error":"#N/A"},{"$error":"#N/A"},{"$error":"#N/A"},{"$error":"#N/A"},{"$error":"#N/A"},{"$error":"#N/A"},{"$error":"#N/A"},{"$error":"#N/A"},{"$error":"#N/A"},{"$error":"#N/A"},{"$error":"#N/A"},{"$error":"#N/A"},{"$error":"#N/A"},{"$error":"#N/A"},{"$error":"#N/A"},{"$error":"#N/A"},{"$error":"#N/A"},{"$error":"#N/A"}]
[null,{"$f":"données!B188","v":"li 185"},{"$error":"#N/A"},{"$error":"#N/A"},{"$error":"#N/A"},{"$error":"#N/A"},{"$error":"#N/A"},{"$error":"#N/A"},{"$error":"#N/A"},{"$error":"#N/A"},{"$error":"#N/A"},{"$error":"#N/A"},{"$error":"#N/A"},{"$error":"#N/A"},{"$error":"#N/A"},{"$error":"#N/A"},{"$error":"#N/A"},{"$error":"#N/A"},{"$error":"#N/A"},{"$error":"#N/A"},{"$error":"#N/A"},{"$error":"#N/A"}]
[null,{"$f":"données!B189","v":"li 186"},{"$error":"#N/A"},{"$error":"#N/A"},{"$error":"#N/A"},{"$error":"#N/A"},{"$error":"#N/A"},{"$error":"#N/A"},{"$error":"#N/A"},{"$error":"#N/A"},{"$error":"#N/A"},{"$error":"#N/A"},{"$error":"#N/A"},{"$error":"#N/A"},{"$error":"#N/A"},{"$error":"#N/A"},{"$error":"#N/A"},{"$error":"#N/A"},{"$error":"#N/A"},{"$error":"#N/A"},{"$error":"#N/A"},{"$error":"#N/A"}]
[null,{"$f":"données!B190","v":"li 187"},{"$error":"#N/A"},{"$error":"#N/A"},{"$error":"#N/A"},{"$error":"#N/A"},{"$error":"#N/A"},{"$error":"#N/A"},{"$error":"#N/A"},{"$error":"#N/A"},{"$error":"#N/A"},{"$error":"#N/A"},{"$error":"#N/A"},{"$error":"#N/A"},{"$error":"#N/A"},{"$error":"#N/A"},{"$error":"#N/A"},{"$error":"#N/A"},{"$error":"#N/A"},{"$error":"#N/A"},{"$error":"#N/A"},{"$error":"#N/A"}]
[null,{"$f":"données!B191","v":"li 188"},{"$error":"#N/A"},{"$error":"#N/A"},{"$error":"#N/A"},{"$error":"#N/A"},{"$error":"#N/A"},{"$error":"#N/A"},{"$error":"#N/A"},{"$error":"#N/A"},{"$error":"#N/A"},{"$error":"#N/A"},{"$error":"#N/A"},{"$error":"#N/A"},{"$error":"#N/A"},{"$error":"#N/A"},{"$error":"#N/A"},{"$error":"#N/A"},{"$error":"#N/A"},{"$error":"#N/A"},{"$error":"#N/A"},{"$error":"#N/A"}]
[null,{"$f":"données!B192","v":"li 189"},{"$error":"#N/A"},{"$error":"#N/A"},{"$error":"#N/A"},{"$error":"#N/A"},{"$error":"#N/A"},{"$error":"#N/A"},{"$error":"#N/A"},{"$error":"#N/A"},{"$error":"#N/A"},{"$error":"#N/A"},{"$error":"#N/A"},{"$error":"#N/A"},{"$error":"#N/A"},{"$error":"#N/A"},{"$error":"#N/A"},{"$error":"#N/A"},{"$error":"#N/A"},{"$error":"#N/A"},{"$error":"#N/A"},{"$error":"#N/A"}]
[null,{"$f":"données!B193","v":"li 190"},{"$error":"#N/A"},{"$error":"#N/A"},{"$error":"#N/A"},{"$error":"#N/A"},{"$error":"#N/A"},{"$error":"#N/A"},{"$error":"#N/A"},{"$error":"#N/A"},{"$error":"#N/A"},{"$error":"#N/A"},{"$error":"#N/A"},{"$error":"#N/A"},{"$error":"#N/A"},{"$error":"#N/A"},{"$error":"#N/A"},{"$error":"#N/A"},{"$error":"#N/A"},{"$error":"#N/A"},{"$error":"#N/A"},{"$error":"#N/A"}]
[null,{"$f":"données!B194","v":"li 191"},{"$error":"#N/A"},{"$error":"#N/A"},{"$error":"#N/A"},{"$error":"#N/A"},{"$error":"#N/A"},{"$error":"#N/A"},{"$error":"#N/A"},{"$error":"#N/A"},{"$error":"#N/A"},{"$error":"#N/A"},{"$error":"#N/A"},{"$error":"#N/A"},{"$error":"#N/A"},{"$error":"#N/A"},{"$error":"#N/A"},{"$error":"#N/A"},{"$error":"#N/A"},{"$error":"#N/A"},{"$error":"#N/A"},{"$error":"#N/A"}]
[null,{"$f":"données!B195","v":"li 192"},{"$error":"#N/A"},{"$error":"#N/A"},{"$error":"#N/A"},{"$error":"#N/A"},{"$error":"#N/A"},{"$error":"#N/A"},{"$error":"#N/A"},{"$error":"#N/A"},{"$error":"#N/A"},{"$error":"#N/A"},{"$error":"#N/A"},{"$error":"#N/A"},{"$error":"#N/A"},{"$error":"#N/A"},{"$error":"#N/A"},{"$error":"#N/A"},{"$error":"#N/A"},{"$error":"#N/A"},{"$error":"#N/A"},{"$error":"#N/A"}]
[null,{"$f":"données!B196","v":"li 193"},{"$error":"#N/A"},{"$error":"#N/A"},{"$error":"#N/A"},{"$error":"#N/A"},{"$error":"#N/A"},{"$error":"#N/A"},{"$error":"#N/A"},{"$error":"#N/A"},{"$error":"#N/A"},{"$error":"#N/A"},{"$error":"#N/A"},{"$error":"#N/A"},{"$error":"#N/A"},{"$error":"#N/A"},{"$error":"#N/A"},{"$error":"#N/A"},{"$error":"#N/A"},{"$error":"#N/A"},{"$error":"#N/A"},{"$error":"#N/A"}]
[null,{"$f":"données!B197","v":"li 194"},{"$error":"#N/A"},{"$error":"#N/A"},{"$error":"#N/A"},{"$error":"#N/A"},{"$error":"#N/A"},{"$error":"#N/A"},{"$error":"#N/A"},{"$error":"#N/A"},{"$error":"#N/A"},{"$error":"#N/A"},{"$error":"#N/A"},{"$error":"#N/A"},{"$error":"#N/A"},{"$error":"#N/A"},{"$error":"#N/A"},{"$error":"#N/A"},{"$error":"#N/A"},{"$error":"#N/A"},{"$error":"#N/A"},{"$error":"#N/A"}]
[null,{"$f":"données!B198","v":"li 195"},{"$error":"#N/A"},{"$error":"#N/A"},{"$error":"#N/A"},{"$error":"#N/A"},{"$error":"#N/A"},{"$error":"#N/A"},{"$error":"#N/A"},{"$error":"#N/A"},{"$error":"#N/A"},{"$error":"#N/A"},{"$error":"#N/A"},{"$error":"#N/A"},{"$error":"#N/A"},{"$error":"#N/A"},{"$error":"#N/A"},{"$error":"#N/A"},{"$error":"#N/A"},{"$error":"#N/A"},{"$error":"#N/A"},{"$error":"#N/A"}]
[null,{"$f":"données!B199","v":"li 196"},{"$error":"#N/A"},{"$error":"#N/A"},{"$error":"#N/A"},{"$error":"#N/A"},{"$error":"#N/A"},{"$error":"#N/A"},{"$error":"#N/A"},{"$error":"#N/A"},{"$error":"#N/A"},{"$error":"#N/A"},{"$error":"#N/A"},{"$error":"#N/A"},{"$error":"#N/A"},{"$error":"#N/A"},{"$error":"#N/A"},{"$error":"#N/A"},{"$error":"#N/A"},{"$error":"#N/A"},{"$error":"#N/A"},{"$error":"#N/A"}]
[null,{"$f":"données!B200","v":"li 197"},{"$error":"#N/A"},{"$error":"#N/A"},{"$error":"#N/A"},{"$error":"#N/A"},{"$error":"#N/A"},{"$error":"#N/A"},{"$error":"#N/A"},{"$error":"#N/A"},{"$error":"#N/A"},{"$error":"#N/A"},{"$error":"#N/A"},{"$error":"#N/A"},{"$error":"#N/A"},{"$error":"#N/A"},{"$error":"#N/A"},{"$error":"#N/A"},{"$error":"#N/A"},{"$error":"#N/A"},{"$error":"#N/A"},{"$error":"#N/A"}]
[null,{"$f":"données!B201","v":"li 198"},{"$error":"#N/A"},{"$error":"#N/A"},{"$error":"#N/A"},{"$error":"#N/A"},{"$error":"#N/A"},{"$error":"#N/A"},{"$error":"#N/A"},{"$error":"#N/A"},{"$error":"#N/A"},{"$error":"#N/A"},{"$error":"#N/A"},{"$error":"#N/A"},{"$error":"#N/A"},{"$error":"#N/A"},{"$error":"#N/A"},{"$error":"#N/A"},{"$error":"#N/A"},{"$error":"#N/A"},{"$error":"#N/A"},{"$error":"#N/A"}]
[null,{"$f":"données!B202","v":"li 199"},{"$error":"#N/A"},{"$error":"#N/A"},{"$error":"#N/A"},{"$error":"#N/A"},{"$error":"#N/A"},{"$error":"#N/A"},{"$error":"#N/A"},{"$error":"#N/A"},{"$error":"#N/A"},{"$error":"#N/A"},{"$error":"#N/A"},{"$error":"#N/A"},{"$error":"#N/A"},{"$error":"#N/A"},{"$error":"#N/A"},{"$error":"#N/A"},{"$error":"#N/A"},{"$error":"#N/A"},{"$error":"#N/A"},{"$error":"#N/A"}]
[null,{"$f":"données!B203","v":"li 200"},{"$error":"#N/A"},{"$error":"#N/A"},{"$error":"#N/A"},{"$error":"#N/A"},{"$error":"#N/A"},{"$error":"#N/A"},{"$error":"#N/A"},{"$error":"#N/A"},{"$error":"#N/A"},{"$error":"#N/A"},{"$error":"#N/A"},{"$error":"#N/A"},{"$error":"#N/A"},{"$error":"#N/A"},{"$error":"#N/A"},{"$error":"#N/A"},{"$error":"#N/A"},{"$error":"#N/A"},{"$error":"#N/A"},{"$error":"#N/A"}]
[null,{"$f":"données!B204","v":"li 201"},{"$error":"#N/A"},{"$error":"#N/A"},{"$error":"#N/A"},{"$error":"#N/A"},{"$error":"#N/A"},{"$error":"#N/A"},{"$error":"#N/A"},{"$error":"#N/A"},{"$error":"#N/A"},{"$error":"#N/A"},{"$error":"#N/A"},{"$error":"#N/A"},{"$error":"#N/A"},{"$error":"#N/A"},{"$error":"#N/A"},{"$error":"#N/A"},{"$error":"#N/A"},{"$error":"#N/A"},{"$error":"#N/A"},{"$error":"#N/A"}]
[null,{"$f":"données!B205","v":"li 202"},{"$error":"#N/A"},{"$error":"#N/A"},{"$error":"#N/A"},{"$error":"#N/A"},{"$error":"#N/A"},{"$error":"#N/A"},{"$error":"#N/A"},{"$error":"#N/A"},{"$error":"#N/A"},{"$error":"#N/A"},{"$error":"#N/A"},{"$error":"#N/A"},{"$error":"#N/A"},{"$error":"#N/A"},{"$error":"#N/A"},{"$error":"#N/A"},{"$error":"#N/A"},{"$error":"#N/A"},{"$error":"#N/A"},{"$error":"#N/A"}]
[null,{"$f":"données!B206","v":"li 203"},{"$error":"#N/A"},{"$error":"#N/A"},{"$error":"#N/A"},{"$error":"#N/A"},{"$error":"#N/A"},{"$error":"#N/A"},{"$error":"#N/A"},{"$error":"#N/A"},{"$error":"#N/A"},{"$error":"#N/A"},{"$error":"#N/A"},{"$error":"#N/A"},{"$error":"#N/A"},{"$error":"#N/A"},{"$error":"#N/A"},{"$error":"#N/A"},{"$error":"#N/A"},{"$error":"#N/A"},{"$error":"#N/A"},{"$error":"#N/A"}]
[null,{"$f":"données!B207","v":"li 204"},{"$error":"#N/A"},{"$error":"#N/A"},{"$error":"#N/A"},{"$error":"#N/A"},{"$error":"#N/A"},{"$error":"#N/A"},{"$error":"#N/A"},{"$error":"#N/A"},{"$error":"#N/A"},{"$error":"#N/A"},{"$error":"#N/A"},{"$error":"#N/A"},{"$error":"#N/A"},{"$error":"#N/A"},{"$error":"#N/A"},{"$error":"#N/A"},{"$error":"#N/A"},{"$error":"#N/A"},{"$error":"#N/A"},{"$error":"#N/A"}]
[null,{"$f":"données!B208","v":"li 205"},{"$error":"#N/A"},{"$error":"#N/A"},{"$error":"#N/A"},{"$error":"#N/A"},{"$error":"#N/A"},{"$error":"#N/A"},{"$error":"#N/A"},{"$error":"#N/A"},{"$error":"#N/A"},{"$error":"#N/A"},{"$error":"#N/A"},{"$error":"#N/A"},{"$error":"#N/A"},{"$error":"#N/A"},{"$error":"#N/A"},{"$error":"#N/A"},{"$error":"#N/A"},{"$error":"#N/A"},{"$error":"#N/A"},{"$error":"#N/A"}]
[null,{"$f":"données!B209","v":"li 206"},{"$error":"#N/A"},{"$error":"#N/A"},{"$error":"#N/A"},{"$error":"#N/A"},{"$error":"#N/A"},{"$error":"#N/A"},{"$error":"#N/A"},{"$error":"#N/A"},{"$error":"#N/A"},{"$error":"#N/A"},{"$error":"#N/A"},{"$error":"#N/A"},{"$error":"#N/A"},{"$error":"#N/A"},{"$error":"#N/A"},{"$error":"#N/A"},{"$error":"#N/A"},{"$error":"#N/A"},{"$error":"#N/A"},{"$error":"#N/A"}]
[null,{"$f":"données!B210","v":"li 207"},{"$error":"#N/A"},{"$error":"#N/A"},{"$error":"#N/A"},{"$error":"#N/A"},{"$error":"#N/A"},{"$error":"#N/A"},{"$error":"#N/A"},{"$error":"#N/A"},{"$error":"#N/A"},{"$error":"#N/A"},{"$error":"#N/A"},{"$error":"#N/A"},{"$error":"#N/A"},{"$error":"#N/A"},{"$error":"#N/A"},{"$error":"#N/A"},{"$error":"#N/A"},{"$error":"#N/A"},{"$error":"#N/A"},{"$error":"#N/A"}]
[null,{"$f":"données!B211","v":"li 208"},{"$error":"#N/A"},{"$error":"#N/A"},{"$error":"#N/A"},{"$error":"#N/A"},{"$error":"#N/A"},{"$error":"#N/A"},{"$error":"#N/A"},{"$error":"#N/A"},{"$error":"#N/A"},{"$error":"#N/A"},{"$error":"#N/A"},{"$error":"#N/A"},{"$error":"#N/A"},{"$error":"#N/A"},{"$error":"#N/A"},{"$error":"#N/A"},{"$error":"#N/A"},{"$error":"#N/A"},{"$error":"#N/A"},{"$error":"#N/A"}]
[null,{"$f":"données!B212","v":"li 209"},{"$error":"#N/A"},{"$error":"#N/A"},{"$error":"#N/A"},{"$error":"#N/A"},{"$error":"#N/A"},{"$error":"#N/A"},{"$error":"#N/A"},{"$error":"#N/A"},{"$error":"#N/A"},{"$error":"#N/A"},{"$error":"#N/A"},{"$error":"#N/A"},{"$error":"#N/A"},{"$error":"#N/A"},{"$error":"#N/A"},{"$error":"#N/A"},{"$error":"#N/A"},{"$error":"#N/A"},{"$error":"#N/A"},{"$error":"#N/A"}]
[null,{"$f":"données!B213","v":"li 210"},{"$error":"#N/A"},{"$error":"#N/A"},{"$error":"#N/A"},{"$error":"#N/A"},{"$error":"#N/A"},{"$error":"#N/A"},{"$error":"#N/A"},{"$error":"#N/A"},{"$error":"#N/A"},{"$error":"#N/A"},{"$error":"#N/A"},{"$error":"#N/A"},{"$error":"#N/A"},{"$error":"#N/A"},{"$error":"#N/A"},{"$error":"#N/A"},{"$error":"#N/A"},{"$error":"#N/A"},{"$error":"#N/A"},{"$error":"#N/A"}]
[null,{"$f":"données!B214","v":"li 211"},{"$error":"#N/A"},{"$error":"#N/A"},{"$error":"#N/A"},{"$error":"#N/A"},{"$error":"#N/A"},{"$error":"#N/A"},{"$error":"#N/A"},{"$error":"#N/A"},{"$error":"#N/A"},{"$error":"#N/A"},{"$error":"#N/A"},{"$error":"#N/A"},{"$error":"#N/A"},{"$error":"#N/A"},{"$error":"#N/A"},{"$error":"#N/A"},{"$error":"#N/A"},{"$error":"#N/A"},{"$error":"#N/A"},{"$error":"#N/A"}]
[null,{"$f":"données!B215","v":"li 212"},{"$error":"#N/A"},{"$error":"#N/A"},{"$error":"#N/A"},{"$error":"#N/A"},{"$error":"#N/A"},{"$error":"#N/A"},{"$error":"#N/A"},{"$error":"#N/A"},{"$error":"#N/A"},{"$error":"#N/A"},{"$error":"#N/A"},{"$error":"#N/A"},{"$error":"#N/A"},{"$error":"#N/A"},{"$error":"#N/A"},{"$error":"#N/A"},{"$error":"#N/A"},{"$error":"#N/A"},{"$error":"#N/A"},{"$error":"#N/A"}]
[null,{"$f":"données!B216","v":"li 213"},{"$error":"#N/A"},{"$error":"#N/A"},{"$error":"#N/A"},{"$error":"#N/A"},{"$error":"#N/A"},{"$error":"#N/A"},{"$error":"#N/A"},{"$error":"#N/A"},{"$error":"#N/A"},{"$error":"#N/A"},{"$error":"#N/A"},{"$error":"#N/A"},{"$error":"#N/A"},{"$error":"#N/A"},{"$error":"#N/A"},{"$error":"#N/A"},{"$error":"#N/A"},{"$error":"#N/A"},{"$error":"#N/A"},{"$error":"#N/A"}]
[null,{"$f":"données!B217","v":"li 214"},{"$error":"#N/A"},{"$error":"#N/A"},{"$error":"#N/A"},{"$error":"#N/A"},{"$error":"#N/A"},{"$error":"#N/A"},{"$error":"#N/A"},{"$error":"#N/A"},{"$error":"#N/A"},{"$error":"#N/A"},{"$error":"#N/A"},{"$error":"#N/A"},{"$error":"#N/A"},{"$error":"#N/A"},{"$error":"#N/A"},{"$error":"#N/A"},{"$error":"#N/A"},{"$error":"#N/A"},{"$error":"#N/A"},{"$error":"#N/A"}]
[null,{"$f":"données!B218","v":"li 215"},{"$error":"#N/A"},{"$error":"#N/A"},{"$error":"#N/A"},{"$error":"#N/A"},{"$error":"#N/A"},{"$error":"#N/A"},{"$error":"#N/A"},{"$error":"#N/A"},{"$error":"#N/A"},{"$error":"#N/A"},{"$error":"#N/A"},{"$error":"#N/A"},{"$error":"#N/A"},{"$error":"#N/A"},{"$error":"#N/A"},{"$error":"#N/A"},{"$error":"#N/A"},{"$error":"#N/A"},{"$error":"#N/A"},{"$error":"#N/A"}]
[null,{"$f":"données!B219","v":"li 216"},{"$error":"#N/A"},{"$error":"#N/A"},{"$error":"#N/A"},{"$error":"#N/A"},{"$error":"#N/A"},{"$error":"#N/A"},{"$error":"#N/A"},{"$error":"#N/A"},{"$error":"#N/A"},{"$error":"#N/A"},{"$error":"#N/A"},{"$error":"#N/A"},{"$error":"#N/A"},{"$error":"#N/A"},{"$error":"#N/A"},{"$error":"#N/A"},{"$error":"#N/A"},{"$error":"#N/A"},{"$error":"#N/A"},{"$error":"#N/A"}]
[null,{"$f":"données!B220","v":"li 217"},{"$error":"#N/A"},{"$error":"#N/A"},{"$error":"#N/A"},{"$error":"#N/A"},{"$error":"#N/A"},{"$error":"#N/A"},{"$error":"#N/A"},{"$error":"#N/A"},{"$error":"#N/A"},{"$error":"#N/A"},{"$error":"#N/A"},{"$error":"#N/A"},{"$error":"#N/A"},{"$error":"#N/A"},{"$error":"#N/A"},{"$error":"#N/A"},{"$error":"#N/A"},{"$error":"#N/A"},{"$error":"#N/A"},{"$error":"#N/A"}]
[null,{"$f":"données!B221","v":"li 218"},{"$error":"#N/A"},{"$error":"#N/A"},{"$error":"#N/A"},{"$error":"#N/A"},{"$error":"#N/A"},{"$error":"#N/A"},{"$error":"#N/A"},{"$error":"#N/A"},{"$error":"#N/A"},{"$error":"#N/A"},{"$error":"#N/A"},{"$error":"#N/A"},{"$error":"#N/A"},{"$error":"#N/A"},{"$error":"#N/A"},{"$error":"#N/A"},{"$error":"#N/A"},{"$error":"#N/A"},{"$error":"#N/A"},{"$error":"#N/A"}]
[null,{"$f":"données!B222","v":"li 219"},{"$error":"#N/A"},{"$error":"#N/A"},{"$error":"#N/A"},{"$error":"#N/A"},{"$error":"#N/A"},{"$error":"#N/A"},{"$error":"#N/A"},{"$error":"#N/A"},{"$error":"#N/A"},{"$error":"#N/A"},{"$error":"#N/A"},{"$error":"#N/A"},{"$error":"#N/A"},{"$error":"#N/A"},{"$error":"#N/A"},{"$error":"#N/A"},{"$error":"#N/A"},{"$error":"#N/A"},{"$error":"#N/A"},{"$error":"#N/A"}]
[null,{"$f":"données!B223","v":"li 220"},{"$error":"#N/A"},{"$error":"#N/A"},{"$error":"#N/A"},{"$error":"#N/A"},{"$error":"#N/A"},{"$error":"#N/A"},{"$error":"#N/A"},{"$error":"#N/A"},{"$error":"#N/A"},{"$error":"#N/A"},{"$error":"#N/A"},{"$error":"#N/A"},{"$error":"#N/A"},{"$error":"#N/A"},{"$error":"#N/A"},{"$error":"#N/A"},{"$error":"#N/A"},{"$error":"#N/A"},{"$error":"#N/A"},{"$error":"#N/A"}]
[null,{"$f":"données!B224","v":"li 221"},{"$error":"#N/A"},{"$error":"#N/A"},{"$error":"#N/A"},{"$error":"#N/A"},{"$error":"#N/A"},{"$error":"#N/A"},{"$error":"#N/A"},{"$error":"#N/A"},{"$error":"#N/A"},{"$error":"#N/A"},{"$error":"#N/A"},{"$error":"#N/A"},{"$error":"#N/A"},{"$error":"#N/A"},{"$error":"#N/A"},{"$error":"#N/A"},{"$error":"#N/A"},{"$error":"#N/A"},{"$error":"#N/A"},{"$error":"#N/A"}]
[null,{"$f":"données!B225","v":"li 222"},{"$error":"#N/A"},{"$error":"#N/A"},{"$error":"#N/A"},{"$error":"#N/A"},{"$error":"#N/A"},{"$error":"#N/A"},{"$error":"#N/A"},{"$error":"#N/A"},{"$error":"#N/A"},{"$error":"#N/A"},{"$error":"#N/A"},{"$error":"#N/A"},{"$error":"#N/A"},{"$error":"#N/A"},{"$error":"#N/A"},{"$error":"#N/A"},{"$error":"#N/A"},{"$error":"#N/A"},{"$error":"#N/A"},{"$error":"#N/A"}]
[null,{"$f":"données!B226","v":"li 223"},{"$error":"#N/A"},{"$error":"#N/A"},{"$error":"#N/A"},{"$error":"#N/A"},{"$error":"#N/A"},{"$error":"#N/A"},{"$error":"#N/A"},{"$error":"#N/A"},{"$error":"#N/A"},{"$error":"#N/A"},{"$error":"#N/A"},{"$error":"#N/A"},{"$error":"#N/A"},{"$error":"#N/A"},{"$error":"#N/A"},{"$error":"#N/A"},{"$error":"#N/A"},{"$error":"#N/A"},{"$error":"#N/A"},{"$error":"#N/A"}]
[null,{"$f":"données!B227","v":"li 224"},{"$error":"#N/A"},{"$error":"#N/A"},{"$error":"#N/A"},{"$error":"#N/A"},{"$error":"#N/A"},{"$error":"#N/A"},{"$error":"#N/A"},{"$error":"#N/A"},{"$error":"#N/A"},{"$error":"#N/A"},{"$error":"#N/A"},{"$error":"#N/A"},{"$error":"#N/A"},{"$error":"#N/A"},{"$error":"#N/A"},{"$error":"#N/A"},{"$error":"#N/A"},{"$error":"#N/A"},{"$error":"#N/A"},{"$error":"#N/A"}]
[null,{"$f":"données!B228","v":"li 225"},{"$error":"#N/A"},{"$error":"#N/A"},{"$error":"#N/A"},{"$error":"#N/A"},{"$error":"#N/A"},{"$error":"#N/A"},{"$error":"#N/A"},{"$error":"#N/A"},{"$error":"#N/A"},{"$error":"#N/A"},{"$error":"#N/A"},{"$error":"#N/A"},{"$error":"#N/A"},{"$error":"#N/A"},{"$error":"#N/A"},{"$error":"#N/A"},{"$error":"#N/A"},{"$error":"#N/A"},{"$error":"#N/A"},{"$error":"#N/A"}]
[null,{"$f":"données!B229","v":"li 226"},{"$error":"#N/A"},{"$error":"#N/A"},{"$error":"#N/A"},{"$error":"#N/A"},{"$error":"#N/A"},{"$error":"#N/A"},{"$error":"#N/A"},{"$error":"#N/A"},{"$error":"#N/A"},{"$error":"#N/A"},{"$error":"#N/A"},{"$error":"#N/A"},{"$error":"#N/A"},{"$error":"#N/A"},{"$error":"#N/A"},{"$error":"#N/A"},{"$error":"#N/A"},{"$error":"#N/A"},{"$error":"#N/A"},{"$error":"#N/A"}]
[null,{"$f":"données!B230","v":"li 227"},{"$error":"#N/A"},{"$error":"#N/A"},{"$error":"#N/A"},{"$error":"#N/A"},{"$error":"#N/A"},{"$error":"#N/A"},{"$error":"#N/A"},{"$error":"#N/A"},{"$error":"#N/A"},{"$error":"#N/A"},{"$error":"#N/A"},{"$error":"#N/A"},{"$error":"#N/A"},{"$error":"#N/A"},{"$error":"#N/A"},{"$error":"#N/A"},{"$error":"#N/A"},{"$error":"#N/A"},{"$error":"#N/A"},{"$error":"#N/A"}]
[null,{"$f":"données!B231","v":"li 228"},{"$error":"#N/A"},{"$error":"#N/A"},{"$error":"#N/A"},{"$error":"#N/A"},{"$error":"#N/A"},{"$error":"#N/A"},{"$error":"#N/A"},{"$error":"#N/A"},{"$error":"#N/A"},{"$error":"#N/A"},{"$error":"#N/A"},{"$error":"#N/A"},{"$error":"#N/A"},{"$error":"#N/A"},{"$error":"#N/A"},{"$error":"#N/A"},{"$error":"#N/A"},{"$error":"#N/A"},{"$error":"#N/A"},{"$error":"#N/A"}]
[null,{"$f":"données!B232","v":"li 229"},{"$error":"#N/A"},{"$error":"#N/A"},{"$error":"#N/A"},{"$error":"#N/A"},{"$error":"#N/A"},{"$error":"#N/A"},{"$error":"#N/A"},{"$error":"#N/A"},{"$error":"#N/A"},{"$error":"#N/A"},{"$error":"#N/A"},{"$error":"#N/A"},{"$error":"#N/A"},{"$error":"#N/A"},{"$error":"#N/A"},{"$error":"#N/A"},{"$error":"#N/A"},{"$error":"#N/A"},{"$error":"#N/A"},{"$error":"#N/A"}]
[null,{"$f":"données!B233","v":"li 230"},{"$error":"#N/A"},{"$error":"#N/A"},{"$error":"#N/A"},{"$error":"#N/A"},{"$error":"#N/A"},{"$error":"#N/A"},{"$error":"#N/A"},{"$error":"#N/A"},{"$error":"#N/A"},{"$error":"#N/A"},{"$error":"#N/A"},{"$error":"#N/A"},{"$error":"#N/A"},{"$error":"#N/A"},{"$error":"#N/A"},{"$error":"#N/A"},{"$error":"#N/A"},{"$error":"#N/A"},{"$error":"#N/A"},{"$error":"#N/A"}]
[null,{"$f":"données!B234","v":"li 231"},{"$error":"#N/A"},{"$error":"#N/A"},{"$error":"#N/A"},{"$error":"#N/A"},{"$error":"#N/A"},{"$error":"#N/A"},{"$error":"#N/A"},{"$error":"#N/A"},{"$error":"#N/A"},{"$error":"#N/A"},{"$error":"#N/A"},{"$error":"#N/A"},{"$error":"#N/A"},{"$error":"#N/A"},{"$error":"#N/A"},{"$error":"#N/A"},{"$error":"#N/A"},{"$error":"#N/A"},{"$error":"#N/A"},{"$error":"#N/A"}]
[null,{"$f":"données!B235","v":"li 232"},{"$error":"#N/A"},{"$error":"#N/A"},{"$error":"#N/A"},{"$error":"#N/A"},{"$error":"#N/A"},{"$error":"#N/A"},{"$error":"#N/A"},{"$error":"#N/A"},{"$error":"#N/A"},{"$error":"#N/A"},{"$error":"#N/A"},{"$error":"#N/A"},{"$error":"#N/A"},{"$error":"#N/A"},{"$error":"#N/A"},{"$error":"#N/A"},{"$error":"#N/A"},{"$error":"#N/A"},{"$error":"#N/A"},{"$error":"#N/A"}]
[null,{"$f":"données!B236","v":"li 233"},{"$error":"#N/A"},{"$error":"#N/A"},{"$error":"#N/A"},{"$error":"#N/A"},{"$error":"#N/A"},{"$error":"#N/A"},{"$error":"#N/A"},{"$error":"#N/A"},{"$error":"#N/A"},{"$error":"#N/A"},{"$error":"#N/A"},{"$error":"#N/A"},{"$error":"#N/A"},{"$error":"#N/A"},{"$error":"#N/A"},{"$error":"#N/A"},{"$error":"#N/A"},{"$error":"#N/A"},{"$error":"#N/A"},{"$error":"#N/A"}]
[null,{"$f":"données!B237","v":"li 234"},{"$error":"#N/A"},{"$error":"#N/A"},{"$error":"#N/A"},{"$error":"#N/A"},{"$error":"#N/A"},{"$error":"#N/A"},{"$error":"#N/A"},{"$error":"#N/A"},{"$error":"#N/A"},{"$error":"#N/A"},{"$error":"#N/A"},{"$error":"#N/A"},{"$error":"#N/A"},{"$error":"#N/A"},{"$error":"#N/A"},{"$error":"#N/A"},{"$error":"#N/A"},{"$error":"#N/A"},{"$error":"#N/A"},{"$error":"#N/A"}]
[null,{"$f":"données!B238","v":"li 235"},{"$error":"#N/A"},{"$error":"#N/A"},{"$error":"#N/A"},{"$error":"#N/A"},{"$error":"#N/A"},{"$error":"#N/A"},{"$error":"#N/A"},{"$error":"#N/A"},{"$error":"#N/A"},{"$error":"#N/A"},{"$error":"#N/A"},{"$error":"#N/A"},{"$error":"#N/A"},{"$error":"#N/A"},{"$error":"#N/A"},{"$error":"#N/A"},{"$error":"#N/A"},{"$error":"#N/A"},{"$error":"#N/A"},{"$error":"#N/A"}]
[null,{"$f":"données!B239","v":"li 236"},{"$error":"#N/A"},{"$error":"#N/A"},{"$error":"#N/A"},{"$error":"#N/A"},{"$error":"#N/A"},{"$error":"#N/A"},{"$error":"#N/A"},{"$error":"#N/A"},{"$error":"#N/A"},{"$error":"#N/A"},{"$error":"#N/A"},{"$error":"#N/A"},{"$error":"#N/A"},{"$error":"#N/A"},{"$error":"#N/A"},{"$error":"#N/A"},{"$error":"#N/A"},{"$error":"#N/A"},{"$error":"#N/A"},{"$error":"#N/A"}]
[null,{"$f":"données!B240","v":"li 237"},{"$error":"#N/A"},{"$error":"#N/A"},{"$error":"#N/A"},{"$error":"#N/A"},{"$error":"#N/A"},{"$error":"#N/A"},{"$error":"#N/A"},{"$error":"#N/A"},{"$error":"#N/A"},{"$error":"#N/A"},{"$error":"#N/A"},{"$error":"#N/A"},{"$error":"#N/A"},{"$error":"#N/A"},{"$error":"#N/A"},{"$error":"#N/A"},{"$error":"#N/A"},{"$error":"#N/A"},{"$error":"#N/A"},{"$error":"#N/A"}]
[null,{"$f":"données!B241","v":"li 238"},{"$error":"#N/A"},{"$error":"#N/A"},{"$error":"#N/A"},{"$error":"#N/A"},{"$error":"#N/A"},{"$error":"#N/A"},{"$error":"#N/A"},{"$error":"#N/A"},{"$error":"#N/A"},{"$error":"#N/A"},{"$error":"#N/A"},{"$error":"#N/A"},{"$error":"#N/A"},{"$error":"#N/A"},{"$error":"#N/A"},{"$error":"#N/A"},{"$error":"#N/A"},{"$error":"#N/A"},{"$error":"#N/A"},{"$error":"#N/A"}]
[null,{"$f":"données!B242","v":"li 239"},{"$error":"#N/A"},{"$error":"#N/A"},{"$error":"#N/A"},{"$error":"#N/A"},{"$error":"#N/A"},{"$error":"#N/A"},{"$error":"#N/A"},{"$error":"#N/A"},{"$error":"#N/A"},{"$error":"#N/A"},{"$error":"#N/A"},{"$error":"#N/A"},{"$error":"#N/A"},{"$error":"#N/A"},{"$error":"#N/A"},{"$error":"#N/A"},{"$error":"#N/A"},{"$error":"#N/A"},{"$error":"#N/A"},{"$error":"#N/A"}]
[null,{"$f":"données!B243","v":"li 240"},{"$error":"#N/A"},{"$error":"#N/A"},{"$error":"#N/A"},{"$error":"#N/A"},{"$error":"#N/A"},{"$error":"#N/A"},{"$error":"#N/A"},{"$error":"#N/A"},{"$error":"#N/A"},{"$error":"#N/A"},{"$error":"#N/A"},{"$error":"#N/A"},{"$error":"#N/A"},{"$error":"#N/A"},{"$error":"#N/A"},{"$error":"#N/A"},{"$error":"#N/A"},{"$error":"#N/A"},{"$error":"#N/A"},{"$error":"#N/A"}]
[null,{"$f":"données!B244","v":"li 241"},{"$error":"#N/A"},{"$error":"#N/A"},{"$error":"#N/A"},{"$error":"#N/A"},{"$error":"#N/A"},{"$error":"#N/A"},{"$error":"#N/A"},{"$error":"#N/A"},{"$error":"#N/A"},{"$error":"#N/A"},{"$error":"#N/A"},{"$error":"#N/A"},{"$error":"#N/A"},{"$error":"#N/A"},{"$error":"#N/A"},{"$error":"#N/A"},{"$error":"#N/A"},{"$error":"#N/A"},{"$error":"#N/A"},{"$error":"#N/A"}]
[null,{"$f":"données!B245","v":"li 242"},{"$error":"#N/A"},{"$error":"#N/A"},{"$error":"#N/A"},{"$error":"#N/A"},{"$error":"#N/A"},{"$error":"#N/A"},{"$error":"#N/A"},{"$error":"#N/A"},{"$error":"#N/A"},{"$error":"#N/A"},{"$error":"#N/A"},{"$error":"#N/A"},{"$error":"#N/A"},{"$error":"#N/A"},{"$error":"#N/A"},{"$error":"#N/A"},{"$error":"#N/A"},{"$error":"#N/A"},{"$error":"#N/A"},{"$error":"#N/A"}]
[null,{"$f":"données!B246","v":"li 243"},{"$error":"#N/A"},{"$error":"#N/A"},{"$error":"#N/A"},{"$error":"#N/A"},{"$error":"#N/A"},{"$error":"#N/A"},{"$error":"#N/A"},{"$error":"#N/A"},{"$error":"#N/A"},{"$error":"#N/A"},{"$error":"#N/A"},{"$error":"#N/A"},{"$error":"#N/A"},{"$error":"#N/A"},{"$error":"#N/A"},{"$error":"#N/A"},{"$error":"#N/A"},{"$error":"#N/A"},{"$error":"#N/A"},{"$error":"#N/A"}]
[null,{"$f":"données!B247","v":"li 244"},{"$error":"#N/A"},{"$error":"#N/A"},{"$error":"#N/A"},{"$error":"#N/A"},{"$error":"#N/A"},{"$error":"#N/A"},{"$error":"#N/A"},{"$error":"#N/A"},{"$error":"#N/A"},{"$error":"#N/A"},{"$error":"#N/A"},{"$error":"#N/A"},{"$error":"#N/A"},{"$error":"#N/A"},{"$error":"#N/A"},{"$error":"#N/A"},{"$error":"#N/A"},{"$error":"#N/A"},{"$error":"#N/A"},{"$error":"#N/A"}]
[null,{"$f":"données!B248","v":"li 245"},{"$error":"#N/A"},{"$error":"#N/A"},{"$error":"#N/A"},{"$error":"#N/A"},{"$error":"#N/A"},{"$error":"#N/A"},{"$error":"#N/A"},{"$error":"#N/A"},{"$error":"#N/A"},{"$error":"#N/A"},{"$error":"#N/A"},{"$error":"#N/A"},{"$error":"#N/A"},{"$error":"#N/A"},{"$error":"#N/A"},{"$error":"#N/A"},{"$error":"#N/A"},{"$error":"#N/A"},{"$error":"#N/A"},{"$error":"#N/A"}]
[null,{"$f":"données!B249","v":"li 246"},{"$error":"#N/A"},{"$error":"#N/A"},{"$error":"#N/A"},{"$error":"#N/A"},{"$error":"#N/A"},{"$error":"#N/A"},{"$error":"#N/A"},{"$error":"#N/A"},{"$error":"#N/A"},{"$error":"#N/A"},{"$error":"#N/A"},{"$error":"#N/A"},{"$error":"#N/A"},{"$error":"#N/A"},{"$error":"#N/A"},{"$error":"#N/A"},{"$error":"#N/A"},{"$error":"#N/A"},{"$error":"#N/A"},{"$error":"#N/A"}]
[null,{"$f":"données!B250","v":"li 247"},{"$error":"#N/A"},{"$error":"#N/A"},{"$error":"#N/A"},{"$error":"#N/A"},{"$error":"#N/A"},{"$error":"#N/A"},{"$error":"#N/A"},{"$error":"#N/A"},{"$error":"#N/A"},{"$error":"#N/A"},{"$error":"#N/A"},{"$error":"#N/A"},{"$error":"#N/A"},{"$error":"#N/A"},{"$error":"#N/A"},{"$error":"#N/A"},{"$error":"#N/A"},{"$error":"#N/A"},{"$error":"#N/A"},{"$error":"#N/A"}]
[null,{"$f":"données!B251","v":"li 248"},{"$error":"#N/A"},{"$error":"#N/A"},{"$error":"#N/A"},{"$error":"#N/A"},{"$error":"#N/A"},{"$error":"#N/A"},{"$error":"#N/A"},{"$error":"#N/A"},{"$error":"#N/A"},{"$error":"#N/A"},{"$error":"#N/A"},{"$error":"#N/A"},{"$error":"#N/A"},{"$error":"#N/A"},{"$error":"#N/A"},{"$error":"#N/A"},{"$error":"#N/A"},{"$error":"#N/A"},{"$error":"#N/A"},{"$error":"#N/A"}]
[null,{"$f":"données!B252","v":"li 249"},{"$error":"#N/A"},{"$error":"#N/A"},{"$error":"#N/A"},{"$error":"#N/A"},{"$error":"#N/A"},{"$error":"#N/A"},{"$error":"#N/A"},{"$error":"#N/A"},{"$error":"#N/A"},{"$error":"#N/A"},{"$error":"#N/A"},{"$error":"#N/A"},{"$error":"#N/A"},{"$error":"#N/A"},{"$error":"#N/A"},{"$error":"#N/A"},{"$error":"#N/A"},{"$error":"#N/A"},{"$error":"#N/A"},{"$error":"#N/A"}]
[null,{"$f":"données!B253","v":"li 250"},{"$error":"#N/A"},{"$error":"#N/A"},{"$error":"#N/A"},{"$error":"#N/A"},{"$error":"#N/A"},{"$error":"#N/A"},{"$error":"#N/A"},{"$error":"#N/A"},{"$error":"#N/A"},{"$error":"#N/A"},{"$error":"#N/A"},{"$error":"#N/A"},{"$error":"#N/A"},{"$error":"#N/A"},{"$error":"#N/A"},{"$error":"#N/A"},{"$error":"#N/A"},{"$error":"#N/A"},{"$error":"#N/A"},{"$error":"#N/A"}]
[null,{"$f":"données!B254","v":"li 251"},{"$error":"#N/A"},{"$error":"#N/A"},{"$error":"#N/A"},{"$error":"#N/A"},{"$error":"#N/A"},{"$error":"#N/A"},{"$error":"#N/A"},{"$error":"#N/A"},{"$error":"#N/A"},{"$error":"#N/A"},{"$error":"#N/A"},{"$error":"#N/A"},{"$error":"#N/A"},{"$error":"#N/A"},{"$error":"#N/A"},{"$error":"#N/A"},{"$error":"#N/A"},{"$error":"#N/A"},{"$error":"#N/A"},{"$error":"#N/A"}]
[null,{"$f":"données!B255","v":"li 252"},{"$error":"#N/A"},{"$error":"#N/A"},{"$error":"#N/A"},{"$error":"#N/A"},{"$error":"#N/A"},{"$error":"#N/A"},{"$error":"#N/A"},{"$error":"#N/A"},{"$error":"#N/A"},{"$error":"#N/A"},{"$error":"#N/A"},{"$error":"#N/A"},{"$error":"#N/A"},{"$error":"#N/A"},{"$error":"#N/A"},{"$error":"#N/A"},{"$error":"#N/A"},{"$error":"#N/A"},{"$error":"#N/A"},{"$error":"#N/A"}]
[null,{"$f":"données!B256","v":"li 253"},{"$error":"#N/A"},{"$error":"#N/A"},{"$error":"#N/A"},{"$error":"#N/A"},{"$error":"#N/A"},{"$error":"#N/A"},{"$error":"#N/A"},{"$error":"#N/A"},{"$error":"#N/A"},{"$error":"#N/A"},{"$error":"#N/A"},{"$error":"#N/A"},{"$error":"#N/A"},{"$error":"#N/A"},{"$error":"#N/A"},{"$error":"#N/A"},{"$error":"#N/A"},{"$error":"#N/A"},{"$error":"#N/A"},{"$error":"#N/A"}]
[null,{"$f":"données!B257","v":"li 254"},{"$error":"#N/A"},{"$error":"#N/A"},{"$error":"#N/A"},{"$error":"#N/A"},{"$error":"#N/A"},{"$error":"#N/A"},{"$error":"#N/A"},{"$error":"#N/A"},{"$error":"#N/A"},{"$error":"#N/A"},{"$error":"#N/A"},{"$error":"#N/A"},{"$error":"#N/A"},{"$error":"#N/A"},{"$error":"#N/A"},{"$error":"#N/A"},{"$error":"#N/A"},{"$error":"#N/A"},{"$error":"#N/A"},{"$error":"#N/A"}]
[null,{"$f":"données!B258","v":"li 255"},{"$error":"#N/A"},{"$error":"#N/A"},{"$error":"#N/A"},{"$error":"#N/A"},{"$error":"#N/A"},{"$error":"#N/A"},{"$error":"#N/A"},{"$error":"#N/A"},{"$error":"#N/A"},{"$error":"#N/A"},{"$error":"#N/A"},{"$error":"#N/A"},{"$error":"#N/A"},{"$error":"#N/A"},{"$error":"#N/A"},{"$error":"#N/A"},{"$error":"#N/A"},{"$error":"#N/A"},{"$error":"#N/A"},{"$error":"#N/A"}]
[null,{"$f":"données!B259","v":"li 256"},{"$error":"#N/A"},{"$error":"#N/A"},{"$error":"#N/A"},{"$error":"#N/A"},{"$error":"#N/A"},{"$error":"#N/A"},{"$error":"#N/A"},{"$error":"#N/A"},{"$error":"#N/A"},{"$error":"#N/A"},{"$error":"#N/A"},{"$error":"#N/A"},{"$error":"#N/A"},{"$error":"#N/A"},{"$error":"#N/A"},{"$error":"#N/A"},{"$error":"#N/A"},{"$error":"#N/A"},{"$error":"#N/A"},{"$error":"#N/A"}]
[null,{"$f":"données!B260","v":"li 257"},{"$error":"#N/A"},{"$error":"#N/A"},{"$error":"#N/A"},{"$error":"#N/A"},{"$error":"#N/A"},{"$error":"#N/A"},{"$error":"#N/A"},{"$error":"#N/A"},{"$error":"#N/A"},{"$error":"#N/A"},{"$error":"#N/A"},{"$error":"#N/A"},{"$error":"#N/A"},{"$error":"#N/A"},{"$error":"#N/A"},{"$error":"#N/A"},{"$error":"#N/A"},{"$error":"#N/A"},{"$error":"#N/A"},{"$error":"#N/A"}]
[null,{"$f":"données!B261","v":"li 258"},{"$error":"#N/A"},{"$error":"#N/A"},{"$error":"#N/A"},{"$error":"#N/A"},{"$error":"#N/A"},{"$error":"#N/A"},{"$error":"#N/A"},{"$error":"#N/A"},{"$error":"#N/A"},{"$error":"#N/A"},{"$error":"#N/A"},{"$error":"#N/A"},{"$error":"#N/A"},{"$error":"#N/A"},{"$error":"#N/A"},{"$error":"#N/A"},{"$error":"#N/A"},{"$error":"#N/A"},{"$error":"#N/A"},{"$error":"#N/A"}]
[null,{"$f":"données!B262","v":"li 259"},{"$error":"#N/A"},{"$error":"#N/A"},{"$error":"#N/A"},{"$error":"#N/A"},{"$error":"#N/A"},{"$error":"#N/A"},{"$error":"#N/A"},{"$error":"#N/A"},{"$error":"#N/A"},{"$error":"#N/A"},{"$error":"#N/A"},{"$error":"#N/A"},{"$error":"#N/A"},{"$error":"#N/A"},{"$error":"#N/A"},{"$error":"#N/A"},{"$error":"#N/A"},{"$error":"#N/A"},{"$error":"#N/A"},{"$error":"#N/A"}]
[null,{"$f":"données!B263","v":"li 260"},{"$error":"#N/A"},{"$error":"#N/A"},{"$error":"#N/A"},{"$error":"#N/A"},{"$error":"#N/A"},{"$error":"#N/A"},{"$error":"#N/A"},{"$error":"#N/A"},{"$error":"#N/A"},{"$error":"#N/A"},{"$error":"#N/A"},{"$error":"#N/A"},{"$error":"#N/A"},{"$error":"#N/A"},{"$error":"#N/A"},{"$error":"#N/A"},{"$error":"#N/A"},{"$error":"#N/A"},{"$error":"#N/A"},{"$error":"#N/A"}]
[null,{"$f":"données!B264","v":"li 261"},{"$error":"#N/A"},{"$error":"#N/A"},{"$error":"#N/A"},{"$error":"#N/A"},{"$error":"#N/A"},{"$error":"#N/A"},{"$error":"#N/A"},{"$error":"#N/A"},{"$error":"#N/A"},{"$error":"#N/A"},{"$error":"#N/A"},{"$error":"#N/A"},{"$error":"#N/A"},{"$error":"#N/A"},{"$error":"#N/A"},{"$error":"#N/A"},{"$error":"#N/A"},{"$error":"#N/A"},{"$error":"#N/A"},{"$error":"#N/A"}]
[null,{"$f":"données!B265","v":"li 262"},{"$error":"#N/A"},{"$error":"#N/A"},{"$error":"#N/A"},{"$error":"#N/A"},{"$error":"#N/A"},{"$error":"#N/A"},{"$error":"#N/A"},{"$error":"#N/A"},{"$error":"#N/A"},{"$error":"#N/A"},{"$error":"#N/A"},{"$error":"#N/A"},{"$error":"#N/A"},{"$error":"#N/A"},{"$error":"#N/A"},{"$error":"#N/A"},{"$error":"#N/A"},{"$error":"#N/A"},{"$error":"#N/A"},{"$error":"#N/A"}]
[null,{"$f":"données!B266","v":"li 263"},{"$error":"#N/A"},{"$error":"#N/A"},{"$error":"#N/A"},{"$error":"#N/A"},{"$error":"#N/A"},{"$error":"#N/A"},{"$error":"#N/A"},{"$error":"#N/A"},{"$error":"#N/A"},{"$error":"#N/A"},{"$error":"#N/A"},{"$error":"#N/A"},{"$error":"#N/A"},{"$error":"#N/A"},{"$error":"#N/A"},{"$error":"#N/A"},{"$error":"#N/A"},{"$error":"#N/A"},{"$error":"#N/A"},{"$error":"#N/A"}]
[null,{"$f":"données!B267","v":"li 264"},{"$error":"#N/A"},{"$error":"#N/A"},{"$error":"#N/A"},{"$error":"#N/A"},{"$error":"#N/A"},{"$error":"#N/A"},{"$error":"#N/A"},{"$error":"#N/A"},{"$error":"#N/A"},{"$error":"#N/A"},{"$error":"#N/A"},{"$error":"#N/A"},{"$error":"#N/A"},{"$error":"#N/A"},{"$error":"#N/A"},{"$error":"#N/A"},{"$error":"#N/A"},{"$error":"#N/A"},{"$error":"#N/A"},{"$error":"#N/A"}]
[null,{"$f":"données!B268","v":"li 265"},{"$error":"#N/A"},{"$error":"#N/A"},{"$error":"#N/A"},{"$error":"#N/A"},{"$error":"#N/A"},{"$error":"#N/A"},{"$error":"#N/A"},{"$error":"#N/A"},{"$error":"#N/A"},{"$error":"#N/A"},{"$error":"#N/A"},{"$error":"#N/A"},{"$error":"#N/A"},{"$error":"#N/A"},{"$error":"#N/A"},{"$error":"#N/A"},{"$error":"#N/A"},{"$error":"#N/A"},{"$error":"#N/A"},{"$error":"#N/A"}]
[null,{"$f":"données!B269","v":"li 266"},{"$error":"#N/A"},{"$error":"#N/A"},{"$error":"#N/A"},{"$error":"#N/A"},{"$error":"#N/A"},{"$error":"#N/A"},{"$error":"#N/A"},{"$error":"#N/A"},{"$error":"#N/A"},{"$error":"#N/A"},{"$error":"#N/A"},{"$error":"#N/A"},{"$error":"#N/A"},{"$error":"#N/A"},{"$error":"#N/A"},{"$error":"#N/A"},{"$error":"#N/A"},{"$error":"#N/A"},{"$error":"#N/A"},{"$error":"#N/A"}]
[null,{"$f":"données!B270","v":"li 267"},{"$error":"#N/A"},{"$error":"#N/A"},{"$error":"#N/A"},{"$error":"#N/A"},{"$error":"#N/A"},{"$error":"#N/A"},{"$error":"#N/A"},{"$error":"#N/A"},{"$error":"#N/A"},{"$error":"#N/A"},{"$error":"#N/A"},{"$error":"#N/A"},{"$error":"#N/A"},{"$error":"#N/A"},{"$error":"#N/A"},{"$error":"#N/A"},{"$error":"#N/A"},{"$error":"#N/A"},{"$error":"#N/A"},{"$error":"#N/A"}]
[null,{"$f":"données!B271","v":"li 268"},{"$error":"#N/A"},{"$error":"#N/A"},{"$error":"#N/A"},{"$error":"#N/A"},{"$error":"#N/A"},{"$error":"#N/A"},{"$error":"#N/A"},{"$error":"#N/A"},{"$error":"#N/A"},{"$error":"#N/A"},{"$error":"#N/A"},{"$error":"#N/A"},{"$error":"#N/A"},{"$error":"#N/A"},{"$error":"#N/A"},{"$error":"#N/A"},{"$error":"#N/A"},{"$error":"#N/A"},{"$error":"#N/A"},{"$error":"#N/A"}]
[null,{"$f":"données!B272","v":"li 269"},{"$error":"#N/A"},{"$error":"#N/A"},{"$error":"#N/A"},{"$error":"#N/A"},{"$error":"#N/A"},{"$error":"#N/A"},{"$error":"#N/A"},{"$error":"#N/A"},{"$error":"#N/A"},{"$error":"#N/A"},{"$error":"#N/A"},{"$error":"#N/A"},{"$error":"#N/A"},{"$error":"#N/A"},{"$error":"#N/A"},{"$error":"#N/A"},{"$error":"#N/A"},{"$error":"#N/A"},{"$error":"#N/A"},{"$error":"#N/A"}]
[null,{"$f":"données!B273","v":"li 270"},{"$error":"#N/A"},{"$error":"#N/A"},{"$error":"#N/A"},{"$error":"#N/A"},{"$error":"#N/A"},{"$error":"#N/A"},{"$error":"#N/A"},{"$error":"#N/A"},{"$error":"#N/A"},{"$error":"#N/A"},{"$error":"#N/A"},{"$error":"#N/A"},{"$error":"#N/A"},{"$error":"#N/A"},{"$error":"#N/A"},{"$error":"#N/A"},{"$error":"#N/A"},{"$error":"#N/A"},{"$error":"#N/A"},{"$error":"#N/A"}]
[null,{"$f":"données!B274","v":"li 271"},{"$error":"#N/A"},{"$error":"#N/A"},{"$error":"#N/A"},{"$error":"#N/A"},{"$error":"#N/A"},{"$error":"#N/A"},{"$error":"#N/A"},{"$error":"#N/A"},{"$error":"#N/A"},{"$error":"#N/A"},{"$error":"#N/A"},{"$error":"#N/A"},{"$error":"#N/A"},{"$error":"#N/A"},{"$error":"#N/A"},{"$error":"#N/A"},{"$error":"#N/A"},{"$error":"#N/A"},{"$error":"#N/A"},{"$error":"#N/A"}]
[null,{"$f":"données!B275","v":"li 272"},{"$error":"#N/A"},{"$error":"#N/A"},{"$error":"#N/A"},{"$error":"#N/A"},{"$error":"#N/A"},{"$error":"#N/A"},{"$error":"#N/A"},{"$error":"#N/A"},{"$error":"#N/A"},{"$error":"#N/A"},{"$error":"#N/A"},{"$error":"#N/A"},{"$error":"#N/A"},{"$error":"#N/A"},{"$error":"#N/A"},{"$error":"#N/A"},{"$error":"#N/A"},{"$error":"#N/A"},{"$error":"#N/A"},{"$error":"#N/A"}]
[null,{"$f":"données!B276","v":"li 273"},{"$error":"#N/A"},{"$error":"#N/A"},{"$error":"#N/A"},{"$error":"#N/A"},{"$error":"#N/A"},{"$error":"#N/A"},{"$error":"#N/A"},{"$error":"#N/A"},{"$error":"#N/A"},{"$error":"#N/A"},{"$error":"#N/A"},{"$error":"#N/A"},{"$error":"#N/A"},{"$error":"#N/A"},{"$error":"#N/A"},{"$error":"#N/A"},{"$error":"#N/A"},{"$error":"#N/A"},{"$error":"#N/A"},{"$error":"#N/A"}]
[null,{"$f":"données!B277","v":"li 274"},{"$error":"#N/A"},{"$error":"#N/A"},{"$error":"#N/A"},{"$error":"#N/A"},{"$error":"#N/A"},{"$error":"#N/A"},{"$error":"#N/A"},{"$error":"#N/A"},{"$error":"#N/A"},{"$error":"#N/A"},{"$error":"#N/A"},{"$error":"#N/A"},{"$error":"#N/A"},{"$error":"#N/A"},{"$error":"#N/A"},{"$error":"#N/A"},{"$error":"#N/A"},{"$error":"#N/A"},{"$error":"#N/A"},{"$error":"#N/A"}]
[null,{"$f":"données!B278","v":"li 275"},{"$error":"#N/A"},{"$error":"#N/A"},{"$error":"#N/A"},{"$error":"#N/A"},{"$error":"#N/A"},{"$error":"#N/A"},{"$error":"#N/A"},{"$error":"#N/A"},{"$error":"#N/A"},{"$error":"#N/A"},{"$error":"#N/A"},{"$error":"#N/A"},{"$error":"#N/A"},{"$error":"#N/A"},{"$error":"#N/A"},{"$error":"#N/A"},{"$error":"#N/A"},{"$error":"#N/A"},{"$error":"#N/A"},{"$error":"#N/A"}]
[null,{"$f":"données!B279","v":"li 276"},{"$error":"#N/A"},{"$error":"#N/A"},{"$error":"#N/A"},{"$error":"#N/A"},{"$error":"#N/A"},{"$error":"#N/A"},{"$error":"#N/A"},{"$error":"#N/A"},{"$error":"#N/A"},{"$error":"#N/A"},{"$error":"#N/A"},{"$error":"#N/A"},{"$error":"#N/A"},{"$error":"#N/A"},{"$error":"#N/A"},{"$error":"#N/A"},{"$error":"#N/A"},{"$error":"#N/A"},{"$error":"#N/A"},{"$error":"#N/A"}]
[null,{"$f":"données!B280","v":"li 277"},{"$error":"#N/A"},{"$error":"#N/A"},{"$error":"#N/A"},{"$error":"#N/A"},{"$error":"#N/A"},{"$error":"#N/A"},{"$error":"#N/A"},{"$error":"#N/A"},{"$error":"#N/A"},{"$error":"#N/A"},{"$error":"#N/A"},{"$error":"#N/A"},{"$error":"#N/A"},{"$error":"#N/A"},{"$error":"#N/A"},{"$error":"#N/A"},{"$error":"#N/A"},{"$error":"#N/A"},{"$error":"#N/A"},{"$error":"#N/A"}]
[null,{"$f":"données!B281","v":"li 278"},{"$error":"#N/A"},{"$error":"#N/A"},{"$error":"#N/A"},{"$error":"#N/A"},{"$error":"#N/A"},{"$error":"#N/A"},{"$error":"#N/A"},{"$error":"#N/A"},{"$error":"#N/A"},{"$error":"#N/A"},{"$error":"#N/A"},{"$error":"#N/A"},{"$error":"#N/A"},{"$error":"#N/A"},{"$error":"#N/A"},{"$error":"#N/A"},{"$error":"#N/A"},{"$error":"#N/A"},{"$error":"#N/A"},{"$error":"#N/A"}]
[null,{"$f":"données!B282","v":"li 279"},{"$error":"#N/A"},{"$error":"#N/A"},{"$error":"#N/A"},{"$error":"#N/A"},{"$error":"#N/A"},{"$error":"#N/A"},{"$error":"#N/A"},{"$error":"#N/A"},{"$error":"#N/A"},{"$error":"#N/A"},{"$error":"#N/A"},{"$error":"#N/A"},{"$error":"#N/A"},{"$error":"#N/A"},{"$error":"#N/A"},{"$error":"#N/A"},{"$error":"#N/A"},{"$error":"#N/A"},{"$error":"#N/A"},{"$error":"#N/A"}]
[null,{"$f":"données!B283","v":"li 280"},{"$error":"#N/A"},{"$error":"#N/A"},{"$error":"#N/A"},{"$error":"#N/A"},{"$error":"#N/A"},{"$error":"#N/A"},{"$error":"#N/A"},{"$error":"#N/A"},{"$error":"#N/A"},{"$error":"#N/A"},{"$error":"#N/A"},{"$error":"#N/A"},{"$error":"#N/A"},{"$error":"#N/A"},{"$error":"#N/A"},{"$error":"#N/A"},{"$error":"#N/A"},{"$error":"#N/A"},{"$error":"#N/A"},{"$error":"#N/A"}]
[null,{"$f":"données!B284","v":"li 281"},{"$error":"#N/A"},{"$error":"#N/A"},{"$error":"#N/A"},{"$error":"#N/A"},{"$error":"#N/A"},{"$error":"#N/A"},{"$error":"#N/A"},{"$error":"#N/A"},{"$error":"#N/A"},{"$error":"#N/A"},{"$error":"#N/A"},{"$error":"#N/A"},{"$error":"#N/A"},{"$error":"#N/A"},{"$error":"#N/A"},{"$error":"#N/A"},{"$error":"#N/A"},{"$error":"#N/A"},{"$error":"#N/A"},{"$error":"#N/A"}]
[null,{"$f":"données!B285","v":"li 282"},{"$error":"#N/A"},{"$error":"#N/A"},{"$error":"#N/A"},{"$error":"#N/A"},{"$error":"#N/A"},{"$error":"#N/A"},{"$error":"#N/A"},{"$error":"#N/A"},{"$error":"#N/A"},{"$error":"#N/A"},{"$error":"#N/A"},{"$error":"#N/A"},{"$error":"#N/A"},{"$error":"#N/A"},{"$error":"#N/A"},{"$error":"#N/A"},{"$error":"#N/A"},{"$error":"#N/A"},{"$error":"#N/A"},{"$error":"#N/A"}]
[null,{"$f":"données!B286","v":"li 283"},{"$error":"#N/A"},{"$error":"#N/A"},{"$error":"#N/A"},{"$error":"#N/A"},{"$error":"#N/A"},{"$error":"#N/A"},{"$error":"#N/A"},{"$error":"#N/A"},{"$error":"#N/A"},{"$error":"#N/A"},{"$error":"#N/A"},{"$error":"#N/A"},{"$error":"#N/A"},{"$error":"#N/A"},{"$error":"#N/A"},{"$error":"#N/A"},{"$error":"#N/A"},{"$error":"#N/A"},{"$error":"#N/A"},{"$error":"#N/A"}]
[null,{"$f":"données!B287","v":"li 284"},{"$error":"#N/A"},{"$error":"#N/A"},{"$error":"#N/A"},{"$error":"#N/A"},{"$error":"#N/A"},{"$error":"#N/A"},{"$error":"#N/A"},{"$error":"#N/A"},{"$error":"#N/A"},{"$error":"#N/A"},{"$error":"#N/A"},{"$error":"#N/A"},{"$error":"#N/A"},{"$error":"#N/A"},{"$error":"#N/A"},{"$error":"#N/A"},{"$error":"#N/A"},{"$error":"#N/A"},{"$error":"#N/A"},{"$error":"#N/A"}]
[null,{"$f":"données!B288","v":"li 285"},{"$error":"#N/A"},{"$error":"#N/A"},{"$error":"#N/A"},{"$error":"#N/A"},{"$error":"#N/A"},{"$error":"#N/A"},{"$error":"#N/A"},{"$error":"#N/A"},{"$error":"#N/A"},{"$error":"#N/A"},{"$error":"#N/A"},{"$error":"#N/A"},{"$error":"#N/A"},{"$error":"#N/A"},{"$error":"#N/A"},{"$error":"#N/A"},{"$error":"#N/A"},{"$error":"#N/A"},{"$error":"#N/A"},{"$error":"#N/A"}]
[null,{"$f":"données!B289","v":"li 286"},{"$error":"#N/A"},{"$error":"#N/A"},{"$error":"#N/A"},{"$error":"#N/A"},{"$error":"#N/A"},{"$error":"#N/A"},{"$error":"#N/A"},{"$error":"#N/A"},{"$error":"#N/A"},{"$error":"#N/A"},{"$error":"#N/A"},{"$error":"#N/A"},{"$error":"#N/A"},{"$error":"#N/A"},{"$error":"#N/A"},{"$error":"#N/A"},{"$error":"#N/A"},{"$error":"#N/A"},{"$error":"#N/A"},{"$error":"#N/A"}]
[null,{"$f":"données!B290","v":"li 287"},{"$error":"#N/A"},{"$error":"#N/A"},{"$error":"#N/A"},{"$error":"#N/A"},{"$error":"#N/A"},{"$error":"#N/A"},{"$error":"#N/A"},{"$error":"#N/A"},{"$error":"#N/A"},{"$error":"#N/A"},{"$error":"#N/A"},{"$error":"#N/A"},{"$error":"#N/A"},{"$error":"#N/A"},{"$error":"#N/A"},{"$error":"#N/A"},{"$error":"#N/A"},{"$error":"#N/A"},{"$error":"#N/A"},{"$error":"#N/A"}]
[null,{"$f":"données!B291","v":"li 288"},{"$error":"#N/A"},{"$error":"#N/A"},{"$error":"#N/A"},{"$error":"#N/A"},{"$error":"#N/A"},{"$error":"#N/A"},{"$error":"#N/A"},{"$error":"#N/A"},{"$error":"#N/A"},{"$error":"#N/A"},{"$error":"#N/A"},{"$error":"#N/A"},{"$error":"#N/A"},{"$error":"#N/A"},{"$error":"#N/A"},{"$error":"#N/A"},{"$error":"#N/A"},{"$error":"#N/A"},{"$error":"#N/A"},{"$error":"#N/A"}]
[null,{"$f":"données!B292","v":"li 289"},{"$error":"#N/A"},{"$error":"#N/A"},{"$error":"#N/A"},{"$error":"#N/A"},{"$error":"#N/A"},{"$error":"#N/A"},{"$error":"#N/A"},{"$error":"#N/A"},{"$error":"#N/A"},{"$error":"#N/A"},{"$error":"#N/A"},{"$error":"#N/A"},{"$error":"#N/A"},{"$error":"#N/A"},{"$error":"#N/A"},{"$error":"#N/A"},{"$error":"#N/A"},{"$error":"#N/A"},{"$error":"#N/A"},{"$error":"#N/A"}]
[null,{"$f":"données!B293","v":"li 290"},{"$error":"#N/A"},{"$error":"#N/A"},{"$error":"#N/A"},{"$error":"#N/A"},{"$error":"#N/A"},{"$error":"#N/A"},{"$error":"#N/A"},{"$error":"#N/A"},{"$error":"#N/A"},{"$error":"#N/A"},{"$error":"#N/A"},{"$error":"#N/A"},{"$error":"#N/A"},{"$error":"#N/A"},{"$error":"#N/A"},{"$error":"#N/A"},{"$error":"#N/A"},{"$error":"#N/A"},{"$error":"#N/A"},{"$error":"#N/A"}]
[null,{"$f":"données!B294","v":"li 291"},{"$error":"#N/A"},{"$error":"#N/A"},{"$error":"#N/A"},{"$error":"#N/A"},{"$error":"#N/A"},{"$error":"#N/A"},{"$error":"#N/A"},{"$error":"#N/A"},{"$error":"#N/A"},{"$error":"#N/A"},{"$error":"#N/A"},{"$error":"#N/A"},{"$error":"#N/A"},{"$error":"#N/A"},{"$error":"#N/A"},{"$error":"#N/A"},{"$error":"#N/A"},{"$error":"#N/A"},{"$error":"#N/A"},{"$error":"#N/A"}]
[null,{"$f":"données!B295","v":"li 292"},{"$error":"#N/A"},{"$error":"#N/A"},{"$error":"#N/A"},{"$error":"#N/A"},{"$error":"#N/A"},{"$error":"#N/A"},{"$error":"#N/A"},{"$error":"#N/A"},{"$error":"#N/A"},{"$error":"#N/A"},{"$error":"#N/A"},{"$error":"#N/A"},{"$error":"#N/A"},{"$error":"#N/A"},{"$error":"#N/A"},{"$error":"#N/A"},{"$error":"#N/A"},{"$error":"#N/A"},{"$error":"#N/A"},{"$error":"#N/A"}]
[null,{"$f":"données!B296","v":"li 293"},{"$error":"#N/A"},{"$error":"#N/A"},{"$error":"#N/A"},{"$error":"#N/A"},{"$error":"#N/A"},{"$error":"#N/A"},{"$error":"#N/A"},{"$error":"#N/A"},{"$error":"#N/A"},{"$error":"#N/A"},{"$error":"#N/A"},{"$error":"#N/A"},{"$error":"#N/A"},{"$error":"#N/A"},{"$error":"#N/A"},{"$error":"#N/A"},{"$error":"#N/A"},{"$error":"#N/A"},{"$error":"#N/A"},{"$error":"#N/A"}]
[null,{"$f":"données!B297","v":"li 294"},{"$error":"#N/A"},{"$error":"#N/A"},{"$error":"#N/A"},{"$error":"#N/A"},{"$error":"#N/A"},{"$error":"#N/A"},{"$error":"#N/A"},{"$error":"#N/A"},{"$error":"#N/A"},{"$error":"#N/A"},{"$error":"#N/A"},{"$error":"#N/A"},{"$error":"#N/A"},{"$error":"#N/A"},{"$error":"#N/A"},{"$error":"#N/A"},{"$error":"#N/A"},{"$error":"#N/A"},{"$error":"#N/A"},{"$error":"#N/A"}]
[null,{"$f":"données!B298","v":"li 295"},{"$error":"#N/A"},{"$error":"#N/A"},{"$error":"#N/A"},{"$error":"#N/A"},{"$error":"#N/A"},{"$error":"#N/A"},{"$error":"#N/A"},{"$error":"#N/A"},{"$error":"#N/A"},{"$error":"#N/A"},{"$error":"#N/A"},{"$error":"#N/A"},{"$error":"#N/A"},{"$error":"#N/A"},{"$error":"#N/A"},{"$error":"#N/A"},{"$error":"#N/A"},{"$error":"#N/A"},{"$error":"#N/A"},{"$error":"#N/A"}]
[null,{"$f":"données!B299","v":"li 296"},{"$error":"#N/A"},{"$error":"#N/A"},{"$error":"#N/A"},{"$error":"#N/A"},{"$error":"#N/A"},{"$error":"#N/A"},{"$error":"#N/A"},{"$error":"#N/A"},{"$error":"#N/A"},{"$error":"#N/A"},{"$error":"#N/A"},{"$error":"#N/A"},{"$error":"#N/A"},{"$error":"#N/A"},{"$error":"#N/A"},{"$error":"#N/A"},{"$error":"#N/A"},{"$error":"#N/A"},{"$error":"#N/A"},{"$error":"#N/A"}]
[null,{"$f":"données!B300","v":"li 297"},{"$error":"#N/A"},{"$error":"#N/A"},{"$error":"#N/A"},{"$error":"#N/A"},{"$error":"#N/A"},{"$error":"#N/A"},{"$error":"#N/A"},{"$error":"#N/A"},{"$error":"#N/A"},{"$error":"#N/A"},{"$error":"#N/A"},{"$error":"#N/A"},{"$error":"#N/A"},{"$error":"#N/A"},{"$error":"#N/A"},{"$error":"#N/A"},{"$error":"#N/A"},{"$error":"#N/A"},{"$error":"#N/A"},{"$error":"#N/A"}]
[null,{"$f":"données!B301","v":"li 298"},{"$error":"#N/A"},{"$error":"#N/A"},{"$error":"#N/A"},{"$error":"#N/A"},{"$error":"#N/A"},{"$error":"#N/A"},{"$error":"#N/A"},{"$error":"#N/A"},{"$error":"#N/A"},{"$error":"#N/A"},{"$error":"#N/A"},{"$error":"#N/A"},{"$error":"#N/A"},{"$error":"#N/A"},{"$error":"#N/A"},{"$error":"#N/A"},{"$error":"#N/A"},{"$error":"#N/A"},{"$error":"#N/A"},{"$error":"#N/A"}]
[null,{"$f":"données!B302","v":"li 299"},{"$error":"#N/A"},{"$error":"#N/A"},{"$error":"#N/A"},{"$error":"#N/A"},{"$error":"#N/A"},{"$error":"#N/A"},{"$error":"#N/A"},{"$error":"#N/A"},{"$error":"#N/A"},{"$error":"#N/A"},{"$error":"#N/A"},{"$error":"#N/A"},{"$error":"#N/A"},{"$error":"#N/A"},{"$error":"#N/A"},{"$error":"#N/A"},{"$error":"#N/A"},{"$error":"#N/A"},{"$error":"#N/A"},{"$error":"#N/A"}]
[null,{"$f":"données!B303","v":"li 300"},{"$error":"#N/A"},{"$error":"#N/A"},{"$error":"#N/A"},{"$error":"#N/A"},{"$error":"#N/A"},{"$error":"#N/A"},{"$error":"#N/A"},{"$error":"#N/A"},{"$error":"#N/A"},{"$error":"#N/A"},{"$error":"#N/A"},{"$error":"#N/A"},{"$error":"#N/A"},{"$error":"#N/A"},{"$error":"#N/A"},{"$error":"#N/A"},{"$error":"#N/A"},{"$error":"#N/A"},{"$error":"#N/A"},{"$error":"#N/A"}]
[null,{"$f":"données!B304","v":"li 301"},{"$error":"#N/A"},{"$error":"#N/A"},{"$error":"#N/A"},{"$error":"#N/A"},{"$error":"#N/A"},{"$error":"#N/A"},{"$error":"#N/A"},{"$error":"#N/A"},{"$error":"#N/A"},{"$error":"#N/A"},{"$error":"#N/A"},{"$error":"#N/A"},{"$error":"#N/A"},{"$error":"#N/A"},{"$error":"#N/A"},{"$error":"#N/A"},{"$error":"#N/A"},{"$error":"#N/A"},{"$error":"#N/A"},{"$error":"#N/A"}]
[null,{"$f":"données!B305","v":"li 302"},{"$error":"#N/A"},{"$error":"#N/A"},{"$error":"#N/A"},{"$error":"#N/A"},{"$error":"#N/A"},{"$error":"#N/A"},{"$error":"#N/A"},{"$error":"#N/A"},{"$error":"#N/A"},{"$error":"#N/A"},{"$error":"#N/A"},{"$error":"#N/A"},{"$error":"#N/A"},{"$error":"#N/A"},{"$error":"#N/A"},{"$error":"#N/A"},{"$error":"#N/A"},{"$error":"#N/A"},{"$error":"#N/A"},{"$error":"#N/A"}]
[null,{"$f":"données!B306","v":"li 303"},{"$error":"#N/A"},{"$error":"#N/A"},{"$error":"#N/A"},{"$error":"#N/A"},{"$error":"#N/A"},{"$error":"#N/A"},{"$error":"#N/A"},{"$error":"#N/A"},{"$error":"#N/A"},{"$error":"#N/A"},{"$error":"#N/A"},{"$error":"#N/A"},{"$error":"#N/A"},{"$error":"#N/A"},{"$error":"#N/A"},{"$error":"#N/A"},{"$error":"#N/A"},{"$error":"#N/A"},{"$error":"#N/A"},{"$error":"#N/A"}]
[null,{"$f":"données!B307","v":"li 304"},{"$error":"#N/A"},{"$error":"#N/A"},{"$error":"#N/A"},{"$error":"#N/A"},{"$error":"#N/A"},{"$error":"#N/A"},{"$error":"#N/A"},{"$error":"#N/A"},{"$error":"#N/A"},{"$error":"#N/A"},{"$error":"#N/A"},{"$error":"#N/A"},{"$error":"#N/A"},{"$error":"#N/A"},{"$error":"#N/A"},{"$error":"#N/A"},{"$error":"#N/A"},{"$error":"#N/A"},{"$error":"#N/A"},{"$error":"#N/A"}]
[null,{"$f":"données!B308","v":"li 305"},{"$error":"#N/A"},{"$error":"#N/A"},{"$error":"#N/A"},{"$error":"#N/A"},{"$error":"#N/A"},{"$error":"#N/A"},{"$error":"#N/A"},{"$error":"#N/A"},{"$error":"#N/A"},{"$error":"#N/A"},{"$error":"#N/A"},{"$error":"#N/A"},{"$error":"#N/A"},{"$error":"#N/A"},{"$error":"#N/A"},{"$error":"#N/A"},{"$error":"#N/A"},{"$error":"#N/A"},{"$error":"#N/A"},{"$error":"#N/A"}]
[null,{"$f":"données!B309","v":"li 306"},{"$error":"#N/A"},{"$error":"#N/A"},{"$error":"#N/A"},{"$error":"#N/A"},{"$error":"#N/A"},{"$error":"#N/A"},{"$error":"#N/A"},{"$error":"#N/A"},{"$error":"#N/A"},{"$error":"#N/A"},{"$error":"#N/A"},{"$error":"#N/A"},{"$error":"#N/A"},{"$error":"#N/A"},{"$error":"#N/A"},{"$error":"#N/A"},{"$error":"#N/A"},{"$error":"#N/A"},{"$error":"#N/A"},{"$error":"#N/A"}]
[null,{"$f":"données!B310","v":"li 307"},{"$error":"#N/A"},{"$error":"#N/A"},{"$error":"#N/A"},{"$error":"#N/A"},{"$error":"#N/A"},{"$error":"#N/A"},{"$error":"#N/A"},{"$error":"#N/A"},{"$error":"#N/A"},{"$error":"#N/A"},{"$error":"#N/A"},{"$error":"#N/A"},{"$error":"#N/A"},{"$error":"#N/A"},{"$error":"#N/A"},{"$error":"#N/A"},{"$error":"#N/A"},{"$error":"#N/A"},{"$error":"#N/A"},{"$error":"#N/A"}]
[null,{"$f":"données!B311","v":"li 308"},{"$error":"#N/A"},{"$error":"#N/A"},{"$error":"#N/A"},{"$error":"#N/A"},{"$error":"#N/A"},{"$error":"#N/A"},{"$error":"#N/A"},{"$error":"#N/A"},{"$error":"#N/A"},{"$error":"#N/A"},{"$error":"#N/A"},{"$error":"#N/A"},{"$error":"#N/A"},{"$error":"#N/A"},{"$error":"#N/A"},{"$error":"#N/A"},{"$error":"#N/A"},{"$error":"#N/A"},{"$error":"#N/A"},{"$error":"#N/A"}]
[null,{"$f":"données!B312","v":"li 309"},{"$error":"#N/A"},{"$error":"#N/A"},{"$error":"#N/A"},{"$error":"#N/A"},{"$error":"#N/A"},{"$error":"#N/A"},{"$error":"#N/A"},{"$error":"#N/A"},{"$error":"#N/A"},{"$error":"#N/A"},{"$error":"#N/A"},{"$error":"#N/A"},{"$error":"#N/A"},{"$error":"#N/A"},{"$error":"#N/A"},{"$error":"#N/A"},{"$error":"#N/A"},{"$error":"#N/A"},{"$error":"#N/A"},{"$error":"#N/A"}]
[null,{"$f":"données!B313","v":"li 310"},{"$error":"#N/A"},{"$error":"#N/A"},{"$error":"#N/A"},{"$error":"#N/A"},{"$error":"#N/A"},{"$error":"#N/A"},{"$error":"#N/A"},{"$error":"#N/A"},{"$error":"#N/A"},{"$error":"#N/A"},{"$error":"#N/A"},{"$error":"#N/A"},{"$error":"#N/A"},{"$error":"#N/A"},{"$error":"#N/A"},{"$error":"#N/A"},{"$error":"#N/A"},{"$error":"#N/A"},{"$error":"#N/A"},{"$error":"#N/A"}]
[null,{"$f":"données!B314","v":"li 311"},{"$error":"#N/A"},{"$error":"#N/A"},{"$error":"#N/A"},{"$error":"#N/A"},{"$error":"#N/A"},{"$error":"#N/A"},{"$error":"#N/A"},{"$error":"#N/A"},{"$error":"#N/A"},{"$error":"#N/A"},{"$error":"#N/A"},{"$error":"#N/A"},{"$error":"#N/A"},{"$error":"#N/A"},{"$error":"#N/A"},{"$error":"#N/A"},{"$error":"#N/A"},{"$error":"#N/A"},{"$error":"#N/A"},{"$error":"#N/A"}]
[null,{"$f":"données!B315","v":"li 312"},{"$error":"#N/A"},{"$error":"#N/A"},{"$error":"#N/A"},{"$error":"#N/A"},{"$error":"#N/A"},{"$error":"#N/A"},{"$error":"#N/A"},{"$error":"#N/A"},{"$error":"#N/A"},{"$error":"#N/A"},{"$error":"#N/A"},{"$error":"#N/A"},{"$error":"#N/A"},{"$error":"#N/A"},{"$error":"#N/A"},{"$error":"#N/A"},{"$error":"#N/A"},{"$error":"#N/A"},{"$error":"#N/A"},{"$error":"#N/A"}]
[null,{"$f":"données!B316","v":"li 313"},{"$error":"#N/A"},{"$error":"#N/A"},{"$error":"#N/A"},{"$error":"#N/A"},{"$error":"#N/A"},{"$error":"#N/A"},{"$error":"#N/A"},{"$error":"#N/A"},{"$error":"#N/A"},{"$error":"#N/A"},{"$error":"#N/A"},{"$error":"#N/A"},{"$error":"#N/A"},{"$error":"#N/A"},{"$error":"#N/A"},{"$error":"#N/A"},{"$error":"#N/A"},{"$error":"#N/A"},{"$error":"#N/A"},{"$error":"#N/A"}]
[null,{"$f":"données!B317","v":"li 314"},{"$error":"#N/A"},{"$error":"#N/A"},{"$error":"#N/A"},{"$error":"#N/A"},{"$error":"#N/A"},{"$error":"#N/A"},{"$error":"#N/A"},{"$error":"#N/A"},{"$error":"#N/A"},{"$error":"#N/A"},{"$error":"#N/A"},{"$error":"#N/A"},{"$error":"#N/A"},{"$error":"#N/A"},{"$error":"#N/A"},{"$error":"#N/A"},{"$error":"#N/A"},{"$error":"#N/A"},{"$error":"#N/A"},{"$error":"#N/A"}]
[null,{"$f":"données!B318","v":"li 315"},{"$error":"#N/A"},{"$error":"#N/A"},{"$error":"#N/A"},{"$error":"#N/A"},{"$error":"#N/A"},{"$error":"#N/A"},{"$error":"#N/A"},{"$error":"#N/A"},{"$error":"#N/A"},{"$error":"#N/A"},{"$error":"#N/A"},{"$error":"#N/A"},{"$error":"#N/A"},{"$error":"#N/A"},{"$error":"#N/A"},{"$error":"#N/A"},{"$error":"#N/A"},{"$error":"#N/A"},{"$error":"#N/A"},{"$error":"#N/A"}]
[null,{"$f":"données!B319","v":"li 316"},{"$error":"#N/A"},{"$error":"#N/A"},{"$error":"#N/A"},{"$error":"#N/A"},{"$error":"#N/A"},{"$error":"#N/A"},{"$error":"#N/A"},{"$error":"#N/A"},{"$error":"#N/A"},{"$error":"#N/A"},{"$error":"#N/A"},{"$error":"#N/A"},{"$error":"#N/A"},{"$error":"#N/A"},{"$error":"#N/A"},{"$error":"#N/A"},{"$error":"#N/A"},{"$error":"#N/A"},{"$error":"#N/A"},{"$error":"#N/A"}]
[null,{"$f":"données!B320","v":"li 317"},{"$error":"#N/A"},{"$error":"#N/A"},{"$error":"#N/A"},{"$error":"#N/A"},{"$error":"#N/A"},{"$error":"#N/A"},{"$error":"#N/A"},{"$error":"#N/A"},{"$error":"#N/A"},{"$error":"#N/A"},{"$error":"#N/A"},{"$error":"#N/A"},{"$error":"#N/A"},{"$error":"#N/A"},{"$error":"#N/A"},{"$error":"#N/A"},{"$error":"#N/A"},{"$error":"#N/A"},{"$error":"#N/A"},{"$error":"#N/A"}]
[null,{"$f":"données!B321","v":"li 318"},{"$error":"#N/A"},{"$error":"#N/A"},{"$error":"#N/A"},{"$error":"#N/A"},{"$error":"#N/A"},{"$error":"#N/A"},{"$error":"#N/A"},{"$error":"#N/A"},{"$error":"#N/A"},{"$error":"#N/A"},{"$error":"#N/A"},{"$error":"#N/A"},{"$error":"#N/A"},{"$error":"#N/A"},{"$error":"#N/A"},{"$error":"#N/A"},{"$error":"#N/A"},{"$error":"#N/A"},{"$error":"#N/A"},{"$error":"#N/A"}]
[null,{"$f":"données!B322","v":"li 319"},{"$error":"#N/A"},{"$error":"#N/A"},{"$error":"#N/A"},{"$error":"#N/A"},{"$error":"#N/A"},{"$error":"#N/A"},{"$error":"#N/A"},{"$error":"#N/A"},{"$error":"#N/A"},{"$error":"#N/A"},{"$error":"#N/A"},{"$error":"#N/A"},{"$error":"#N/A"},{"$error":"#N/A"},{"$error":"#N/A"},{"$error":"#N/A"},{"$error":"#N/A"},{"$error":"#N/A"},{"$error":"#N/A"},{"$error":"#N/A"}]
[null,{"$f":"données!B323","v":"li 320"},{"$error":"#N/A"},{"$error":"#N/A"},{"$error":"#N/A"},{"$error":"#N/A"},{"$error":"#N/A"},{"$error":"#N/A"},{"$error":"#N/A"},{"$error":"#N/A"},{"$error":"#N/A"},{"$error":"#N/A"},{"$error":"#N/A"},{"$error":"#N/A"},{"$error":"#N/A"},{"$error":"#N/A"},{"$error":"#N/A"},{"$error":"#N/A"},{"$error":"#N/A"},{"$error":"#N/A"},{"$error":"#N/A"},{"$error":"#N/A"}]
[null,{"$f":"données!B324","v":"li 321"},{"$error":"#N/A"},{"$error":"#N/A"},{"$error":"#N/A"},{"$error":"#N/A"},{"$error":"#N/A"},{"$error":"#N/A"},{"$error":"#N/A"},{"$error":"#N/A"},{"$error":"#N/A"},{"$error":"#N/A"},{"$error":"#N/A"},{"$error":"#N/A"},{"$error":"#N/A"},{"$error":"#N/A"},{"$error":"#N/A"},{"$error":"#N/A"},{"$error":"#N/A"},{"$error":"#N/A"},{"$error":"#N/A"},{"$error":"#N/A"}]
[null,{"$f":"données!B325","v":"li 322"},{"$error":"#N/A"},{"$error":"#N/A"},{"$error":"#N/A"},{"$error":"#N/A"},{"$error":"#N/A"},{"$error":"#N/A"},{"$error":"#N/A"},{"$error":"#N/A"},{"$error":"#N/A"},{"$error":"#N/A"},{"$error":"#N/A"},{"$error":"#N/A"},{"$error":"#N/A"},{"$error":"#N/A"},{"$error":"#N/A"},{"$error":"#N/A"},{"$error":"#N/A"},{"$error":"#N/A"},{"$error":"#N/A"},{"$error":"#N/A"}]
[null,{"$f":"données!B326","v":"li 323"},{"$error":"#N/A"},{"$error":"#N/A"},{"$error":"#N/A"},{"$error":"#N/A"},{"$error":"#N/A"},{"$error":"#N/A"},{"$error":"#N/A"},{"$error":"#N/A"},{"$error":"#N/A"},{"$error":"#N/A"},{"$error":"#N/A"},{"$error":"#N/A"},{"$error":"#N/A"},{"$error":"#N/A"},{"$error":"#N/A"},{"$error":"#N/A"},{"$error":"#N/A"},{"$error":"#N/A"},{"$error":"#N/A"},{"$error":"#N/A"}]
[null,{"$f":"données!B327","v":"li 324"},{"$error":"#N/A"},{"$error":"#N/A"},{"$error":"#N/A"},{"$error":"#N/A"},{"$error":"#N/A"},{"$error":"#N/A"},{"$error":"#N/A"},{"$error":"#N/A"},{"$error":"#N/A"},{"$error":"#N/A"},{"$error":"#N/A"},{"$error":"#N/A"},{"$error":"#N/A"},{"$error":"#N/A"},{"$error":"#N/A"},{"$error":"#N/A"},{"$error":"#N/A"},{"$error":"#N/A"},{"$error":"#N/A"},{"$error":"#N/A"}]
[null,{"$f":"données!B328","v":"li 325"},{"$error":"#N/A"},{"$error":"#N/A"},{"$error":"#N/A"},{"$error":"#N/A"},{"$error":"#N/A"},{"$error":"#N/A"},{"$error":"#N/A"},{"$error":"#N/A"},{"$error":"#N/A"},{"$error":"#N/A"},{"$error":"#N/A"},{"$error":"#N/A"},{"$error":"#N/A"},{"$error":"#N/A"},{"$error":"#N/A"},{"$error":"#N/A"},{"$error":"#N/A"},{"$error":"#N/A"},{"$error":"#N/A"},{"$error":"#N/A"}]
[null,{"$f":"données!B329","v":"li 326"},{"$error":"#N/A"},{"$error":"#N/A"},{"$error":"#N/A"},{"$error":"#N/A"},{"$error":"#N/A"},{"$error":"#N/A"},{"$error":"#N/A"},{"$error":"#N/A"},{"$error":"#N/A"},{"$error":"#N/A"},{"$error":"#N/A"},{"$error":"#N/A"},{"$error":"#N/A"},{"$error":"#N/A"},{"$error":"#N/A"},{"$error":"#N/A"},{"$error":"#N/A"},{"$error":"#N/A"},{"$error":"#N/A"},{"$error":"#N/A"}]
[null,{"$f":"données!B330","v":"li 327"},{"$error":"#N/A"},{"$error":"#N/A"},{"$error":"#N/A"},{"$error":"#N/A"},{"$error":"#N/A"},{"$error":"#N/A"},{"$error":"#N/A"},{"$error":"#N/A"},{"$error":"#N/A"},{"$error":"#N/A"},{"$error":"#N/A"},{"$error":"#N/A"},{"$error":"#N/A"},{"$error":"#N/A"},{"$error":"#N/A"},{"$error":"#N/A"},{"$error":"#N/A"},{"$error":"#N/A"},{"$error":"#N/A"},{"$error":"#N/A"}]
[null,{"$f":"données!B331","v":"li 328"},{"$error":"#N/A"},{"$error":"#N/A"},{"$error":"#N/A"},{"$error":"#N/A"},{"$error":"#N/A"},{"$error":"#N/A"},{"$error":"#N/A"},{"$error":"#N/A"},{"$error":"#N/A"},{"$error":"#N/A"},{"$error":"#N/A"},{"$error":"#N/A"},{"$error":"#N/A"},{"$error":"#N/A"},{"$error":"#N/A"},{"$error":"#N/A"},{"$error":"#N/A"},{"$error":"#N/A"},{"$error":"#N/A"},{"$error":"#N/A"}]
[null,{"$f":"données!B332","v":"li 329"},{"$error":"#N/A"},{"$error":"#N/A"},{"$error":"#N/A"},{"$error":"#N/A"},{"$error":"#N/A"},{"$error":"#N/A"},{"$error":"#N/A"},{"$error":"#N/A"},{"$error":"#N/A"},{"$error":"#N/A"},{"$error":"#N/A"},{"$error":"#N/A"},{"$error":"#N/A"},{"$error":"#N/A"},{"$error":"#N/A"},{"$error":"#N/A"},{"$error":"#N/A"},{"$error":"#N/A"},{"$error":"#N/A"},{"$error":"#N/A"}]
[null,{"$f":"données!B333","v":"li 330"},{"$error":"#N/A"},{"$error":"#N/A"},{"$error":"#N/A"},{"$error":"#N/A"},{"$error":"#N/A"},{"$error":"#N/A"},{"$error":"#N/A"},{"$error":"#N/A"},{"$error":"#N/A"},{"$error":"#N/A"},{"$error":"#N/A"},{"$error":"#N/A"},{"$error":"#N/A"},{"$error":"#N/A"},{"$error":"#N/A"},{"$error":"#N/A"},{"$error":"#N/A"},{"$error":"#N/A"},{"$error":"#N/A"},{"$error":"#N/A"}]
[null,{"$f":"données!B334","v":"li 331"},{"$error":"#N/A"},{"$error":"#N/A"},{"$error":"#N/A"},{"$error":"#N/A"},{"$error":"#N/A"},{"$error":"#N/A"},{"$error":"#N/A"},{"$error":"#N/A"},{"$error":"#N/A"},{"$error":"#N/A"},{"$error":"#N/A"},{"$error":"#N/A"},{"$error":"#N/A"},{"$error":"#N/A"},{"$error":"#N/A"},{"$error":"#N/A"},{"$error":"#N/A"},{"$error":"#N/A"},{"$error":"#N/A"},{"$error":"#N/A"}]
[null,{"$f":"données!B335","v":"li 332"},{"$error":"#N/A"},{"$error":"#N/A"},{"$error":"#N/A"},{"$error":"#N/A"},{"$error":"#N/A"},{"$error":"#N/A"},{"$error":"#N/A"},{"$error":"#N/A"},{"$error":"#N/A"},{"$error":"#N/A"},{"$error":"#N/A"},{"$error":"#N/A"},{"$error":"#N/A"},{"$error":"#N/A"},{"$error":"#N/A"},{"$error":"#N/A"},{"$error":"#N/A"},{"$error":"#N/A"},{"$error":"#N/A"},{"$error":"#N/A"}]
[null,{"$f":"données!B336","v":"li 333"},{"$error":"#N/A"},{"$error":"#N/A"},{"$error":"#N/A"},{"$error":"#N/A"},{"$error":"#N/A"},{"$error":"#N/A"},{"$error":"#N/A"},{"$error":"#N/A"},{"$error":"#N/A"},{"$error":"#N/A"},{"$error":"#N/A"},{"$error":"#N/A"},{"$error":"#N/A"},{"$error":"#N/A"},{"$error":"#N/A"},{"$error":"#N/A"},{"$error":"#N/A"},{"$error":"#N/A"},{"$error":"#N/A"},{"$error":"#N/A"}]
[null,{"$f":"données!B337","v":"li 334"},{"$error":"#N/A"},{"$error":"#N/A"},{"$error":"#N/A"},{"$error":"#N/A"},{"$error":"#N/A"},{"$error":"#N/A"},{"$error":"#N/A"},{"$error":"#N/A"},{"$error":"#N/A"},{"$error":"#N/A"},{"$error":"#N/A"},{"$error":"#N/A"},{"$error":"#N/A"},{"$error":"#N/A"},{"$error":"#N/A"},{"$error":"#N/A"},{"$error":"#N/A"},{"$error":"#N/A"},{"$error":"#N/A"},{"$error":"#N/A"}]
[null,{"$f":"données!B338","v":"li 335"},{"$error":"#N/A"},{"$error":"#N/A"},{"$error":"#N/A"},{"$error":"#N/A"},{"$error":"#N/A"},{"$error":"#N/A"},{"$error":"#N/A"},{"$error":"#N/A"},{"$error":"#N/A"},{"$error":"#N/A"},{"$error":"#N/A"},{"$error":"#N/A"},{"$error":"#N/A"},{"$error":"#N/A"},{"$error":"#N/A"},{"$error":"#N/A"},{"$error":"#N/A"},{"$error":"#N/A"},{"$error":"#N/A"},{"$error":"#N/A"}]
[null,{"$f":"données!B339","v":"li 336"},{"$error":"#N/A"},{"$error":"#N/A"},{"$error":"#N/A"},{"$error":"#N/A"},{"$error":"#N/A"},{"$error":"#N/A"},{"$error":"#N/A"},{"$error":"#N/A"},{"$error":"#N/A"},{"$error":"#N/A"},{"$error":"#N/A"},{"$error":"#N/A"},{"$error":"#N/A"},{"$error":"#N/A"},{"$error":"#N/A"},{"$error":"#N/A"},{"$error":"#N/A"},{"$error":"#N/A"},{"$error":"#N/A"},{"$error":"#N/A"}]
[null,{"$f":"données!B340","v":"li 337"},{"$error":"#N/A"},{"$error":"#N/A"},{"$error":"#N/A"},{"$error":"#N/A"},{"$error":"#N/A"},{"$error":"#N/A"},{"$error":"#N/A"},{"$error":"#N/A"},{"$error":"#N/A"},{"$error":"#N/A"},{"$error":"#N/A"},{"$error":"#N/A"},{"$error":"#N/A"},{"$error":"#N/A"},{"$error":"#N/A"},{"$error":"#N/A"},{"$error":"#N/A"},{"$error":"#N/A"},{"$error":"#N/A"},{"$error":"#N/A"}]
[null,{"$f":"données!B341","v":"li 338"},{"$error":"#N/A"},{"$error":"#N/A"},{"$error":"#N/A"},{"$error":"#N/A"},{"$error":"#N/A"},{"$error":"#N/A"},{"$error":"#N/A"},{"$error":"#N/A"},{"$error":"#N/A"},{"$error":"#N/A"},{"$error":"#N/A"},{"$error":"#N/A"},{"$error":"#N/A"},{"$error":"#N/A"},{"$error":"#N/A"},{"$error":"#N/A"},{"$error":"#N/A"},{"$error":"#N/A"},{"$error":"#N/A"},{"$error":"#N/A"}]
[null,{"$f":"données!B342","v":"li 339"},{"$error":"#N/A"},{"$error":"#N/A"},{"$error":"#N/A"},{"$error":"#N/A"},{"$error":"#N/A"},{"$error":"#N/A"},{"$error":"#N/A"},{"$error":"#N/A"},{"$error":"#N/A"},{"$error":"#N/A"},{"$error":"#N/A"},{"$error":"#N/A"},{"$error":"#N/A"},{"$error":"#N/A"},{"$error":"#N/A"},{"$error":"#N/A"},{"$error":"#N/A"},{"$error":"#N/A"},{"$error":"#N/A"},{"$error":"#N/A"}]
[null,{"$f":"données!B343","v":"li 340"},{"$error":"#N/A"},{"$error":"#N/A"},{"$error":"#N/A"},{"$error":"#N/A"},{"$error":"#N/A"},{"$error":"#N/A"},{"$error":"#N/A"},{"$error":"#N/A"},{"$error":"#N/A"},{"$error":"#N/A"},{"$error":"#N/A"},{"$error":"#N/A"},{"$error":"#N/A"},{"$error":"#N/A"},{"$error":"#N/A"},{"$error":"#N/A"},{"$error":"#N/A"},{"$error":"#N/A"},{"$error":"#N/A"},{"$error":"#N/A"}]
[null,{"$f":"données!B344","v":"li 341"},{"$error":"#N/A"},{"$error":"#N/A"},{"$error":"#N/A"},{"$error":"#N/A"},{"$error":"#N/A"},{"$error":"#N/A"},{"$error":"#N/A"},{"$error":"#N/A"},{"$error":"#N/A"},{"$error":"#N/A"},{"$error":"#N/A"},{"$error":"#N/A"},{"$error":"#N/A"},{"$error":"#N/A"},{"$error":"#N/A"},{"$error":"#N/A"},{"$error":"#N/A"},{"$error":"#N/A"},{"$error":"#N/A"},{"$error":"#N/A"}]
[null,{"$f":"données!B345","v":"li 342"},{"$error":"#N/A"},{"$error":"#N/A"},{"$error":"#N/A"},{"$error":"#N/A"},{"$error":"#N/A"},{"$error":"#N/A"},{"$error":"#N/A"},{"$error":"#N/A"},{"$error":"#N/A"},{"$error":"#N/A"},{"$error":"#N/A"},{"$error":"#N/A"},{"$error":"#N/A"},{"$error":"#N/A"},{"$error":"#N/A"},{"$error":"#N/A"},{"$error":"#N/A"},{"$error":"#N/A"},{"$error":"#N/A"},{"$error":"#N/A"}]
[null,{"$f":"données!B346","v":"li 343"},{"$error":"#N/A"},{"$error":"#N/A"},{"$error":"#N/A"},{"$error":"#N/A"},{"$error":"#N/A"},{"$error":"#N/A"},{"$error":"#N/A"},{"$error":"#N/A"},{"$error":"#N/A"},{"$error":"#N/A"},{"$error":"#N/A"},{"$error":"#N/A"},{"$error":"#N/A"},{"$error":"#N/A"},{"$error":"#N/A"},{"$error":"#N/A"},{"$error":"#N/A"},{"$error":"#N/A"},{"$error":"#N/A"},{"$error":"#N/A"}]
[null,{"$f":"données!B347","v":"li 344"},{"$error":"#N/A"},{"$error":"#N/A"},{"$error":"#N/A"},{"$error":"#N/A"},{"$error":"#N/A"},{"$error":"#N/A"},{"$error":"#N/A"},{"$error":"#N/A"},{"$error":"#N/A"},{"$error":"#N/A"},{"$error":"#N/A"},{"$error":"#N/A"},{"$error":"#N/A"},{"$error":"#N/A"},{"$error":"#N/A"},{"$error":"#N/A"},{"$error":"#N/A"},{"$error":"#N/A"},{"$error":"#N/A"},{"$error":"#N/A"}]
[null,{"$f":"données!B348","v":"li 345"},{"$error":"#N/A"},{"$error":"#N/A"},{"$error":"#N/A"},{"$error":"#N/A"},{"$error":"#N/A"},{"$error":"#N/A"},{"$error":"#N/A"},{"$error":"#N/A"},{"$error":"#N/A"},{"$error":"#N/A"},{"$error":"#N/A"},{"$error":"#N/A"},{"$error":"#N/A"},{"$error":"#N/A"},{"$error":"#N/A"},{"$error":"#N/A"},{"$error":"#N/A"},{"$error":"#N/A"},{"$error":"#N/A"},{"$error":"#N/A"}]
[null,{"$f":"données!B349","v":"li 346"},{"$error":"#N/A"},{"$error":"#N/A"},{"$error":"#N/A"},{"$error":"#N/A"},{"$error":"#N/A"},{"$error":"#N/A"},{"$error":"#N/A"},{"$error":"#N/A"},{"$error":"#N/A"},{"$error":"#N/A"},{"$error":"#N/A"},{"$error":"#N/A"},{"$error":"#N/A"},{"$error":"#N/A"},{"$error":"#N/A"},{"$error":"#N/A"},{"$error":"#N/A"},{"$error":"#N/A"},{"$error":"#N/A"},{"$error":"#N/A"}]
[null,{"$f":"données!B350","v":"li 347"},{"$error":"#N/A"},{"$error":"#N/A"},{"$error":"#N/A"},{"$error":"#N/A"},{"$error":"#N/A"},{"$error":"#N/A"},{"$error":"#N/A"},{"$error":"#N/A"},{"$error":"#N/A"},{"$error":"#N/A"},{"$error":"#N/A"},{"$error":"#N/A"},{"$error":"#N/A"},{"$error":"#N/A"},{"$error":"#N/A"},{"$error":"#N/A"},{"$error":"#N/A"},{"$error":"#N/A"},{"$error":"#N/A"},{"$error":"#N/A"}]
[null,{"$f":"données!B351","v":"li 348"},{"$error":"#N/A"},{"$error":"#N/A"},{"$error":"#N/A"},{"$error":"#N/A"},{"$error":"#N/A"},{"$error":"#N/A"},{"$error":"#N/A"},{"$error":"#N/A"},{"$error":"#N/A"},{"$error":"#N/A"},{"$error":"#N/A"},{"$error":"#N/A"},{"$error":"#N/A"},{"$error":"#N/A"},{"$error":"#N/A"},{"$error":"#N/A"},{"$error":"#N/A"},{"$error":"#N/A"},{"$error":"#N/A"},{"$error":"#N/A"}]
[null,{"$f":"données!B352","v":"li 349"},{"$error":"#N/A"},{"$error":"#N/A"},{"$error":"#N/A"},{"$error":"#N/A"},{"$error":"#N/A"},{"$error":"#N/A"},{"$error":"#N/A"},{"$error":"#N/A"},{"$error":"#N/A"},{"$error":"#N/A"},{"$error":"#N/A"},{"$error":"#N/A"},{"$error":"#N/A"},{"$error":"#N/A"},{"$error":"#N/A"},{"$error":"#N/A"},{"$error":"#N/A"},{"$error":"#N/A"},{"$error":"#N/A"},{"$error":"#N/A"}]
[null,{"$f":"données!B353","v":"li 350"},{"$error":"#N/A"},{"$error":"#N/A"},{"$error":"#N/A"},{"$error":"#N/A"},{"$error":"#N/A"},{"$error":"#N/A"},{"$error":"#N/A"},{"$error":"#N/A"},{"$error":"#N/A"},{"$error":"#N/A"},{"$error":"#N/A"},{"$error":"#N/A"},{"$error":"#N/A"},{"$error":"#N/A"},{"$error":"#N/A"},{"$error":"#N/A"},{"$error":"#N/A"},{"$error":"#N/A"},{"$error":"#N/A"},{"$error":"#N/A"}]
[null,{"$f":"données!B354","v":"li 351"},{"$error":"#N/A"},{"$error":"#N/A"},{"$error":"#N/A"},{"$error":"#N/A"},{"$error":"#N/A"},{"$error":"#N/A"},{"$error":"#N/A"},{"$error":"#N/A"},{"$error":"#N/A"},{"$error":"#N/A"},{"$error":"#N/A"},{"$error":"#N/A"},{"$error":"#N/A"},{"$error":"#N/A"},{"$error":"#N/A"},{"$error":"#N/A"},{"$error":"#N/A"},{"$error":"#N/A"},{"$error":"#N/A"},{"$error":"#N/A"}]
[null,{"$f":"données!B355","v":"li 352"},{"$error":"#N/A"},{"$error":"#N/A"},{"$error":"#N/A"},{"$error":"#N/A"},{"$error":"#N/A"},{"$error":"#N/A"},{"$error":"#N/A"},{"$error":"#N/A"},{"$error":"#N/A"},{"$error":"#N/A"},{"$error":"#N/A"},{"$error":"#N/A"},{"$error":"#N/A"},{"$error":"#N/A"},{"$error":"#N/A"},{"$error":"#N/A"},{"$error":"#N/A"},{"$error":"#N/A"},{"$error":"#N/A"},{"$error":"#N/A"}]
[null,{"$f":"données!B356","v":"li 353"},{"$error":"#N/A"},{"$error":"#N/A"},{"$error":"#N/A"},{"$error":"#N/A"},{"$error":"#N/A"},{"$error":"#N/A"},{"$error":"#N/A"},{"$error":"#N/A"},{"$error":"#N/A"},{"$error":"#N/A"},{"$error":"#N/A"},{"$error":"#N/A"},{"$error":"#N/A"},{"$error":"#N/A"},{"$error":"#N/A"},{"$error":"#N/A"},{"$error":"#N/A"},{"$error":"#N/A"},{"$error":"#N/A"},{"$error":"#N/A"}]
[null,{"$f":"données!B357","v":"li 354"},{"$error":"#N/A"},{"$error":"#N/A"},{"$error":"#N/A"},{"$error":"#N/A"},{"$error":"#N/A"},{"$error":"#N/A"},{"$error":"#N/A"},{"$error":"#N/A"},{"$error":"#N/A"},{"$error":"#N/A"},{"$error":"#N/A"},{"$error":"#N/A"},{"$error":"#N/A"},{"$error":"#N/A"},{"$error":"#N/A"},{"$error":"#N/A"},{"$error":"#N/A"},{"$error":"#N/A"},{"$error":"#N/A"},{"$error":"#N/A"}]
[null,{"$f":"données!B358","v":"li 355"},{"$error":"#N/A"},{"$error":"#N/A"},{"$error":"#N/A"},{"$error":"#N/A"},{"$error":"#N/A"},{"$error":"#N/A"},{"$error":"#N/A"},{"$error":"#N/A"},{"$error":"#N/A"},{"$error":"#N/A"},{"$error":"#N/A"},{"$error":"#N/A"},{"$error":"#N/A"},{"$error":"#N/A"},{"$error":"#N/A"},{"$error":"#N/A"},{"$error":"#N/A"},{"$error":"#N/A"},{"$error":"#N/A"},{"$error":"#N/A"}]
[null,{"$f":"données!B359","v":"li 356"},{"$error":"#N/A"},{"$error":"#N/A"},{"$error":"#N/A"},{"$error":"#N/A"},{"$error":"#N/A"},{"$error":"#N/A"},{"$error":"#N/A"},{"$error":"#N/A"},{"$error":"#N/A"},{"$error":"#N/A"},{"$error":"#N/A"},{"$error":"#N/A"},{"$error":"#N/A"},{"$error":"#N/A"},{"$error":"#N/A"},{"$error":"#N/A"},{"$error":"#N/A"},{"$error":"#N/A"},{"$error":"#N/A"},{"$error":"#N/A"}]
[null,{"$f":"données!B360","v":"li 357"},{"$error":"#N/A"},{"$error":"#N/A"},{"$error":"#N/A"},{"$error":"#N/A"},{"$error":"#N/A"},{"$error":"#N/A"},{"$error":"#N/A"},{"$error":"#N/A"},{"$error":"#N/A"},{"$error":"#N/A"},{"$error":"#N/A"},{"$error":"#N/A"},{"$error":"#N/A"},{"$error":"#N/A"},{"$error":"#N/A"},{"$error":"#N/A"},{"$error":"#N/A"},{"$error":"#N/A"},{"$error":"#N/A"},{"$error":"#N/A"}]
[null,{"$f":"données!B361","v":"li 358"},{"$error":"#N/A"},{"$error":"#N/A"},{"$error":"#N/A"},{"$error":"#N/A"},{"$error":"#N/A"},{"$error":"#N/A"},{"$error":"#N/A"},{"$error":"#N/A"},{"$error":"#N/A"},{"$error":"#N/A"},{"$error":"#N/A"},{"$error":"#N/A"},{"$error":"#N/A"},{"$error":"#N/A"},{"$error":"#N/A"},{"$error":"#N/A"},{"$error":"#N/A"},{"$error":"#N/A"},{"$error":"#N/A"},{"$error":"#N/A"}]
[null,{"$f":"données!B362","v":"li 359"},{"$error":"#N/A"},{"$error":"#N/A"},{"$error":"#N/A"},{"$error":"#N/A"},{"$error":"#N/A"},{"$error":"#N/A"},{"$error":"#N/A"},{"$error":"#N/A"},{"$error":"#N/A"},{"$error":"#N/A"},{"$error":"#N/A"},{"$error":"#N/A"},{"$error":"#N/A"},{"$error":"#N/A"},{"$error":"#N/A"},{"$error":"#N/A"},{"$error":"#N/A"},{"$error":"#N/A"},{"$error":"#N/A"},{"$error":"#N/A"}]
[null,{"$f":"données!B363","v":"li 360"},{"$error":"#N/A"},{"$error":"#N/A"},{"$error":"#N/A"},{"$error":"#N/A"},{"$error":"#N/A"},{"$error":"#N/A"},{"$error":"#N/A"},{"$error":"#N/A"},{"$error":"#N/A"},{"$error":"#N/A"},{"$error":"#N/A"},{"$error":"#N/A"},{"$error":"#N/A"},{"$error":"#N/A"},{"$error":"#N/A"},{"$error":"#N/A"},{"$error":"#N/A"},{"$error":"#N/A"},{"$error":"#N/A"},{"$error":"#N/A"}]
[null,{"$f":"données!B364","v":"li 361"},{"$error":"#N/A"},{"$error":"#N/A"},{"$error":"#N/A"},{"$error":"#N/A"},{"$error":"#N/A"},{"$error":"#N/A"},{"$error":"#N/A"},{"$error":"#N/A"},{"$error":"#N/A"},{"$error":"#N/A"},{"$error":"#N/A"},{"$error":"#N/A"},{"$error":"#N/A"},{"$error":"#N/A"},{"$error":"#N/A"},{"$error":"#N/A"},{"$error":"#N/A"},{"$error":"#N/A"},{"$error":"#N/A"},{"$error":"#N/A"}]
[null,{"$f":"données!B365","v":"li 362"},{"$error":"#N/A"},{"$error":"#N/A"},{"$error":"#N/A"},{"$error":"#N/A"},{"$error":"#N/A"},{"$error":"#N/A"},{"$error":"#N/A"},{"$error":"#N/A"},{"$error":"#N/A"},{"$error":"#N/A"},{"$error":"#N/A"},{"$error":"#N/A"},{"$error":"#N/A"},{"$error":"#N/A"},{"$error":"#N/A"},{"$error":"#N/A"},{"$error":"#N/A"},{"$error":"#N/A"},{"$error":"#N/A"},{"$error":"#N/A"}]
[null,{"$f":"données!B366","v":"li 363"},{"$error":"#N/A"},{"$error":"#N/A"},{"$error":"#N/A"},{"$error":"#N/A"},{"$error":"#N/A"},{"$error":"#N/A"},{"$error":"#N/A"},{"$error":"#N/A"},{"$error":"#N/A"},{"$error":"#N/A"},{"$error":"#N/A"},{"$error":"#N/A"},{"$error":"#N/A"},{"$error":"#N/A"},{"$error":"#N/A"},{"$error":"#N/A"},{"$error":"#N/A"},{"$error":"#N/A"},{"$error":"#N/A"},{"$error":"#N/A"}]
[null,{"$f":"données!B367","v":"li 364"},{"$error":"#N/A"},{"$error":"#N/A"},{"$error":"#N/A"},{"$error":"#N/A"},{"$error":"#N/A"},{"$error":"#N/A"},{"$error":"#N/A"},{"$error":"#N/A"},{"$error":"#N/A"},{"$error":"#N/A"},{"$error":"#N/A"},{"$error":"#N/A"},{"$error":"#N/A"},{"$error":"#N/A"},{"$error":"#N/A"},{"$error":"#N/A"},{"$error":"#N/A"},{"$error":"#N/A"},{"$error":"#N/A"},{"$error":"#N/A"}]
[null,{"$f":"données!B368","v":"li 365"},{"$error":"#N/A"},{"$error":"#N/A"},{"$error":"#N/A"},{"$error":"#N/A"},{"$error":"#N/A"},{"$error":"#N/A"},{"$error":"#N/A"},{"$error":"#N/A"},{"$error":"#N/A"},{"$error":"#N/A"},{"$error":"#N/A"},{"$error":"#N/A"},{"$error":"#N/A"},{"$error":"#N/A"},{"$error":"#N/A"},{"$error":"#N/A"},{"$error":"#N/A"},{"$error":"#N/A"},{"$error":"#N/A"},{"$error":"#N/A"}]
[null,{"$f":"données!B369","v":"li 366"},{"$error":"#N/A"},{"$error":"#N/A"},{"$error":"#N/A"},{"$error":"#N/A"},{"$error":"#N/A"},{"$error":"#N/A"},{"$error":"#N/A"},{"$error":"#N/A"},{"$error":"#N/A"},{"$error":"#N/A"},{"$error":"#N/A"},{"$error":"#N/A"},{"$error":"#N/A"},{"$error":"#N/A"},{"$error":"#N/A"},{"$error":"#N/A"},{"$error":"#N/A"},{"$error":"#N/A"},{"$error":"#N/A"},{"$error":"#N/A"}]
[null,{"$f":"données!B370","v":"li 367"},{"$error":"#N/A"},{"$error":"#N/A"},{"$error":"#N/A"},{"$error":"#N/A"},{"$error":"#N/A"},{"$error":"#N/A"},{"$error":"#N/A"},{"$error":"#N/A"},{"$error":"#N/A"},{"$error":"#N/A"},{"$error":"#N/A"},{"$error":"#N/A"},{"$error":"#N/A"},{"$error":"#N/A"},{"$error":"#N/A"},{"$error":"#N/A"},{"$error":"#N/A"},{"$error":"#N/A"},{"$error":"#N/A"},{"$error":"#N/A"}]
[null,{"$f":"données!B371","v":"li 368"},{"$error":"#N/A"},{"$error":"#N/A"},{"$error":"#N/A"},{"$error":"#N/A"},{"$error":"#N/A"},{"$error":"#N/A"},{"$error":"#N/A"},{"$error":"#N/A"},{"$error":"#N/A"},{"$error":"#N/A"},{"$error":"#N/A"},{"$error":"#N/A"},{"$error":"#N/A"},{"$error":"#N/A"},{"$error":"#N/A"},{"$error":"#N/A"},{"$error":"#N/A"},{"$error":"#N/A"},{"$error":"#N/A"},{"$error":"#N/A"}]
[null,{"$f":"données!B372","v":"li 369"},{"$error":"#N/A"},{"$error":"#N/A"},{"$error":"#N/A"},{"$error":"#N/A"},{"$error":"#N/A"},{"$error":"#N/A"},{"$error":"#N/A"},{"$error":"#N/A"},{"$error":"#N/A"},{"$error":"#N/A"},{"$error":"#N/A"},{"$error":"#N/A"},{"$error":"#N/A"},{"$error":"#N/A"},{"$error":"#N/A"},{"$error":"#N/A"},{"$error":"#N/A"},{"$error":"#N/A"},{"$error":"#N/A"},{"$error":"#N/A"}]
[null,{"$f":"données!B373","v":"li 370"},{"$error":"#N/A"},{"$error":"#N/A"},{"$error":"#N/A"},{"$error":"#N/A"},{"$error":"#N/A"},{"$error":"#N/A"},{"$error":"#N/A"},{"$error":"#N/A"},{"$error":"#N/A"},{"$error":"#N/A"},{"$error":"#N/A"},{"$error":"#N/A"},{"$error":"#N/A"},{"$error":"#N/A"},{"$error":"#N/A"},{"$error":"#N/A"},{"$error":"#N/A"},{"$error":"#N/A"},{"$error":"#N/A"},{"$error":"#N/A"}]
[null,{"$f":"données!B374","v":"li 371"},{"$error":"#N/A"},{"$error":"#N/A"},{"$error":"#N/A"},{"$error":"#N/A"},{"$error":"#N/A"},{"$error":"#N/A"},{"$error":"#N/A"},{"$error":"#N/A"},{"$error":"#N/A"},{"$error":"#N/A"},{"$error":"#N/A"},{"$error":"#N/A"},{"$error":"#N/A"},{"$error":"#N/A"},{"$error":"#N/A"},{"$error":"#N/A"},{"$error":"#N/A"},{"$error":"#N/A"},{"$error":"#N/A"},{"$error":"#N/A"}]
[null,{"$f":"données!B375","v":"li 372"},{"$error":"#N/A"},{"$error":"#N/A"},{"$error":"#N/A"},{"$error":"#N/A"},{"$error":"#N/A"},{"$error":"#N/A"},{"$error":"#N/A"},{"$error":"#N/A"},{"$error":"#N/A"},{"$error":"#N/A"},{"$error":"#N/A"},{"$error":"#N/A"},{"$error":"#N/A"},{"$error":"#N/A"},{"$error":"#N/A"},{"$error":"#N/A"},{"$error":"#N/A"},{"$error":"#N/A"},{"$error":"#N/A"},{"$error":"#N/A"}]
[null,{"$f":"données!B376","v":"li 373"},{"$error":"#N/A"},{"$error":"#N/A"},{"$error":"#N/A"},{"$error":"#N/A"},{"$error":"#N/A"},{"$error":"#N/A"},{"$error":"#N/A"},{"$error":"#N/A"},{"$error":"#N/A"},{"$error":"#N/A"},{"$error":"#N/A"},{"$error":"#N/A"},{"$error":"#N/A"},{"$error":"#N/A"},{"$error":"#N/A"},{"$error":"#N/A"},{"$error":"#N/A"},{"$error":"#N/A"},{"$error":"#N/A"},{"$error":"#N/A"}]
[null,{"$f":"données!B377","v":"li 374"},{"$error":"#N/A"},{"$error":"#N/A"},{"$error":"#N/A"},{"$error":"#N/A"},{"$error":"#N/A"},{"$error":"#N/A"},{"$error":"#N/A"},{"$error":"#N/A"},{"$error":"#N/A"},{"$error":"#N/A"},{"$error":"#N/A"},{"$error":"#N/A"},{"$error":"#N/A"},{"$error":"#N/A"},{"$error":"#N/A"},{"$error":"#N/A"},{"$error":"#N/A"},{"$error":"#N/A"},{"$error":"#N/A"},{"$error":"#N/A"}]
[null,{"$f":"données!B378","v":"li 375"},{"$error":"#N/A"},{"$error":"#N/A"},{"$error":"#N/A"},{"$error":"#N/A"},{"$error":"#N/A"},{"$error":"#N/A"},{"$error":"#N/A"},{"$error":"#N/A"},{"$error":"#N/A"},{"$error":"#N/A"},{"$error":"#N/A"},{"$error":"#N/A"},{"$error":"#N/A"},{"$error":"#N/A"},{"$error":"#N/A"},{"$error":"#N/A"},{"$error":"#N/A"},{"$error":"#N/A"},{"$error":"#N/A"},{"$error":"#N/A"}]
[null,{"$f":"données!B379","v":"li 376"},{"$error":"#N/A"},{"$error":"#N/A"},{"$error":"#N/A"},{"$error":"#N/A"},{"$error":"#N/A"},{"$error":"#N/A"},{"$error":"#N/A"},{"$error":"#N/A"},{"$error":"#N/A"},{"$error":"#N/A"},{"$error":"#N/A"},{"$error":"#N/A"},{"$error":"#N/A"},{"$error":"#N/A"},{"$error":"#N/A"},{"$error":"#N/A"},{"$error":"#N/A"},{"$error":"#N/A"},{"$error":"#N/A"},{"$error":"#N/A"}]
[null,{"$f":"données!B380","v":"li 377"},{"$error":"#N/A"},{"$error":"#N/A"},{"$error":"#N/A"},{"$error":"#N/A"},{"$error":"#N/A"},{"$error":"#N/A"},{"$error":"#N/A"},{"$error":"#N/A"},{"$error":"#N/A"},{"$error":"#N/A"},{"$error":"#N/A"},{"$error":"#N/A"},{"$error":"#N/A"},{"$error":"#N/A"},{"$error":"#N/A"},{"$error":"#N/A"},{"$error":"#N/A"},{"$error":"#N/A"},{"$error":"#N/A"},{"$error":"#N/A"}]
[null,{"$f":"données!B381","v":"li 378"},{"$error":"#N/A"},{"$error":"#N/A"},{"$error":"#N/A"},{"$error":"#N/A"},{"$error":"#N/A"},{"$error":"#N/A"},{"$error":"#N/A"},{"$error":"#N/A"},{"$error":"#N/A"},{"$error":"#N/A"},{"$error":"#N/A"},{"$error":"#N/A"},{"$error":"#N/A"},{"$error":"#N/A"},{"$error":"#N/A"},{"$error":"#N/A"},{"$error":"#N/A"},{"$error":"#N/A"},{"$error":"#N/A"},{"$error":"#N/A"}]
[null,{"$f":"données!B382","v":"li 379"},{"$error":"#N/A"},{"$error":"#N/A"},{"$error":"#N/A"},{"$error":"#N/A"},{"$error":"#N/A"},{"$error":"#N/A"},{"$error":"#N/A"},{"$error":"#N/A"},{"$error":"#N/A"},{"$error":"#N/A"},{"$error":"#N/A"},{"$error":"#N/A"},{"$error":"#N/A"},{"$error":"#N/A"},{"$error":"#N/A"},{"$error":"#N/A"},{"$error":"#N/A"},{"$error":"#N/A"},{"$error":"#N/A"},{"$error":"#N/A"}]
[null,{"$f":"données!B383","v":"li 380"},{"$error":"#N/A"},{"$error":"#N/A"},{"$error":"#N/A"},{"$error":"#N/A"},{"$error":"#N/A"},{"$error":"#N/A"},{"$error":"#N/A"},{"$error":"#N/A"},{"$error":"#N/A"},{"$error":"#N/A"},{"$error":"#N/A"},{"$error":"#N/A"},{"$error":"#N/A"},{"$error":"#N/A"},{"$error":"#N/A"},{"$error":"#N/A"},{"$error":"#N/A"},{"$error":"#N/A"},{"$error":"#N/A"},{"$error":"#N/A"}]
[null,{"$f":"données!B384","v":"li 381"},{"$error":"#N/A"},{"$error":"#N/A"},{"$error":"#N/A"},{"$error":"#N/A"},{"$error":"#N/A"},{"$error":"#N/A"},{"$error":"#N/A"},{"$error":"#N/A"},{"$error":"#N/A"},{"$error":"#N/A"},{"$error":"#N/A"},{"$error":"#N/A"},{"$error":"#N/A"},{"$error":"#N/A"},{"$error":"#N/A"},{"$error":"#N/A"},{"$error":"#N/A"},{"$error":"#N/A"},{"$error":"#N/A"},{"$error":"#N/A"}]
[null,{"$f":"données!B385","v":"li 382"},{"$error":"#N/A"},{"$error":"#N/A"},{"$error":"#N/A"},{"$error":"#N/A"},{"$error":"#N/A"},{"$error":"#N/A"},{"$error":"#N/A"},{"$error":"#N/A"},{"$error":"#N/A"},{"$error":"#N/A"},{"$error":"#N/A"},{"$error":"#N/A"},{"$error":"#N/A"},{"$error":"#N/A"},{"$error":"#N/A"},{"$error":"#N/A"},{"$error":"#N/A"},{"$error":"#N/A"},{"$error":"#N/A"},{"$error":"#N/A"}]
[null,{"$f":"données!B386","v":"li 383"},{"$error":"#N/A"},{"$error":"#N/A"},{"$error":"#N/A"},{"$error":"#N/A"},{"$error":"#N/A"},{"$error":"#N/A"},{"$error":"#N/A"},{"$error":"#N/A"},{"$error":"#N/A"},{"$error":"#N/A"},{"$error":"#N/A"},{"$error":"#N/A"},{"$error":"#N/A"},{"$error":"#N/A"},{"$error":"#N/A"},{"$error":"#N/A"},{"$error":"#N/A"},{"$error":"#N/A"},{"$error":"#N/A"},{"$error":"#N/A"}]
[null,{"$f":"données!B387","v":"li 384"},{"$error":"#N/A"},{"$error":"#N/A"},{"$error":"#N/A"},{"$error":"#N/A"},{"$error":"#N/A"},{"$error":"#N/A"},{"$error":"#N/A"},{"$error":"#N/A"},{"$error":"#N/A"},{"$error":"#N/A"},{"$error":"#N/A"},{"$error":"#N/A"},{"$error":"#N/A"},{"$error":"#N/A"},{"$error":"#N/A"},{"$error":"#N/A"},{"$error":"#N/A"},{"$error":"#N/A"},{"$error":"#N/A"},{"$error":"#N/A"}]
[null,{"$f":"données!B388","v":"li 385"},{"$error":"#N/A"},{"$error":"#N/A"},{"$error":"#N/A"},{"$error":"#N/A"},{"$error":"#N/A"},{"$error":"#N/A"},{"$error":"#N/A"},{"$error":"#N/A"},{"$error":"#N/A"},{"$error":"#N/A"},{"$error":"#N/A"},{"$error":"#N/A"},{"$error":"#N/A"},{"$error":"#N/A"},{"$error":"#N/A"},{"$error":"#N/A"},{"$error":"#N/A"},{"$error":"#N/A"},{"$error":"#N/A"},{"$error":"#N/A"}]
[null,{"$f":"données!B389","v":"li 386"},{"$error":"#N/A"},{"$error":"#N/A"},{"$error":"#N/A"},{"$error":"#N/A"},{"$error":"#N/A"},{"$error":"#N/A"},{"$error":"#N/A"},{"$error":"#N/A"},{"$error":"#N/A"},{"$error":"#N/A"},{"$error":"#N/A"},{"$error":"#N/A"},{"$error":"#N/A"},{"$error":"#N/A"},{"$error":"#N/A"},{"$error":"#N/A"},{"$error":"#N/A"},{"$error":"#N/A"},{"$error":"#N/A"},{"$error":"#N/A"}]
[null,{"$f":"données!B390","v":"li 387"},{"$error":"#N/A"},{"$error":"#N/A"},{"$error":"#N/A"},{"$error":"#N/A"},{"$error":"#N/A"},{"$error":"#N/A"},{"$error":"#N/A"},{"$error":"#N/A"},{"$error":"#N/A"},{"$error":"#N/A"},{"$error":"#N/A"},{"$error":"#N/A"},{"$error":"#N/A"},{"$error":"#N/A"},{"$error":"#N/A"},{"$error":"#N/A"},{"$error":"#N/A"},{"$error":"#N/A"},{"$error":"#N/A"},{"$error":"#N/A"}]
[null,{"$f":"données!B391","v":"li 388"},{"$error":"#N/A"},{"$error":"#N/A"},{"$error":"#N/A"},{"$error":"#N/A"},{"$error":"#N/A"},{"$error":"#N/A"},{"$error":"#N/A"},{"$error":"#N/A"},{"$error":"#N/A"},{"$error":"#N/A"},{"$error":"#N/A"},{"$error":"#N/A"},{"$error":"#N/A"},{"$error":"#N/A"},{"$error":"#N/A"},{"$error":"#N/A"},{"$error":"#N/A"},{"$error":"#N/A"},{"$error":"#N/A"},{"$error":"#N/A"}]
[null,{"$f":"données!B392","v":"li 389"},{"$error":"#N/A"},{"$error":"#N/A"},{"$error":"#N/A"},{"$error":"#N/A"},{"$error":"#N/A"},{"$error":"#N/A"},{"$error":"#N/A"},{"$error":"#N/A"},{"$error":"#N/A"},{"$error":"#N/A"},{"$error":"#N/A"},{"$error":"#N/A"},{"$error":"#N/A"},{"$error":"#N/A"},{"$error":"#N/A"},{"$error":"#N/A"},{"$error":"#N/A"},{"$error":"#N/A"},{"$error":"#N/A"},{"$error":"#N/A"}]
[null,{"$f":"données!B393","v":"li 390"},{"$error":"#N/A"},{"$error":"#N/A"},{"$error":"#N/A"},{"$error":"#N/A"},{"$error":"#N/A"},{"$error":"#N/A"},{"$error":"#N/A"},{"$error":"#N/A"},{"$error":"#N/A"},{"$error":"#N/A"},{"$error":"#N/A"},{"$error":"#N/A"},{"$error":"#N/A"},{"$error":"#N/A"},{"$error":"#N/A"},{"$error":"#N/A"},{"$error":"#N/A"},{"$error":"#N/A"},{"$error":"#N/A"},{"$error":"#N/A"}]
[null,{"$f":"données!B394","v":"li 391"},{"$error":"#N/A"},{"$error":"#N/A"},{"$error":"#N/A"},{"$error":"#N/A"},{"$error":"#N/A"},{"$error":"#N/A"},{"$error":"#N/A"},{"$error":"#N/A"},{"$error":"#N/A"},{"$error":"#N/A"},{"$error":"#N/A"},{"$error":"#N/A"},{"$error":"#N/A"},{"$error":"#N/A"},{"$error":"#N/A"},{"$error":"#N/A"},{"$error":"#N/A"},{"$error":"#N/A"},{"$error":"#N/A"},{"$error":"#N/A"}]
[null,{"$f":"données!B395","v":"li 392"},{"$error":"#N/A"},{"$error":"#N/A"},{"$error":"#N/A"},{"$error":"#N/A"},{"$error":"#N/A"},{"$error":"#N/A"},{"$error":"#N/A"},{"$error":"#N/A"},{"$error":"#N/A"},{"$error":"#N/A"},{"$error":"#N/A"},{"$error":"#N/A"},{"$error":"#N/A"},{"$error":"#N/A"},{"$error":"#N/A"},{"$error":"#N/A"},{"$error":"#N/A"},{"$error":"#N/A"},{"$error":"#N/A"},{"$error":"#N/A"}]
[null,{"$f":"données!B396","v":"li 393"},{"$error":"#N/A"},{"$error":"#N/A"},{"$error":"#N/A"},{"$error":"#N/A"},{"$error":"#N/A"},{"$error":"#N/A"},{"$error":"#N/A"},{"$error":"#N/A"},{"$error":"#N/A"},{"$error":"#N/A"},{"$error":"#N/A"},{"$error":"#N/A"},{"$error":"#N/A"},{"$error":"#N/A"},{"$error":"#N/A"},{"$error":"#N/A"},{"$error":"#N/A"},{"$error":"#N/A"},{"$error":"#N/A"},{"$error":"#N/A"}]
[null,{"$f":"données!B397","v":"li 394"},{"$error":"#N/A"},{"$error":"#N/A"},{"$error":"#N/A"},{"$error":"#N/A"},{"$error":"#N/A"},{"$error":"#N/A"},{"$error":"#N/A"},{"$error":"#N/A"},{"$error":"#N/A"},{"$error":"#N/A"},{"$error":"#N/A"},{"$error":"#N/A"},{"$error":"#N/A"},{"$error":"#N/A"},{"$error":"#N/A"},{"$error":"#N/A"},{"$error":"#N/A"},{"$error":"#N/A"},{"$error":"#N/A"},{"$error":"#N/A"}]
[null,{"$f":"données!B398","v":"li 395"},{"$error":"#N/A"},{"$error":"#N/A"},{"$error":"#N/A"},{"$error":"#N/A"},{"$error":"#N/A"},{"$error":"#N/A"},{"$error":"#N/A"},{"$error":"#N/A"},{"$error":"#N/A"},{"$error":"#N/A"},{"$error":"#N/A"},{"$error":"#N/A"},{"$error":"#N/A"},{"$error":"#N/A"},{"$error":"#N/A"},{"$error":"#N/A"},{"$error":"#N/A"},{"$error":"#N/A"},{"$error":"#N/A"},{"$error":"#N/A"}]
[null,{"$f":"données!B399","v":"li 396"},{"$error":"#N/A"},{"$error":"#N/A"},{"$error":"#N/A"},{"$error":"#N/A"},{"$error":"#N/A"},{"$error":"#N/A"},{"$error":"#N/A"},{"$error":"#N/A"},{"$error":"#N/A"},{"$error":"#N/A"},{"$error":"#N/A"},{"$error":"#N/A"},{"$error":"#N/A"},{"$error":"#N/A"},{"$error":"#N/A"},{"$error":"#N/A"},{"$error":"#N/A"},{"$error":"#N/A"},{"$error":"#N/A"},{"$error":"#N/A"}]
[null,{"$f":"données!B400","v":"li 397"},{"$error":"#N/A"},{"$error":"#N/A"},{"$error":"#N/A"},{"$error":"#N/A"},{"$error":"#N/A"},{"$error":"#N/A"},{"$error":"#N/A"},{"$error":"#N/A"},{"$error":"#N/A"},{"$error":"#N/A"},{"$error":"#N/A"},{"$error":"#N/A"},{"$error":"#N/A"},{"$error":"#N/A"},{"$error":"#N/A"},{"$error":"#N/A"},{"$error":"#N/A"},{"$error":"#N/A"},{"$error":"#N/A"},{"$error":"#N/A"}]
[null,{"$f":"données!B401","v":"li 398"},{"$error":"#N/A"},{"$error":"#N/A"},{"$error":"#N/A"},{"$error":"#N/A"},{"$error":"#N/A"},{"$error":"#N/A"},{"$error":"#N/A"},{"$error":"#N/A"},{"$error":"#N/A"},{"$error":"#N/A"},{"$error":"#N/A"},{"$error":"#N/A"},{"$error":"#N/A"},{"$error":"#N/A"},{"$error":"#N/A"},{"$error":"#N/A"},{"$error":"#N/A"},{"$error":"#N/A"},{"$error":"#N/A"},{"$error":"#N/A"}]
[null,{"$f":"données!B402","v":"li 399"},{"$error":"#N/A"},{"$error":"#N/A"},{"$error":"#N/A"},{"$error":"#N/A"},{"$error":"#N/A"},{"$error":"#N/A"},{"$error":"#N/A"},{"$error":"#N/A"},{"$error":"#N/A"},{"$error":"#N/A"},{"$error":"#N/A"},{"$error":"#N/A"},{"$error":"#N/A"},{"$error":"#N/A"},{"$error":"#N/A"},{"$error":"#N/A"},{"$error":"#N/A"},{"$error":"#N/A"},{"$error":"#N/A"},{"$error":"#N/A"}]
[null,{"$f":"données!B403","v":"li 400"},{"$error":"#N/A"},{"$error":"#N/A"},{"$error":"#N/A"},{"$error":"#N/A"},{"$error":"#N/A"},{"$error":"#N/A"},{"$error":"#N/A"},{"$error":"#N/A"},{"$error":"#N/A"},{"$error":"#N/A"},{"$error":"#N/A"},{"$error":"#N/A"},{"$error":"#N/A"},{"$error":"#N/A"},{"$error":"#N/A"},{"$error":"#N/A"},{"$error":"#N/A"},{"$error":"#N/A"},{"$error":"#N/A"},{"$error":"#N/A"}]
[null,{"$f":"données!B404","v":"li 401"},{"$error":"#N/A"},{"$error":"#N/A"},{"$error":"#N/A"},{"$error":"#N/A"},{"$error":"#N/A"},{"$error":"#N/A"},{"$error":"#N/A"},{"$error":"#N/A"},{"$error":"#N/A"},{"$error":"#N/A"},{"$error":"#N/A"},{"$error":"#N/A"},{"$error":"#N/A"},{"$error":"#N/A"},{"$error":"#N/A"},{"$error":"#N/A"},{"$error":"#N/A"},{"$error":"#N/A"},{"$error":"#N/A"},{"$error":"#N/A"}]
[null,{"$f":"données!B405","v":"li 402"},{"$error":"#N/A"},{"$error":"#N/A"},{"$error":"#N/A"},{"$error":"#N/A"},{"$error":"#N/A"},{"$error":"#N/A"},{"$error":"#N/A"},{"$error":"#N/A"},{"$error":"#N/A"},{"$error":"#N/A"},{"$error":"#N/A"},{"$error":"#N/A"},{"$error":"#N/A"},{"$error":"#N/A"},{"$error":"#N/A"},{"$error":"#N/A"},{"$error":"#N/A"},{"$error":"#N/A"},{"$error":"#N/A"},{"$error":"#N/A"}]
[null,{"$f":"données!B406","v":"li 403"},{"$error":"#N/A"},{"$error":"#N/A"},{"$error":"#N/A"},{"$error":"#N/A"},{"$error":"#N/A"},{"$error":"#N/A"},{"$error":"#N/A"},{"$error":"#N/A"},{"$error":"#N/A"},{"$error":"#N/A"},{"$error":"#N/A"},{"$error":"#N/A"},{"$error":"#N/A"},{"$error":"#N/A"},{"$error":"#N/A"},{"$error":"#N/A"},{"$error":"#N/A"},{"$error":"#N/A"},{"$error":"#N/A"},{"$error":"#N/A"}]
[null,{"$f":"données!B407","v":"li 404"},{"$error":"#N/A"},{"$error":"#N/A"},{"$error":"#N/A"},{"$error":"#N/A"},{"$error":"#N/A"},{"$error":"#N/A"},{"$error":"#N/A"},{"$error":"#N/A"},{"$error":"#N/A"},{"$error":"#N/A"},{"$error":"#N/A"},{"$error":"#N/A"},{"$error":"#N/A"},{"$error":"#N/A"},{"$error":"#N/A"},{"$error":"#N/A"},{"$error":"#N/A"},{"$error":"#N/A"},{"$error":"#N/A"},{"$error":"#N/A"}]
[null,{"$f":"données!B408","v":"li 405"},{"$error":"#N/A"},{"$error":"#N/A"},{"$error":"#N/A"},{"$error":"#N/A"},{"$error":"#N/A"},{"$error":"#N/A"},{"$error":"#N/A"},{"$error":"#N/A"},{"$error":"#N/A"},{"$error":"#N/A"},{"$error":"#N/A"},{"$error":"#N/A"},{"$error":"#N/A"},{"$error":"#N/A"},{"$error":"#N/A"},{"$error":"#N/A"},{"$error":"#N/A"},{"$error":"#N/A"},{"$error":"#N/A"},{"$error":"#N/A"}]
[null,{"$f":"données!B409","v":"li 406"},{"$error":"#N/A"},{"$error":"#N/A"},{"$error":"#N/A"},{"$error":"#N/A"},{"$error":"#N/A"},{"$error":"#N/A"},{"$error":"#N/A"},{"$error":"#N/A"},{"$error":"#N/A"},{"$error":"#N/A"},{"$error":"#N/A"},{"$error":"#N/A"},{"$error":"#N/A"},{"$error":"#N/A"},{"$error":"#N/A"},{"$error":"#N/A"},{"$error":"#N/A"},{"$error":"#N/A"},{"$error":"#N/A"},{"$error":"#N/A"}]
[null,{"$f":"données!B410","v":"li 407"},{"$error":"#N/A"},{"$error":"#N/A"},{"$error":"#N/A"},{"$error":"#N/A"},{"$error":"#N/A"},{"$error":"#N/A"},{"$error":"#N/A"},{"$error":"#N/A"},{"$error":"#N/A"},{"$error":"#N/A"},{"$error":"#N/A"},{"$error":"#N/A"},{"$error":"#N/A"},{"$error":"#N/A"},{"$error":"#N/A"},{"$error":"#N/A"},{"$error":"#N/A"},{"$error":"#N/A"},{"$error":"#N/A"},{"$error":"#N/A"}]
[null,{"$f":"données!B411","v":"li 408"},{"$error":"#N/A"},{"$error":"#N/A"},{"$error":"#N/A"},{"$error":"#N/A"},{"$error":"#N/A"},{"$error":"#N/A"},{"$error":"#N/A"},{"$error":"#N/A"},{"$error":"#N/A"},{"$error":"#N/A"},{"$error":"#N/A"},{"$error":"#N/A"},{"$error":"#N/A"},{"$error":"#N/A"},{"$error":"#N/A"},{"$error":"#N/A"},{"$error":"#N/A"},{"$error":"#N/A"},{"$error":"#N/A"},{"$error":"#N/A"}]
[null,{"$f":"données!B412","v":"li 409"},{"$error":"#N/A"},{"$error":"#N/A"},{"$error":"#N/A"},{"$error":"#N/A"},{"$error":"#N/A"},{"$error":"#N/A"},{"$error":"#N/A"},{"$error":"#N/A"},{"$error":"#N/A"},{"$error":"#N/A"},{"$error":"#N/A"},{"$error":"#N/A"},{"$error":"#N/A"},{"$error":"#N/A"},{"$error":"#N/A"},{"$error":"#N/A"},{"$error":"#N/A"},{"$error":"#N/A"},{"$error":"#N/A"},{"$error":"#N/A"}]
[null,{"$f":"données!B413","v":"li 410"},{"$error":"#N/A"},{"$error":"#N/A"},{"$error":"#N/A"},{"$error":"#N/A"},{"$error":"#N/A"},{"$error":"#N/A"},{"$error":"#N/A"},{"$error":"#N/A"},{"$error":"#N/A"},{"$error":"#N/A"},{"$error":"#N/A"},{"$error":"#N/A"},{"$error":"#N/A"},{"$error":"#N/A"},{"$error":"#N/A"},{"$error":"#N/A"},{"$error":"#N/A"},{"$error":"#N/A"},{"$error":"#N/A"},{"$error":"#N/A"}]
[null,{"$f":"données!B414","v":"li 411"},{"$error":"#N/A"},{"$error":"#N/A"},{"$error":"#N/A"},{"$error":"#N/A"},{"$error":"#N/A"},{"$error":"#N/A"},{"$error":"#N/A"},{"$error":"#N/A"},{"$error":"#N/A"},{"$error":"#N/A"},{"$error":"#N/A"},{"$error":"#N/A"},{"$error":"#N/A"},{"$error":"#N/A"},{"$error":"#N/A"},{"$error":"#N/A"},{"$error":"#N/A"},{"$error":"#N/A"},{"$error":"#N/A"},{"$error":"#N/A"}]
[null,{"$f":"données!B415","v":"li 412"},{"$error":"#N/A"},{"$error":"#N/A"},{"$error":"#N/A"},{"$error":"#N/A"},{"$error":"#N/A"},{"$error":"#N/A"},{"$error":"#N/A"},{"$error":"#N/A"},{"$error":"#N/A"},{"$error":"#N/A"},{"$error":"#N/A"},{"$error":"#N/A"},{"$error":"#N/A"},{"$error":"#N/A"},{"$error":"#N/A"},{"$error":"#N/A"},{"$error":"#N/A"},{"$error":"#N/A"},{"$error":"#N/A"},{"$error":"#N/A"}]
[null,{"$f":"données!B416","v":"li 413"},{"$error":"#N/A"},{"$error":"#N/A"},{"$error":"#N/A"},{"$error":"#N/A"},{"$error":"#N/A"},{"$error":"#N/A"},{"$error":"#N/A"},{"$error":"#N/A"},{"$error":"#N/A"},{"$error":"#N/A"},{"$error":"#N/A"},{"$error":"#N/A"},{"$error":"#N/A"},{"$error":"#N/A"},{"$error":"#N/A"},{"$error":"#N/A"},{"$error":"#N/A"},{"$error":"#N/A"},{"$error":"#N/A"},{"$error":"#N/A"}]
[null,{"$f":"données!B417","v":"li 414"},{"$error":"#N/A"},{"$error":"#N/A"},{"$error":"#N/A"},{"$error":"#N/A"},{"$error":"#N/A"},{"$error":"#N/A"},{"$error":"#N/A"},{"$error":"#N/A"},{"$error":"#N/A"},{"$error":"#N/A"},{"$error":"#N/A"},{"$error":"#N/A"},{"$error":"#N/A"},{"$error":"#N/A"},{"$error":"#N/A"},{"$error":"#N/A"},{"$error":"#N/A"},{"$error":"#N/A"},{"$error":"#N/A"},{"$error":"#N/A"}]
[null,{"$f":"données!B418","v":"li 415"},{"$error":"#N/A"},{"$error":"#N/A"},{"$error":"#N/A"},{"$error":"#N/A"},{"$error":"#N/A"},{"$error":"#N/A"},{"$error":"#N/A"},{"$error":"#N/A"},{"$error":"#N/A"},{"$error":"#N/A"},{"$error":"#N/A"},{"$error":"#N/A"},{"$error":"#N/A"},{"$error":"#N/A"},{"$error":"#N/A"},{"$error":"#N/A"},{"$error":"#N/A"},{"$error":"#N/A"},{"$error":"#N/A"},{"$error":"#N/A"}]
[null,{"$f":"données!B419","v":"li 416"},{"$error":"#N/A"},{"$error":"#N/A"},{"$error":"#N/A"},{"$error":"#N/A"},{"$error":"#N/A"},{"$error":"#N/A"},{"$error":"#N/A"},{"$error":"#N/A"},{"$error":"#N/A"},{"$error":"#N/A"},{"$error":"#N/A"},{"$error":"#N/A"},{"$error":"#N/A"},{"$error":"#N/A"},{"$error":"#N/A"},{"$error":"#N/A"},{"$error":"#N/A"},{"$error":"#N/A"},{"$error":"#N/A"},{"$error":"#N/A"}]
[null,{"$f":"données!B420","v":"li 417"},{"$error":"#N/A"},{"$error":"#N/A"},{"$error":"#N/A"},{"$error":"#N/A"},{"$error":"#N/A"},{"$error":"#N/A"},{"$error":"#N/A"},{"$error":"#N/A"},{"$error":"#N/A"},{"$error":"#N/A"},{"$error":"#N/A"},{"$error":"#N/A"},{"$error":"#N/A"},{"$error":"#N/A"},{"$error":"#N/A"},{"$error":"#N/A"},{"$error":"#N/A"},{"$error":"#N/A"},{"$error":"#N/A"},{"$error":"#N/A"}]
[null,{"$f":"données!B421","v":"li 418"},{"$error":"#N/A"},{"$error":"#N/A"},{"$error":"#N/A"},{"$error":"#N/A"},{"$error":"#N/A"},{"$error":"#N/A"},{"$error":"#N/A"},{"$error":"#N/A"},{"$error":"#N/A"},{"$error":"#N/A"},{"$error":"#N/A"},{"$error":"#N/A"},{"$error":"#N/A"},{"$error":"#N/A"},{"$error":"#N/A"},{"$error":"#N/A"},{"$error":"#N/A"},{"$error":"#N/A"},{"$error":"#N/A"},{"$error":"#N/A"}]
[null,{"$f":"données!B422","v":"li 419"},{"$error":"#N/A"},{"$error":"#N/A"},{"$error":"#N/A"},{"$error":"#N/A"},{"$error":"#N/A"},{"$error":"#N/A"},{"$error":"#N/A"},{"$error":"#N/A"},{"$error":"#N/A"},{"$error":"#N/A"},{"$error":"#N/A"},{"$error":"#N/A"},{"$error":"#N/A"},{"$error":"#N/A"},{"$error":"#N/A"},{"$error":"#N/A"},{"$error":"#N/A"},{"$error":"#N/A"},{"$error":"#N/A"},{"$error":"#N/A"}]
[null,{"$f":"données!B423","v":"li 420"},{"$error":"#N/A"},{"$error":"#N/A"},{"$error":"#N/A"},{"$error":"#N/A"},{"$error":"#N/A"},{"$error":"#N/A"},{"$error":"#N/A"},{"$error":"#N/A"},{"$error":"#N/A"},{"$error":"#N/A"},{"$error":"#N/A"},{"$error":"#N/A"},{"$error":"#N/A"},{"$error":"#N/A"},{"$error":"#N/A"},{"$error":"#N/A"},{"$error":"#N/A"},{"$error":"#N/A"},{"$error":"#N/A"},{"$error":"#N/A"}]
[null,{"$f":"données!B424","v":"li 421"},{"$error":"#N/A"},{"$error":"#N/A"},{"$error":"#N/A"},{"$error":"#N/A"},{"$error":"#N/A"},{"$error":"#N/A"},{"$error":"#N/A"},{"$error":"#N/A"},{"$error":"#N/A"},{"$error":"#N/A"},{"$error":"#N/A"},{"$error":"#N/A"},{"$error":"#N/A"},{"$error":"#N/A"},{"$error":"#N/A"},{"$error":"#N/A"},{"$error":"#N/A"},{"$error":"#N/A"},{"$error":"#N/A"},{"$error":"#N/A"}]
[null,{"$f":"données!B425","v":"li 422"},{"$error":"#N/A"},{"$error":"#N/A"},{"$error":"#N/A"},{"$error":"#N/A"},{"$error":"#N/A"},{"$error":"#N/A"},{"$error":"#N/A"},{"$error":"#N/A"},{"$error":"#N/A"},{"$error":"#N/A"},{"$error":"#N/A"},{"$error":"#N/A"},{"$error":"#N/A"},{"$error":"#N/A"},{"$error":"#N/A"},{"$error":"#N/A"},{"$error":"#N/A"},{"$error":"#N/A"},{"$error":"#N/A"},{"$error":"#N/A"}]
[null,{"$f":"données!B426","v":"li 423"},{"$error":"#N/A"},{"$error":"#N/A"},{"$error":"#N/A"},{"$error":"#N/A"},{"$error":"#N/A"},{"$error":"#N/A"},{"$error":"#N/A"},{"$error":"#N/A"},{"$error":"#N/A"},{"$error":"#N/A"},{"$error":"#N/A"},{"$error":"#N/A"},{"$error":"#N/A"},{"$error":"#N/A"},{"$error":"#N/A"},{"$error":"#N/A"},{"$error":"#N/A"},{"$error":"#N/A"},{"$error":"#N/A"},{"$error":"#N/A"}]
[null,{"$f":"données!B427","v":"li 424"},{"$error":"#N/A"},{"$error":"#N/A"},{"$error":"#N/A"},{"$error":"#N/A"},{"$error":"#N/A"},{"$error":"#N/A"},{"$error":"#N/A"},{"$error":"#N/A"},{"$error":"#N/A"},{"$error":"#N/A"},{"$error":"#N/A"},{"$error":"#N/A"},{"$error":"#N/A"},{"$error":"#N/A"},{"$error":"#N/A"},{"$error":"#N/A"},{"$error":"#N/A"},{"$error":"#N/A"},{"$error":"#N/A"},{"$error":"#N/A"}]
[null,{"$f":"données!B428","v":"li 425"},{"$error":"#N/A"},{"$error":"#N/A"},{"$error":"#N/A"},{"$error":"#N/A"},{"$error":"#N/A"},{"$error":"#N/A"},{"$error":"#N/A"},{"$error":"#N/A"},{"$error":"#N/A"},{"$error":"#N/A"},{"$error":"#N/A"},{"$error":"#N/A"},{"$error":"#N/A"},{"$error":"#N/A"},{"$error":"#N/A"},{"$error":"#N/A"},{"$error":"#N/A"},{"$error":"#N/A"},{"$error":"#N/A"},{"$error":"#N/A"}]
[null,{"$f":"données!B429","v":"li 426"},{"$error":"#N/A"},{"$error":"#N/A"},{"$error":"#N/A"},{"$error":"#N/A"},{"$error":"#N/A"},{"$error":"#N/A"},{"$error":"#N/A"},{"$error":"#N/A"},{"$error":"#N/A"},{"$error":"#N/A"},{"$error":"#N/A"},{"$error":"#N/A"},{"$error":"#N/A"},{"$error":"#N/A"},{"$error":"#N/A"},{"$error":"#N/A"},{"$error":"#N/A"},{"$error":"#N/A"},{"$error":"#N/A"},{"$error":"#N/A"}]
[null,{"$f":"données!B430","v":"li 427"},{"$error":"#N/A"},{"$error":"#N/A"},{"$error":"#N/A"},{"$error":"#N/A"},{"$error":"#N/A"},{"$error":"#N/A"},{"$error":"#N/A"},{"$error":"#N/A"},{"$error":"#N/A"},{"$error":"#N/A"},{"$error":"#N/A"},{"$error":"#N/A"},{"$error":"#N/A"},{"$error":"#N/A"},{"$error":"#N/A"},{"$error":"#N/A"},{"$error":"#N/A"},{"$error":"#N/A"},{"$error":"#N/A"},{"$error":"#N/A"}]
[null,{"$f":"données!B431","v":"li 428"},{"$error":"#N/A"},{"$error":"#N/A"},{"$error":"#N/A"},{"$error":"#N/A"},{"$error":"#N/A"},{"$error":"#N/A"},{"$error":"#N/A"},{"$error":"#N/A"},{"$error":"#N/A"},{"$error":"#N/A"},{"$error":"#N/A"},{"$error":"#N/A"},{"$error":"#N/A"},{"$error":"#N/A"},{"$error":"#N/A"},{"$error":"#N/A"},{"$error":"#N/A"},{"$error":"#N/A"},{"$error":"#N/A"},{"$error":"#N/A"}]
[null,{"$f":"données!B432","v":"li 429"},{"$error":"#N/A"},{"$error":"#N/A"},{"$error":"#N/A"},{"$error":"#N/A"},{"$error":"#N/A"},{"$error":"#N/A"},{"$error":"#N/A"},{"$error":"#N/A"},{"$error":"#N/A"},{"$error":"#N/A"},{"$error":"#N/A"},{"$error":"#N/A"},{"$error":"#N/A"},{"$error":"#N/A"},{"$error":"#N/A"},{"$error":"#N/A"},{"$error":"#N/A"},{"$error":"#N/A"},{"$error":"#N/A"},{"$error":"#N/A"}]
[null,{"$f":"données!B433","v":"li 430"},{"$error":"#N/A"},{"$error":"#N/A"},{"$error":"#N/A"},{"$error":"#N/A"},{"$error":"#N/A"},{"$error":"#N/A"},{"$error":"#N/A"},{"$error":"#N/A"},{"$error":"#N/A"},{"$error":"#N/A"},{"$error":"#N/A"},{"$error":"#N/A"},{"$error":"#N/A"},{"$error":"#N/A"},{"$error":"#N/A"},{"$error":"#N/A"},{"$error":"#N/A"},{"$error":"#N/A"},{"$error":"#N/A"},{"$error":"#N/A"}]
[null,{"$f":"données!B434","v":"li 431"},{"$error":"#N/A"},{"$error":"#N/A"},{"$error":"#N/A"},{"$error":"#N/A"},{"$error":"#N/A"},{"$error":"#N/A"},{"$error":"#N/A"},{"$error":"#N/A"},{"$error":"#N/A"},{"$error":"#N/A"},{"$error":"#N/A"},{"$error":"#N/A"},{"$error":"#N/A"},{"$error":"#N/A"},{"$error":"#N/A"},{"$error":"#N/A"},{"$error":"#N/A"},{"$error":"#N/A"},{"$error":"#N/A"},{"$error":"#N/A"}]
[null,{"$f":"données!B435","v":"li 432"},{"$error":"#N/A"},{"$error":"#N/A"},{"$error":"#N/A"},{"$error":"#N/A"},{"$error":"#N/A"},{"$error":"#N/A"},{"$error":"#N/A"},{"$error":"#N/A"},{"$error":"#N/A"},{"$error":"#N/A"},{"$error":"#N/A"},{"$error":"#N/A"},{"$error":"#N/A"},{"$error":"#N/A"},{"$error":"#N/A"},{"$error":"#N/A"},{"$error":"#N/A"},{"$error":"#N/A"},{"$error":"#N/A"},{"$error":"#N/A"}]
[null,{"$f":"données!B436","v":"li 433"},{"$error":"#N/A"},{"$error":"#N/A"},{"$error":"#N/A"},{"$error":"#N/A"},{"$error":"#N/A"},{"$error":"#N/A"},{"$error":"#N/A"},{"$error":"#N/A"},{"$error":"#N/A"},{"$error":"#N/A"},{"$error":"#N/A"},{"$error":"#N/A"},{"$error":"#N/A"},{"$error":"#N/A"},{"$error":"#N/A"},{"$error":"#N/A"},{"$error":"#N/A"},{"$error":"#N/A"},{"$error":"#N/A"},{"$error":"#N/A"}]
[null,{"$f":"données!B437","v":"li 434"},{"$error":"#N/A"},{"$error":"#N/A"},{"$error":"#N/A"},{"$error":"#N/A"},{"$error":"#N/A"},{"$error":"#N/A"},{"$error":"#N/A"},{"$error":"#N/A"},{"$error":"#N/A"},{"$error":"#N/A"},{"$error":"#N/A"},{"$error":"#N/A"},{"$error":"#N/A"},{"$error":"#N/A"},{"$error":"#N/A"},{"$error":"#N/A"},{"$error":"#N/A"},{"$error":"#N/A"},{"$error":"#N/A"},{"$error":"#N/A"}]
[null,{"$f":"données!B438","v":"li 435"},{"$error":"#N/A"},{"$error":"#N/A"},{"$error":"#N/A"},{"$error":"#N/A"},{"$error":"#N/A"},{"$error":"#N/A"},{"$error":"#N/A"},{"$error":"#N/A"},{"$error":"#N/A"},{"$error":"#N/A"},{"$error":"#N/A"},{"$error":"#N/A"},{"$error":"#N/A"},{"$error":"#N/A"},{"$error":"#N/A"},{"$error":"#N/A"},{"$error":"#N/A"},{"$error":"#N/A"},{"$error":"#N/A"},{"$error":"#N/A"}]
[null,{"$f":"données!B439","v":"li 436"},{"$error":"#N/A"},{"$error":"#N/A"},{"$error":"#N/A"},{"$error":"#N/A"},{"$error":"#N/A"},{"$error":"#N/A"},{"$error":"#N/A"},{"$error":"#N/A"},{"$error":"#N/A"},{"$error":"#N/A"},{"$error":"#N/A"},{"$error":"#N/A"},{"$error":"#N/A"},{"$error":"#N/A"},{"$error":"#N/A"},{"$error":"#N/A"},{"$error":"#N/A"},{"$error":"#N/A"},{"$error":"#N/A"},{"$error":"#N/A"}]
[null,{"$f":"données!B440","v":"li 437"},{"$error":"#N/A"},{"$error":"#N/A"},{"$error":"#N/A"},{"$error":"#N/A"},{"$error":"#N/A"},{"$error":"#N/A"},{"$error":"#N/A"},{"$error":"#N/A"},{"$error":"#N/A"},{"$error":"#N/A"},{"$error":"#N/A"},{"$error":"#N/A"},{"$error":"#N/A"},{"$error":"#N/A"},{"$error":"#N/A"},{"$error":"#N/A"},{"$error":"#N/A"},{"$error":"#N/A"},{"$error":"#N/A"},{"$error":"#N/A"}]
[null,{"$f":"données!B441","v":"li 438"},{"$error":"#N/A"},{"$error":"#N/A"},{"$error":"#N/A"},{"$error":"#N/A"},{"$error":"#N/A"},{"$error":"#N/A"},{"$error":"#N/A"},{"$error":"#N/A"},{"$error":"#N/A"},{"$error":"#N/A"},{"$error":"#N/A"},{"$error":"#N/A"},{"$error":"#N/A"},{"$error":"#N/A"},{"$error":"#N/A"},{"$error":"#N/A"},{"$error":"#N/A"},{"$error":"#N/A"},{"$error":"#N/A"},{"$error":"#N/A"}]
[null,{"$f":"données!B442","v":"li 439"},{"$error":"#N/A"},{"$error":"#N/A"},{"$error":"#N/A"},{"$error":"#N/A"},{"$error":"#N/A"},{"$error":"#N/A"},{"$error":"#N/A"},{"$error":"#N/A"},{"$error":"#N/A"},{"$error":"#N/A"},{"$error":"#N/A"},{"$error":"#N/A"},{"$error":"#N/A"},{"$error":"#N/A"},{"$error":"#N/A"},{"$error":"#N/A"},{"$error":"#N/A"},{"$error":"#N/A"},{"$error":"#N/A"},{"$error":"#N/A"}]
[null,{"$f":"données!B443","v":"li 440"},{"$error":"#N/A"},{"$error":"#N/A"},{"$error":"#N/A"},{"$error":"#N/A"},{"$error":"#N/A"},{"$error":"#N/A"},{"$error":"#N/A"},{"$error":"#N/A"},{"$error":"#N/A"},{"$error":"#N/A"},{"$error":"#N/A"},{"$error":"#N/A"},{"$error":"#N/A"},{"$error":"#N/A"},{"$error":"#N/A"},{"$error":"#N/A"},{"$error":"#N/A"},{"$error":"#N/A"},{"$error":"#N/A"},{"$error":"#N/A"}]
[null,{"$f":"données!B444","v":"li 441"},{"$error":"#N/A"},{"$error":"#N/A"},{"$error":"#N/A"},{"$error":"#N/A"},{"$error":"#N/A"},{"$error":"#N/A"},{"$error":"#N/A"},{"$error":"#N/A"},{"$error":"#N/A"},{"$error":"#N/A"},{"$error":"#N/A"},{"$error":"#N/A"},{"$error":"#N/A"},{"$error":"#N/A"},{"$error":"#N/A"},{"$error":"#N/A"},{"$error":"#N/A"},{"$error":"#N/A"},{"$error":"#N/A"},{"$error":"#N/A"}]
[null,{"$f":"données!B445","v":"li 442"},{"$error":"#N/A"},{"$error":"#N/A"},{"$error":"#N/A"},{"$error":"#N/A"},{"$error":"#N/A"},{"$error":"#N/A"},{"$error":"#N/A"},{"$error":"#N/A"},{"$error":"#N/A"},{"$error":"#N/A"},{"$error":"#N/A"},{"$error":"#N/A"},{"$error":"#N/A"},{"$error":"#N/A"},{"$error":"#N/A"},{"$error":"#N/A"},{"$error":"#N/A"},{"$error":"#N/A"},{"$error":"#N/A"},{"$error":"#N/A"}]
[null,{"$f":"données!B446","v":"li 443"},{"$error":"#N/A"},{"$error":"#N/A"},{"$error":"#N/A"},{"$error":"#N/A"},{"$error":"#N/A"},{"$error":"#N/A"},{"$error":"#N/A"},{"$error":"#N/A"},{"$error":"#N/A"},{"$error":"#N/A"},{"$error":"#N/A"},{"$error":"#N/A"},{"$error":"#N/A"},{"$error":"#N/A"},{"$error":"#N/A"},{"$error":"#N/A"},{"$error":"#N/A"},{"$error":"#N/A"},{"$error":"#N/A"},{"$error":"#N/A"}]
[null,{"$f":"données!B447","v":"li 444"},{"$error":"#N/A"},{"$error":"#N/A"},{"$error":"#N/A"},{"$error":"#N/A"},{"$error":"#N/A"},{"$error":"#N/A"},{"$error":"#N/A"},{"$error":"#N/A"},{"$error":"#N/A"},{"$error":"#N/A"},{"$error":"#N/A"},{"$error":"#N/A"},{"$error":"#N/A"},{"$error":"#N/A"},{"$error":"#N/A"},{"$error":"#N/A"},{"$error":"#N/A"},{"$error":"#N/A"},{"$error":"#N/A"},{"$error":"#N/A"}]
[null,{"$f":"données!B448","v":"li 445"},{"$error":"#N/A"},{"$error":"#N/A"},{"$error":"#N/A"},{"$error":"#N/A"},{"$error":"#N/A"},{"$error":"#N/A"},{"$error":"#N/A"},{"$error":"#N/A"},{"$error":"#N/A"},{"$error":"#N/A"},{"$error":"#N/A"},{"$error":"#N/A"},{"$error":"#N/A"},{"$error":"#N/A"},{"$error":"#N/A"},{"$error":"#N/A"},{"$error":"#N/A"},{"$error":"#N/A"},{"$error":"#N/A"},{"$error":"#N/A"}]
[null,{"$f":"données!B449","v":"li 446"},{"$error":"#N/A"},{"$error":"#N/A"},{"$error":"#N/A"},{"$error":"#N/A"},{"$error":"#N/A"},{"$error":"#N/A"},{"$error":"#N/A"},{"$error":"#N/A"},{"$error":"#N/A"},{"$error":"#N/A"},{"$error":"#N/A"},{"$error":"#N/A"},{"$error":"#N/A"},{"$error":"#N/A"},{"$error":"#N/A"},{"$error":"#N/A"},{"$error":"#N/A"},{"$error":"#N/A"},{"$error":"#N/A"},{"$error":"#N/A"}]
[null,{"$f":"données!B450","v":"li 447"},{"$error":"#N/A"},{"$error":"#N/A"},{"$error":"#N/A"},{"$error":"#N/A"},{"$error":"#N/A"},{"$error":"#N/A"},{"$error":"#N/A"},{"$error":"#N/A"},{"$error":"#N/A"},{"$error":"#N/A"},{"$error":"#N/A"},{"$error":"#N/A"},{"$error":"#N/A"},{"$error":"#N/A"},{"$error":"#N/A"},{"$error":"#N/A"},{"$error":"#N/A"},{"$error":"#N/A"},{"$error":"#N/A"},{"$error":"#N/A"}]
[null,{"$f":"données!B451","v":"li 448"},{"$error":"#N/A"},{"$error":"#N/A"},{"$error":"#N/A"},{"$error":"#N/A"},{"$error":"#N/A"},{"$error":"#N/A"},{"$error":"#N/A"},{"$error":"#N/A"},{"$error":"#N/A"},{"$error":"#N/A"},{"$error":"#N/A"},{"$error":"#N/A"},{"$error":"#N/A"},{"$error":"#N/A"},{"$error":"#N/A"},{"$error":"#N/A"},{"$error":"#N/A"},{"$error":"#N/A"},{"$error":"#N/A"},{"$error":"#N/A"}]
[null,{"$f":"données!B452","v":"li 449"},{"$error":"#N/A"},{"$error":"#N/A"},{"$error":"#N/A"},{"$error":"#N/A"},{"$error":"#N/A"},{"$error":"#N/A"},{"$error":"#N/A"},{"$error":"#N/A"},{"$error":"#N/A"},{"$error":"#N/A"},{"$error":"#N/A"},{"$error":"#N/A"},{"$error":"#N/A"},{"$error":"#N/A"},{"$error":"#N/A"},{"$error":"#N/A"},{"$error":"#N/A"},{"$error":"#N/A"},{"$error":"#N/A"},{"$error":"#N/A"}]
[null,{"$f":"données!B453","v":"li 450"},{"$error":"#N/A"},{"$error":"#N/A"},{"$error":"#N/A"},{"$error":"#N/A"},{"$error":"#N/A"},{"$error":"#N/A"},{"$error":"#N/A"},{"$error":"#N/A"},{"$error":"#N/A"},{"$error":"#N/A"},{"$error":"#N/A"},{"$error":"#N/A"},{"$error":"#N/A"},{"$error":"#N/A"},{"$error":"#N/A"},{"$error":"#N/A"},{"$error":"#N/A"},{"$error":"#N/A"},{"$error":"#N/A"},{"$error":"#N/A"}]
[null,{"$f":"données!B454","v":"li 451"},{"$error":"#N/A"},{"$error":"#N/A"},{"$error":"#N/A"},{"$error":"#N/A"},{"$error":"#N/A"},{"$error":"#N/A"},{"$error":"#N/A"},{"$error":"#N/A"},{"$error":"#N/A"},{"$error":"#N/A"},{"$error":"#N/A"},{"$error":"#N/A"},{"$error":"#N/A"},{"$error":"#N/A"},{"$error":"#N/A"},{"$error":"#N/A"},{"$error":"#N/A"},{"$error":"#N/A"},{"$error":"#N/A"},{"$error":"#N/A"}]
[null,{"$f":"données!B455","v":"li 452"},{"$error":"#N/A"},{"$error":"#N/A"},{"$error":"#N/A"},{"$error":"#N/A"},{"$error":"#N/A"},{"$error":"#N/A"},{"$error":"#N/A"},{"$error":"#N/A"},{"$error":"#N/A"},{"$error":"#N/A"},{"$error":"#N/A"},{"$error":"#N/A"},{"$error":"#N/A"},{"$error":"#N/A"},{"$error":"#N/A"},{"$error":"#N/A"},{"$error":"#N/A"},{"$error":"#N/A"},{"$error":"#N/A"},{"$error":"#N/A"}]
[null,{"$f":"données!B456","v":"li 453"},{"$error":"#N/A"},{"$error":"#N/A"},{"$error":"#N/A"},{"$error":"#N/A"},{"$error":"#N/A"},{"$error":"#N/A"},{"$error":"#N/A"},{"$error":"#N/A"},{"$error":"#N/A"},{"$error":"#N/A"},{"$error":"#N/A"},{"$error":"#N/A"},{"$error":"#N/A"},{"$error":"#N/A"},{"$error":"#N/A"},{"$error":"#N/A"},{"$error":"#N/A"},{"$error":"#N/A"},{"$error":"#N/A"},{"$error":"#N/A"}]
[null,{"$f":"données!B457","v":"li 454"},{"$error":"#N/A"},{"$error":"#N/A"},{"$error":"#N/A"},{"$error":"#N/A"},{"$error":"#N/A"},{"$error":"#N/A"},{"$error":"#N/A"},{"$error":"#N/A"},{"$error":"#N/A"},{"$error":"#N/A"},{"$error":"#N/A"},{"$error":"#N/A"},{"$error":"#N/A"},{"$error":"#N/A"},{"$error":"#N/A"},{"$error":"#N/A"},{"$error":"#N/A"},{"$error":"#N/A"},{"$error":"#N/A"},{"$error":"#N/A"}]
[null,{"$f":"données!B458","v":"li 455"},{"$error":"#N/A"},{"$error":"#N/A"},{"$error":"#N/A"},{"$error":"#N/A"},{"$error":"#N/A"},{"$error":"#N/A"},{"$error":"#N/A"},{"$error":"#N/A"},{"$error":"#N/A"},{"$error":"#N/A"},{"$error":"#N/A"},{"$error":"#N/A"},{"$error":"#N/A"},{"$error":"#N/A"},{"$error":"#N/A"},{"$error":"#N/A"},{"$error":"#N/A"},{"$error":"#N/A"},{"$error":"#N/A"},{"$error":"#N/A"}]
[null,{"$f":"données!B459","v":"li 456"},{"$error":"#N/A"},{"$error":"#N/A"},{"$error":"#N/A"},{"$error":"#N/A"},{"$error":"#N/A"},{"$error":"#N/A"},{"$error":"#N/A"},{"$error":"#N/A"},{"$error":"#N/A"},{"$error":"#N/A"},{"$error":"#N/A"},{"$error":"#N/A"},{"$error":"#N/A"},{"$error":"#N/A"},{"$error":"#N/A"},{"$error":"#N/A"},{"$error":"#N/A"},{"$error":"#N/A"},{"$error":"#N/A"},{"$error":"#N/A"}]
[null,{"$f":"données!B460","v":"li 457"},{"$error":"#N/A"},{"$error":"#N/A"},{"$error":"#N/A"},{"$error":"#N/A"},{"$error":"#N/A"},{"$error":"#N/A"},{"$error":"#N/A"},{"$error":"#N/A"},{"$error":"#N/A"},{"$error":"#N/A"},{"$error":"#N/A"},{"$error":"#N/A"},{"$error":"#N/A"},{"$error":"#N/A"},{"$error":"#N/A"},{"$error":"#N/A"},{"$error":"#N/A"},{"$error":"#N/A"},{"$error":"#N/A"},{"$error":"#N/A"}]
[null,{"$f":"données!B461","v":"li 458"},{"$error":"#N/A"},{"$error":"#N/A"},{"$error":"#N/A"},{"$error":"#N/A"},{"$error":"#N/A"},{"$error":"#N/A"},{"$error":"#N/A"},{"$error":"#N/A"},{"$error":"#N/A"},{"$error":"#N/A"},{"$error":"#N/A"},{"$error":"#N/A"},{"$error":"#N/A"},{"$error":"#N/A"},{"$error":"#N/A"},{"$error":"#N/A"},{"$error":"#N/A"},{"$error":"#N/A"},{"$error":"#N/A"},{"$error":"#N/A"}]
[null,{"$f":"données!B462","v":"li 459"},{"$error":"#N/A"},{"$error":"#N/A"},{"$error":"#N/A"},{"$error":"#N/A"},{"$error":"#N/A"},{"$error":"#N/A"},{"$error":"#N/A"},{"$error":"#N/A"},{"$error":"#N/A"},{"$error":"#N/A"},{"$error":"#N/A"},{"$error":"#N/A"},{"$error":"#N/A"},{"$error":"#N/A"},{"$error":"#N/A"},{"$error":"#N/A"},{"$error":"#N/A"},{"$error":"#N/A"},{"$error":"#N/A"},{"$error":"#N/A"}]
[null,{"$f":"données!B463","v":"li 460"},{"$error":"#N/A"},{"$error":"#N/A"},{"$error":"#N/A"},{"$error":"#N/A"},{"$error":"#N/A"},{"$error":"#N/A"},{"$error":"#N/A"},{"$error":"#N/A"},{"$error":"#N/A"},{"$error":"#N/A"},{"$error":"#N/A"},{"$error":"#N/A"},{"$error":"#N/A"},{"$error":"#N/A"},{"$error":"#N/A"},{"$error":"#N/A"},{"$error":"#N/A"},{"$error":"#N/A"},{"$error":"#N/A"},{"$error":"#N/A"}]
[null,{"$f":"données!B464","v":"li 461"},{"$error":"#N/A"},{"$error":"#N/A"},{"$error":"#N/A"},{"$error":"#N/A"},{"$error":"#N/A"},{"$error":"#N/A"},{"$error":"#N/A"},{"$error":"#N/A"},{"$error":"#N/A"},{"$error":"#N/A"},{"$error":"#N/A"},{"$error":"#N/A"},{"$error":"#N/A"},{"$error":"#N/A"},{"$error":"#N/A"},{"$error":"#N/A"},{"$error":"#N/A"},{"$error":"#N/A"},{"$error":"#N/A"},{"$error":"#N/A"}]
[null,{"$f":"données!B465","v":"li 462"},{"$error":"#N/A"},{"$error":"#N/A"},{"$error":"#N/A"},{"$error":"#N/A"},{"$error":"#N/A"},{"$error":"#N/A"},{"$error":"#N/A"},{"$error":"#N/A"},{"$error":"#N/A"},{"$error":"#N/A"},{"$error":"#N/A"},{"$error":"#N/A"},{"$error":"#N/A"},{"$error":"#N/A"},{"$error":"#N/A"},{"$error":"#N/A"},{"$error":"#N/A"},{"$error":"#N/A"},{"$error":"#N/A"},{"$error":"#N/A"}]
[null,{"$f":"données!B466","v":"li 463"},{"$error":"#N/A"},{"$error":"#N/A"},{"$error":"#N/A"},{"$error":"#N/A"},{"$error":"#N/A"},{"$error":"#N/A"},{"$error":"#N/A"},{"$error":"#N/A"},{"$error":"#N/A"},{"$error":"#N/A"},{"$error":"#N/A"},{"$error":"#N/A"},{"$error":"#N/A"},{"$error":"#N/A"},{"$error":"#N/A"},{"$error":"#N/A"},{"$error":"#N/A"},{"$error":"#N/A"},{"$error":"#N/A"},{"$error":"#N/A"}]
[null,{"$f":"données!B467","v":"li 464"},{"$error":"#N/A"},{"$error":"#N/A"},{"$error":"#N/A"},{"$error":"#N/A"},{"$error":"#N/A"},{"$error":"#N/A"},{"$error":"#N/A"},{"$error":"#N/A"},{"$error":"#N/A"},{"$error":"#N/A"},{"$error":"#N/A"},{"$error":"#N/A"},{"$error":"#N/A"},{"$error":"#N/A"},{"$error":"#N/A"},{"$error":"#N/A"},{"$error":"#N/A"},{"$error":"#N/A"},{"$error":"#N/A"},{"$error":"#N/A"}]
[null,{"$f":"données!B468","v":"li 465"},{"$error":"#N/A"},{"$error":"#N/A"},{"$error":"#N/A"},{"$error":"#N/A"},{"$error":"#N/A"},{"$error":"#N/A"},{"$error":"#N/A"},{"$error":"#N/A"},{"$error":"#N/A"},{"$error":"#N/A"},{"$error":"#N/A"},{"$error":"#N/A"},{"$error":"#N/A"},{"$error":"#N/A"},{"$error":"#N/A"},{"$error":"#N/A"},{"$error":"#N/A"},{"$error":"#N/A"},{"$error":"#N/A"},{"$error":"#N/A"}]
[null,{"$f":"données!B469","v":"li 466"},{"$error":"#N/A"},{"$error":"#N/A"},{"$error":"#N/A"},{"$error":"#N/A"},{"$error":"#N/A"},{"$error":"#N/A"},{"$error":"#N/A"},{"$error":"#N/A"},{"$error":"#N/A"},{"$error":"#N/A"},{"$error":"#N/A"},{"$error":"#N/A"},{"$error":"#N/A"},{"$error":"#N/A"},{"$error":"#N/A"},{"$error":"#N/A"},{"$error":"#N/A"},{"$error":"#N/A"},{"$error":"#N/A"},{"$error":"#N/A"}]
[null,{"$f":"données!B470","v":"li 467"},{"$error":"#N/A"},{"$error":"#N/A"},{"$error":"#N/A"},{"$error":"#N/A"},{"$error":"#N/A"},{"$error":"#N/A"},{"$error":"#N/A"},{"$error":"#N/A"},{"$error":"#N/A"},{"$error":"#N/A"},{"$error":"#N/A"},{"$error":"#N/A"},{"$error":"#N/A"},{"$error":"#N/A"},{"$error":"#N/A"},{"$error":"#N/A"},{"$error":"#N/A"},{"$error":"#N/A"},{"$error":"#N/A"},{"$error":"#N/A"}]
[null,{"$f":"données!B471","v":"li 468"},{"$error":"#N/A"},{"$error":"#N/A"},{"$error":"#N/A"},{"$error":"#N/A"},{"$error":"#N/A"},{"$error":"#N/A"},{"$error":"#N/A"},{"$error":"#N/A"},{"$error":"#N/A"},{"$error":"#N/A"},{"$error":"#N/A"},{"$error":"#N/A"},{"$error":"#N/A"},{"$error":"#N/A"},{"$error":"#N/A"},{"$error":"#N/A"},{"$error":"#N/A"},{"$error":"#N/A"},{"$error":"#N/A"},{"$error":"#N/A"}]
[null,{"$f":"données!B472","v":"li 469"},{"$error":"#N/A"},{"$error":"#N/A"},{"$error":"#N/A"},{"$error":"#N/A"},{"$error":"#N/A"},{"$error":"#N/A"},{"$error":"#N/A"},{"$error":"#N/A"},{"$error":"#N/A"},{"$error":"#N/A"},{"$error":"#N/A"},{"$error":"#N/A"},{"$error":"#N/A"},{"$error":"#N/A"},{"$error":"#N/A"},{"$error":"#N/A"},{"$error":"#N/A"},{"$error":"#N/A"},{"$error":"#N/A"},{"$error":"#N/A"}]
[null,{"$f":"données!B473","v":"li 470"},{"$error":"#N/A"},{"$error":"#N/A"},{"$error":"#N/A"},{"$error":"#N/A"},{"$error":"#N/A"},{"$error":"#N/A"},{"$error":"#N/A"},{"$error":"#N/A"},{"$error":"#N/A"},{"$error":"#N/A"},{"$error":"#N/A"},{"$error":"#N/A"},{"$error":"#N/A"},{"$error":"#N/A"},{"$error":"#N/A"},{"$error":"#N/A"},{"$error":"#N/A"},{"$error":"#N/A"},{"$error":"#N/A"},{"$error":"#N/A"}]
[null,{"$f":"données!B474","v":"li 471"},{"$error":"#N/A"},{"$error":"#N/A"},{"$error":"#N/A"},{"$error":"#N/A"},{"$error":"#N/A"},{"$error":"#N/A"},{"$error":"#N/A"},{"$error":"#N/A"},{"$error":"#N/A"},{"$error":"#N/A"},{"$error":"#N/A"},{"$error":"#N/A"},{"$error":"#N/A"},{"$error":"#N/A"},{"$error":"#N/A"},{"$error":"#N/A"},{"$error":"#N/A"},{"$error":"#N/A"},{"$error":"#N/A"},{"$error":"#N/A"}]
[null,{"$f":"données!B475","v":"li 472"},{"$error":"#N/A"},{"$error":"#N/A"},{"$error":"#N/A"},{"$error":"#N/A"},{"$error":"#N/A"},{"$error":"#N/A"},{"$error":"#N/A"},{"$error":"#N/A"},{"$error":"#N/A"},{"$error":"#N/A"},{"$error":"#N/A"},{"$error":"#N/A"},{"$error":"#N/A"},{"$error":"#N/A"},{"$error":"#N/A"},{"$error":"#N/A"},{"$error":"#N/A"},{"$error":"#N/A"},{"$error":"#N/A"},{"$error":"#N/A"}]
[null,{"$f":"données!B476","v":"li 473"},{"$error":"#N/A"},{"$error":"#N/A"},{"$error":"#N/A"},{"$error":"#N/A"},{"$error":"#N/A"},{"$error":"#N/A"},{"$error":"#N/A"},{"$error":"#N/A"},{"$error":"#N/A"},{"$error":"#N/A"},{"$error":"#N/A"},{"$error":"#N/A"},{"$error":"#N/A"},{"$error":"#N/A"},{"$error":"#N/A"},{"$error":"#N/A"},{"$error":"#N/A"},{"$error":"#N/A"},{"$error":"#N/A"},{"$error":"#N/A"}]
[null,{"$f":"données!B477","v":"li 474"},{"$error":"#N/A"},{"$error":"#N/A"},{"$error":"#N/A"},{"$error":"#N/A"},{"$error":"#N/A"},{"$error":"#N/A"},{"$error":"#N/A"},{"$error":"#N/A"},{"$error":"#N/A"},{"$error":"#N/A"},{"$error":"#N/A"},{"$error":"#N/A"},{"$error":"#N/A"},{"$error":"#N/A"},{"$error":"#N/A"},{"$error":"#N/A"},{"$error":"#N/A"},{"$error":"#N/A"},{"$error":"#N/A"},{"$error":"#N/A"}]
[null,{"$f":"données!B478","v":"li 475"},{"$error":"#N/A"},{"$error":"#N/A"},{"$error":"#N/A"},{"$error":"#N/A"},{"$error":"#N/A"},{"$error":"#N/A"},{"$error":"#N/A"},{"$error":"#N/A"},{"$error":"#N/A"},{"$error":"#N/A"},{"$error":"#N/A"},{"$error":"#N/A"},{"$error":"#N/A"},{"$error":"#N/A"},{"$error":"#N/A"},{"$error":"#N/A"},{"$error":"#N/A"},{"$error":"#N/A"},{"$error":"#N/A"},{"$error":"#N/A"}]
[null,{"$f":"données!B479","v":"li 476"},{"$error":"#N/A"},{"$error":"#N/A"},{"$error":"#N/A"},{"$error":"#N/A"},{"$error":"#N/A"},{"$error":"#N/A"},{"$error":"#N/A"},{"$error":"#N/A"},{"$error":"#N/A"},{"$error":"#N/A"},{"$error":"#N/A"},{"$error":"#N/A"},{"$error":"#N/A"},{"$error":"#N/A"},{"$error":"#N/A"},{"$error":"#N/A"},{"$error":"#N/A"},{"$error":"#N/A"},{"$error":"#N/A"},{"$error":"#N/A"}]
[null,{"$f":"données!B480","v":"li 477"},{"$error":"#N/A"},{"$error":"#N/A"},{"$error":"#N/A"},{"$error":"#N/A"},{"$error":"#N/A"},{"$error":"#N/A"},{"$error":"#N/A"},{"$error":"#N/A"},{"$error":"#N/A"},{"$error":"#N/A"},{"$error":"#N/A"},{"$error":"#N/A"},{"$error":"#N/A"},{"$error":"#N/A"},{"$error":"#N/A"},{"$error":"#N/A"},{"$error":"#N/A"},{"$error":"#N/A"},{"$error":"#N/A"},{"$error":"#N/A"}]
[null,{"$f":"données!B481","v":"li 478"},{"$error":"#N/A"},{"$error":"#N/A"},{"$error":"#N/A"},{"$error":"#N/A"},{"$error":"#N/A"},{"$error":"#N/A"},{"$error":"#N/A"},{"$error":"#N/A"},{"$error":"#N/A"},{"$error":"#N/A"},{"$error":"#N/A"},{"$error":"#N/A"},{"$error":"#N/A"},{"$error":"#N/A"},{"$error":"#N/A"},{"$error":"#N/A"},{"$error":"#N/A"},{"$error":"#N/A"},{"$error":"#N/A"},{"$error":"#N/A"}]
[null,{"$f":"données!B482","v":"li 479"},{"$error":"#N/A"},{"$error":"#N/A"},{"$error":"#N/A"},{"$error":"#N/A"},{"$error":"#N/A"},{"$error":"#N/A"},{"$error":"#N/A"},{"$error":"#N/A"},{"$error":"#N/A"},{"$error":"#N/A"},{"$error":"#N/A"},{"$error":"#N/A"},{"$error":"#N/A"},{"$error":"#N/A"},{"$error":"#N/A"},{"$error":"#N/A"},{"$error":"#N/A"},{"$error":"#N/A"},{"$error":"#N/A"},{"$error":"#N/A"}]
[null,{"$f":"données!B483","v":"li 480"},{"$error":"#N/A"},{"$error":"#N/A"},{"$error":"#N/A"},{"$error":"#N/A"},{"$error":"#N/A"},{"$error":"#N/A"},{"$error":"#N/A"},{"$error":"#N/A"},{"$error":"#N/A"},{"$error":"#N/A"},{"$error":"#N/A"},{"$error":"#N/A"},{"$error":"#N/A"},{"$error":"#N/A"},{"$error":"#N/A"},{"$error":"#N/A"},{"$error":"#N/A"},{"$error":"#N/A"},{"$error":"#N/A"},{"$error":"#N/A"}]
[null,{"$f":"données!B484","v":"li 481"},{"$error":"#N/A"},{"$error":"#N/A"},{"$error":"#N/A"},{"$error":"#N/A"},{"$error":"#N/A"},{"$error":"#N/A"},{"$error":"#N/A"},{"$error":"#N/A"},{"$error":"#N/A"},{"$error":"#N/A"},{"$error":"#N/A"},{"$error":"#N/A"},{"$error":"#N/A"},{"$error":"#N/A"},{"$error":"#N/A"},{"$error":"#N/A"},{"$error":"#N/A"},{"$error":"#N/A"},{"$error":"#N/A"},{"$error":"#N/A"}]
[null,{"$f":"données!B485","v":"li 482"},{"$error":"#N/A"},{"$error":"#N/A"},{"$error":"#N/A"},{"$error":"#N/A"},{"$error":"#N/A"},{"$error":"#N/A"},{"$error":"#N/A"},{"$error":"#N/A"},{"$error":"#N/A"},{"$error":"#N/A"},{"$error":"#N/A"},{"$error":"#N/A"},{"$error":"#N/A"},{"$error":"#N/A"},{"$error":"#N/A"},{"$error":"#N/A"},{"$error":"#N/A"},{"$error":"#N/A"},{"$error":"#N/A"},{"$error":"#N/A"}]
[null,{"$f":"données!B486","v":"li 483"},{"$error":"#N/A"},{"$error":"#N/A"},{"$error":"#N/A"},{"$error":"#N/A"},{"$error":"#N/A"},{"$error":"#N/A"},{"$error":"#N/A"},{"$error":"#N/A"},{"$error":"#N/A"},{"$error":"#N/A"},{"$error":"#N/A"},{"$error":"#N/A"},{"$error":"#N/A"},{"$error":"#N/A"},{"$error":"#N/A"},{"$error":"#N/A"},{"$error":"#N/A"},{"$error":"#N/A"},{"$error":"#N/A"},{"$error":"#N/A"}]
[null,{"$f":"données!B487","v":"li 484"},{"$error":"#N/A"},{"$error":"#N/A"},{"$error":"#N/A"},{"$error":"#N/A"},{"$error":"#N/A"},{"$error":"#N/A"},{"$error":"#N/A"},{"$error":"#N/A"},{"$error":"#N/A"},{"$error":"#N/A"},{"$error":"#N/A"},{"$error":"#N/A"},{"$error":"#N/A"},{"$error":"#N/A"},{"$error":"#N/A"},{"$error":"#N/A"},{"$error":"#N/A"},{"$error":"#N/A"},{"$error":"#N/A"},{"$error":"#N/A"}]
[null,{"$f":"données!B488","v":"li 485"},{"$error":"#N/A"},{"$error":"#N/A"},{"$error":"#N/A"},{"$error":"#N/A"},{"$error":"#N/A"},{"$error":"#N/A"},{"$error":"#N/A"},{"$error":"#N/A"},{"$error":"#N/A"},{"$error":"#N/A"},{"$error":"#N/A"},{"$error":"#N/A"},{"$error":"#N/A"},{"$error":"#N/A"},{"$error":"#N/A"},{"$error":"#N/A"},{"$error":"#N/A"},{"$error":"#N/A"},{"$error":"#N/A"},{"$error":"#N/A"}]
[null,{"$f":"données!B489","v":"li 486"},{"$error":"#N/A"},{"$error":"#N/A"},{"$error":"#N/A"},{"$error":"#N/A"},{"$error":"#N/A"},{"$error":"#N/A"},{"$error":"#N/A"},{"$error":"#N/A"},{"$error":"#N/A"},{"$error":"#N/A"},{"$error":"#N/A"},{"$error":"#N/A"},{"$error":"#N/A"},{"$error":"#N/A"},{"$error":"#N/A"},{"$error":"#N/A"},{"$error":"#N/A"},{"$error":"#N/A"},{"$error":"#N/A"},{"$error":"#N/A"}]
[null,{"$f":"données!B490","v":"li 487"},{"$error":"#N/A"},{"$error":"#N/A"},{"$error":"#N/A"},{"$error":"#N/A"},{"$error":"#N/A"},{"$error":"#N/A"},{"$error":"#N/A"},{"$error":"#N/A"},{"$error":"#N/A"},{"$error":"#N/A"},{"$error":"#N/A"},{"$error":"#N/A"},{"$error":"#N/A"},{"$error":"#N/A"},{"$error":"#N/A"},{"$error":"#N/A"},{"$error":"#N/A"},{"$error":"#N/A"},{"$error":"#N/A"},{"$error":"#N/A"}]
[null,{"$f":"données!B491","v":"li 488"},{"$error":"#N/A"},{"$error":"#N/A"},{"$error":"#N/A"},{"$error":"#N/A"},{"$error":"#N/A"},{"$error":"#N/A"},{"$error":"#N/A"},{"$error":"#N/A"},{"$error":"#N/A"},{"$error":"#N/A"},{"$error":"#N/A"},{"$error":"#N/A"},{"$error":"#N/A"},{"$error":"#N/A"},{"$error":"#N/A"},{"$error":"#N/A"},{"$error":"#N/A"},{"$error":"#N/A"},{"$error":"#N/A"},{"$error":"#N/A"}]
[null,{"$f":"données!B492","v":"li 489"},{"$error":"#N/A"},{"$error":"#N/A"},{"$error":"#N/A"},{"$error":"#N/A"},{"$error":"#N/A"},{"$error":"#N/A"},{"$error":"#N/A"},{"$error":"#N/A"},{"$error":"#N/A"},{"$error":"#N/A"},{"$error":"#N/A"},{"$error":"#N/A"},{"$error":"#N/A"},{"$error":"#N/A"},{"$error":"#N/A"},{"$error":"#N/A"},{"$error":"#N/A"},{"$error":"#N/A"},{"$error":"#N/A"},{"$error":"#N/A"}]
[null,{"$f":"données!B493","v":"li 490"},{"$error":"#N/A"},{"$error":"#N/A"},{"$error":"#N/A"},{"$error":"#N/A"},{"$error":"#N/A"},{"$error":"#N/A"},{"$error":"#N/A"},{"$error":"#N/A"},{"$error":"#N/A"},{"$error":"#N/A"},{"$error":"#N/A"},{"$error":"#N/A"},{"$error":"#N/A"},{"$error":"#N/A"},{"$error":"#N/A"},{"$error":"#N/A"},{"$error":"#N/A"},{"$error":"#N/A"},{"$error":"#N/A"},{"$error":"#N/A"}]
[null,{"$f":"données!B494","v":"li 491"},{"$error":"#N/A"},{"$error":"#N/A"},{"$error":"#N/A"},{"$error":"#N/A"},{"$error":"#N/A"},{"$error":"#N/A"},{"$error":"#N/A"},{"$error":"#N/A"},{"$error":"#N/A"},{"$error":"#N/A"},{"$error":"#N/A"},{"$error":"#N/A"},{"$error":"#N/A"},{"$error":"#N/A"},{"$error":"#N/A"},{"$error":"#N/A"},{"$error":"#N/A"},{"$error":"#N/A"},{"$error":"#N/A"},{"$error":"#N/A"}]
[null,{"$f":"données!B495","v":"li 492"},{"$error":"#N/A"},{"$error":"#N/A"},{"$error":"#N/A"},{"$error":"#N/A"},{"$error":"#N/A"},{"$error":"#N/A"},{"$error":"#N/A"},{"$error":"#N/A"},{"$error":"#N/A"},{"$error":"#N/A"},{"$error":"#N/A"},{"$error":"#N/A"},{"$error":"#N/A"},{"$error":"#N/A"},{"$error":"#N/A"},{"$error":"#N/A"},{"$error":"#N/A"},{"$error":"#N/A"},{"$error":"#N/A"},{"$error":"#N/A"}]
[null,{"$f":"données!B496","v":"li 493"},{"$error":"#N/A"},{"$error":"#N/A"},{"$error":"#N/A"},{"$error":"#N/A"},{"$error":"#N/A"},{"$error":"#N/A"},{"$error":"#N/A"},{"$error":"#N/A"},{"$error":"#N/A"},{"$error":"#N/A"},{"$error":"#N/A"},{"$error":"#N/A"},{"$error":"#N/A"},{"$error":"#N/A"},{"$error":"#N/A"},{"$error":"#N/A"},{"$error":"#N/A"},{"$error":"#N/A"},{"$error":"#N/A"},{"$error":"#N/A"}]
[null,{"$f":"données!B497","v":"li 494"},{"$error":"#N/A"},{"$error":"#N/A"},{"$error":"#N/A"},{"$error":"#N/A"},{"$error":"#N/A"},{"$error":"#N/A"},{"$error":"#N/A"},{"$error":"#N/A"},{"$error":"#N/A"},{"$error":"#N/A"},{"$error":"#N/A"},{"$error":"#N/A"},{"$error":"#N/A"},{"$error":"#N/A"},{"$error":"#N/A"},{"$error":"#N/A"},{"$error":"#N/A"},{"$error":"#N/A"},{"$error":"#N/A"},{"$error":"#N/A"}]
[null,{"$f":"données!B498","v":"li 495"},{"$error":"#N/A"},{"$error":"#N/A"},{"$error":"#N/A"},{"$error":"#N/A"},{"$error":"#N/A"},{"$error":"#N/A"},{"$error":"#N/A"},{"$error":"#N/A"},{"$error":"#N/A"},{"$error":"#N/A"},{"$error":"#N/A"},{"$error":"#N/A"},{"$error":"#N/A"},{"$error":"#N/A"},{"$error":"#N/A"},{"$error":"#N/A"},{"$error":"#N/A"},{"$error":"#N/A"},{"$error":"#N/A"},{"$error":"#N/A"}]
[null,{"$f":"données!B499","v":"li 496"},{"$error":"#N/A"},{"$error":"#N/A"},{"$error":"#N/A"},{"$error":"#N/A"},{"$error":"#N/A"},{"$error":"#N/A"},{"$error":"#N/A"},{"$error":"#N/A"},{"$error":"#N/A"},{"$error":"#N/A"},{"$error":"#N/A"},{"$error":"#N/A"},{"$error":"#N/A"},{"$error":"#N/A"},{"$error":"#N/A"},{"$error":"#N/A"},{"$error":"#N/A"},{"$error":"#N/A"},{"$error":"#N/A"},{"$error":"#N/A"}]
[null,{"$f":"données!B500","v":"li 497"},{"$error":"#N/A"},{"$error":"#N/A"},{"$error":"#N/A"},{"$error":"#N/A"},{"$error":"#N/A"},{"$error":"#N/A"},{"$error":"#N/A"},{"$error":"#N/A"},{"$error":"#N/A"},{"$error":"#N/A"},{"$error":"#N/A"},{"$error":"#N/A"},{"$error":"#N/A"},{"$error":"#N/A"},{"$error":"#N/A"},{"$error":"#N/A"},{"$error":"#N/A"},{"$error":"#N/A"},{"$error":"#N/A"},{"$error":"#N/A"}]
[null,{"$f":"données!B501","v":"li 498"},{"$error":"#N/A"},{"$error":"#N/A"},{"$error":"#N/A"},{"$error":"#N/A"},{"$error":"#N/A"},{"$error":"#N/A"},{"$error":"#N/A"},{"$error":"#N/A"},{"$error":"#N/A"},{"$error":"#N/A"},{"$error":"#N/A"},{"$error":"#N/A"},{"$error":"#N/A"},{"$error":"#N/A"},{"$error":"#N/A"},{"$error":"#N/A"},{"$error":"#N/A"},{"$error":"#N/A"},{"$error":"#N/A"},{"$error":"#N/A"}]
[null,{"$f":"données!B502","v":"li 499"},{"$error":"#N/A"},{"$error":"#N/A"},{"$error":"#N/A"},{"$error":"#N/A"},{"$error":"#N/A"},{"$error":"#N/A"},{"$error":"#N/A"},{"$error":"#N/A"},{"$error":"#N/A"},{"$error":"#N/A"},{"$error":"#N/A"},{"$error":"#N/A"},{"$error":"#N/A"},{"$error":"#N/A"},{"$error":"#N/A"},{"$error":"#N/A"},{"$error":"#N/A"},{"$error":"#N/A"},{"$error":"#N/A"},{"$error":"#N/A"}]
[null,{"$f":"données!B503","v":"li 500"},{"$error":"#N/A"},{"$error":"#N/A"},{"$error":"#N/A"},{"$error":"#N/A"},{"$error":"#N/A"},{"$error":"#N/A"},{"$error":"#N/A"},{"$error":"#N/A"},{"$error":"#N/A"},{"$error":"#N/A"},{"$error":"#N/A"},{"$error":"#N/A"},{"$error":"#N/A"},{"$error":"#N/A"},{"$error":"#N/A"},{"$error":"#N/A"},{"$error":"#N/A"},{"$error":"#N/A"},{"$error":"#N/A"},{"$error":"#N/A"}]
[null,{"$f":"données!B504","v":"li 501"},{"$error":"#N/A"},{"$error":"#N/A"},{"$error":"#N/A"},{"$error":"#N/A"},{"$error":"#N/A"},{"$error":"#N/A"},{"$error":"#N/A"},{"$error":"#N/A"},{"$error":"#N/A"},{"$error":"#N/A"},{"$error":"#N/A"},{"$error":"#N/A"},{"$error":"#N/A"},{"$error":"#N/A"},{"$error":"#N/A"},{"$error":"#N/A"},{"$error":"#N/A"},{"$error":"#N/A"},{"$error":"#N/A"},{"$error":"#N/A"}]
[null,{"$f":"données!B505","v":"li 502"},{"$error":"#N/A"},{"$error":"#N/A"},{"$error":"#N/A"},{"$error":"#N/A"},{"$error":"#N/A"},{"$error":"#N/A"},{"$error":"#N/A"},{"$error":"#N/A"},{"$error":"#N/A"},{"$error":"#N/A"},{"$error":"#N/A"},{"$error":"#N/A"},{"$error":"#N/A"},{"$error":"#N/A"},{"$error":"#N/A"},{"$error":"#N/A"},{"$error":"#N/A"},{"$error":"#N/A"},{"$error":"#N/A"},{"$error":"#N/A"}]
[null,{"$f":"données!B506","v":"li 503"},{"$error":"#N/A"},{"$error":"#N/A"},{"$error":"#N/A"},{"$error":"#N/A"},{"$error":"#N/A"},{"$error":"#N/A"},{"$error":"#N/A"},{"$error":"#N/A"},{"$error":"#N/A"},{"$error":"#N/A"},{"$error":"#N/A"},{"$error":"#N/A"},{"$error":"#N/A"},{"$error":"#N/A"},{"$error":"#N/A"},{"$error":"#N/A"},{"$error":"#N/A"},{"$error":"#N/A"},{"$error":"#N/A"},{"$error":"#N/A"}]
[null,{"$f":"données!B507","v":"li 504"},{"$error":"#N/A"},{"$error":"#N/A"},{"$error":"#N/A"},{"$error":"#N/A"},{"$error":"#N/A"},{"$error":"#N/A"},{"$error":"#N/A"},{"$error":"#N/A"},{"$error":"#N/A"},{"$error":"#N/A"},{"$error":"#N/A"},{"$error":"#N/A"},{"$error":"#N/A"},{"$error":"#N/A"},{"$error":"#N/A"},{"$error":"#N/A"},{"$error":"#N/A"},{"$error":"#N/A"},{"$error":"#N/A"},{"$error":"#N/A"}]
[null,{"$f":"données!B508","v":"li 505"},{"$error":"#N/A"},{"$error":"#N/A"},{"$error":"#N/A"},{"$error":"#N/A"},{"$error":"#N/A"},{"$error":"#N/A"},{"$error":"#N/A"},{"$error":"#N/A"},{"$error":"#N/A"},{"$error":"#N/A"},{"$error":"#N/A"},{"$error":"#N/A"},{"$error":"#N/A"},{"$error":"#N/A"},{"$error":"#N/A"},{"$error":"#N/A"},{"$error":"#N/A"},{"$error":"#N/A"},{"$error":"#N/A"},{"$error":"#N/A"}]
[null,{"$f":"données!B509","v":"li 506"},{"$error":"#N/A"},{"$error":"#N/A"},{"$error":"#N/A"},{"$error":"#N/A"},{"$error":"#N/A"},{"$error":"#N/A"},{"$error":"#N/A"},{"$error":"#N/A"},{"$error":"#N/A"},{"$error":"#N/A"},{"$error":"#N/A"},{"$error":"#N/A"},{"$error":"#N/A"},{"$error":"#N/A"},{"$error":"#N/A"},{"$error":"#N/A"},{"$error":"#N/A"},{"$error":"#N/A"},{"$error":"#N/A"},{"$error":"#N/A"}]
[null,{"$f":"données!B510","v":"li 507"},{"$error":"#N/A"},{"$error":"#N/A"},{"$error":"#N/A"},{"$error":"#N/A"},{"$error":"#N/A"},{"$error":"#N/A"},{"$error":"#N/A"},{"$error":"#N/A"},{"$error":"#N/A"},{"$error":"#N/A"},{"$error":"#N/A"},{"$error":"#N/A"},{"$error":"#N/A"},{"$error":"#N/A"},{"$error":"#N/A"},{"$error":"#N/A"},{"$error":"#N/A"},{"$error":"#N/A"},{"$error":"#N/A"},{"$error":"#N/A"}]
[null,{"$f":"données!B511","v":"li 508"},{"$error":"#N/A"},{"$error":"#N/A"},{"$error":"#N/A"},{"$error":"#N/A"},{"$error":"#N/A"},{"$error":"#N/A"},{"$error":"#N/A"},{"$error":"#N/A"},{"$error":"#N/A"},{"$error":"#N/A"},{"$error":"#N/A"},{"$error":"#N/A"},{"$error":"#N/A"},{"$error":"#N/A"},{"$error":"#N/A"},{"$error":"#N/A"},{"$error":"#N/A"},{"$error":"#N/A"},{"$error":"#N/A"},{"$error":"#N/A"}]
[null,{"$f":"données!B512","v":"li 509"},{"$error":"#N/A"},{"$error":"#N/A"},{"$error":"#N/A"},{"$error":"#N/A"},{"$error":"#N/A"},{"$error":"#N/A"},{"$error":"#N/A"},{"$error":"#N/A"},{"$error":"#N/A"},{"$error":"#N/A"},{"$error":"#N/A"},{"$error":"#N/A"},{"$error":"#N/A"},{"$error":"#N/A"},{"$error":"#N/A"},{"$error":"#N/A"},{"$error":"#N/A"},{"$error":"#N/A"},{"$error":"#N/A"},{"$error":"#N/A"}]
[null,{"$f":"données!B513","v":"li 510"},{"$error":"#N/A"},{"$error":"#N/A"},{"$error":"#N/A"},{"$error":"#N/A"},{"$error":"#N/A"},{"$error":"#N/A"},{"$error":"#N/A"},{"$error":"#N/A"},{"$error":"#N/A"},{"$error":"#N/A"},{"$error":"#N/A"},{"$error":"#N/A"},{"$error":"#N/A"},{"$error":"#N/A"},{"$error":"#N/A"},{"$error":"#N/A"},{"$error":"#N/A"},{"$error":"#N/A"},{"$error":"#N/A"},{"$error":"#N/A"}]
[null,{"$f":"données!B514","v":"li 511"},{"$error":"#N/A"},{"$error":"#N/A"},{"$error":"#N/A"},{"$error":"#N/A"},{"$error":"#N/A"},{"$error":"#N/A"},{"$error":"#N/A"},{"$error":"#N/A"},{"$error":"#N/A"},{"$error":"#N/A"},{"$error":"#N/A"},{"$error":"#N/A"},{"$error":"#N/A"},{"$error":"#N/A"},{"$error":"#N/A"},{"$error":"#N/A"},{"$error":"#N/A"},{"$error":"#N/A"},{"$error":"#N/A"},{"$error":"#N/A"}]
[null,{"$f":"données!B515","v":"li 512"},{"$error":"#N/A"},{"$error":"#N/A"},{"$error":"#N/A"},{"$error":"#N/A"},{"$error":"#N/A"},{"$error":"#N/A"},{"$error":"#N/A"},{"$error":"#N/A"},{"$error":"#N/A"},{"$error":"#N/A"},{"$error":"#N/A"},{"$error":"#N/A"},{"$error":"#N/A"},{"$error":"#N/A"},{"$error":"#N/A"},{"$error":"#N/A"},{"$error":"#N/A"},{"$error":"#N/A"},{"$error":"#N/A"},{"$error":"#N/A"}]
[null,{"$f":"données!B516","v":"li 513"},{"$error":"#N/A"},{"$error":"#N/A"},{"$error":"#N/A"},{"$error":"#N/A"},{"$error":"#N/A"},{"$error":"#N/A"},{"$error":"#N/A"},{"$error":"#N/A"},{"$error":"#N/A"},{"$error":"#N/A"},{"$error":"#N/A"},{"$error":"#N/A"},{"$error":"#N/A"},{"$error":"#N/A"},{"$error":"#N/A"},{"$error":"#N/A"},{"$error":"#N/A"},{"$error":"#N/A"},{"$error":"#N/A"},{"$error":"#N/A"}]
[null,{"$f":"données!B517","v":"li 514"},{"$error":"#N/A"},{"$error":"#N/A"},{"$error":"#N/A"},{"$error":"#N/A"},{"$error":"#N/A"},{"$error":"#N/A"},{"$error":"#N/A"},{"$error":"#N/A"},{"$error":"#N/A"},{"$error":"#N/A"},{"$error":"#N/A"},{"$error":"#N/A"},{"$error":"#N/A"},{"$error":"#N/A"},{"$error":"#N/A"},{"$error":"#N/A"},{"$error":"#N/A"},{"$error":"#N/A"},{"$error":"#N/A"},{"$error":"#N/A"}]
[null,{"$f":"données!B518","v":"li 515"},{"$error":"#N/A"},{"$error":"#N/A"},{"$error":"#N/A"},{"$error":"#N/A"},{"$error":"#N/A"},{"$error":"#N/A"},{"$error":"#N/A"},{"$error":"#N/A"},{"$error":"#N/A"},{"$error":"#N/A"},{"$error":"#N/A"},{"$error":"#N/A"},{"$error":"#N/A"},{"$error":"#N/A"},{"$error":"#N/A"},{"$error":"#N/A"},{"$error":"#N/A"},{"$error":"#N/A"},{"$error":"#N/A"},{"$error":"#N/A"}]
[null,{"$f":"données!B519","v":"li 516"},{"$error":"#N/A"},{"$error":"#N/A"},{"$error":"#N/A"},{"$error":"#N/A"},{"$error":"#N/A"},{"$error":"#N/A"},{"$error":"#N/A"},{"$error":"#N/A"},{"$error":"#N/A"},{"$error":"#N/A"},{"$error":"#N/A"},{"$error":"#N/A"},{"$error":"#N/A"},{"$error":"#N/A"},{"$error":"#N/A"},{"$error":"#N/A"},{"$error":"#N/A"},{"$error":"#N/A"},{"$error":"#N/A"},{"$error":"#N/A"}]
[null,{"$f":"données!B520","v":"li 517"},{"$error":"#N/A"},{"$error":"#N/A"},{"$error":"#N/A"},{"$error":"#N/A"},{"$error":"#N/A"},{"$error":"#N/A"},{"$error":"#N/A"},{"$error":"#N/A"},{"$error":"#N/A"},{"$error":"#N/A"},{"$error":"#N/A"},{"$error":"#N/A"},{"$error":"#N/A"},{"$error":"#N/A"},{"$error":"#N/A"},{"$error":"#N/A"},{"$error":"#N/A"},{"$error":"#N/A"},{"$error":"#N/A"},{"$error":"#N/A"}]
[null,{"$f":"données!B521","v":"li 518"},{"$error":"#N/A"},{"$error":"#N/A"},{"$error":"#N/A"},{"$error":"#N/A"},{"$error":"#N/A"},{"$error":"#N/A"},{"$error":"#N/A"},{"$error":"#N/A"},{"$error":"#N/A"},{"$error":"#N/A"},{"$error":"#N/A"},{"$error":"#N/A"},{"$error":"#N/A"},{"$error":"#N/A"},{"$error":"#N/A"},{"$error":"#N/A"},{"$error":"#N/A"},{"$error":"#N/A"},{"$error":"#N/A"},{"$error":"#N/A"}]
[null,{"$f":"données!B522","v":"li 519"},{"$error":"#N/A"},{"$error":"#N/A"},{"$error":"#N/A"},{"$error":"#N/A"},{"$error":"#N/A"},{"$error":"#N/A"},{"$error":"#N/A"},{"$error":"#N/A"},{"$error":"#N/A"},{"$error":"#N/A"},{"$error":"#N/A"},{"$error":"#N/A"},{"$error":"#N/A"},{"$error":"#N/A"},{"$error":"#N/A"},{"$error":"#N/A"},{"$error":"#N/A"},{"$error":"#N/A"},{"$error":"#N/A"},{"$error":"#N/A"}]
[null,{"$f":"données!B523","v":"li 520"},{"$error":"#N/A"},{"$error":"#N/A"},{"$error":"#N/A"},{"$error":"#N/A"},{"$error":"#N/A"},{"$error":"#N/A"},{"$error":"#N/A"},{"$error":"#N/A"},{"$error":"#N/A"},{"$error":"#N/A"},{"$error":"#N/A"},{"$error":"#N/A"},{"$error":"#N/A"},{"$error":"#N/A"},{"$error":"#N/A"},{"$error":"#N/A"},{"$error":"#N/A"},{"$error":"#N/A"},{"$error":"#N/A"},{"$error":"#N/A"}]
[null,{"$f":"données!B524","v":"li 521"},{"$error":"#N/A"},{"$error":"#N/A"},{"$error":"#N/A"},{"$error":"#N/A"},{"$error":"#N/A"},{"$error":"#N/A"},{"$error":"#N/A"},{"$error":"#N/A"},{"$error":"#N/A"},{"$error":"#N/A"},{"$error":"#N/A"},{"$error":"#N/A"},{"$error":"#N/A"},{"$error":"#N/A"},{"$error":"#N/A"},{"$error":"#N/A"},{"$error":"#N/A"},{"$error":"#N/A"},{"$error":"#N/A"},{"$error":"#N/A"}]
[null,{"$f":"données!B525","v":"li 522"},{"$error":"#N/A"},{"$error":"#N/A"},{"$error":"#N/A"},{"$error":"#N/A"},{"$error":"#N/A"},{"$error":"#N/A"},{"$error":"#N/A"},{"$error":"#N/A"},{"$error":"#N/A"},{"$error":"#N/A"},{"$error":"#N/A"},{"$error":"#N/A"},{"$error":"#N/A"},{"$error":"#N/A"},{"$error":"#N/A"},{"$error":"#N/A"},{"$error":"#N/A"},{"$error":"#N/A"},{"$error":"#N/A"},{"$error":"#N/A"}]
[null,{"$f":"données!B526","v":"li 523"},{"$error":"#N/A"},{"$error":"#N/A"},{"$error":"#N/A"},{"$error":"#N/A"},{"$error":"#N/A"},{"$error":"#N/A"},{"$error":"#N/A"},{"$error":"#N/A"},{"$error":"#N/A"},{"$error":"#N/A"},{"$error":"#N/A"},{"$error":"#N/A"},{"$error":"#N/A"},{"$error":"#N/A"},{"$error":"#N/A"},{"$error":"#N/A"},{"$error":"#N/A"},{"$error":"#N/A"},{"$error":"#N/A"},{"$error":"#N/A"}]
[null,{"$f":"données!B527","v":"li 524"},{"$error":"#N/A"},{"$error":"#N/A"},{"$error":"#N/A"},{"$error":"#N/A"},{"$error":"#N/A"},{"$error":"#N/A"},{"$error":"#N/A"},{"$error":"#N/A"},{"$error":"#N/A"},{"$error":"#N/A"},{"$error":"#N/A"},{"$error":"#N/A"},{"$error":"#N/A"},{"$error":"#N/A"},{"$error":"#N/A"},{"$error":"#N/A"},{"$error":"#N/A"},{"$error":"#N/A"},{"$error":"#N/A"},{"$error":"#N/A"}]
[null,{"$f":"données!B528","v":"li 525"},{"$error":"#N/A"},{"$error":"#N/A"},{"$error":"#N/A"},{"$error":"#N/A"},{"$error":"#N/A"},{"$error":"#N/A"},{"$error":"#N/A"},{"$error":"#N/A"},{"$error":"#N/A"},{"$error":"#N/A"},{"$error":"#N/A"},{"$error":"#N/A"},{"$error":"#N/A"},{"$error":"#N/A"},{"$error":"#N/A"},{"$error":"#N/A"},{"$error":"#N/A"},{"$error":"#N/A"},{"$error":"#N/A"},{"$error":"#N/A"}]
[null,{"$f":"données!B529","v":"li 526"},{"$error":"#N/A"},{"$error":"#N/A"},{"$error":"#N/A"},{"$error":"#N/A"},{"$error":"#N/A"},{"$error":"#N/A"},{"$error":"#N/A"},{"$error":"#N/A"},{"$error":"#N/A"},{"$error":"#N/A"},{"$error":"#N/A"},{"$error":"#N/A"},{"$error":"#N/A"},{"$error":"#N/A"},{"$error":"#N/A"},{"$error":"#N/A"},{"$error":"#N/A"},{"$error":"#N/A"},{"$error":"#N/A"},{"$error":"#N/A"}]
[null,{"$f":"données!B530","v":"li 527"},{"$error":"#N/A"},{"$error":"#N/A"},{"$error":"#N/A"},{"$error":"#N/A"},{"$error":"#N/A"},{"$error":"#N/A"},{"$error":"#N/A"},{"$error":"#N/A"},{"$error":"#N/A"},{"$error":"#N/A"},{"$error":"#N/A"},{"$error":"#N/A"},{"$error":"#N/A"},{"$error":"#N/A"},{"$error":"#N/A"},{"$error":"#N/A"},{"$error":"#N/A"},{"$error":"#N/A"},{"$error":"#N/A"},{"$error":"#N/A"}]
[null,{"$f":"données!B531","v":"li 528"},{"$error":"#N/A"},{"$error":"#N/A"},{"$error":"#N/A"},{"$error":"#N/A"},{"$error":"#N/A"},{"$error":"#N/A"},{"$error":"#N/A"},{"$error":"#N/A"},{"$error":"#N/A"},{"$error":"#N/A"},{"$error":"#N/A"},{"$error":"#N/A"},{"$error":"#N/A"},{"$error":"#N/A"},{"$error":"#N/A"},{"$error":"#N/A"},{"$error":"#N/A"},{"$error":"#N/A"},{"$error":"#N/A"},{"$error":"#N/A"}]
[null,{"$f":"données!B532","v":"li 529"},{"$error":"#N/A"},{"$error":"#N/A"},{"$error":"#N/A"},{"$error":"#N/A"},{"$error":"#N/A"},{"$error":"#N/A"},{"$error":"#N/A"},{"$error":"#N/A"},{"$error":"#N/A"},{"$error":"#N/A"},{"$error":"#N/A"},{"$error":"#N/A"},{"$error":"#N/A"},{"$error":"#N/A"},{"$error":"#N/A"},{"$error":"#N/A"},{"$error":"#N/A"},{"$error":"#N/A"},{"$error":"#N/A"},{"$error":"#N/A"}]
[null,{"$f":"données!B533","v":"li 530"},{"$error":"#N/A"},{"$error":"#N/A"},{"$error":"#N/A"},{"$error":"#N/A"},{"$error":"#N/A"},{"$error":"#N/A"},{"$error":"#N/A"},{"$error":"#N/A"},{"$error":"#N/A"},{"$error":"#N/A"},{"$error":"#N/A"},{"$error":"#N/A"},{"$error":"#N/A"},{"$error":"#N/A"},{"$error":"#N/A"},{"$error":"#N/A"},{"$error":"#N/A"},{"$error":"#N/A"},{"$error":"#N/A"},{"$error":"#N/A"}]
[null,{"$f":"données!B534","v":"li 531"},{"$error":"#N/A"},{"$error":"#N/A"},{"$error":"#N/A"},{"$error":"#N/A"},{"$error":"#N/A"},{"$error":"#N/A"},{"$error":"#N/A"},{"$error":"#N/A"},{"$error":"#N/A"},{"$error":"#N/A"},{"$error":"#N/A"},{"$error":"#N/A"},{"$error":"#N/A"},{"$error":"#N/A"},{"$error":"#N/A"},{"$error":"#N/A"},{"$error":"#N/A"},{"$error":"#N/A"},{"$error":"#N/A"},{"$error":"#N/A"}]
[null,{"$f":"données!B535","v":"li 532"},{"$error":"#N/A"},{"$error":"#N/A"},{"$error":"#N/A"},{"$error":"#N/A"},{"$error":"#N/A"},{"$error":"#N/A"},{"$error":"#N/A"},{"$error":"#N/A"},{"$error":"#N/A"},{"$error":"#N/A"},{"$error":"#N/A"},{"$error":"#N/A"},{"$error":"#N/A"},{"$error":"#N/A"},{"$error":"#N/A"},{"$error":"#N/A"},{"$error":"#N/A"},{"$error":"#N/A"},{"$error":"#N/A"},{"$error":"#N/A"}]
[null,{"$f":"données!B536","v":"li 533"},{"$error":"#N/A"},{"$error":"#N/A"},{"$error":"#N/A"},{"$error":"#N/A"},{"$error":"#N/A"},{"$error":"#N/A"},{"$error":"#N/A"},{"$error":"#N/A"},{"$error":"#N/A"},{"$error":"#N/A"},{"$error":"#N/A"},{"$error":"#N/A"},{"$error":"#N/A"},{"$error":"#N/A"},{"$error":"#N/A"},{"$error":"#N/A"},{"$error":"#N/A"},{"$error":"#N/A"},{"$error":"#N/A"},{"$error":"#N/A"}]
[null,{"$f":"données!B537","v":"li 534"},{"$error":"#N/A"},{"$error":"#N/A"},{"$error":"#N/A"},{"$error":"#N/A"},{"$error":"#N/A"},{"$error":"#N/A"},{"$error":"#N/A"},{"$error":"#N/A"},{"$error":"#N/A"},{"$error":"#N/A"},{"$error":"#N/A"},{"$error":"#N/A"},{"$error":"#N/A"},{"$error":"#N/A"},{"$error":"#N/A"},{"$error":"#N/A"},{"$error":"#N/A"},{"$error":"#N/A"},{"$error":"#N/A"},{"$error":"#N/A"}]
[null,{"$f":"données!B538","v":"li 535"},{"$error":"#N/A"},{"$error":"#N/A"},{"$error":"#N/A"},{"$error":"#N/A"},{"$error":"#N/A"},{"$error":"#N/A"},{"$error":"#N/A"},{"$error":"#N/A"},{"$error":"#N/A"},{"$error":"#N/A"},{"$error":"#N/A"},{"$error":"#N/A"},{"$error":"#N/A"},{"$error":"#N/A"},{"$error":"#N/A"},{"$error":"#N/A"},{"$error":"#N/A"},{"$error":"#N/A"},{"$error":"#N/A"},{"$error":"#N/A"}]
[null,{"$f":"données!B539","v":"li 536"},{"$error":"#N/A"},{"$error":"#N/A"},{"$error":"#N/A"},{"$error":"#N/A"},{"$error":"#N/A"},{"$error":"#N/A"},{"$error":"#N/A"},{"$error":"#N/A"},{"$error":"#N/A"},{"$error":"#N/A"},{"$error":"#N/A"},{"$error":"#N/A"},{"$error":"#N/A"},{"$error":"#N/A"},{"$error":"#N/A"},{"$error":"#N/A"},{"$error":"#N/A"},{"$error":"#N/A"},{"$error":"#N/A"},{"$error":"#N/A"}]
[null,{"$f":"données!B540","v":"li 537"},{"$error":"#N/A"},{"$error":"#N/A"},{"$error":"#N/A"},{"$error":"#N/A"},{"$error":"#N/A"},{"$error":"#N/A"},{"$error":"#N/A"},{"$error":"#N/A"},{"$error":"#N/A"},{"$error":"#N/A"},{"$error":"#N/A"},{"$error":"#N/A"},{"$error":"#N/A"},{"$error":"#N/A"},{"$error":"#N/A"},{"$error":"#N/A"},{"$error":"#N/A"},{"$error":"#N/A"},{"$error":"#N/A"},{"$error":"#N/A"}]
[null,{"$f":"données!B541","v":"li 538"},{"$error":"#N/A"},{"$error":"#N/A"},{"$error":"#N/A"},{"$error":"#N/A"},{"$error":"#N/A"},{"$error":"#N/A"},{"$error":"#N/A"},{"$error":"#N/A"},{"$error":"#N/A"},{"$error":"#N/A"},{"$error":"#N/A"},{"$error":"#N/A"},{"$error":"#N/A"},{"$error":"#N/A"},{"$error":"#N/A"},{"$error":"#N/A"},{"$error":"#N/A"},{"$error":"#N/A"},{"$error":"#N/A"},{"$error":"#N/A"}]
[null,{"$f":"données!B542","v":"li 539"},{"$error":"#N/A"},{"$error":"#N/A"},{"$error":"#N/A"},{"$error":"#N/A"},{"$error":"#N/A"},{"$error":"#N/A"},{"$error":"#N/A"},{"$error":"#N/A"},{"$error":"#N/A"},{"$error":"#N/A"},{"$error":"#N/A"},{"$error":"#N/A"},{"$error":"#N/A"},{"$error":"#N/A"},{"$error":"#N/A"},{"$error":"#N/A"},{"$error":"#N/A"},{"$error":"#N/A"},{"$error":"#N/A"},{"$error":"#N/A"}]
[null,{"$f":"données!B543","v":"li 540"},{"$error":"#N/A"},{"$error":"#N/A"},{"$error":"#N/A"},{"$error":"#N/A"},{"$error":"#N/A"},{"$error":"#N/A"},{"$error":"#N/A"},{"$error":"#N/A"},{"$error":"#N/A"},{"$error":"#N/A"},{"$error":"#N/A"},{"$error":"#N/A"},{"$error":"#N/A"},{"$error":"#N/A"},{"$error":"#N/A"},{"$error":"#N/A"},{"$error":"#N/A"},{"$error":"#N/A"},{"$error":"#N/A"},{"$error":"#N/A"}]
[null,{"$f":"données!B544","v":"li 541"},{"$error":"#N/A"},{"$error":"#N/A"},{"$error":"#N/A"},{"$error":"#N/A"},{"$error":"#N/A"},{"$error":"#N/A"},{"$error":"#N/A"},{"$error":"#N/A"},{"$error":"#N/A"},{"$error":"#N/A"},{"$error":"#N/A"},{"$error":"#N/A"},{"$error":"#N/A"},{"$error":"#N/A"},{"$error":"#N/A"},{"$error":"#N/A"},{"$error":"#N/A"},{"$error":"#N/A"},{"$error":"#N/A"},{"$error":"#N/A"}]
[null,{"$f":"données!B545","v":"li 542"},{"$error":"#N/A"},{"$error":"#N/A"},{"$error":"#N/A"},{"$error":"#N/A"},{"$error":"#N/A"},{"$error":"#N/A"},{"$error":"#N/A"},{"$error":"#N/A"},{"$error":"#N/A"},{"$error":"#N/A"},{"$error":"#N/A"},{"$error":"#N/A"},{"$error":"#N/A"},{"$error":"#N/A"},{"$error":"#N/A"},{"$error":"#N/A"},{"$error":"#N/A"},{"$error":"#N/A"},{"$error":"#N/A"},{"$error":"#N/A"}]
[null,{"$f":"données!B546","v":"li 543"},{"$error":"#N/A"},{"$error":"#N/A"},{"$error":"#N/A"},{"$error":"#N/A"},{"$error":"#N/A"},{"$error":"#N/A"},{"$error":"#N/A"},{"$error":"#N/A"},{"$error":"#N/A"},{"$error":"#N/A"},{"$error":"#N/A"},{"$error":"#N/A"},{"$error":"#N/A"},{"$error":"#N/A"},{"$error":"#N/A"},{"$error":"#N/A"},{"$error":"#N/A"},{"$error":"#N/A"},{"$error":"#N/A"},{"$error":"#N/A"}]
[null,{"$f":"données!B547","v":"li 544"},{"$error":"#N/A"},{"$error":"#N/A"},{"$error":"#N/A"},{"$error":"#N/A"},{"$error":"#N/A"},{"$error":"#N/A"},{"$error":"#N/A"},{"$error":"#N/A"},{"$error":"#N/A"},{"$error":"#N/A"},{"$error":"#N/A"},{"$error":"#N/A"},{"$error":"#N/A"},{"$error":"#N/A"},{"$error":"#N/A"},{"$error":"#N/A"},{"$error":"#N/A"},{"$error":"#N/A"},{"$error":"#N/A"},{"$error":"#N/A"}]
[null,{"$f":"données!B548","v":"li 545"},{"$error":"#N/A"},{"$error":"#N/A"},{"$error":"#N/A"},{"$error":"#N/A"},{"$error":"#N/A"},{"$error":"#N/A"},{"$error":"#N/A"},{"$error":"#N/A"},{"$error":"#N/A"},{"$error":"#N/A"},{"$error":"#N/A"},{"$error":"#N/A"},{"$error":"#N/A"},{"$error":"#N/A"},{"$error":"#N/A"},{"$error":"#N/A"},{"$error":"#N/A"},{"$error":"#N/A"},{"$error":"#N/A"},{"$error":"#N/A"}]
[null,{"$f":"données!B549","v":"li 546"},{"$error":"#N/A"},{"$error":"#N/A"},{"$error":"#N/A"},{"$error":"#N/A"},{"$error":"#N/A"},{"$error":"#N/A"},{"$error":"#N/A"},{"$error":"#N/A"},{"$error":"#N/A"},{"$error":"#N/A"},{"$error":"#N/A"},{"$error":"#N/A"},{"$error":"#N/A"},{"$error":"#N/A"},{"$error":"#N/A"},{"$error":"#N/A"},{"$error":"#N/A"},{"$error":"#N/A"},{"$error":"#N/A"},{"$error":"#N/A"}]
[null,{"$f":"données!B550","v":"li 547"},{"$error":"#N/A"},{"$error":"#N/A"},{"$error":"#N/A"},{"$error":"#N/A"},{"$error":"#N/A"},{"$error":"#N/A"},{"$error":"#N/A"},{"$error":"#N/A"},{"$error":"#N/A"},{"$error":"#N/A"},{"$error":"#N/A"},{"$error":"#N/A"},{"$error":"#N/A"},{"$error":"#N/A"},{"$error":"#N/A"},{"$error":"#N/A"},{"$error":"#N/A"},{"$error":"#N/A"},{"$error":"#N/A"},{"$error":"#N/A"}]
[null,{"$f":"données!B551","v":"li 548"},{"$error":"#N/A"},{"$error":"#N/A"},{"$error":"#N/A"},{"$error":"#N/A"},{"$error":"#N/A"},{"$error":"#N/A"},{"$error":"#N/A"},{"$error":"#N/A"},{"$error":"#N/A"},{"$error":"#N/A"},{"$error":"#N/A"},{"$error":"#N/A"},{"$error":"#N/A"},{"$error":"#N/A"},{"$error":"#N/A"},{"$error":"#N/A"},{"$error":"#N/A"},{"$error":"#N/A"},{"$error":"#N/A"},{"$error":"#N/A"}]
[null,{"$f":"données!B552","v":"li 549"},{"$error":"#N/A"},{"$error":"#N/A"},{"$error":"#N/A"},{"$error":"#N/A"},{"$error":"#N/A"},{"$error":"#N/A"},{"$error":"#N/A"},{"$error":"#N/A"},{"$error":"#N/A"},{"$error":"#N/A"},{"$error":"#N/A"},{"$error":"#N/A"},{"$error":"#N/A"},{"$error":"#N/A"},{"$error":"#N/A"},{"$error":"#N/A"},{"$error":"#N/A"},{"$error":"#N/A"},{"$error":"#N/A"},{"$error":"#N/A"}]
[null,{"$f":"données!B553","v":"li 550"},{"$error":"#N/A"},{"$error":"#N/A"},{"$error":"#N/A"},{"$error":"#N/A"},{"$error":"#N/A"},{"$error":"#N/A"},{"$error":"#N/A"},{"$error":"#N/A"},{"$error":"#N/A"},{"$error":"#N/A"},{"$error":"#N/A"},{"$error":"#N/A"},{"$error":"#N/A"},{"$error":"#N/A"},{"$error":"#N/A"},{"$error":"#N/A"},{"$error":"#N/A"},{"$error":"#N/A"},{"$error":"#N/A"},{"$error":"#N/A"}]
[null,{"$f":"données!B554","v":"li 551"},{"$error":"#N/A"},{"$error":"#N/A"},{"$error":"#N/A"},{"$error":"#N/A"},{"$error":"#N/A"},{"$error":"#N/A"},{"$error":"#N/A"},{"$error":"#N/A"},{"$error":"#N/A"},{"$error":"#N/A"},{"$error":"#N/A"},{"$error":"#N/A"},{"$error":"#N/A"},{"$error":"#N/A"},{"$error":"#N/A"},{"$error":"#N/A"},{"$error":"#N/A"},{"$error":"#N/A"},{"$error":"#N/A"},{"$error":"#N/A"}]
[null,{"$f":"données!B555","v":"li 552"},{"$error":"#N/A"},{"$error":"#N/A"},{"$error":"#N/A"},{"$error":"#N/A"},{"$error":"#N/A"},{"$error":"#N/A"},{"$error":"#N/A"},{"$error":"#N/A"},{"$error":"#N/A"},{"$error":"#N/A"},{"$error":"#N/A"},{"$error":"#N/A"},{"$error":"#N/A"},{"$error":"#N/A"},{"$error":"#N/A"},{"$error":"#N/A"},{"$error":"#N/A"},{"$error":"#N/A"},{"$error":"#N/A"},{"$error":"#N/A"}]
[null,{"$f":"données!B556","v":"li 553"},{"$error":"#N/A"},{"$error":"#N/A"},{"$error":"#N/A"},{"$error":"#N/A"},{"$error":"#N/A"},{"$error":"#N/A"},{"$error":"#N/A"},{"$error":"#N/A"},{"$error":"#N/A"},{"$error":"#N/A"},{"$error":"#N/A"},{"$error":"#N/A"},{"$error":"#N/A"},{"$error":"#N/A"},{"$error":"#N/A"},{"$error":"#N/A"},{"$error":"#N/A"},{"$error":"#N/A"},{"$error":"#N/A"},{"$error":"#N/A"}]
[null,{"$f":"données!B557","v":"li 554"},{"$error":"#N/A"},{"$error":"#N/A"},{"$error":"#N/A"},{"$error":"#N/A"},{"$error":"#N/A"},{"$error":"#N/A"},{"$error":"#N/A"},{"$error":"#N/A"},{"$error":"#N/A"},{"$error":"#N/A"},{"$error":"#N/A"},{"$error":"#N/A"},{"$error":"#N/A"},{"$error":"#N/A"},{"$error":"#N/A"},{"$error":"#N/A"},{"$error":"#N/A"},{"$error":"#N/A"},{"$error":"#N/A"},{"$error":"#N/A"}]
[null,{"$f":"données!B558","v":"li 555"},{"$error":"#N/A"},{"$error":"#N/A"},{"$error":"#N/A"},{"$error":"#N/A"},{"$error":"#N/A"},{"$error":"#N/A"},{"$error":"#N/A"},{"$error":"#N/A"},{"$error":"#N/A"},{"$error":"#N/A"},{"$error":"#N/A"},{"$error":"#N/A"},{"$error":"#N/A"},{"$error":"#N/A"},{"$error":"#N/A"},{"$error":"#N/A"},{"$error":"#N/A"},{"$error":"#N/A"},{"$error":"#N/A"},{"$error":"#N/A"}]
[null,{"$f":"données!B559","v":"li 556"},{"$error":"#N/A"},{"$error":"#N/A"},{"$error":"#N/A"},{"$error":"#N/A"},{"$error":"#N/A"},{"$error":"#N/A"},{"$error":"#N/A"},{"$error":"#N/A"},{"$error":"#N/A"},{"$error":"#N/A"},{"$error":"#N/A"},{"$error":"#N/A"},{"$error":"#N/A"},{"$error":"#N/A"},{"$error":"#N/A"},{"$error":"#N/A"},{"$error":"#N/A"},{"$error":"#N/A"},{"$error":"#N/A"},{"$error":"#N/A"}]
[null,{"$f":"données!B560","v":"li 557"},{"$error":"#N/A"},{"$error":"#N/A"},{"$error":"#N/A"},{"$error":"#N/A"},{"$error":"#N/A"},{"$error":"#N/A"},{"$error":"#N/A"},{"$error":"#N/A"},{"$error":"#N/A"},{"$error":"#N/A"},{"$error":"#N/A"},{"$error":"#N/A"},{"$error":"#N/A"},{"$error":"#N/A"},{"$error":"#N/A"},{"$error":"#N/A"},{"$error":"#N/A"},{"$error":"#N/A"},{"$error":"#N/A"},{"$error":"#N/A"}]
[null,{"$f":"données!B561","v":"li 558"},{"$error":"#N/A"},{"$error":"#N/A"},{"$error":"#N/A"},{"$error":"#N/A"},{"$error":"#N/A"},{"$error":"#N/A"},{"$error":"#N/A"},{"$error":"#N/A"},{"$error":"#N/A"},{"$error":"#N/A"},{"$error":"#N/A"},{"$error":"#N/A"},{"$error":"#N/A"},{"$error":"#N/A"},{"$error":"#N/A"},{"$error":"#N/A"},{"$error":"#N/A"},{"$error":"#N/A"},{"$error":"#N/A"},{"$error":"#N/A"}]
[null,{"$f":"données!B562","v":"li 559"},{"$error":"#N/A"},{"$error":"#N/A"},{"$error":"#N/A"},{"$error":"#N/A"},{"$error":"#N/A"},{"$error":"#N/A"},{"$error":"#N/A"},{"$error":"#N/A"},{"$error":"#N/A"},{"$error":"#N/A"},{"$error":"#N/A"},{"$error":"#N/A"},{"$error":"#N/A"},{"$error":"#N/A"},{"$error":"#N/A"},{"$error":"#N/A"},{"$error":"#N/A"},{"$error":"#N/A"},{"$error":"#N/A"},{"$error":"#N/A"}]
[null,{"$f":"données!B563","v":"li 560"},{"$error":"#N/A"},{"$error":"#N/A"},{"$error":"#N/A"},{"$error":"#N/A"},{"$error":"#N/A"},{"$error":"#N/A"},{"$error":"#N/A"},{"$error":"#N/A"},{"$error":"#N/A"},{"$error":"#N/A"},{"$error":"#N/A"},{"$error":"#N/A"},{"$error":"#N/A"},{"$error":"#N/A"},{"$error":"#N/A"},{"$error":"#N/A"},{"$error":"#N/A"},{"$error":"#N/A"},{"$error":"#N/A"},{"$error":"#N/A"}]
[null,{"$f":"données!B564","v":"li 561"},{"$error":"#N/A"},{"$error":"#N/A"},{"$error":"#N/A"},{"$error":"#N/A"},{"$error":"#N/A"},{"$error":"#N/A"},{"$error":"#N/A"},{"$error":"#N/A"},{"$error":"#N/A"},{"$error":"#N/A"},{"$error":"#N/A"},{"$error":"#N/A"},{"$error":"#N/A"},{"$error":"#N/A"},{"$error":"#N/A"},{"$error":"#N/A"},{"$error":"#N/A"},{"$error":"#N/A"},{"$error":"#N/A"},{"$error":"#N/A"}]
[null,{"$f":"données!B565","v":"li 562"},{"$error":"#N/A"},{"$error":"#N/A"},{"$error":"#N/A"},{"$error":"#N/A"},{"$error":"#N/A"},{"$error":"#N/A"},{"$error":"#N/A"},{"$error":"#N/A"},{"$error":"#N/A"},{"$error":"#N/A"},{"$error":"#N/A"},{"$error":"#N/A"},{"$error":"#N/A"},{"$error":"#N/A"},{"$error":"#N/A"},{"$error":"#N/A"},{"$error":"#N/A"},{"$error":"#N/A"},{"$error":"#N/A"},{"$error":"#N/A"}]
[null,{"$f":"données!B566","v":"li 563"},{"$error":"#N/A"},{"$error":"#N/A"},{"$error":"#N/A"},{"$error":"#N/A"},{"$error":"#N/A"},{"$error":"#N/A"},{"$error":"#N/A"},{"$error":"#N/A"},{"$error":"#N/A"},{"$error":"#N/A"},{"$error":"#N/A"},{"$error":"#N/A"},{"$error":"#N/A"},{"$error":"#N/A"},{"$error":"#N/A"},{"$error":"#N/A"},{"$error":"#N/A"},{"$error":"#N/A"},{"$error":"#N/A"},{"$error":"#N/A"}]
[null,{"$f":"données!B567","v":"li 564"},{"$error":"#N/A"},{"$error":"#N/A"},{"$error":"#N/A"},{"$error":"#N/A"},{"$error":"#N/A"},{"$error":"#N/A"},{"$error":"#N/A"},{"$error":"#N/A"},{"$error":"#N/A"},{"$error":"#N/A"},{"$error":"#N/A"},{"$error":"#N/A"},{"$error":"#N/A"},{"$error":"#N/A"},{"$error":"#N/A"},{"$error":"#N/A"},{"$error":"#N/A"},{"$error":"#N/A"},{"$error":"#N/A"},{"$error":"#N/A"}]
[null,{"$f":"données!B568","v":"li 565"},{"$error":"#N/A"},{"$error":"#N/A"},{"$error":"#N/A"},{"$error":"#N/A"},{"$error":"#N/A"},{"$error":"#N/A"},{"$error":"#N/A"},{"$error":"#N/A"},{"$error":"#N/A"},{"$error":"#N/A"},{"$error":"#N/A"},{"$error":"#N/A"},{"$error":"#N/A"},{"$error":"#N/A"},{"$error":"#N/A"},{"$error":"#N/A"},{"$error":"#N/A"},{"$error":"#N/A"},{"$error":"#N/A"},{"$error":"#N/A"}]
[null,{"$f":"données!B569","v":"li 566"},{"$error":"#N/A"},{"$error":"#N/A"},{"$error":"#N/A"},{"$error":"#N/A"},{"$error":"#N/A"},{"$error":"#N/A"},{"$error":"#N/A"},{"$error":"#N/A"},{"$error":"#N/A"},{"$error":"#N/A"},{"$error":"#N/A"},{"$error":"#N/A"},{"$error":"#N/A"},{"$error":"#N/A"},{"$error":"#N/A"},{"$error":"#N/A"},{"$error":"#N/A"},{"$error":"#N/A"},{"$error":"#N/A"},{"$error":"#N/A"}]
[null,{"$f":"données!B570","v":"li 567"},{"$error":"#N/A"},{"$error":"#N/A"},{"$error":"#N/A"},{"$error":"#N/A"},{"$error":"#N/A"},{"$error":"#N/A"},{"$error":"#N/A"},{"$error":"#N/A"},{"$error":"#N/A"},{"$error":"#N/A"},{"$error":"#N/A"},{"$error":"#N/A"},{"$error":"#N/A"},{"$error":"#N/A"},{"$error":"#N/A"},{"$error":"#N/A"},{"$error":"#N/A"},{"$error":"#N/A"},{"$error":"#N/A"},{"$error":"#N/A"}]
[null,{"$f":"données!B571","v":"li 568"},{"$error":"#N/A"},{"$error":"#N/A"},{"$error":"#N/A"},{"$error":"#N/A"},{"$error":"#N/A"},{"$error":"#N/A"},{"$error":"#N/A"},{"$error":"#N/A"},{"$error":"#N/A"},{"$error":"#N/A"},{"$error":"#N/A"},{"$error":"#N/A"},{"$error":"#N/A"},{"$error":"#N/A"},{"$error":"#N/A"},{"$error":"#N/A"},{"$error":"#N/A"},{"$error":"#N/A"},{"$error":"#N/A"},{"$error":"#N/A"}]
[null,{"$f":"données!B572","v":"li 569"},{"$error":"#N/A"},{"$error":"#N/A"},{"$error":"#N/A"},{"$error":"#N/A"},{"$error":"#N/A"},{"$error":"#N/A"},{"$error":"#N/A"},{"$error":"#N/A"},{"$error":"#N/A"},{"$error":"#N/A"},{"$error":"#N/A"},{"$error":"#N/A"},{"$error":"#N/A"},{"$error":"#N/A"},{"$error":"#N/A"},{"$error":"#N/A"},{"$error":"#N/A"},{"$error":"#N/A"},{"$error":"#N/A"},{"$error":"#N/A"}]
[null,{"$f":"données!B573","v":"li 570"},{"$error":"#N/A"},{"$error":"#N/A"},{"$error":"#N/A"},{"$error":"#N/A"},{"$error":"#N/A"},{"$error":"#N/A"},{"$error":"#N/A"},{"$error":"#N/A"},{"$error":"#N/A"},{"$error":"#N/A"},{"$error":"#N/A"},{"$error":"#N/A"},{"$error":"#N/A"},{"$error":"#N/A"},{"$error":"#N/A"},{"$error":"#N/A"},{"$error":"#N/A"},{"$error":"#N/A"},{"$error":"#N/A"},{"$error":"#N/A"}]
[null,{"$f":"données!B574","v":"li 571"},{"$error":"#N/A"},{"$error":"#N/A"},{"$error":"#N/A"},{"$error":"#N/A"},{"$error":"#N/A"},{"$error":"#N/A"},{"$error":"#N/A"},{"$error":"#N/A"},{"$error":"#N/A"},{"$error":"#N/A"},{"$error":"#N/A"},{"$error":"#N/A"},{"$error":"#N/A"},{"$error":"#N/A"},{"$error":"#N/A"},{"$error":"#N/A"},{"$error":"#N/A"},{"$error":"#N/A"},{"$error":"#N/A"},{"$error":"#N/A"}]
[null,{"$f":"données!B575","v":"li 572"},{"$error":"#N/A"},{"$error":"#N/A"},{"$error":"#N/A"},{"$error":"#N/A"},{"$error":"#N/A"},{"$error":"#N/A"},{"$error":"#N/A"},{"$error":"#N/A"},{"$error":"#N/A"},{"$error":"#N/A"},{"$error":"#N/A"},{"$error":"#N/A"},{"$error":"#N/A"},{"$error":"#N/A"},{"$error":"#N/A"},{"$error":"#N/A"},{"$error":"#N/A"},{"$error":"#N/A"},{"$error":"#N/A"},{"$error":"#N/A"}]
[null,{"$f":"données!B576","v":"li 573"},{"$error":"#N/A"},{"$error":"#N/A"},{"$error":"#N/A"},{"$error":"#N/A"},{"$error":"#N/A"},{"$error":"#N/A"},{"$error":"#N/A"},{"$error":"#N/A"},{"$error":"#N/A"},{"$error":"#N/A"},{"$error":"#N/A"},{"$error":"#N/A"},{"$error":"#N/A"},{"$error":"#N/A"},{"$error":"#N/A"},{"$error":"#N/A"},{"$error":"#N/A"},{"$error":"#N/A"},{"$error":"#N/A"},{"$error":"#N/A"}]
[null,{"$f":"données!B577","v":"li 574"},{"$error":"#N/A"},{"$error":"#N/A"},{"$error":"#N/A"},{"$error":"#N/A"},{"$error":"#N/A"},{"$error":"#N/A"},{"$error":"#N/A"},{"$error":"#N/A"},{"$error":"#N/A"},{"$error":"#N/A"},{"$error":"#N/A"},{"$error":"#N/A"},{"$error":"#N/A"},{"$error":"#N/A"},{"$error":"#N/A"},{"$error":"#N/A"},{"$error":"#N/A"},{"$error":"#N/A"},{"$error":"#N/A"},{"$error":"#N/A"}]
[null,{"$f":"données!B578","v":"li 575"},{"$error":"#N/A"},{"$error":"#N/A"},{"$error":"#N/A"},{"$error":"#N/A"},{"$error":"#N/A"},{"$error":"#N/A"},{"$error":"#N/A"},{"$error":"#N/A"},{"$error":"#N/A"},{"$error":"#N/A"},{"$error":"#N/A"},{"$error":"#N/A"},{"$error":"#N/A"},{"$error":"#N/A"},{"$error":"#N/A"},{"$error":"#N/A"},{"$error":"#N/A"},{"$error":"#N/A"},{"$error":"#N/A"},{"$error":"#N/A"}]
[null,{"$f":"données!B579","v":"li 576"},{"$error":"#N/A"},{"$error":"#N/A"},{"$error":"#N/A"},{"$error":"#N/A"},{"$error":"#N/A"},{"$error":"#N/A"},{"$error":"#N/A"},{"$error":"#N/A"},{"$error":"#N/A"},{"$error":"#N/A"},{"$error":"#N/A"},{"$error":"#N/A"},{"$error":"#N/A"},{"$error":"#N/A"},{"$error":"#N/A"},{"$error":"#N/A"},{"$error":"#N/A"},{"$error":"#N/A"},{"$error":"#N/A"},{"$error":"#N/A"}]
[null,{"$f":"données!B580","v":"li 577"},{"$error":"#N/A"},{"$error":"#N/A"},{"$error":"#N/A"},{"$error":"#N/A"},{"$error":"#N/A"},{"$error":"#N/A"},{"$error":"#N/A"},{"$error":"#N/A"},{"$error":"#N/A"},{"$error":"#N/A"},{"$error":"#N/A"},{"$error":"#N/A"},{"$error":"#N/A"},{"$error":"#N/A"},{"$error":"#N/A"},{"$error":"#N/A"},{"$error":"#N/A"},{"$error":"#N/A"},{"$error":"#N/A"},{"$error":"#N/A"}]
[null,{"$f":"données!B581","v":"li 578"},{"$error":"#N/A"},{"$error":"#N/A"},{"$error":"#N/A"},{"$error":"#N/A"},{"$error":"#N/A"},{"$error":"#N/A"},{"$error":"#N/A"},{"$error":"#N/A"},{"$error":"#N/A"},{"$error":"#N/A"},{"$error":"#N/A"},{"$error":"#N/A"},{"$error":"#N/A"},{"$error":"#N/A"},{"$error":"#N/A"},{"$error":"#N/A"},{"$error":"#N/A"},{"$error":"#N/A"},{"$error":"#N/A"},{"$error":"#N/A"}]
[null,{"$f":"données!B582","v":"li 579"},{"$error":"#N/A"},{"$error":"#N/A"},{"$error":"#N/A"},{"$error":"#N/A"},{"$error":"#N/A"},{"$error":"#N/A"},{"$error":"#N/A"},{"$error":"#N/A"},{"$error":"#N/A"},{"$error":"#N/A"},{"$error":"#N/A"},{"$error":"#N/A"},{"$error":"#N/A"},{"$error":"#N/A"},{"$error":"#N/A"},{"$error":"#N/A"},{"$error":"#N/A"},{"$error":"#N/A"},{"$error":"#N/A"},{"$error":"#N/A"}]
[null,{"$f":"données!B583","v":"li 580"},{"$error":"#N/A"},{"$error":"#N/A"},{"$error":"#N/A"},{"$error":"#N/A"},{"$error":"#N/A"},{"$error":"#N/A"},{"$error":"#N/A"},{"$error":"#N/A"},{"$error":"#N/A"},{"$error":"#N/A"},{"$error":"#N/A"},{"$error":"#N/A"},{"$error":"#N/A"},{"$error":"#N/A"},{"$error":"#N/A"},{"$error":"#N/A"},{"$error":"#N/A"},{"$error":"#N/A"},{"$error":"#N/A"},{"$error":"#N/A"}]
[null,{"$f":"données!B584","v":"li 581"},{"$error":"#N/A"},{"$error":"#N/A"},{"$error":"#N/A"},{"$error":"#N/A"},{"$error":"#N/A"},{"$error":"#N/A"},{"$error":"#N/A"},{"$error":"#N/A"},{"$error":"#N/A"},{"$error":"#N/A"},{"$error":"#N/A"},{"$error":"#N/A"},{"$error":"#N/A"},{"$error":"#N/A"},{"$error":"#N/A"},{"$error":"#N/A"},{"$error":"#N/A"},{"$error":"#N/A"},{"$error":"#N/A"},{"$error":"#N/A"}]
[null,{"$f":"données!B585","v":"li 582"},{"$error":"#N/A"},{"$error":"#N/A"},{"$error":"#N/A"},{"$error":"#N/A"},{"$error":"#N/A"},{"$error":"#N/A"},{"$error":"#N/A"},{"$error":"#N/A"},{"$error":"#N/A"},{"$error":"#N/A"},{"$error":"#N/A"},{"$error":"#N/A"},{"$error":"#N/A"},{"$error":"#N/A"},{"$error":"#N/A"},{"$error":"#N/A"},{"$error":"#N/A"},{"$error":"#N/A"},{"$error":"#N/A"},{"$error":"#N/A"}]
[null,{"$f":"données!B586","v":"li 583"},{"$error":"#N/A"},{"$error":"#N/A"},{"$error":"#N/A"},{"$error":"#N/A"},{"$error":"#N/A"},{"$error":"#N/A"},{"$error":"#N/A"},{"$error":"#N/A"},{"$error":"#N/A"},{"$error":"#N/A"},{"$error":"#N/A"},{"$error":"#N/A"},{"$error":"#N/A"},{"$error":"#N/A"},{"$error":"#N/A"},{"$error":"#N/A"},{"$error":"#N/A"},{"$error":"#N/A"},{"$error":"#N/A"},{"$error":"#N/A"}]
[null,{"$f":"données!B587","v":"li 584"},{"$error":"#N/A"},{"$error":"#N/A"},{"$error":"#N/A"},{"$error":"#N/A"},{"$error":"#N/A"},{"$error":"#N/A"},{"$error":"#N/A"},{"$error":"#N/A"},{"$error":"#N/A"},{"$error":"#N/A"},{"$error":"#N/A"},{"$error":"#N/A"},{"$error":"#N/A"},{"$error":"#N/A"},{"$error":"#N/A"},{"$error":"#N/A"},{"$error":"#N/A"},{"$error":"#N/A"},{"$error":"#N/A"},{"$error":"#N/A"}]
[null,{"$f":"données!B588","v":"li 585"},{"$error":"#N/A"},{"$error":"#N/A"},{"$error":"#N/A"},{"$error":"#N/A"},{"$error":"#N/A"},{"$error":"#N/A"},{"$error":"#N/A"},{"$error":"#N/A"},{"$error":"#N/A"},{"$error":"#N/A"},{"$error":"#N/A"},{"$error":"#N/A"},{"$error":"#N/A"},{"$error":"#N/A"},{"$error":"#N/A"},{"$error":"#N/A"},{"$error":"#N/A"},{"$error":"#N/A"},{"$error":"#N/A"},{"$error":"#N/A"}]
[null,{"$f":"données!B589","v":"li 586"},{"$error":"#N/A"},{"$error":"#N/A"},{"$error":"#N/A"},{"$error":"#N/A"},{"$error":"#N/A"},{"$error":"#N/A"},{"$error":"#N/A"},{"$error":"#N/A"},{"$error":"#N/A"},{"$error":"#N/A"},{"$error":"#N/A"},{"$error":"#N/A"},{"$error":"#N/A"},{"$error":"#N/A"},{"$error":"#N/A"},{"$error":"#N/A"},{"$error":"#N/A"},{"$error":"#N/A"},{"$error":"#N/A"},{"$error":"#N/A"}]
[null,{"$f":"données!B590","v":"li 587"},{"$error":"#N/A"},{"$error":"#N/A"},{"$error":"#N/A"},{"$error":"#N/A"},{"$error":"#N/A"},{"$error":"#N/A"},{"$error":"#N/A"},{"$error":"#N/A"},{"$error":"#N/A"},{"$error":"#N/A"},{"$error":"#N/A"},{"$error":"#N/A"},{"$error":"#N/A"},{"$error":"#N/A"},{"$error":"#N/A"},{"$error":"#N/A"},{"$error":"#N/A"},{"$error":"#N/A"},{"$error":"#N/A"},{"$error":"#N/A"}]
[null,{"$f":"données!B591","v":"li 588"},{"$error":"#N/A"},{"$error":"#N/A"},{"$error":"#N/A"},{"$error":"#N/A"},{"$error":"#N/A"},{"$error":"#N/A"},{"$error":"#N/A"},{"$error":"#N/A"},{"$error":"#N/A"},{"$error":"#N/A"},{"$error":"#N/A"},{"$error":"#N/A"},{"$error":"#N/A"},{"$error":"#N/A"},{"$error":"#N/A"},{"$error":"#N/A"},{"$error":"#N/A"},{"$error":"#N/A"},{"$error":"#N/A"},{"$error":"#N/A"}]
[null,{"$f":"données!B592","v":"li 589"},{"$error":"#N/A"},{"$error":"#N/A"},{"$error":"#N/A"},{"$error":"#N/A"},{"$error":"#N/A"},{"$error":"#N/A"},{"$error":"#N/A"},{"$error":"#N/A"},{"$error":"#N/A"},{"$error":"#N/A"},{"$error":"#N/A"},{"$error":"#N/A"},{"$error":"#N/A"},{"$error":"#N/A"},{"$error":"#N/A"},{"$error":"#N/A"},{"$error":"#N/A"},{"$error":"#N/A"},{"$error":"#N/A"},{"$error":"#N/A"}]
[null,{"$f":"données!B593","v":"li 590"},{"$error":"#N/A"},{"$error":"#N/A"},{"$error":"#N/A"},{"$error":"#N/A"},{"$error":"#N/A"},{"$error":"#N/A"},{"$error":"#N/A"},{"$error":"#N/A"},{"$error":"#N/A"},{"$error":"#N/A"},{"$error":"#N/A"},{"$error":"#N/A"},{"$error":"#N/A"},{"$error":"#N/A"},{"$error":"#N/A"},{"$error":"#N/A"},{"$error":"#N/A"},{"$error":"#N/A"},{"$error":"#N/A"},{"$error":"#N/A"}]
[null,{"$f":"données!B594","v":"li 591"},{"$error":"#N/A"},{"$error":"#N/A"},{"$error":"#N/A"},{"$error":"#N/A"},{"$error":"#N/A"},{"$error":"#N/A"},{"$error":"#N/A"},{"$error":"#N/A"},{"$error":"#N/A"},{"$error":"#N/A"},{"$error":"#N/A"},{"$error":"#N/A"},{"$error":"#N/A"},{"$error":"#N/A"},{"$error":"#N/A"},{"$error":"#N/A"},{"$error":"#N/A"},{"$error":"#N/A"},{"$error":"#N/A"},{"$error":"#N/A"}]
[null,{"$f":"données!B595","v":"li 592"},{"$error":"#N/A"},{"$error":"#N/A"},{"$error":"#N/A"},{"$error":"#N/A"},{"$error":"#N/A"},{"$error":"#N/A"},{"$error":"#N/A"},{"$error":"#N/A"},{"$error":"#N/A"},{"$error":"#N/A"},{"$error":"#N/A"},{"$error":"#N/A"},{"$error":"#N/A"},{"$error":"#N/A"},{"$error":"#N/A"},{"$error":"#N/A"},{"$error":"#N/A"},{"$error":"#N/A"},{"$error":"#N/A"},{"$error":"#N/A"}]
[null,{"$f":"données!B596","v":"li 593"},{"$error":"#N/A"},{"$error":"#N/A"},{"$error":"#N/A"},{"$error":"#N/A"},{"$error":"#N/A"},{"$error":"#N/A"},{"$error":"#N/A"},{"$error":"#N/A"},{"$error":"#N/A"},{"$error":"#N/A"},{"$error":"#N/A"},{"$error":"#N/A"},{"$error":"#N/A"},{"$error":"#N/A"},{"$error":"#N/A"},{"$error":"#N/A"},{"$error":"#N/A"},{"$error":"#N/A"},{"$error":"#N/A"},{"$error":"#N/A"}]
[null,{"$f":"données!B597","v":"li 594"},{"$error":"#N/A"},{"$error":"#N/A"},{"$error":"#N/A"},{"$error":"#N/A"},{"$error":"#N/A"},{"$error":"#N/A"},{"$error":"#N/A"},{"$error":"#N/A"},{"$error":"#N/A"},{"$error":"#N/A"},{"$error":"#N/A"},{"$error":"#N/A"},{"$error":"#N/A"},{"$error":"#N/A"},{"$error":"#N/A"},{"$error":"#N/A"},{"$error":"#N/A"},{"$error":"#N/A"},{"$error":"#N/A"},{"$error":"#N/A"}]
[null,{"$f":"données!B598","v":"li 595"},{"$error":"#N/A"},{"$error":"#N/A"},{"$error":"#N/A"},{"$error":"#N/A"},{"$error":"#N/A"},{"$error":"#N/A"},{"$error":"#N/A"},{"$error":"#N/A"},{"$error":"#N/A"},{"$error":"#N/A"},{"$error":"#N/A"},{"$error":"#N/A"},{"$error":"#N/A"},{"$error":"#N/A"},{"$error":"#N/A"},{"$error":"#N/A"},{"$error":"#N/A"},{"$error":"#N/A"},{"$error":"#N/A"},{"$error":"#N/A"}]
[null,{"$f":"données!B599","v":"li 596"},{"$error":"#N/A"},{"$error":"#N/A"},{"$error":"#N/A"},{"$error":"#N/A"},{"$error":"#N/A"},{"$error":"#N/A"},{"$error":"#N/A"},{"$error":"#N/A"},{"$error":"#N/A"},{"$error":"#N/A"},{"$error":"#N/A"},{"$error":"#N/A"},{"$error":"#N/A"},{"$error":"#N/A"},{"$error":"#N/A"},{"$error":"#N/A"},{"$error":"#N/A"},{"$error":"#N/A"},{"$error":"#N/A"},{"$error":"#N/A"}]
[null,{"$f":"données!B600","v":"li 597"},{"$error":"#N/A"},{"$error":"#N/A"},{"$error":"#N/A"},{"$error":"#N/A"},{"$error":"#N/A"},{"$error":"#N/A"},{"$error":"#N/A"},{"$error":"#N/A"},{"$error":"#N/A"},{"$error":"#N/A"},{"$error":"#N/A"},{"$error":"#N/A"},{"$error":"#N/A"},{"$error":"#N/A"},{"$error":"#N/A"},{"$error":"#N/A"},{"$error":"#N/A"},{"$error":"#N/A"},{"$error":"#N/A"},{"$error":"#N/A"}]
[null,{"$f":"données!B601","v":"li 598"},{"$error":"#N/A"},{"$error":"#N/A"},{"$error":"#N/A"},{"$error":"#N/A"},{"$error":"#N/A"},{"$error":"#N/A"},{"$error":"#N/A"},{"$error":"#N/A"},{"$error":"#N/A"},{"$error":"#N/A"},{"$error":"#N/A"},{"$error":"#N/A"},{"$error":"#N/A"},{"$error":"#N/A"},{"$error":"#N/A"},{"$error":"#N/A"},{"$error":"#N/A"},{"$error":"#N/A"},{"$error":"#N/A"},{"$error":"#N/A"}]
[null,{"$f":"données!B602","v":"li 599"},{"$error":"#N/A"},{"$error":"#N/A"},{"$error":"#N/A"},{"$error":"#N/A"},{"$error":"#N/A"},{"$error":"#N/A"},{"$error":"#N/A"},{"$error":"#N/A"},{"$error":"#N/A"},{"$error":"#N/A"},{"$error":"#N/A"},{"$error":"#N/A"},{"$error":"#N/A"},{"$error":"#N/A"},{"$error":"#N/A"},{"$error":"#N/A"},{"$error":"#N/A"},{"$error":"#N/A"},{"$error":"#N/A"},{"$error":"#N/A"}]
[null,{"$f":"données!B603","v":"li 600"},{"$error":"#N/A"},{"$error":"#N/A"},{"$error":"#N/A"},{"$error":"#N/A"},{"$error":"#N/A"},{"$error":"#N/A"},{"$error":"#N/A"},{"$error":"#N/A"},{"$error":"#N/A"},{"$error":"#N/A"},{"$error":"#N/A"},{"$error":"#N/A"},{"$error":"#N/A"},{"$error":"#N/A"},{"$error":"#N/A"},{"$error":"#N/A"},{"$error":"#N/A"},{"$error":"#N/A"},{"$error":"#N/A"},{"$error":"#N/A"}]
[null,{"$f":"données!B604","v":"li 601"},{"$error":"#N/A"},{"$error":"#N/A"},{"$error":"#N/A"},{"$error":"#N/A"},{"$error":"#N/A"},{"$error":"#N/A"},{"$error":"#N/A"},{"$error":"#N/A"},{"$error":"#N/A"},{"$error":"#N/A"},{"$error":"#N/A"},{"$error":"#N/A"},{"$error":"#N/A"},{"$error":"#N/A"},{"$error":"#N/A"},{"$error":"#N/A"},{"$error":"#N/A"},{"$error":"#N/A"},{"$error":"#N/A"},{"$error":"#N/A"}]
[null,{"$f":"données!B605","v":"li 602"},{"$error":"#N/A"},{"$error":"#N/A"},{"$error":"#N/A"},{"$error":"#N/A"},{"$error":"#N/A"},{"$error":"#N/A"},{"$error":"#N/A"},{"$error":"#N/A"},{"$error":"#N/A"},{"$error":"#N/A"},{"$error":"#N/A"},{"$error":"#N/A"},{"$error":"#N/A"},{"$error":"#N/A"},{"$error":"#N/A"},{"$error":"#N/A"},{"$error":"#N/A"},{"$error":"#N/A"},{"$error":"#N/A"},{"$error":"#N/A"}]
[null,{"$f":"données!B606","v":"li 603"},{"$error":"#N/A"},{"$error":"#N/A"},{"$error":"#N/A"},{"$error":"#N/A"},{"$error":"#N/A"},{"$error":"#N/A"},{"$error":"#N/A"},{"$error":"#N/A"},{"$error":"#N/A"},{"$error":"#N/A"},{"$error":"#N/A"},{"$error":"#N/A"},{"$error":"#N/A"},{"$error":"#N/A"},{"$error":"#N/A"},{"$error":"#N/A"},{"$error":"#N/A"},{"$error":"#N/A"},{"$error":"#N/A"},{"$error":"#N/A"}]
[null,{"$f":"données!B607","v":"li 604"},{"$error":"#N/A"},{"$error":"#N/A"},{"$error":"#N/A"},{"$error":"#N/A"},{"$error":"#N/A"},{"$error":"#N/A"},{"$error":"#N/A"},{"$error":"#N/A"},{"$error":"#N/A"},{"$error":"#N/A"},{"$error":"#N/A"},{"$error":"#N/A"},{"$error":"#N/A"},{"$error":"#N/A"},{"$error":"#N/A"},{"$error":"#N/A"},{"$error":"#N/A"},{"$error":"#N/A"},{"$error":"#N/A"},{"$error":"#N/A"}]
[null,{"$f":"données!B608","v":"li 605"},{"$error":"#N/A"},{"$error":"#N/A"},{"$error":"#N/A"},{"$error":"#N/A"},{"$error":"#N/A"},{"$error":"#N/A"},{"$error":"#N/A"},{"$error":"#N/A"},{"$error":"#N/A"},{"$error":"#N/A"},{"$error":"#N/A"},{"$error":"#N/A"},{"$error":"#N/A"},{"$error":"#N/A"},{"$error":"#N/A"},{"$error":"#N/A"},{"$error":"#N/A"},{"$error":"#N/A"},{"$error":"#N/A"},{"$error":"#N/A"}]
[null,{"$f":"données!B609","v":"li 606"},{"$error":"#N/A"},{"$error":"#N/A"},{"$error":"#N/A"},{"$error":"#N/A"},{"$error":"#N/A"},{"$error":"#N/A"},{"$error":"#N/A"},{"$error":"#N/A"},{"$error":"#N/A"},{"$error":"#N/A"},{"$error":"#N/A"},{"$error":"#N/A"},{"$error":"#N/A"},{"$error":"#N/A"},{"$error":"#N/A"},{"$error":"#N/A"},{"$error":"#N/A"},{"$error":"#N/A"},{"$error":"#N/A"},{"$error":"#N/A"}]
[null,{"$f":"données!B610","v":"li 607"},{"$error":"#N/A"},{"$error":"#N/A"},{"$error":"#N/A"},{"$error":"#N/A"},{"$error":"#N/A"},{"$error":"#N/A"},{"$error":"#N/A"},{"$error":"#N/A"},{"$error":"#N/A"},{"$error":"#N/A"},{"$error":"#N/A"},{"$error":"#N/A"},{"$error":"#N/A"},{"$error":"#N/A"},{"$error":"#N/A"},{"$error":"#N/A"},{"$error":"#N/A"},{"$error":"#N/A"},{"$error":"#N/A"},{"$error":"#N/A"}]
[null,{"$f":"données!B611","v":"li 608"},{"$error":"#N/A"},{"$error":"#N/A"},{"$error":"#N/A"},{"$error":"#N/A"},{"$error":"#N/A"},{"$error":"#N/A"},{"$error":"#N/A"},{"$error":"#N/A"},{"$error":"#N/A"},{"$error":"#N/A"},{"$error":"#N/A"},{"$error":"#N/A"},{"$error":"#N/A"},{"$error":"#N/A"},{"$error":"#N/A"},{"$error":"#N/A"},{"$error":"#N/A"},{"$error":"#N/A"},{"$error":"#N/A"},{"$error":"#N/A"}]
[null,{"$f":"données!B612","v":"li 609"},{"$error":"#N/A"},{"$error":"#N/A"},{"$error":"#N/A"},{"$error":"#N/A"},{"$error":"#N/A"},{"$error":"#N/A"},{"$error":"#N/A"},{"$error":"#N/A"},{"$error":"#N/A"},{"$error":"#N/A"},{"$error":"#N/A"},{"$error":"#N/A"},{"$error":"#N/A"},{"$error":"#N/A"},{"$error":"#N/A"},{"$error":"#N/A"},{"$error":"#N/A"},{"$error":"#N/A"},{"$error":"#N/A"},{"$error":"#N/A"}]
[null,{"$f":"données!B613","v":"li 610"},{"$error":"#N/A"},{"$error":"#N/A"},{"$error":"#N/A"},{"$error":"#N/A"},{"$error":"#N/A"},{"$error":"#N/A"},{"$error":"#N/A"},{"$error":"#N/A"},{"$error":"#N/A"},{"$error":"#N/A"},{"$error":"#N/A"},{"$error":"#N/A"},{"$error":"#N/A"},{"$error":"#N/A"},{"$error":"#N/A"},{"$error":"#N/A"},{"$error":"#N/A"},{"$error":"#N/A"},{"$error":"#N/A"},{"$error":"#N/A"}]
[null,{"$f":"données!B614","v":"li 611"},{"$error":"#N/A"},{"$error":"#N/A"},{"$error":"#N/A"},{"$error":"#N/A"},{"$error":"#N/A"},{"$error":"#N/A"},{"$error":"#N/A"},{"$error":"#N/A"},{"$error":"#N/A"},{"$error":"#N/A"},{"$error":"#N/A"},{"$error":"#N/A"},{"$error":"#N/A"},{"$error":"#N/A"},{"$error":"#N/A"},{"$error":"#N/A"},{"$error":"#N/A"},{"$error":"#N/A"},{"$error":"#N/A"},{"$error":"#N/A"}]
[null,{"$f":"données!B615","v":"li 612"},{"$error":"#N/A"},{"$error":"#N/A"},{"$error":"#N/A"},{"$error":"#N/A"},{"$error":"#N/A"},{"$error":"#N/A"},{"$error":"#N/A"},{"$error":"#N/A"},{"$error":"#N/A"},{"$error":"#N/A"},{"$error":"#N/A"},{"$error":"#N/A"},{"$error":"#N/A"},{"$error":"#N/A"},{"$error":"#N/A"},{"$error":"#N/A"},{"$error":"#N/A"},{"$error":"#N/A"},{"$error":"#N/A"},{"$error":"#N/A"}]
[null,{"$f":"données!B616","v":"li 613"},{"$error":"#N/A"},{"$error":"#N/A"},{"$error":"#N/A"},{"$error":"#N/A"},{"$error":"#N/A"},{"$error":"#N/A"},{"$error":"#N/A"},{"$error":"#N/A"},{"$error":"#N/A"},{"$error":"#N/A"},{"$error":"#N/A"},{"$error":"#N/A"},{"$error":"#N/A"},{"$error":"#N/A"},{"$error":"#N/A"},{"$error":"#N/A"},{"$error":"#N/A"},{"$error":"#N/A"},{"$error":"#N/A"},{"$error":"#N/A"}]
[null,{"$f":"données!B617","v":"li 614"},{"$error":"#N/A"},{"$error":"#N/A"},{"$error":"#N/A"},{"$error":"#N/A"},{"$error":"#N/A"},{"$error":"#N/A"},{"$error":"#N/A"},{"$error":"#N/A"},{"$error":"#N/A"},{"$error":"#N/A"},{"$error":"#N/A"},{"$error":"#N/A"},{"$error":"#N/A"},{"$error":"#N/A"},{"$error":"#N/A"},{"$error":"#N/A"},{"$error":"#N/A"},{"$error":"#N/A"},{"$error":"#N/A"},{"$error":"#N/A"}]
[null,{"$f":"données!B618","v":"li 615"},{"$error":"#N/A"},{"$error":"#N/A"},{"$error":"#N/A"},{"$error":"#N/A"},{"$error":"#N/A"},{"$error":"#N/A"},{"$error":"#N/A"},{"$error":"#N/A"},{"$error":"#N/A"},{"$error":"#N/A"},{"$error":"#N/A"},{"$error":"#N/A"},{"$error":"#N/A"},{"$error":"#N/A"},{"$error":"#N/A"},{"$error":"#N/A"},{"$error":"#N/A"},{"$error":"#N/A"},{"$error":"#N/A"},{"$error":"#N/A"}]
[null,{"$f":"données!B619","v":"li 616"},{"$error":"#N/A"},{"$error":"#N/A"},{"$error":"#N/A"},{"$error":"#N/A"},{"$error":"#N/A"},{"$error":"#N/A"},{"$error":"#N/A"},{"$error":"#N/A"},{"$error":"#N/A"},{"$error":"#N/A"},{"$error":"#N/A"},{"$error":"#N/A"},{"$error":"#N/A"},{"$error":"#N/A"},{"$error":"#N/A"},{"$error":"#N/A"},{"$error":"#N/A"},{"$error":"#N/A"},{"$error":"#N/A"},{"$error":"#N/A"}]
[null,{"$f":"données!B620","v":"li 617"},{"$error":"#N/A"},{"$error":"#N/A"},{"$error":"#N/A"},{"$error":"#N/A"},{"$error":"#N/A"},{"$error":"#N/A"},{"$error":"#N/A"},{"$error":"#N/A"},{"$error":"#N/A"},{"$error":"#N/A"},{"$error":"#N/A"},{"$error":"#N/A"},{"$error":"#N/A"},{"$error":"#N/A"},{"$error":"#N/A"},{"$error":"#N/A"},{"$error":"#N/A"},{"$error":"#N/A"},{"$error":"#N/A"},{"$error":"#N/A"}]
[null,{"$f":"données!B621","v":"li 618"},{"$error":"#N/A"},{"$error":"#N/A"},{"$error":"#N/A"},{"$error":"#N/A"},{"$error":"#N/A"},{"$error":"#N/A"},{"$error":"#N/A"},{"$error":"#N/A"},{"$error":"#N/A"},{"$error":"#N/A"},{"$error":"#N/A"},{"$error":"#N/A"},{"$error":"#N/A"},{"$error":"#N/A"},{"$error":"#N/A"},{"$error":"#N/A"},{"$error":"#N/A"},{"$error":"#N/A"},{"$error":"#N/A"},{"$error":"#N/A"}]
[null,{"$f":"données!B622","v":"li 619"},{"$error":"#N/A"},{"$error":"#N/A"},{"$error":"#N/A"},{"$error":"#N/A"},{"$error":"#N/A"},{"$error":"#N/A"},{"$error":"#N/A"},{"$error":"#N/A"},{"$error":"#N/A"},{"$error":"#N/A"},{"$error":"#N/A"},{"$error":"#N/A"},{"$error":"#N/A"},{"$error":"#N/A"},{"$error":"#N/A"},{"$error":"#N/A"},{"$error":"#N/A"},{"$error":"#N/A"},{"$error":"#N/A"},{"$error":"#N/A"}]
[null,{"$f":"données!B623","v":"li 620"},{"$error":"#N/A"},{"$error":"#N/A"},{"$error":"#N/A"},{"$error":"#N/A"},{"$error":"#N/A"},{"$error":"#N/A"},{"$error":"#N/A"},{"$error":"#N/A"},{"$error":"#N/A"},{"$error":"#N/A"},{"$error":"#N/A"},{"$error":"#N/A"},{"$error":"#N/A"},{"$error":"#N/A"},{"$error":"#N/A"},{"$error":"#N/A"},{"$error":"#N/A"},{"$error":"#N/A"},{"$error":"#N/A"},{"$error":"#N/A"}]
[null,{"$f":"données!B624","v":"li 621"},{"$error":"#N/A"},{"$error":"#N/A"},{"$error":"#N/A"},{"$error":"#N/A"},{"$error":"#N/A"},{"$error":"#N/A"},{"$error":"#N/A"},{"$error":"#N/A"},{"$error":"#N/A"},{"$error":"#N/A"},{"$error":"#N/A"},{"$error":"#N/A"},{"$error":"#N/A"},{"$error":"#N/A"},{"$error":"#N/A"},{"$error":"#N/A"},{"$error":"#N/A"},{"$error":"#N/A"},{"$error":"#N/A"},{"$error":"#N/A"}]
[null,{"$f":"données!B625","v":"li 622"},{"$error":"#N/A"},{"$error":"#N/A"},{"$error":"#N/A"},{"$error":"#N/A"},{"$error":"#N/A"},{"$error":"#N/A"},{"$error":"#N/A"},{"$error":"#N/A"},{"$error":"#N/A"},{"$error":"#N/A"},{"$error":"#N/A"},{"$error":"#N/A"},{"$error":"#N/A"},{"$error":"#N/A"},{"$error":"#N/A"},{"$error":"#N/A"},{"$error":"#N/A"},{"$error":"#N/A"},{"$error":"#N/A"},{"$error":"#N/A"}]
[null,{"$f":"données!B626","v":"li 623"},{"$error":"#N/A"},{"$error":"#N/A"},{"$error":"#N/A"},{"$error":"#N/A"},{"$error":"#N/A"},{"$error":"#N/A"},{"$error":"#N/A"},{"$error":"#N/A"},{"$error":"#N/A"},{"$error":"#N/A"},{"$error":"#N/A"},{"$error":"#N/A"},{"$error":"#N/A"},{"$error":"#N/A"},{"$error":"#N/A"},{"$error":"#N/A"},{"$error":"#N/A"},{"$error":"#N/A"},{"$error":"#N/A"},{"$error":"#N/A"}]
[null,{"$f":"données!B627","v":"li 624"},{"$error":"#N/A"},{"$error":"#N/A"},{"$error":"#N/A"},{"$error":"#N/A"},{"$error":"#N/A"},{"$error":"#N/A"},{"$error":"#N/A"},{"$error":"#N/A"},{"$error":"#N/A"},{"$error":"#N/A"},{"$error":"#N/A"},{"$error":"#N/A"},{"$error":"#N/A"},{"$error":"#N/A"},{"$error":"#N/A"},{"$error":"#N/A"},{"$error":"#N/A"},{"$error":"#N/A"},{"$error":"#N/A"},{"$error":"#N/A"}]
[null,{"$f":"données!B628","v":"li 625"},{"$error":"#N/A"},{"$error":"#N/A"},{"$error":"#N/A"},{"$error":"#N/A"},{"$error":"#N/A"},{"$error":"#N/A"},{"$error":"#N/A"},{"$error":"#N/A"},{"$error":"#N/A"},{"$error":"#N/A"},{"$error":"#N/A"},{"$error":"#N/A"},{"$error":"#N/A"},{"$error":"#N/A"},{"$error":"#N/A"},{"$error":"#N/A"},{"$error":"#N/A"},{"$error":"#N/A"},{"$error":"#N/A"},{"$error":"#N/A"}]
[null,{"$f":"données!B629","v":"li 626"},{"$error":"#N/A"},{"$error":"#N/A"},{"$error":"#N/A"},{"$error":"#N/A"},{"$error":"#N/A"},{"$error":"#N/A"},{"$error":"#N/A"},{"$error":"#N/A"},{"$error":"#N/A"},{"$error":"#N/A"},{"$error":"#N/A"},{"$error":"#N/A"},{"$error":"#N/A"},{"$error":"#N/A"},{"$error":"#N/A"},{"$error":"#N/A"},{"$error":"#N/A"},{"$error":"#N/A"},{"$error":"#N/A"},{"$error":"#N/A"}]
[null,{"$f":"données!B630","v":"li 627"},{"$error":"#N/A"},{"$error":"#N/A"},{"$error":"#N/A"},{"$error":"#N/A"},{"$error":"#N/A"},{"$error":"#N/A"},{"$error":"#N/A"},{"$error":"#N/A"},{"$error":"#N/A"},{"$error":"#N/A"},{"$error":"#N/A"},{"$error":"#N/A"},{"$error":"#N/A"},{"$error":"#N/A"},{"$error":"#N/A"},{"$error":"#N/A"},{"$error":"#N/A"},{"$error":"#N/A"},{"$error":"#N/A"},{"$error":"#N/A"}]
[null,{"$f":"données!B631","v":"li 628"},{"$error":"#N/A"},{"$error":"#N/A"},{"$error":"#N/A"},{"$error":"#N/A"},{"$error":"#N/A"},{"$error":"#N/A"},{"$error":"#N/A"},{"$error":"#N/A"},{"$error":"#N/A"},{"$error":"#N/A"},{"$error":"#N/A"},{"$error":"#N/A"},{"$error":"#N/A"},{"$error":"#N/A"},{"$error":"#N/A"},{"$error":"#N/A"},{"$error":"#N/A"},{"$error":"#N/A"},{"$error":"#N/A"},{"$error":"#N/A"}]
[null,{"$f":"données!B632","v":"li 629"},{"$error":"#N/A"},{"$error":"#N/A"},{"$error":"#N/A"},{"$error":"#N/A"},{"$error":"#N/A"},{"$error":"#N/A"},{"$error":"#N/A"},{"$error":"#N/A"},{"$error":"#N/A"},{"$error":"#N/A"},{"$error":"#N/A"},{"$error":"#N/A"},{"$error":"#N/A"},{"$error":"#N/A"},{"$error":"#N/A"},{"$error":"#N/A"},{"$error":"#N/A"},{"$error":"#N/A"},{"$error":"#N/A"},{"$error":"#N/A"}]
[null,{"$f":"données!B633","v":"li 630"},{"$error":"#N/A"},{"$error":"#N/A"},{"$error":"#N/A"},{"$error":"#N/A"},{"$error":"#N/A"},{"$error":"#N/A"},{"$error":"#N/A"},{"$error":"#N/A"},{"$error":"#N/A"},{"$error":"#N/A"},{"$error":"#N/A"},{"$error":"#N/A"},{"$error":"#N/A"},{"$error":"#N/A"},{"$error":"#N/A"},{"$error":"#N/A"},{"$error":"#N/A"},{"$error":"#N/A"},{"$error":"#N/A"},{"$error":"#N/A"}]
[null,{"$f":"données!B634","v":"li 631"},{"$error":"#N/A"},{"$error":"#N/A"},{"$error":"#N/A"},{"$error":"#N/A"},{"$error":"#N/A"},{"$error":"#N/A"},{"$error":"#N/A"},{"$error":"#N/A"},{"$error":"#N/A"},{"$error":"#N/A"},{"$error":"#N/A"},{"$error":"#N/A"},{"$error":"#N/A"},{"$error":"#N/A"},{"$error":"#N/A"},{"$error":"#N/A"},{"$error":"#N/A"},{"$error":"#N/A"},{"$error":"#N/A"},{"$error":"#N/A"}]
[null,{"$f":"données!B635","v":"li 632"},{"$error":"#N/A"},{"$error":"#N/A"},{"$error":"#N/A"},{"$error":"#N/A"},{"$error":"#N/A"},{"$error":"#N/A"},{"$error":"#N/A"},{"$error":"#N/A"},{"$error":"#N/A"},{"$error":"#N/A"},{"$error":"#N/A"},{"$error":"#N/A"},{"$error":"#N/A"},{"$error":"#N/A"},{"$error":"#N/A"},{"$error":"#N/A"},{"$error":"#N/A"},{"$error":"#N/A"},{"$error":"#N/A"},{"$error":"#N/A"}]
[null,{"$f":"données!B636","v":"li 633"},{"$error":"#N/A"},{"$error":"#N/A"},{"$error":"#N/A"},{"$error":"#N/A"},{"$error":"#N/A"},{"$error":"#N/A"},{"$error":"#N/A"},{"$error":"#N/A"},{"$error":"#N/A"},{"$error":"#N/A"},{"$error":"#N/A"},{"$error":"#N/A"},{"$error":"#N/A"},{"$error":"#N/A"},{"$error":"#N/A"},{"$error":"#N/A"},{"$error":"#N/A"},{"$error":"#N/A"},{"$error":"#N/A"},{"$error":"#N/A"}]
[null,{"$f":"données!B637","v":"li 634"},{"$error":"#N/A"},{"$error":"#N/A"},{"$error":"#N/A"},{"$error":"#N/A"},{"$error":"#N/A"},{"$error":"#N/A"},{"$error":"#N/A"},{"$error":"#N/A"},{"$error":"#N/A"},{"$error":"#N/A"},{"$error":"#N/A"},{"$error":"#N/A"},{"$error":"#N/A"},{"$error":"#N/A"},{"$error":"#N/A"},{"$error":"#N/A"},{"$error":"#N/A"},{"$error":"#N/A"},{"$error":"#N/A"},{"$error":"#N/A"}]
[null,{"$f":"données!B638","v":"li 635"},{"$error":"#N/A"},{"$error":"#N/A"},{"$error":"#N/A"},{"$error":"#N/A"},{"$error":"#N/A"},{"$error":"#N/A"},{"$error":"#N/A"},{"$error":"#N/A"},{"$error":"#N/A"},{"$error":"#N/A"},{"$error":"#N/A"},{"$error":"#N/A"},{"$error":"#N/A"},{"$error":"#N/A"},{"$error":"#N/A"},{"$error":"#N/A"},{"$error":"#N/A"},{"$error":"#N/A"},{"$error":"#N/A"},{"$error":"#N/A"}]
[null,{"$f":"données!B639","v":"li 636"},{"$error":"#N/A"},{"$error":"#N/A"},{"$error":"#N/A"},{"$error":"#N/A"},{"$error":"#N/A"},{"$error":"#N/A"},{"$error":"#N/A"},{"$error":"#N/A"},{"$error":"#N/A"},{"$error":"#N/A"},{"$error":"#N/A"},{"$error":"#N/A"},{"$error":"#N/A"},{"$error":"#N/A"},{"$error":"#N/A"},{"$error":"#N/A"},{"$error":"#N/A"},{"$error":"#N/A"},{"$error":"#N/A"},{"$error":"#N/A"}]
[null,{"$f":"données!B640","v":"li 637"},{"$error":"#N/A"},{"$error":"#N/A"},{"$error":"#N/A"},{"$error":"#N/A"},{"$error":"#N/A"},{"$error":"#N/A"},{"$error":"#N/A"},{"$error":"#N/A"},{"$error":"#N/A"},{"$error":"#N/A"},{"$error":"#N/A"},{"$error":"#N/A"},{"$error":"#N/A"},{"$error":"#N/A"},{"$error":"#N/A"},{"$error":"#N/A"},{"$error":"#N/A"},{"$error":"#N/A"},{"$error":"#N/A"},{"$error":"#N/A"}]
[null,{"$f":"données!B641","v":"li 638"},{"$error":"#N/A"},{"$error":"#N/A"},{"$error":"#N/A"},{"$error":"#N/A"},{"$error":"#N/A"},{"$error":"#N/A"},{"$error":"#N/A"},{"$error":"#N/A"},{"$error":"#N/A"},{"$error":"#N/A"},{"$error":"#N/A"},{"$error":"#N/A"},{"$error":"#N/A"},{"$error":"#N/A"},{"$error":"#N/A"},{"$error":"#N/A"},{"$error":"#N/A"},{"$error":"#N/A"},{"$error":"#N/A"},{"$error":"#N/A"}]
[null,{"$f":"données!B642","v":"li 639"},{"$error":"#N/A"},{"$error":"#N/A"},{"$error":"#N/A"},{"$error":"#N/A"},{"$error":"#N/A"},{"$error":"#N/A"},{"$error":"#N/A"},{"$error":"#N/A"},{"$error":"#N/A"},{"$error":"#N/A"},{"$error":"#N/A"},{"$error":"#N/A"},{"$error":"#N/A"},{"$error":"#N/A"},{"$error":"#N/A"},{"$error":"#N/A"},{"$error":"#N/A"},{"$error":"#N/A"},{"$error":"#N/A"},{"$error":"#N/A"}]
[null,{"$f":"données!B643","v":"li 640"},{"$error":"#N/A"},{"$error":"#N/A"},{"$error":"#N/A"},{"$error":"#N/A"},{"$error":"#N/A"},{"$error":"#N/A"},{"$error":"#N/A"},{"$error":"#N/A"},{"$error":"#N/A"},{"$error":"#N/A"},{"$error":"#N/A"},{"$error":"#N/A"},{"$error":"#N/A"},{"$error":"#N/A"},{"$error":"#N/A"},{"$error":"#N/A"},{"$error":"#N/A"},{"$error":"#N/A"},{"$error":"#N/A"},{"$error":"#N/A"}]
[null,{"$f":"données!B644","v":"li 641"},{"$error":"#N/A"},{"$error":"#N/A"},{"$error":"#N/A"},{"$error":"#N/A"},{"$error":"#N/A"},{"$error":"#N/A"},{"$error":"#N/A"},{"$error":"#N/A"},{"$error":"#N/A"},{"$error":"#N/A"},{"$error":"#N/A"},{"$error":"#N/A"},{"$error":"#N/A"},{"$error":"#N/A"},{"$error":"#N/A"},{"$error":"#N/A"},{"$error":"#N/A"},{"$error":"#N/A"},{"$error":"#N/A"},{"$error":"#N/A"}]
[null,{"$f":"données!B645","v":"li 642"},{"$error":"#N/A"},{"$error":"#N/A"},{"$error":"#N/A"},{"$error":"#N/A"},{"$error":"#N/A"},{"$error":"#N/A"},{"$error":"#N/A"},{"$error":"#N/A"},{"$error":"#N/A"},{"$error":"#N/A"},{"$error":"#N/A"},{"$error":"#N/A"},{"$error":"#N/A"},{"$error":"#N/A"},{"$error":"#N/A"},{"$error":"#N/A"},{"$error":"#N/A"},{"$error":"#N/A"},{"$error":"#N/A"},{"$error":"#N/A"}]
[null,{"$f":"données!B646","v":"li 643"},{"$error":"#N/A"},{"$error":"#N/A"},{"$error":"#N/A"},{"$error":"#N/A"},{"$error":"#N/A"},{"$error":"#N/A"},{"$error":"#N/A"},{"$error":"#N/A"},{"$error":"#N/A"},{"$error":"#N/A"},{"$error":"#N/A"},{"$error":"#N/A"},{"$error":"#N/A"},{"$error":"#N/A"},{"$error":"#N/A"},{"$error":"#N/A"},{"$error":"#N/A"},{"$error":"#N/A"},{"$error":"#N/A"},{"$error":"#N/A"}]
[null,{"$f":"données!B647","v":"li 644"},{"$error":"#N/A"},{"$error":"#N/A"},{"$error":"#N/A"},{"$error":"#N/A"},{"$error":"#N/A"},{"$error":"#N/A"},{"$error":"#N/A"},{"$error":"#N/A"},{"$error":"#N/A"},{"$error":"#N/A"},{"$error":"#N/A"},{"$error":"#N/A"},{"$error":"#N/A"},{"$error":"#N/A"},{"$error":"#N/A"},{"$error":"#N/A"},{"$error":"#N/A"},{"$error":"#N/A"},{"$error":"#N/A"},{"$error":"#N/A"}]
[null,{"$f":"données!B648","v":"li 645"},{"$error":"#N/A"},{"$error":"#N/A"},{"$error":"#N/A"},{"$error":"#N/A"},{"$error":"#N/A"},{"$error":"#N/A"},{"$error":"#N/A"},{"$error":"#N/A"},{"$error":"#N/A"},{"$error":"#N/A"},{"$error":"#N/A"},{"$error":"#N/A"},{"$error":"#N/A"},{"$error":"#N/A"},{"$error":"#N/A"},{"$error":"#N/A"},{"$error":"#N/A"},{"$error":"#N/A"},{"$error":"#N/A"},{"$error":"#N/A"}]
[null,{"$f":"données!B649","v":"li 646"},{"$error":"#N/A"},{"$error":"#N/A"},{"$error":"#N/A"},{"$error":"#N/A"},{"$error":"#N/A"},{"$error":"#N/A"},{"$error":"#N/A"},{"$error":"#N/A"},{"$error":"#N/A"},{"$error":"#N/A"},{"$error":"#N/A"},{"$error":"#N/A"},{"$error":"#N/A"},{"$error":"#N/A"},{"$error":"#N/A"},{"$error":"#N/A"},{"$error":"#N/A"},{"$error":"#N/A"},{"$error":"#N/A"},{"$error":"#N/A"}]
[null,{"$f":"données!B650","v":"li 647"},{"$error":"#N/A"},{"$error":"#N/A"},{"$error":"#N/A"},{"$error":"#N/A"},{"$error":"#N/A"},{"$error":"#N/A"},{"$error":"#N/A"},{"$error":"#N/A"},{"$error":"#N/A"},{"$error":"#N/A"},{"$error":"#N/A"},{"$error":"#N/A"},{"$error":"#N/A"},{"$error":"#N/A"},{"$error":"#N/A"},{"$error":"#N/A"},{"$error":"#N/A"},{"$error":"#N/A"},{"$error":"#N/A"},{"$error":"#N/A"}]
[null,{"$f":"données!B651","v":"li 648"},{"$error":"#N/A"},{"$error":"#N/A"},{"$error":"#N/A"},{"$error":"#N/A"},{"$error":"#N/A"},{"$error":"#N/A"},{"$error":"#N/A"},{"$error":"#N/A"},{"$error":"#N/A"},{"$error":"#N/A"},{"$error":"#N/A"},{"$error":"#N/A"},{"$error":"#N/A"},{"$error":"#N/A"},{"$error":"#N/A"},{"$error":"#N/A"},{"$error":"#N/A"},{"$error":"#N/A"},{"$error":"#N/A"},{"$error":"#N/A"}]
[null,{"$f":"données!B652","v":"li 649"},{"$error":"#N/A"},{"$error":"#N/A"},{"$error":"#N/A"},{"$error":"#N/A"},{"$error":"#N/A"},{"$error":"#N/A"},{"$error":"#N/A"},{"$error":"#N/A"},{"$error":"#N/A"},{"$error":"#N/A"},{"$error":"#N/A"},{"$error":"#N/A"},{"$error":"#N/A"},{"$error":"#N/A"},{"$error":"#N/A"},{"$error":"#N/A"},{"$error":"#N/A"},{"$error":"#N/A"},{"$error":"#N/A"},{"$error":"#N/A"}]
[null,{"$f":"données!B653","v":"li 650"},{"$error":"#N/A"},{"$error":"#N/A"},{"$error":"#N/A"},{"$error":"#N/A"},{"$error":"#N/A"},{"$error":"#N/A"},{"$error":"#N/A"},{"$error":"#N/A"},{"$error":"#N/A"},{"$error":"#N/A"},{"$error":"#N/A"},{"$error":"#N/A"},{"$error":"#N/A"},{"$error":"#N/A"},{"$error":"#N/A"},{"$error":"#N/A"},{"$error":"#N/A"},{"$error":"#N/A"},{"$error":"#N/A"},{"$error":"#N/A"}]
[null,{"$f":"données!B654","v":"li 651"},{"$error":"#N/A"},{"$error":"#N/A"},{"$error":"#N/A"},{"$error":"#N/A"},{"$error":"#N/A"},{"$error":"#N/A"},{"$error":"#N/A"},{"$error":"#N/A"},{"$error":"#N/A"},{"$error":"#N/A"},{"$error":"#N/A"},{"$error":"#N/A"},{"$error":"#N/A"},{"$error":"#N/A"},{"$error":"#N/A"},{"$error":"#N/A"},{"$error":"#N/A"},{"$error":"#N/A"},{"$error":"#N/A"},{"$error":"#N/A"}]
[null,{"$f":"données!B655","v":"li 652"},{"$error":"#N/A"},{"$error":"#N/A"},{"$error":"#N/A"},{"$error":"#N/A"},{"$error":"#N/A"},{"$error":"#N/A"},{"$error":"#N/A"},{"$error":"#N/A"},{"$error":"#N/A"},{"$error":"#N/A"},{"$error":"#N/A"},{"$error":"#N/A"},{"$error":"#N/A"},{"$error":"#N/A"},{"$error":"#N/A"},{"$error":"#N/A"},{"$error":"#N/A"},{"$error":"#N/A"},{"$error":"#N/A"},{"$error":"#N/A"}]
[null,{"$f":"données!B656","v":"li 653"},{"$error":"#N/A"},{"$error":"#N/A"},{"$error":"#N/A"},{"$error":"#N/A"},{"$error":"#N/A"},{"$error":"#N/A"},{"$error":"#N/A"},{"$error":"#N/A"},{"$error":"#N/A"},{"$error":"#N/A"},{"$error":"#N/A"},{"$error":"#N/A"},{"$error":"#N/A"},{"$error":"#N/A"},{"$error":"#N/A"},{"$error":"#N/A"},{"$error":"#N/A"},{"$error":"#N/A"},{"$error":"#N/A"},{"$error":"#N/A"}]
[null,{"$f":"données!B657","v":"li 654"},{"$error":"#N/A"},{"$error":"#N/A"},{"$error":"#N/A"},{"$error":"#N/A"},{"$error":"#N/A"},{"$error":"#N/A"},{"$error":"#N/A"},{"$error":"#N/A"},{"$error":"#N/A"},{"$error":"#N/A"},{"$error":"#N/A"},{"$error":"#N/A"},{"$error":"#N/A"},{"$error":"#N/A"},{"$error":"#N/A"},{"$error":"#N/A"},{"$error":"#N/A"},{"$error":"#N/A"},{"$error":"#N/A"},{"$error":"#N/A"}]
[null,{"$f":"données!B658","v":"li 655"},{"$error":"#N/A"},{"$error":"#N/A"},{"$error":"#N/A"},{"$error":"#N/A"},{"$error":"#N/A"},{"$error":"#N/A"},{"$error":"#N/A"},{"$error":"#N/A"},{"$error":"#N/A"},{"$error":"#N/A"},{"$error":"#N/A"},{"$error":"#N/A"},{"$error":"#N/A"},{"$error":"#N/A"},{"$error":"#N/A"},{"$error":"#N/A"},{"$error":"#N/A"},{"$error":"#N/A"},{"$error":"#N/A"},{"$error":"#N/A"}]
[null,{"$f":"données!B659","v":"li 656"},{"$error":"#N/A"},{"$error":"#N/A"},{"$error":"#N/A"},{"$error":"#N/A"},{"$error":"#N/A"},{"$error":"#N/A"},{"$error":"#N/A"},{"$error":"#N/A"},{"$error":"#N/A"},{"$error":"#N/A"},{"$error":"#N/A"},{"$error":"#N/A"},{"$error":"#N/A"},{"$error":"#N/A"},{"$error":"#N/A"},{"$error":"#N/A"},{"$error":"#N/A"},{"$error":"#N/A"},{"$error":"#N/A"},{"$error":"#N/A"}]
[null,{"$f":"données!B660","v":"li 657"},{"$error":"#N/A"},{"$error":"#N/A"},{"$error":"#N/A"},{"$error":"#N/A"},{"$error":"#N/A"},{"$error":"#N/A"},{"$error":"#N/A"},{"$error":"#N/A"},{"$error":"#N/A"},{"$error":"#N/A"},{"$error":"#N/A"},{"$error":"#N/A"},{"$error":"#N/A"},{"$error":"#N/A"},{"$error":"#N/A"},{"$error":"#N/A"},{"$error":"#N/A"},{"$error":"#N/A"},{"$error":"#N/A"},{"$error":"#N/A"}]
[null,{"$f":"données!B661","v":"li 658"},{"$error":"#N/A"},{"$error":"#N/A"},{"$error":"#N/A"},{"$error":"#N/A"},{"$error":"#N/A"},{"$error":"#N/A"},{"$error":"#N/A"},{"$error":"#N/A"},{"$error":"#N/A"},{"$error":"#N/A"},{"$error":"#N/A"},{"$error":"#N/A"},{"$error":"#N/A"},{"$error":"#N/A"},{"$error":"#N/A"},{"$error":"#N/A"},{"$error":"#N/A"},{"$error":"#N/A"},{"$error":"#N/A"},{"$error":"#N/A"}]
[null,{"$f":"données!B662","v":"li 659"},{"$error":"#N/A"},{"$error":"#N/A"},{"$error":"#N/A"},{"$error":"#N/A"},{"$error":"#N/A"},{"$error":"#N/A"},{"$error":"#N/A"},{"$error":"#N/A"},{"$error":"#N/A"},{"$error":"#N/A"},{"$error":"#N/A"},{"$error":"#N/A"},{"$error":"#N/A"},{"$error":"#N/A"},{"$error":"#N/A"},{"$error":"#N/A"},{"$error":"#N/A"},{"$error":"#N/A"},{"$error":"#N/A"},{"$error":"#N/A"}]
[null,{"$f":"données!B663","v":"li 660"},{"$error":"#N/A"},{"$error":"#N/A"},{"$error":"#N/A"},{"$error":"#N/A"},{"$error":"#N/A"},{"$error":"#N/A"},{"$error":"#N/A"},{"$error":"#N/A"},{"$error":"#N/A"},{"$error":"#N/A"},{"$error":"#N/A"},{"$error":"#N/A"},{"$error":"#N/A"},{"$error":"#N/A"},{"$error":"#N/A"},{"$error":"#N/A"},{"$error":"#N/A"},{"$error":"#N/A"},{"$error":"#N/A"},{"$error":"#N/A"}]
[null,{"$f":"données!B664","v":"li 661"},{"$error":"#N/A"},{"$error":"#N/A"},{"$error":"#N/A"},{"$error":"#N/A"},{"$error":"#N/A"},{"$error":"#N/A"},{"$error":"#N/A"},{"$error":"#N/A"},{"$error":"#N/A"},{"$error":"#N/A"},{"$error":"#N/A"},{"$error":"#N/A"},{"$error":"#N/A"},{"$error":"#N/A"},{"$error":"#N/A"},{"$error":"#N/A"},{"$error":"#N/A"},{"$error":"#N/A"},{"$error":"#N/A"},{"$error":"#N/A"}]
[null,{"$f":"données!B665","v":"li 662"},{"$error":"#N/A"},{"$error":"#N/A"},{"$error":"#N/A"},{"$error":"#N/A"},{"$error":"#N/A"},{"$error":"#N/A"},{"$error":"#N/A"},{"$error":"#N/A"},{"$error":"#N/A"},{"$error":"#N/A"},{"$error":"#N/A"},{"$error":"#N/A"},{"$error":"#N/A"},{"$error":"#N/A"},{"$error":"#N/A"},{"$error":"#N/A"},{"$error":"#N/A"},{"$error":"#N/A"},{"$error":"#N/A"},{"$error":"#N/A"}]
[null,{"$f":"données!B666","v":"li 663"},{"$error":"#N/A"},{"$error":"#N/A"},{"$error":"#N/A"},{"$error":"#N/A"},{"$error":"#N/A"},{"$error":"#N/A"},{"$error":"#N/A"},{"$error":"#N/A"},{"$error":"#N/A"},{"$error":"#N/A"},{"$error":"#N/A"},{"$error":"#N/A"},{"$error":"#N/A"},{"$error":"#N/A"},{"$error":"#N/A"},{"$error":"#N/A"},{"$error":"#N/A"},{"$error":"#N/A"},{"$error":"#N/A"},{"$error":"#N/A"}]
[null,{"$f":"données!B667","v":"li 664"},{"$error":"#N/A"},{"$error":"#N/A"},{"$error":"#N/A"},{"$error":"#N/A"},{"$error":"#N/A"},{"$error":"#N/A"},{"$error":"#N/A"},{"$error":"#N/A"},{"$error":"#N/A"},{"$error":"#N/A"},{"$error":"#N/A"},{"$error":"#N/A"},{"$error":"#N/A"},{"$error":"#N/A"},{"$error":"#N/A"},{"$error":"#N/A"},{"$error":"#N/A"},{"$error":"#N/A"},{"$error":"#N/A"},{"$error":"#N/A"}]
[null,{"$f":"données!B668","v":"li 665"},{"$error":"#N/A"},{"$error":"#N/A"},{"$error":"#N/A"},{"$error":"#N/A"},{"$error":"#N/A"},{"$error":"#N/A"},{"$error":"#N/A"},{"$error":"#N/A"},{"$error":"#N/A"},{"$error":"#N/A"},{"$error":"#N/A"},{"$error":"#N/A"},{"$error":"#N/A"},{"$error":"#N/A"},{"$error":"#N/A"},{"$error":"#N/A"},{"$error":"#N/A"},{"$error":"#N/A"},{"$error":"#N/A"},{"$error":"#N/A"}]
[null,{"$f":"données!B669","v":"li 666"},{"$error":"#N/A"},{"$error":"#N/A"},{"$error":"#N/A"},{"$error":"#N/A"},{"$error":"#N/A"},{"$error":"#N/A"},{"$error":"#N/A"},{"$error":"#N/A"},{"$error":"#N/A"},{"$error":"#N/A"},{"$error":"#N/A"},{"$error":"#N/A"},{"$error":"#N/A"},{"$error":"#N/A"},{"$error":"#N/A"},{"$error":"#N/A"},{"$error":"#N/A"},{"$error":"#N/A"},{"$error":"#N/A"},{"$error":"#N/A"}]
[null,{"$f":"données!B670","v":"li 667"},{"$error":"#N/A"},{"$error":"#N/A"},{"$error":"#N/A"},{"$error":"#N/A"},{"$error":"#N/A"},{"$error":"#N/A"},{"$error":"#N/A"},{"$error":"#N/A"},{"$error":"#N/A"},{"$error":"#N/A"},{"$error":"#N/A"},{"$error":"#N/A"},{"$error":"#N/A"},{"$error":"#N/A"},{"$error":"#N/A"},{"$error":"#N/A"},{"$error":"#N/A"},{"$error":"#N/A"},{"$error":"#N/A"},{"$error":"#N/A"}]
[null,{"$f":"données!B671","v":"li 668"},{"$error":"#N/A"},{"$error":"#N/A"},{"$error":"#N/A"},{"$error":"#N/A"},{"$error":"#N/A"},{"$error":"#N/A"},{"$error":"#N/A"},{"$error":"#N/A"},{"$error":"#N/A"},{"$error":"#N/A"},{"$error":"#N/A"},{"$error":"#N/A"},{"$error":"#N/A"},{"$error":"#N/A"},{"$error":"#N/A"},{"$error":"#N/A"},{"$error":"#N/A"},{"$error":"#N/A"},{"$error":"#N/A"},{"$error":"#N/A"}]
[null,{"$f":"données!B672","v":"li 669"},{"$error":"#N/A"},{"$error":"#N/A"},{"$error":"#N/A"},{"$error":"#N/A"},{"$error":"#N/A"},{"$error":"#N/A"},{"$error":"#N/A"},{"$error":"#N/A"},{"$error":"#N/A"},{"$error":"#N/A"},{"$error":"#N/A"},{"$error":"#N/A"},{"$error":"#N/A"},{"$error":"#N/A"},{"$error":"#N/A"},{"$error":"#N/A"},{"$error":"#N/A"},{"$error":"#N/A"},{"$error":"#N/A"},{"$error":"#N/A"}]
[null,{"$f":"données!B673","v":"li 670"},{"$error":"#N/A"},{"$error":"#N/A"},{"$error":"#N/A"},{"$error":"#N/A"},{"$error":"#N/A"},{"$error":"#N/A"},{"$error":"#N/A"},{"$error":"#N/A"},{"$error":"#N/A"},{"$error":"#N/A"},{"$error":"#N/A"},{"$error":"#N/A"},{"$error":"#N/A"},{"$error":"#N/A"},{"$error":"#N/A"},{"$error":"#N/A"},{"$error":"#N/A"},{"$error":"#N/A"},{"$error":"#N/A"},{"$error":"#N/A"}]
[null,{"$f":"données!B674","v":"li 671"},{"$error":"#N/A"},{"$error":"#N/A"},{"$error":"#N/A"},{"$error":"#N/A"},{"$error":"#N/A"},{"$error":"#N/A"},{"$error":"#N/A"},{"$error":"#N/A"},{"$error":"#N/A"},{"$error":"#N/A"},{"$error":"#N/A"},{"$error":"#N/A"},{"$error":"#N/A"},{"$error":"#N/A"},{"$error":"#N/A"},{"$error":"#N/A"},{"$error":"#N/A"},{"$error":"#N/A"},{"$error":"#N/A"},{"$error":"#N/A"}]
[null,{"$f":"données!B675","v":"li 672"},{"$error":"#N/A"},{"$error":"#N/A"},{"$error":"#N/A"},{"$error":"#N/A"},{"$error":"#N/A"},{"$error":"#N/A"},{"$error":"#N/A"},{"$error":"#N/A"},{"$error":"#N/A"},{"$error":"#N/A"},{"$error":"#N/A"},{"$error":"#N/A"},{"$error":"#N/A"},{"$error":"#N/A"},{"$error":"#N/A"},{"$error":"#N/A"},{"$error":"#N/A"},{"$error":"#N/A"},{"$error":"#N/A"},{"$error":"#N/A"}]
[null,{"$f":"données!B676","v":"li 673"},{"$error":"#N/A"},{"$error":"#N/A"},{"$error":"#N/A"},{"$error":"#N/A"},{"$error":"#N/A"},{"$error":"#N/A"},{"$error":"#N/A"},{"$error":"#N/A"},{"$error":"#N/A"},{"$error":"#N/A"},{"$error":"#N/A"},{"$error":"#N/A"},{"$error":"#N/A"},{"$error":"#N/A"},{"$error":"#N/A"},{"$error":"#N/A"},{"$error":"#N/A"},{"$error":"#N/A"},{"$error":"#N/A"},{"$error":"#N/A"}]
[null,{"$f":"données!B677","v":"li 674"},{"$error":"#N/A"},{"$error":"#N/A"},{"$error":"#N/A"},{"$error":"#N/A"},{"$error":"#N/A"},{"$error":"#N/A"},{"$error":"#N/A"},{"$error":"#N/A"},{"$error":"#N/A"},{"$error":"#N/A"},{"$error":"#N/A"},{"$error":"#N/A"},{"$error":"#N/A"},{"$error":"#N/A"},{"$error":"#N/A"},{"$error":"#N/A"},{"$error":"#N/A"},{"$error":"#N/A"},{"$error":"#N/A"},{"$error":"#N/A"}]
[null,{"$f":"données!B678","v":"li 675"},{"$error":"#N/A"},{"$error":"#N/A"},{"$error":"#N/A"},{"$error":"#N/A"},{"$error":"#N/A"},{"$error":"#N/A"},{"$error":"#N/A"},{"$error":"#N/A"},{"$error":"#N/A"},{"$error":"#N/A"},{"$error":"#N/A"},{"$error":"#N/A"},{"$error":"#N/A"},{"$error":"#N/A"},{"$error":"#N/A"},{"$error":"#N/A"},{"$error":"#N/A"},{"$error":"#N/A"},{"$error":"#N/A"},{"$error":"#N/A"}]
[null,{"$f":"données!B679","v":"li 676"},{"$error":"#N/A"},{"$error":"#N/A"},{"$error":"#N/A"},{"$error":"#N/A"},{"$error":"#N/A"},{"$error":"#N/A"},{"$error":"#N/A"},{"$error":"#N/A"},{"$error":"#N/A"},{"$error":"#N/A"},{"$error":"#N/A"},{"$error":"#N/A"},{"$error":"#N/A"},{"$error":"#N/A"},{"$error":"#N/A"},{"$error":"#N/A"},{"$error":"#N/A"},{"$error":"#N/A"},{"$error":"#N/A"},{"$error":"#N/A"}]
[null,{"$f":"données!B680","v":"li 677"},{"$error":"#N/A"},{"$error":"#N/A"},{"$error":"#N/A"},{"$error":"#N/A"},{"$error":"#N/A"},{"$error":"#N/A"},{"$error":"#N/A"},{"$error":"#N/A"},{"$error":"#N/A"},{"$error":"#N/A"},{"$error":"#N/A"},{"$error":"#N/A"},{"$error":"#N/A"},{"$error":"#N/A"},{"$error":"#N/A"},{"$error":"#N/A"},{"$error":"#N/A"},{"$error":"#N/A"},{"$error":"#N/A"},{"$error":"#N/A"}]
[null,{"$f":"données!B681","v":"li 678"},{"$error":"#N/A"},{"$error":"#N/A"},{"$error":"#N/A"},{"$error":"#N/A"},{"$error":"#N/A"},{"$error":"#N/A"},{"$error":"#N/A"},{"$error":"#N/A"},{"$error":"#N/A"},{"$error":"#N/A"},{"$error":"#N/A"},{"$error":"#N/A"},{"$error":"#N/A"},{"$error":"#N/A"},{"$error":"#N/A"},{"$error":"#N/A"},{"$error":"#N/A"},{"$error":"#N/A"},{"$error":"#N/A"},{"$error":"#N/A"}]
[null,{"$f":"données!B682","v":"li 679"},{"$error":"#N/A"},{"$error":"#N/A"},{"$error":"#N/A"},{"$error":"#N/A"},{"$error":"#N/A"},{"$error":"#N/A"},{"$error":"#N/A"},{"$error":"#N/A"},{"$error":"#N/A"},{"$error":"#N/A"},{"$error":"#N/A"},{"$error":"#N/A"},{"$error":"#N/A"},{"$error":"#N/A"},{"$error":"#N/A"},{"$error":"#N/A"},{"$error":"#N/A"},{"$error":"#N/A"},{"$error":"#N/A"},{"$error":"#N/A"}]
[null,{"$f":"données!B683","v":"li 680"},{"$error":"#N/A"},{"$error":"#N/A"},{"$error":"#N/A"},{"$error":"#N/A"},{"$error":"#N/A"},{"$error":"#N/A"},{"$error":"#N/A"},{"$error":"#N/A"},{"$error":"#N/A"},{"$error":"#N/A"},{"$error":"#N/A"},{"$error":"#N/A"},{"$error":"#N/A"},{"$error":"#N/A"},{"$error":"#N/A"},{"$error":"#N/A"},{"$error":"#N/A"},{"$error":"#N/A"},{"$error":"#N/A"},{"$error":"#N/A"}]
[null,{"$f":"données!B684","v":"li 681"},{"$error":"#N/A"},{"$error":"#N/A"},{"$error":"#N/A"},{"$error":"#N/A"},{"$error":"#N/A"},{"$error":"#N/A"},{"$error":"#N/A"},{"$error":"#N/A"},{"$error":"#N/A"},{"$error":"#N/A"},{"$error":"#N/A"},{"$error":"#N/A"},{"$error":"#N/A"},{"$error":"#N/A"},{"$error":"#N/A"},{"$error":"#N/A"},{"$error":"#N/A"},{"$error":"#N/A"},{"$error":"#N/A"},{"$error":"#N/A"}]
[null,{"$f":"données!B685","v":"li 682"},{"$error":"#N/A"},{"$error":"#N/A"},{"$error":"#N/A"},{"$error":"#N/A"},{"$error":"#N/A"},{"$error":"#N/A"},{"$error":"#N/A"},{"$error":"#N/A"},{"$error":"#N/A"},{"$error":"#N/A"},{"$error":"#N/A"},{"$error":"#N/A"},{"$error":"#N/A"},{"$error":"#N/A"},{"$error":"#N/A"},{"$error":"#N/A"},{"$error":"#N/A"},{"$error":"#N/A"},{"$error":"#N/A"},{"$error":"#N/A"}]
[null,{"$f":"données!B686","v":"li 683"},{"$error":"#N/A"},{"$error":"#N/A"},{"$error":"#N/A"},{"$error":"#N/A"},{"$error":"#N/A"},{"$error":"#N/A"},{"$error":"#N/A"},{"$error":"#N/A"},{"$error":"#N/A"},{"$error":"#N/A"},{"$error":"#N/A"},{"$error":"#N/A"},{"$error":"#N/A"},{"$error":"#N/A"},{"$error":"#N/A"},{"$error":"#N/A"},{"$error":"#N/A"},{"$error":"#N/A"},{"$error":"#N/A"},{"$error":"#N/A"}]
[null,{"$f":"données!B687","v":"li 684"},{"$error":"#N/A"},{"$error":"#N/A"},{"$error":"#N/A"},{"$error":"#N/A"},{"$error":"#N/A"},{"$error":"#N/A"},{"$error":"#N/A"},{"$error":"#N/A"},{"$error":"#N/A"},{"$error":"#N/A"},{"$error":"#N/A"},{"$error":"#N/A"},{"$error":"#N/A"},{"$error":"#N/A"},{"$error":"#N/A"},{"$error":"#N/A"},{"$error":"#N/A"},{"$error":"#N/A"},{"$error":"#N/A"},{"$error":"#N/A"}]
[null,{"$f":"données!B688","v":"li 685"},{"$error":"#N/A"},{"$error":"#N/A"},{"$error":"#N/A"},{"$error":"#N/A"},{"$error":"#N/A"},{"$error":"#N/A"},{"$error":"#N/A"},{"$error":"#N/A"},{"$error":"#N/A"},{"$error":"#N/A"},{"$error":"#N/A"},{"$error":"#N/A"},{"$error":"#N/A"},{"$error":"#N/A"},{"$error":"#N/A"},{"$error":"#N/A"},{"$error":"#N/A"},{"$error":"#N/A"},{"$error":"#N/A"},{"$error":"#N/A"}]
[null,{"$f":"données!B689","v":"li 686"},{"$error":"#N/A"},{"$error":"#N/A"},{"$error":"#N/A"},{"$error":"#N/A"},{"$error":"#N/A"},{"$error":"#N/A"},{"$error":"#N/A"},{"$error":"#N/A"},{"$error":"#N/A"},{"$error":"#N/A"},{"$error":"#N/A"},{"$error":"#N/A"},{"$error":"#N/A"},{"$error":"#N/A"},{"$error":"#N/A"},{"$error":"#N/A"},{"$error":"#N/A"},{"$error":"#N/A"},{"$error":"#N/A"},{"$error":"#N/A"}]
[null,{"$f":"données!B690","v":"li 687"},{"$error":"#N/A"},{"$error":"#N/A"},{"$error":"#N/A"},{"$error":"#N/A"},{"$error":"#N/A"},{"$error":"#N/A"},{"$error":"#N/A"},{"$error":"#N/A"},{"$error":"#N/A"},{"$error":"#N/A"},{"$error":"#N/A"},{"$error":"#N/A"},{"$error":"#N/A"},{"$error":"#N/A"},{"$error":"#N/A"},{"$error":"#N/A"},{"$error":"#N/A"},{"$error":"#N/A"},{"$error":"#N/A"},{"$error":"#N/A"}]
[null,{"$f":"données!B691","v":"li 688"},{"$error":"#N/A"},{"$error":"#N/A"},{"$error":"#N/A"},{"$error":"#N/A"},{"$error":"#N/A"},{"$error":"#N/A"},{"$error":"#N/A"},{"$error":"#N/A"},{"$error":"#N/A"},{"$error":"#N/A"},{"$error":"#N/A"},{"$error":"#N/A"},{"$error":"#N/A"},{"$error":"#N/A"},{"$error":"#N/A"},{"$error":"#N/A"},{"$error":"#N/A"},{"$error":"#N/A"},{"$error":"#N/A"},{"$error":"#N/A"}]
[null,{"$f":"données!B692","v":"li 689"},{"$error":"#N/A"},{"$error":"#N/A"},{"$error":"#N/A"},{"$error":"#N/A"},{"$error":"#N/A"},{"$error":"#N/A"},{"$error":"#N/A"},{"$error":"#N/A"},{"$error":"#N/A"},{"$error":"#N/A"},{"$error":"#N/A"},{"$error":"#N/A"},{"$error":"#N/A"},{"$error":"#N/A"},{"$error":"#N/A"},{"$error":"#N/A"},{"$error":"#N/A"},{"$error":"#N/A"},{"$error":"#N/A"},{"$error":"#N/A"}]
[null,{"$f":"données!B693","v":"li 690"},{"$error":"#N/A"},{"$error":"#N/A"},{"$error":"#N/A"},{"$error":"#N/A"},{"$error":"#N/A"},{"$error":"#N/A"},{"$error":"#N/A"},{"$error":"#N/A"},{"$error":"#N/A"},{"$error":"#N/A"},{"$error":"#N/A"},{"$error":"#N/A"},{"$error":"#N/A"},{"$error":"#N/A"},{"$error":"#N/A"},{"$error":"#N/A"},{"$error":"#N/A"},{"$error":"#N/A"},{"$error":"#N/A"},{"$error":"#N/A"}]
[null,{"$f":"données!B694","v":"li 691"},{"$error":"#N/A"},{"$error":"#N/A"},{"$error":"#N/A"},{"$error":"#N/A"},{"$error":"#N/A"},{"$error":"#N/A"},{"$error":"#N/A"},{"$error":"#N/A"},{"$error":"#N/A"},{"$error":"#N/A"},{"$error":"#N/A"},{"$error":"#N/A"},{"$error":"#N/A"},{"$error":"#N/A"},{"$error":"#N/A"},{"$error":"#N/A"},{"$error":"#N/A"},{"$error":"#N/A"},{"$error":"#N/A"},{"$error":"#N/A"}]
[null,{"$f":"données!B695","v":"li 692"},{"$error":"#N/A"},{"$error":"#N/A"},{"$error":"#N/A"},{"$error":"#N/A"},{"$error":"#N/A"},{"$error":"#N/A"},{"$error":"#N/A"},{"$error":"#N/A"},{"$error":"#N/A"},{"$error":"#N/A"},{"$error":"#N/A"},{"$error":"#N/A"},{"$error":"#N/A"},{"$error":"#N/A"},{"$error":"#N/A"},{"$error":"#N/A"},{"$error":"#N/A"},{"$error":"#N/A"},{"$error":"#N/A"},{"$error":"#N/A"}]
[null,{"$f":"données!B696","v":"li 693"},{"$error":"#N/A"},{"$error":"#N/A"},{"$error":"#N/A"},{"$error":"#N/A"},{"$error":"#N/A"},{"$error":"#N/A"},{"$error":"#N/A"},{"$error":"#N/A"},{"$error":"#N/A"},{"$error":"#N/A"},{"$error":"#N/A"},{"$error":"#N/A"},{"$error":"#N/A"},{"$error":"#N/A"},{"$error":"#N/A"},{"$error":"#N/A"},{"$error":"#N/A"},{"$error":"#N/A"},{"$error":"#N/A"},{"$error":"#N/A"}]
[null,{"$f":"données!B697","v":"li 694"},{"$error":"#N/A"},{"$error":"#N/A"},{"$error":"#N/A"},{"$error":"#N/A"},{"$error":"#N/A"},{"$error":"#N/A"},{"$error":"#N/A"},{"$error":"#N/A"},{"$error":"#N/A"},{"$error":"#N/A"},{"$error":"#N/A"},{"$error":"#N/A"},{"$error":"#N/A"},{"$error":"#N/A"},{"$error":"#N/A"},{"$error":"#N/A"},{"$error":"#N/A"},{"$error":"#N/A"},{"$error":"#N/A"},{"$error":"#N/A"}]
[null,{"$f":"données!B698","v":"li 695"},{"$error":"#N/A"},{"$error":"#N/A"},{"$error":"#N/A"},{"$error":"#N/A"},{"$error":"#N/A"},{"$error":"#N/A"},{"$error":"#N/A"},{"$error":"#N/A"},{"$error":"#N/A"},{"$error":"#N/A"},{"$error":"#N/A"},{"$error":"#N/A"},{"$error":"#N/A"},{"$error":"#N/A"},{"$error":"#N/A"},{"$error":"#N/A"},{"$error":"#N/A"},{"$error":"#N/A"},{"$error":"#N/A"},{"$error":"#N/A"}]
[null,{"$f":"données!B699","v":"li 696"},{"$error":"#N/A"},{"$error":"#N/A"},{"$error":"#N/A"},{"$error":"#N/A"},{"$error":"#N/A"},{"$error":"#N/A"},{"$error":"#N/A"},{"$error":"#N/A"},{"$error":"#N/A"},{"$error":"#N/A"},{"$error":"#N/A"},{"$error":"#N/A"},{"$error":"#N/A"},{"$error":"#N/A"},{"$error":"#N/A"},{"$error":"#N/A"},{"$error":"#N/A"},{"$error":"#N/A"},{"$error":"#N/A"},{"$error":"#N/A"}]
[null,{"$f":"données!B700","v":"li 697"},{"$error":"#N/A"},{"$error":"#N/A"},{"$error":"#N/A"},{"$error":"#N/A"},{"$error":"#N/A"},{"$error":"#N/A"},{"$error":"#N/A"},{"$error":"#N/A"},{"$error":"#N/A"},{"$error":"#N/A"},{"$error":"#N/A"},{"$error":"#N/A"},{"$error":"#N/A"},{"$error":"#N/A"},{"$error":"#N/A"},{"$error":"#N/A"},{"$error":"#N/A"},{"$error":"#N/A"},{"$error":"#N/A"},{"$error":"#N/A"}]
[null,{"$f":"données!B701","v":"li 698"},{"$error":"#N/A"},{"$error":"#N/A"},{"$error":"#N/A"},{"$error":"#N/A"},{"$error":"#N/A"},{"$error":"#N/A"},{"$error":"#N/A"},{"$error":"#N/A"},{"$error":"#N/A"},{"$error":"#N/A"},{"$error":"#N/A"},{"$error":"#N/A"},{"$error":"#N/A"},{"$error":"#N/A"},{"$error":"#N/A"},{"$error":"#N/A"},{"$error":"#N/A"},{"$error":"#N/A"},{"$error":"#N/A"},{"$error":"#N/A"}]
[null,{"$f":"données!B702","v":"li 699"},{"$error":"#N/A"},{"$error":"#N/A"},{"$error":"#N/A"},{"$error":"#N/A"},{"$error":"#N/A"},{"$error":"#N/A"},{"$error":"#N/A"},{"$error":"#N/A"},{"$error":"#N/A"},{"$error":"#N/A"},{"$error":"#N/A"},{"$error":"#N/A"},{"$error":"#N/A"},{"$error":"#N/A"},{"$error":"#N/A"},{"$error":"#N/A"},{"$error":"#N/A"},{"$error":"#N/A"},{"$error":"#N/A"},{"$error":"#N/A"}]
[null,{"$f":"données!B703","v":"li 700"},{"$error":"#N/A"},{"$error":"#N/A"},{"$error":"#N/A"},{"$error":"#N/A"},{"$error":"#N/A"},{"$error":"#N/A"},{"$error":"#N/A"},{"$error":"#N/A"},{"$error":"#N/A"},{"$error":"#N/A"},{"$error":"#N/A"},{"$error":"#N/A"},{"$error":"#N/A"},{"$error":"#N/A"},{"$error":"#N/A"},{"$error":"#N/A"},{"$error":"#N/A"},{"$error":"#N/A"},{"$error":"#N/A"},{"$error":"#N/A"}]
[null,{"$f":"données!B704","v":"li 701"},{"$error":"#N/A"},{"$error":"#N/A"},{"$error":"#N/A"},{"$error":"#N/A"},{"$error":"#N/A"},{"$error":"#N/A"},{"$error":"#N/A"},{"$error":"#N/A"},{"$error":"#N/A"},{"$error":"#N/A"},{"$error":"#N/A"},{"$error":"#N/A"},{"$error":"#N/A"},{"$error":"#N/A"},{"$error":"#N/A"},{"$error":"#N/A"},{"$error":"#N/A"},{"$error":"#N/A"},{"$error":"#N/A"},{"$error":"#N/A"}]
[null,{"$f":"données!B705","v":"li 702"},{"$error":"#N/A"},{"$error":"#N/A"},{"$error":"#N/A"},{"$error":"#N/A"},{"$error":"#N/A"},{"$error":"#N/A"},{"$error":"#N/A"},{"$error":"#N/A"},{"$error":"#N/A"},{"$error":"#N/A"},{"$error":"#N/A"},{"$error":"#N/A"},{"$error":"#N/A"},{"$error":"#N/A"},{"$error":"#N/A"},{"$error":"#N/A"},{"$error":"#N/A"},{"$error":"#N/A"},{"$error":"#N/A"},{"$error":"#N/A"}]
[null,{"$f":"données!B706","v":"li 703"},{"$error":"#N/A"},{"$error":"#N/A"},{"$error":"#N/A"},{"$error":"#N/A"},{"$error":"#N/A"},{"$error":"#N/A"},{"$error":"#N/A"},{"$error":"#N/A"},{"$error":"#N/A"},{"$error":"#N/A"},{"$error":"#N/A"},{"$error":"#N/A"},{"$error":"#N/A"},{"$error":"#N/A"},{"$error":"#N/A"},{"$error":"#N/A"},{"$error":"#N/A"},{"$error":"#N/A"},{"$error":"#N/A"},{"$error":"#N/A"}]
[null,{"$f":"données!B707","v":"li 704"},{"$error":"#N/A"},{"$error":"#N/A"},{"$error":"#N/A"},{"$error":"#N/A"},{"$error":"#N/A"},{"$error":"#N/A"},{"$error":"#N/A"},{"$error":"#N/A"},{"$error":"#N/A"},{"$error":"#N/A"},{"$error":"#N/A"},{"$error":"#N/A"},{"$error":"#N/A"},{"$error":"#N/A"},{"$error":"#N/A"},{"$error":"#N/A"},{"$error":"#N/A"},{"$error":"#N/A"},{"$error":"#N/A"},{"$error":"#N/A"}]
[null,{"$f":"données!B708","v":"li 705"},{"$error":"#N/A"},{"$error":"#N/A"},{"$error":"#N/A"},{"$error":"#N/A"},{"$error":"#N/A"},{"$error":"#N/A"},{"$error":"#N/A"},{"$error":"#N/A"},{"$error":"#N/A"},{"$error":"#N/A"},{"$error":"#N/A"},{"$error":"#N/A"},{"$error":"#N/A"},{"$error":"#N/A"},{"$error":"#N/A"},{"$error":"#N/A"},{"$error":"#N/A"},{"$error":"#N/A"},{"$error":"#N/A"},{"$error":"#N/A"}]
[null,{"$f":"données!B709","v":"li 706"},{"$error":"#N/A"},{"$error":"#N/A"},{"$error":"#N/A"},{"$error":"#N/A"},{"$error":"#N/A"},{"$error":"#N/A"},{"$error":"#N/A"},{"$error":"#N/A"},{"$error":"#N/A"},{"$error":"#N/A"},{"$error":"#N/A"},{"$error":"#N/A"},{"$error":"#N/A"},{"$error":"#N/A"},{"$error":"#N/A"},{"$error":"#N/A"},{"$error":"#N/A"},{"$error":"#N/A"},{"$error":"#N/A"},{"$error":"#N/A"}]
[null,{"$f":"données!B710","v":"li 707"},{"$error":"#N/A"},{"$error":"#N/A"},{"$error":"#N/A"},{"$error":"#N/A"},{"$error":"#N/A"},{"$error":"#N/A"},{"$error":"#N/A"},{"$error":"#N/A"},{"$error":"#N/A"},{"$error":"#N/A"},{"$error":"#N/A"},{"$error":"#N/A"},{"$error":"#N/A"},{"$error":"#N/A"},{"$error":"#N/A"},{"$error":"#N/A"},{"$error":"#N/A"},{"$error":"#N/A"},{"$error":"#N/A"},{"$error":"#N/A"}]
[null,{"$f":"données!B711","v":"li 708"},{"$error":"#N/A"},{"$error":"#N/A"},{"$error":"#N/A"},{"$error":"#N/A"},{"$error":"#N/A"},{"$error":"#N/A"},{"$error":"#N/A"},{"$error":"#N/A"},{"$error":"#N/A"},{"$error":"#N/A"},{"$error":"#N/A"},{"$error":"#N/A"},{"$error":"#N/A"},{"$error":"#N/A"},{"$error":"#N/A"},{"$error":"#N/A"},{"$error":"#N/A"},{"$error":"#N/A"},{"$error":"#N/A"},{"$error":"#N/A"}]
[null,{"$f":"données!B712","v":"li 709"},{"$error":"#N/A"},{"$error":"#N/A"},{"$error":"#N/A"},{"$error":"#N/A"},{"$error":"#N/A"},{"$error":"#N/A"},{"$error":"#N/A"},{"$error":"#N/A"},{"$error":"#N/A"},{"$error":"#N/A"},{"$error":"#N/A"},{"$error":"#N/A"},{"$error":"#N/A"},{"$error":"#N/A"},{"$error":"#N/A"},{"$error":"#N/A"},{"$error":"#N/A"},{"$error":"#N/A"},{"$error":"#N/A"},{"$error":"#N/A"}]
[null,{"$f":"données!B713","v":"li 710"},{"$error":"#N/A"},{"$error":"#N/A"},{"$error":"#N/A"},{"$error":"#N/A"},{"$error":"#N/A"},{"$error":"#N/A"},{"$error":"#N/A"},{"$error":"#N/A"},{"$error":"#N/A"},{"$error":"#N/A"},{"$error":"#N/A"},{"$error":"#N/A"},{"$error":"#N/A"},{"$error":"#N/A"},{"$error":"#N/A"},{"$error":"#N/A"},{"$error":"#N/A"},{"$error":"#N/A"},{"$error":"#N/A"},{"$error":"#N/A"}]
[null,{"$f":"données!B714","v":"li 711"},{"$error":"#N/A"},{"$error":"#N/A"},{"$error":"#N/A"},{"$error":"#N/A"},{"$error":"#N/A"},{"$error":"#N/A"},{"$error":"#N/A"},{"$error":"#N/A"},{"$error":"#N/A"},{"$error":"#N/A"},{"$error":"#N/A"},{"$error":"#N/A"},{"$error":"#N/A"},{"$error":"#N/A"},{"$error":"#N/A"},{"$error":"#N/A"},{"$error":"#N/A"},{"$error":"#N/A"},{"$error":"#N/A"},{"$error":"#N/A"}]
[null,{"$f":"données!B715","v":"li 712"},{"$error":"#N/A"},{"$error":"#N/A"},{"$error":"#N/A"},{"$error":"#N/A"},{"$error":"#N/A"},{"$error":"#N/A"},{"$error":"#N/A"},{"$error":"#N/A"},{"$error":"#N/A"},{"$error":"#N/A"},{"$error":"#N/A"},{"$error":"#N/A"},{"$error":"#N/A"},{"$error":"#N/A"},{"$error":"#N/A"},{"$error":"#N/A"},{"$error":"#N/A"},{"$error":"#N/A"},{"$error":"#N/A"},{"$error":"#N/A"}]
[null,{"$f":"données!B716","v":"li 713"},{"$error":"#N/A"},{"$error":"#N/A"},{"$error":"#N/A"},{"$error":"#N/A"},{"$error":"#N/A"},{"$error":"#N/A"},{"$error":"#N/A"},{"$error":"#N/A"},{"$error":"#N/A"},{"$error":"#N/A"},{"$error":"#N/A"},{"$error":"#N/A"},{"$error":"#N/A"},{"$error":"#N/A"},{"$error":"#N/A"},{"$error":"#N/A"},{"$error":"#N/A"},{"$error":"#N/A"},{"$error":"#N/A"},{"$error":"#N/A"}]
[null,{"$f":"données!B717","v":"li 714"},{"$error":"#N/A"},{"$error":"#N/A"},{"$error":"#N/A"},{"$error":"#N/A"},{"$error":"#N/A"},{"$error":"#N/A"},{"$error":"#N/A"},{"$error":"#N/A"},{"$error":"#N/A"},{"$error":"#N/A"},{"$error":"#N/A"},{"$error":"#N/A"},{"$error":"#N/A"},{"$error":"#N/A"},{"$error":"#N/A"},{"$error":"#N/A"},{"$error":"#N/A"},{"$error":"#N/A"},{"$error":"#N/A"},{"$error":"#N/A"}]
[null,{"$f":"données!B718","v":"li 715"},{"$error":"#N/A"},{"$error":"#N/A"},{"$error":"#N/A"},{"$error":"#N/A"},{"$error":"#N/A"},{"$error":"#N/A"},{"$error":"#N/A"},{"$error":"#N/A"},{"$error":"#N/A"},{"$error":"#N/A"},{"$error":"#N/A"},{"$error":"#N/A"},{"$error":"#N/A"},{"$error":"#N/A"},{"$error":"#N/A"},{"$error":"#N/A"},{"$error":"#N/A"},{"$error":"#N/A"},{"$error":"#N/A"},{"$error":"#N/A"}]
[null,{"$f":"données!B719","v":"li 716"},{"$error":"#N/A"},{"$error":"#N/A"},{"$error":"#N/A"},{"$error":"#N/A"},{"$error":"#N/A"},{"$error":"#N/A"},{"$error":"#N/A"},{"$error":"#N/A"},{"$error":"#N/A"},{"$error":"#N/A"},{"$error":"#N/A"},{"$error":"#N/A"},{"$error":"#N/A"},{"$error":"#N/A"},{"$error":"#N/A"},{"$error":"#N/A"},{"$error":"#N/A"},{"$error":"#N/A"},{"$error":"#N/A"},{"$error":"#N/A"}]
[null,{"$f":"données!B720","v":"li 717"},{"$error":"#N/A"},{"$error":"#N/A"},{"$error":"#N/A"},{"$error":"#N/A"},{"$error":"#N/A"},{"$error":"#N/A"},{"$error":"#N/A"},{"$error":"#N/A"},{"$error":"#N/A"},{"$error":"#N/A"},{"$error":"#N/A"},{"$error":"#N/A"},{"$error":"#N/A"},{"$error":"#N/A"},{"$error":"#N/A"},{"$error":"#N/A"},{"$error":"#N/A"},{"$error":"#N/A"},{"$error":"#N/A"},{"$error":"#N/A"}]
[null,{"$f":"données!B721","v":"li 718"},{"$error":"#N/A"},{"$error":"#N/A"},{"$error":"#N/A"},{"$error":"#N/A"},{"$error":"#N/A"},{"$error":"#N/A"},{"$error":"#N/A"},{"$error":"#N/A"},{"$error":"#N/A"},{"$error":"#N/A"},{"$error":"#N/A"},{"$error":"#N/A"},{"$error":"#N/A"},{"$error":"#N/A"},{"$error":"#N/A"},{"$error":"#N/A"},{"$error":"#N/A"},{"$error":"#N/A"},{"$error":"#N/A"},{"$error":"#N/A"}]
[null,{"$f":"données!B722","v":"li 719"},{"$error":"#N/A"},{"$error":"#N/A"},{"$error":"#N/A"},{"$error":"#N/A"},{"$error":"#N/A"},{"$error":"#N/A"},{"$error":"#N/A"},{"$error":"#N/A"},{"$error":"#N/A"},{"$error":"#N/A"},{"$error":"#N/A"},{"$error":"#N/A"},{"$error":"#N/A"},{"$error":"#N/A"},{"$error":"#N/A"},{"$error":"#N/A"},{"$error":"#N/A"},{"$error":"#N/A"},{"$error":"#N/A"},{"$error":"#N/A"}]
[null,{"$f":"données!B723","v":"li 720"},{"$error":"#N/A"},{"$error":"#N/A"},{"$error":"#N/A"},{"$error":"#N/A"},{"$error":"#N/A"},{"$error":"#N/A"},{"$error":"#N/A"},{"$error":"#N/A"},{"$error":"#N/A"},{"$error":"#N/A"},{"$error":"#N/A"},{"$error":"#N/A"},{"$error":"#N/A"},{"$error":"#N/A"},{"$error":"#N/A"},{"$error":"#N/A"},{"$error":"#N/A"},{"$error":"#N/A"},{"$error":"#N/A"},{"$error":"#N/A"}]
[null,{"$f":"données!B724","v":"li 721"},{"$error":"#N/A"},{"$error":"#N/A"},{"$error":"#N/A"},{"$error":"#N/A"},{"$error":"#N/A"},{"$error":"#N/A"},{"$error":"#N/A"},{"$error":"#N/A"},{"$error":"#N/A"},{"$error":"#N/A"},{"$error":"#N/A"},{"$error":"#N/A"},{"$error":"#N/A"},{"$error":"#N/A"},{"$error":"#N/A"},{"$error":"#N/A"},{"$error":"#N/A"},{"$error":"#N/A"},{"$error":"#N/A"},{"$error":"#N/A"}]
[null,{"$f":"données!B725","v":"li 722"},{"$error":"#N/A"},{"$error":"#N/A"},{"$error":"#N/A"},{"$error":"#N/A"},{"$error":"#N/A"},{"$error":"#N/A"},{"$error":"#N/A"},{"$error":"#N/A"},{"$error":"#N/A"},{"$error":"#N/A"},{"$error":"#N/A"},{"$error":"#N/A"},{"$error":"#N/A"},{"$error":"#N/A"},{"$error":"#N/A"},{"$error":"#N/A"},{"$error":"#N/A"},{"$error":"#N/A"},{"$error":"#N/A"},{"$error":"#N/A"}]
[null,{"$f":"données!B726","v":"li 723"},{"$error":"#N/A"},{"$error":"#N/A"},{"$error":"#N/A"},{"$error":"#N/A"},{"$error":"#N/A"},{"$error":"#N/A"},{"$error":"#N/A"},{"$error":"#N/A"},{"$error":"#N/A"},{"$error":"#N/A"},{"$error":"#N/A"},{"$error":"#N/A"},{"$error":"#N/A"},{"$error":"#N/A"},{"$error":"#N/A"},{"$error":"#N/A"},{"$error":"#N/A"},{"$error":"#N/A"},{"$error":"#N/A"},{"$error":"#N/A"}]
[null,{"$f":"données!B727","v":"li 724"},{"$error":"#N/A"},{"$error":"#N/A"},{"$error":"#N/A"},{"$error":"#N/A"},{"$error":"#N/A"},{"$error":"#N/A"},{"$error":"#N/A"},{"$error":"#N/A"},{"$error":"#N/A"},{"$error":"#N/A"},{"$error":"#N/A"},{"$error":"#N/A"},{"$error":"#N/A"},{"$error":"#N/A"},{"$error":"#N/A"},{"$error":"#N/A"},{"$error":"#N/A"},{"$error":"#N/A"},{"$error":"#N/A"},{"$error":"#N/A"}]
[null,{"$f":"données!B728","v":"li 725"},{"$error":"#N/A"},{"$error":"#N/A"},{"$error":"#N/A"},{"$error":"#N/A"},{"$error":"#N/A"},{"$error":"#N/A"},{"$error":"#N/A"},{"$error":"#N/A"},{"$error":"#N/A"},{"$error":"#N/A"},{"$error":"#N/A"},{"$error":"#N/A"},{"$error":"#N/A"},{"$error":"#N/A"},{"$error":"#N/A"},{"$error":"#N/A"},{"$error":"#N/A"},{"$error":"#N/A"},{"$error":"#N/A"},{"$error":"#N/A"}]
[null,{"$f":"données!B729","v":"li 726"},{"$error":"#N/A"},{"$error":"#N/A"},{"$error":"#N/A"},{"$error":"#N/A"},{"$error":"#N/A"},{"$error":"#N/A"},{"$error":"#N/A"},{"$error":"#N/A"},{"$error":"#N/A"},{"$error":"#N/A"},{"$error":"#N/A"},{"$error":"#N/A"},{"$error":"#N/A"},{"$error":"#N/A"},{"$error":"#N/A"},{"$error":"#N/A"},{"$error":"#N/A"},{"$error":"#N/A"},{"$error":"#N/A"},{"$error":"#N/A"}]
[null,{"$f":"données!B730","v":"li 727"},{"$error":"#N/A"},{"$error":"#N/A"},{"$error":"#N/A"},{"$error":"#N/A"},{"$error":"#N/A"},{"$error":"#N/A"},{"$error":"#N/A"},{"$error":"#N/A"},{"$error":"#N/A"},{"$error":"#N/A"},{"$error":"#N/A"},{"$error":"#N/A"},{"$error":"#N/A"},{"$error":"#N/A"},{"$error":"#N/A"},{"$error":"#N/A"},{"$error":"#N/A"},{"$error":"#N/A"},{"$error":"#N/A"},{"$error":"#N/A"}]
[null,{"$f":"données!B731","v":"li 728"},{"$error":"#N/A"},{"$error":"#N/A"},{"$error":"#N/A"},{"$error":"#N/A"},{"$error":"#N/A"},{"$error":"#N/A"},{"$error":"#N/A"},{"$error":"#N/A"},{"$error":"#N/A"},{"$error":"#N/A"},{"$error":"#N/A"},{"$error":"#N/A"},{"$error":"#N/A"},{"$error":"#N/A"},{"$error":"#N/A"},{"$error":"#N/A"},{"$error":"#N/A"},{"$error":"#N/A"},{"$error":"#N/A"},{"$error":"#N/A"}]
[null,{"$f":"données!B732","v":"li 729"},{"$error":"#N/A"},{"$error":"#N/A"},{"$error":"#N/A"},{"$error":"#N/A"},{"$error":"#N/A"},{"$error":"#N/A"},{"$error":"#N/A"},{"$error":"#N/A"},{"$error":"#N/A"},{"$error":"#N/A"},{"$error":"#N/A"},{"$error":"#N/A"},{"$error":"#N/A"},{"$error":"#N/A"},{"$error":"#N/A"},{"$error":"#N/A"},{"$error":"#N/A"},{"$error":"#N/A"},{"$error":"#N/A"},{"$error":"#N/A"}]
[null,{"$f":"données!B733","v":"li 730"},{"$error":"#N/A"},{"$error":"#N/A"},{"$error":"#N/A"},{"$error":"#N/A"},{"$error":"#N/A"},{"$error":"#N/A"},{"$error":"#N/A"},{"$error":"#N/A"},{"$error":"#N/A"},{"$error":"#N/A"},{"$error":"#N/A"},{"$error":"#N/A"},{"$error":"#N/A"},{"$error":"#N/A"},{"$error":"#N/A"},{"$error":"#N/A"},{"$error":"#N/A"},{"$error":"#N/A"},{"$error":"#N/A"},{"$error":"#N/A"}]
[null,{"$f":"données!B734","v":"li 731"},{"$error":"#N/A"},{"$error":"#N/A"},{"$error":"#N/A"},{"$error":"#N/A"},{"$error":"#N/A"},{"$error":"#N/A"},{"$error":"#N/A"},{"$error":"#N/A"},{"$error":"#N/A"},{"$error":"#N/A"},{"$error":"#N/A"},{"$error":"#N/A"},{"$error":"#N/A"},{"$error":"#N/A"},{"$error":"#N/A"},{"$error":"#N/A"},{"$error":"#N/A"},{"$error":"#N/A"},{"$error":"#N/A"},{"$error":"#N/A"}]
[null,{"$f":"données!B735","v":"li 732"},{"$error":"#N/A"},{"$error":"#N/A"},{"$error":"#N/A"},{"$error":"#N/A"},{"$error":"#N/A"},{"$error":"#N/A"},{"$error":"#N/A"},{"$error":"#N/A"},{"$error":"#N/A"},{"$error":"#N/A"},{"$error":"#N/A"},{"$error":"#N/A"},{"$error":"#N/A"},{"$error":"#N/A"},{"$error":"#N/A"},{"$error":"#N/A"},{"$error":"#N/A"},{"$error":"#N/A"},{"$error":"#N/A"},{"$error":"#N/A"}]
[null,{"$f":"données!B736","v":"li 733"},{"$error":"#N/A"},{"$error":"#N/A"},{"$error":"#N/A"},{"$error":"#N/A"},{"$error":"#N/A"},{"$error":"#N/A"},{"$error":"#N/A"},{"$error":"#N/A"},{"$error":"#N/A"},{"$error":"#N/A"},{"$error":"#N/A"},{"$error":"#N/A"},{"$error":"#N/A"},{"$error":"#N/A"},{"$error":"#N/A"},{"$error":"#N/A"},{"$error":"#N/A"},{"$error":"#N/A"},{"$error":"#N/A"},{"$error":"#N/A"}]
[null,{"$f":"données!B737","v":"li 734"},{"$error":"#N/A"},{"$error":"#N/A"},{"$error":"#N/A"},{"$error":"#N/A"},{"$error":"#N/A"},{"$error":"#N/A"},{"$error":"#N/A"},{"$error":"#N/A"},{"$error":"#N/A"},{"$error":"#N/A"},{"$error":"#N/A"},{"$error":"#N/A"},{"$error":"#N/A"},{"$error":"#N/A"},{"$error":"#N/A"},{"$error":"#N/A"},{"$error":"#N/A"},{"$error":"#N/A"},{"$error":"#N/A"},{"$error":"#N/A"}]
[null,{"$f":"données!B738","v":"li 735"},{"$error":"#N/A"},{"$error":"#N/A"},{"$error":"#N/A"},{"$error":"#N/A"},{"$error":"#N/A"},{"$error":"#N/A"},{"$error":"#N/A"},{"$error":"#N/A"},{"$error":"#N/A"},{"$error":"#N/A"},{"$error":"#N/A"},{"$error":"#N/A"},{"$error":"#N/A"},{"$error":"#N/A"},{"$error":"#N/A"},{"$error":"#N/A"},{"$error":"#N/A"},{"$error":"#N/A"},{"$error":"#N/A"},{"$error":"#N/A"}]
[null,{"$f":"données!B739","v":"li 736"},{"$error":"#N/A"},{"$error":"#N/A"},{"$error":"#N/A"},{"$error":"#N/A"},{"$error":"#N/A"},{"$error":"#N/A"},{"$error":"#N/A"},{"$error":"#N/A"},{"$error":"#N/A"},{"$error":"#N/A"},{"$error":"#N/A"},{"$error":"#N/A"},{"$error":"#N/A"},{"$error":"#N/A"},{"$error":"#N/A"},{"$error":"#N/A"},{"$error":"#N/A"},{"$error":"#N/A"},{"$error":"#N/A"},{"$error":"#N/A"}]
[null,{"$f":"données!B740","v":"li 737"},{"$error":"#N/A"},{"$error":"#N/A"},{"$error":"#N/A"},{"$error":"#N/A"},{"$error":"#N/A"},{"$error":"#N/A"},{"$error":"#N/A"},{"$error":"#N/A"},{"$error":"#N/A"},{"$error":"#N/A"},{"$error":"#N/A"},{"$error":"#N/A"},{"$error":"#N/A"},{"$error":"#N/A"},{"$error":"#N/A"},{"$error":"#N/A"},{"$error":"#N/A"},{"$error":"#N/A"},{"$error":"#N/A"},{"$error":"#N/A"}]
[null,{"$f":"données!B741","v":"li 738"},{"$error":"#N/A"},{"$error":"#N/A"},{"$error":"#N/A"},{"$error":"#N/A"},{"$error":"#N/A"},{"$error":"#N/A"},{"$error":"#N/A"},{"$error":"#N/A"},{"$error":"#N/A"},{"$error":"#N/A"},{"$error":"#N/A"},{"$error":"#N/A"},{"$error":"#N/A"},{"$error":"#N/A"},{"$error":"#N/A"},{"$error":"#N/A"},{"$error":"#N/A"},{"$error":"#N/A"},{"$error":"#N/A"},{"$error":"#N/A"}]
[null,{"$f":"données!B742","v":"li 739"},{"$error":"#N/A"},{"$error":"#N/A"},{"$error":"#N/A"},{"$error":"#N/A"},{"$error":"#N/A"},{"$error":"#N/A"},{"$error":"#N/A"},{"$error":"#N/A"},{"$error":"#N/A"},{"$error":"#N/A"},{"$error":"#N/A"},{"$error":"#N/A"},{"$error":"#N/A"},{"$error":"#N/A"},{"$error":"#N/A"},{"$error":"#N/A"},{"$error":"#N/A"},{"$error":"#N/A"},{"$error":"#N/A"},{"$error":"#N/A"}]
[null,{"$f":"données!B743","v":"li 740"},{"$error":"#N/A"},{"$error":"#N/A"},{"$error":"#N/A"},{"$error":"#N/A"},{"$error":"#N/A"},{"$error":"#N/A"},{"$error":"#N/A"},{"$error":"#N/A"},{"$error":"#N/A"},{"$error":"#N/A"},{"$error":"#N/A"},{"$error":"#N/A"},{"$error":"#N/A"},{"$error":"#N/A"},{"$error":"#N/A"},{"$error":"#N/A"},{"$error":"#N/A"},{"$error":"#N/A"},{"$error":"#N/A"},{"$error":"#N/A"}]
[null,{"$f":"données!B744","v":"li 741"},{"$error":"#N/A"},{"$error":"#N/A"},{"$error":"#N/A"},{"$error":"#N/A"},{"$error":"#N/A"},{"$error":"#N/A"},{"$error":"#N/A"},{"$error":"#N/A"},{"$error":"#N/A"},{"$error":"#N/A"},{"$error":"#N/A"},{"$error":"#N/A"},{"$error":"#N/A"},{"$error":"#N/A"},{"$error":"#N/A"},{"$error":"#N/A"},{"$error":"#N/A"},{"$error":"#N/A"},{"$error":"#N/A"},{"$error":"#N/A"}]
[null,{"$f":"données!B745","v":"li 742"},{"$error":"#N/A"},{"$error":"#N/A"},{"$error":"#N/A"},{"$error":"#N/A"},{"$error":"#N/A"},{"$error":"#N/A"},{"$error":"#N/A"},{"$error":"#N/A"},{"$error":"#N/A"},{"$error":"#N/A"},{"$error":"#N/A"},{"$error":"#N/A"},{"$error":"#N/A"},{"$error":"#N/A"},{"$error":"#N/A"},{"$error":"#N/A"},{"$error":"#N/A"},{"$error":"#N/A"},{"$error":"#N/A"},{"$error":"#N/A"}]
[null,{"$f":"données!B746","v":"li 743"},{"$error":"#N/A"},{"$error":"#N/A"},{"$error":"#N/A"},{"$error":"#N/A"},{"$error":"#N/A"},{"$error":"#N/A"},{"$error":"#N/A"},{"$error":"#N/A"},{"$error":"#N/A"},{"$error":"#N/A"},{"$error":"#N/A"},{"$error":"#N/A"},{"$error":"#N/A"},{"$error":"#N/A"},{"$error":"#N/A"},{"$error":"#N/A"},{"$error":"#N/A"},{"$error":"#N/A"},{"$error":"#N/A"},{"$error":"#N/A"}]
[null,{"$f":"données!B747","v":"li 744"},{"$error":"#N/A"},{"$error":"#N/A"},{"$error":"#N/A"},{"$error":"#N/A"},{"$error":"#N/A"},{"$error":"#N/A"},{"$error":"#N/A"},{"$error":"#N/A"},{"$error":"#N/A"},{"$error":"#N/A"},{"$error":"#N/A"},{"$error":"#N/A"},{"$error":"#N/A"},{"$error":"#N/A"},{"$error":"#N/A"},{"$error":"#N/A"},{"$error":"#N/A"},{"$error":"#N/A"},{"$error":"#N/A"},{"$error":"#N/A"}]
[null,{"$f":"données!B748","v":"li 745"},{"$error":"#N/A"},{"$error":"#N/A"},{"$error":"#N/A"},{"$error":"#N/A"},{"$error":"#N/A"},{"$error":"#N/A"},{"$error":"#N/A"},{"$error":"#N/A"},{"$error":"#N/A"},{"$error":"#N/A"},{"$error":"#N/A"},{"$error":"#N/A"},{"$error":"#N/A"},{"$error":"#N/A"},{"$error":"#N/A"},{"$error":"#N/A"},{"$error":"#N/A"},{"$error":"#N/A"},{"$error":"#N/A"},{"$error":"#N/A"}]
[null,{"$f":"données!B749","v":"li 746"},{"$error":"#N/A"},{"$error":"#N/A"},{"$error":"#N/A"},{"$error":"#N/A"},{"$error":"#N/A"},{"$error":"#N/A"},{"$error":"#N/A"},{"$error":"#N/A"},{"$error":"#N/A"},{"$error":"#N/A"},{"$error":"#N/A"},{"$error":"#N/A"},{"$error":"#N/A"},{"$error":"#N/A"},{"$error":"#N/A"},{"$error":"#N/A"},{"$error":"#N/A"},{"$error":"#N/A"},{"$error":"#N/A"},{"$error":"#N/A"}]
[null,{"$f":"données!B750","v":"li 747"},{"$error":"#N/A"},{"$error":"#N/A"},{"$error":"#N/A"},{"$error":"#N/A"},{"$error":"#N/A"},{"$error":"#N/A"},{"$error":"#N/A"},{"$error":"#N/A"},{"$error":"#N/A"},{"$error":"#N/A"},{"$error":"#N/A"},{"$error":"#N/A"},{"$error":"#N/A"},{"$error":"#N/A"},{"$error":"#N/A"},{"$error":"#N/A"},{"$error":"#N/A"},{"$error":"#N/A"},{"$error":"#N/A"},{"$error":"#N/A"}]
[null,{"$f":"données!B751","v":"li 748"},{"$error":"#N/A"},{"$error":"#N/A"},{"$error":"#N/A"},{"$error":"#N/A"},{"$error":"#N/A"},{"$error":"#N/A"},{"$error":"#N/A"},{"$error":"#N/A"},{"$error":"#N/A"},{"$error":"#N/A"},{"$error":"#N/A"},{"$error":"#N/A"},{"$error":"#N/A"},{"$error":"#N/A"},{"$error":"#N/A"},{"$error":"#N/A"},{"$error":"#N/A"},{"$error":"#N/A"},{"$error":"#N/A"},{"$error":"#N/A"}]
[null,{"$f":"données!B752","v":"li 749"},{"$error":"#N/A"},{"$error":"#N/A"},{"$error":"#N/A"},{"$error":"#N/A"},{"$error":"#N/A"},{"$error":"#N/A"},{"$error":"#N/A"},{"$error":"#N/A"},{"$error":"#N/A"},{"$error":"#N/A"},{"$error":"#N/A"},{"$error":"#N/A"},{"$error":"#N/A"},{"$error":"#N/A"},{"$error":"#N/A"},{"$error":"#N/A"},{"$error":"#N/A"},{"$error":"#N/A"},{"$error":"#N/A"},{"$error":"#N/A"}]
[null,{"$f":"données!B753","v":"li 750"},{"$error":"#N/A"},{"$error":"#N/A"},{"$error":"#N/A"},{"$error":"#N/A"},{"$error":"#N/A"},{"$error":"#N/A"},{"$error":"#N/A"},{"$error":"#N/A"},{"$error":"#N/A"},{"$error":"#N/A"},{"$error":"#N/A"},{"$error":"#N/A"},{"$error":"#N/A"},{"$error":"#N/A"},{"$error":"#N/A"},{"$error":"#N/A"},{"$error":"#N/A"},{"$error":"#N/A"},{"$error":"#N/A"},{"$error":"#N/A"}]
[null,{"$f":"données!B754","v":"li 751"},{"$error":"#N/A"},{"$error":"#N/A"},{"$error":"#N/A"},{"$error":"#N/A"},{"$error":"#N/A"},{"$error":"#N/A"},{"$error":"#N/A"},{"$error":"#N/A"},{"$error":"#N/A"},{"$error":"#N/A"},{"$error":"#N/A"},{"$error":"#N/A"},{"$error":"#N/A"},{"$error":"#N/A"},{"$error":"#N/A"},{"$error":"#N/A"},{"$error":"#N/A"},{"$error":"#N/A"},{"$error":"#N/A"},{"$error":"#N/A"}]
[null,{"$f":"données!B755","v":"li 752"},{"$error":"#N/A"},{"$error":"#N/A"},{"$error":"#N/A"},{"$error":"#N/A"},{"$error":"#N/A"},{"$error":"#N/A"},{"$error":"#N/A"},{"$error":"#N/A"},{"$error":"#N/A"},{"$error":"#N/A"},{"$error":"#N/A"},{"$error":"#N/A"},{"$error":"#N/A"},{"$error":"#N/A"},{"$error":"#N/A"},{"$error":"#N/A"},{"$error":"#N/A"},{"$error":"#N/A"},{"$error":"#N/A"},{"$error":"#N/A"}]
[null,{"$f":"données!B756","v":"li 753"},{"$error":"#N/A"},{"$error":"#N/A"},{"$error":"#N/A"},{"$error":"#N/A"},{"$error":"#N/A"},{"$error":"#N/A"},{"$error":"#N/A"},{"$error":"#N/A"},{"$error":"#N/A"},{"$error":"#N/A"},{"$error":"#N/A"},{"$error":"#N/A"},{"$error":"#N/A"},{"$error":"#N/A"},{"$error":"#N/A"},{"$error":"#N/A"},{"$error":"#N/A"},{"$error":"#N/A"},{"$error":"#N/A"},{"$error":"#N/A"}]
[null,{"$f":"données!B757","v":"li 754"},{"$error":"#N/A"},{"$error":"#N/A"},{"$error":"#N/A"},{"$error":"#N/A"},{"$error":"#N/A"},{"$error":"#N/A"},{"$error":"#N/A"},{"$error":"#N/A"},{"$error":"#N/A"},{"$error":"#N/A"},{"$error":"#N/A"},{"$error":"#N/A"},{"$error":"#N/A"},{"$error":"#N/A"},{"$error":"#N/A"},{"$error":"#N/A"},{"$error":"#N/A"},{"$error":"#N/A"},{"$error":"#N/A"},{"$error":"#N/A"}]
[null,{"$f":"données!B758","v":"li 755"},{"$error":"#N/A"},{"$error":"#N/A"},{"$error":"#N/A"},{"$error":"#N/A"},{"$error":"#N/A"},{"$error":"#N/A"},{"$error":"#N/A"},{"$error":"#N/A"},{"$error":"#N/A"},{"$error":"#N/A"},{"$error":"#N/A"},{"$error":"#N/A"},{"$error":"#N/A"},{"$error":"#N/A"},{"$error":"#N/A"},{"$error":"#N/A"},{"$error":"#N/A"},{"$error":"#N/A"},{"$error":"#N/A"},{"$error":"#N/A"}]
[null,{"$f":"données!B759","v":"li 756"},{"$error":"#N/A"},{"$error":"#N/A"},{"$error":"#N/A"},{"$error":"#N/A"},{"$error":"#N/A"},{"$error":"#N/A"},{"$error":"#N/A"},{"$error":"#N/A"},{"$error":"#N/A"},{"$error":"#N/A"},{"$error":"#N/A"},{"$error":"#N/A"},{"$error":"#N/A"},{"$error":"#N/A"},{"$error":"#N/A"},{"$error":"#N/A"},{"$error":"#N/A"},{"$error":"#N/A"},{"$error":"#N/A"},{"$error":"#N/A"}]
[null,{"$f":"données!B760","v":"li 757"},{"$error":"#N/A"},{"$error":"#N/A"},{"$error":"#N/A"},{"$error":"#N/A"},{"$error":"#N/A"},{"$error":"#N/A"},{"$error":"#N/A"},{"$error":"#N/A"},{"$error":"#N/A"},{"$error":"#N/A"},{"$error":"#N/A"},{"$error":"#N/A"},{"$error":"#N/A"},{"$error":"#N/A"},{"$error":"#N/A"},{"$error":"#N/A"},{"$error":"#N/A"},{"$error":"#N/A"},{"$error":"#N/A"},{"$error":"#N/A"}]
[null,{"$f":"données!B761","v":"li 758"},{"$error":"#N/A"},{"$error":"#N/A"},{"$error":"#N/A"},{"$error":"#N/A"},{"$error":"#N/A"},{"$error":"#N/A"},{"$error":"#N/A"},{"$error":"#N/A"},{"$error":"#N/A"},{"$error":"#N/A"},{"$error":"#N/A"},{"$error":"#N/A"},{"$error":"#N/A"},{"$error":"#N/A"},{"$error":"#N/A"},{"$error":"#N/A"},{"$error":"#N/A"},{"$error":"#N/A"},{"$error":"#N/A"},{"$error":"#N/A"}]
[null,{"$f":"données!B762","v":"li 759"},{"$error":"#N/A"},{"$error":"#N/A"},{"$error":"#N/A"},{"$error":"#N/A"},{"$error":"#N/A"},{"$error":"#N/A"},{"$error":"#N/A"},{"$error":"#N/A"},{"$error":"#N/A"},{"$error":"#N/A"},{"$error":"#N/A"},{"$error":"#N/A"},{"$error":"#N/A"},{"$error":"#N/A"},{"$error":"#N/A"},{"$error":"#N/A"},{"$error":"#N/A"},{"$error":"#N/A"},{"$error":"#N/A"},{"$error":"#N/A"}]
[null,{"$f":"données!B763","v":"li 760"},{"$error":"#N/A"},{"$error":"#N/A"},{"$error":"#N/A"},{"$error":"#N/A"},{"$error":"#N/A"},{"$error":"#N/A"},{"$error":"#N/A"},{"$error":"#N/A"},{"$error":"#N/A"},{"$error":"#N/A"},{"$error":"#N/A"},{"$error":"#N/A"},{"$error":"#N/A"},{"$error":"#N/A"},{"$error":"#N/A"},{"$error":"#N/A"},{"$error":"#N/A"},{"$error":"#N/A"},{"$error":"#N/A"},{"$error":"#N/A"}]
[null,{"$f":"données!B764","v":"li 761"},{"$error":"#N/A"},{"$error":"#N/A"},{"$error":"#N/A"},{"$error":"#N/A"},{"$error":"#N/A"},{"$error":"#N/A"},{"$error":"#N/A"},{"$error":"#N/A"},{"$error":"#N/A"},{"$error":"#N/A"},{"$error":"#N/A"},{"$error":"#N/A"},{"$error":"#N/A"},{"$error":"#N/A"},{"$error":"#N/A"},{"$error":"#N/A"},{"$error":"#N/A"},{"$error":"#N/A"},{"$error":"#N/A"},{"$error":"#N/A"}]
[null,{"$f":"données!B765","v":"li 762"},{"$error":"#N/A"},{"$error":"#N/A"},{"$error":"#N/A"},{"$error":"#N/A"},{"$error":"#N/A"},{"$error":"#N/A"},{"$error":"#N/A"},{"$error":"#N/A"},{"$error":"#N/A"},{"$error":"#N/A"},{"$error":"#N/A"},{"$error":"#N/A"},{"$error":"#N/A"},{"$error":"#N/A"},{"$error":"#N/A"},{"$error":"#N/A"},{"$error":"#N/A"},{"$error":"#N/A"},{"$error":"#N/A"},{"$error":"#N/A"}]
[null,{"$f":"données!B766","v":"li 763"},{"$error":"#N/A"},{"$error":"#N/A"},{"$error":"#N/A"},{"$error":"#N/A"},{"$error":"#N/A"},{"$error":"#N/A"},{"$error":"#N/A"},{"$error":"#N/A"},{"$error":"#N/A"},{"$error":"#N/A"},{"$error":"#N/A"},{"$error":"#N/A"},{"$error":"#N/A"},{"$error":"#N/A"},{"$error":"#N/A"},{"$error":"#N/A"},{"$error":"#N/A"},{"$error":"#N/A"},{"$error":"#N/A"},{"$error":"#N/A"}]
[null,{"$f":"données!B767","v":"li 764"},{"$error":"#N/A"},{"$error":"#N/A"},{"$error":"#N/A"},{"$error":"#N/A"},{"$error":"#N/A"},{"$error":"#N/A"},{"$error":"#N/A"},{"$error":"#N/A"},{"$error":"#N/A"},{"$error":"#N/A"},{"$error":"#N/A"},{"$error":"#N/A"},{"$error":"#N/A"},{"$error":"#N/A"},{"$error":"#N/A"},{"$error":"#N/A"},{"$error":"#N/A"},{"$error":"#N/A"},{"$error":"#N/A"},{"$error":"#N/A"}]
[null,{"$f":"données!B768","v":"li 765"},{"$error":"#N/A"},{"$error":"#N/A"},{"$error":"#N/A"},{"$error":"#N/A"},{"$error":"#N/A"},{"$error":"#N/A"},{"$error":"#N/A"},{"$error":"#N/A"},{"$error":"#N/A"},{"$error":"#N/A"},{"$error":"#N/A"},{"$error":"#N/A"},{"$error":"#N/A"},{"$error":"#N/A"},{"$error":"#N/A"},{"$error":"#N/A"},{"$error":"#N/A"},{"$error":"#N/A"},{"$error":"#N/A"},{"$error":"#N/A"}]
[null,{"$f":"données!B769","v":"li 766"},{"$error":"#N/A"},{"$error":"#N/A"},{"$error":"#N/A"},{"$error":"#N/A"},{"$error":"#N/A"},{"$error":"#N/A"},{"$error":"#N/A"},{"$error":"#N/A"},{"$error":"#N/A"},{"$error":"#N/A"},{"$error":"#N/A"},{"$error":"#N/A"},{"$error":"#N/A"},{"$error":"#N/A"},{"$error":"#N/A"},{"$error":"#N/A"},{"$error":"#N/A"},{"$error":"#N/A"},{"$error":"#N/A"},{"$error":"#N/A"}]
[null,{"$f":"données!B770","v":"li 767"},{"$error":"#N/A"},{"$error":"#N/A"},{"$error":"#N/A"},{"$error":"#N/A"},{"$error":"#N/A"},{"$error":"#N/A"},{"$error":"#N/A"},{"$error":"#N/A"},{"$error":"#N/A"},{"$error":"#N/A"},{"$error":"#N/A"},{"$error":"#N/A"},{"$error":"#N/A"},{"$error":"#N/A"},{"$error":"#N/A"},{"$error":"#N/A"},{"$error":"#N/A"},{"$error":"#N/A"},{"$error":"#N/A"},{"$error":"#N/A"}]
[null,{"$f":"données!B771","v":"li 768"},{"$error":"#N/A"},{"$error":"#N/A"},{"$error":"#N/A"},{"$error":"#N/A"},{"$error":"#N/A"},{"$error":"#N/A"},{"$error":"#N/A"},{"$error":"#N/A"},{"$error":"#N/A"},{"$error":"#N/A"},{"$error":"#N/A"},{"$error":"#N/A"},{"$error":"#N/A"},{"$error":"#N/A"},{"$error":"#N/A"},{"$error":"#N/A"},{"$error":"#N/A"},{"$error":"#N/A"},{"$error":"#N/A"},{"$error":"#N/A"}]
[null,{"$f":"données!B772","v":"li 769"},{"$error":"#N/A"},{"$error":"#N/A"},{"$error":"#N/A"},{"$error":"#N/A"},{"$error":"#N/A"},{"$error":"#N/A"},{"$error":"#N/A"},{"$error":"#N/A"},{"$error":"#N/A"},{"$error":"#N/A"},{"$error":"#N/A"},{"$error":"#N/A"},{"$error":"#N/A"},{"$error":"#N/A"},{"$error":"#N/A"},{"$error":"#N/A"},{"$error":"#N/A"},{"$error":"#N/A"},{"$error":"#N/A"},{"$error":"#N/A"}]
[null,{"$f":"données!B773","v":"li 770"},{"$error":"#N/A"},{"$error":"#N/A"},{"$error":"#N/A"},{"$error":"#N/A"},{"$error":"#N/A"},{"$error":"#N/A"},{"$error":"#N/A"},{"$error":"#N/A"},{"$error":"#N/A"},{"$error":"#N/A"},{"$error":"#N/A"},{"$error":"#N/A"},{"$error":"#N/A"},{"$error":"#N/A"},{"$error":"#N/A"},{"$error":"#N/A"},{"$error":"#N/A"},{"$error":"#N/A"},{"$error":"#N/A"},{"$error":"#N/A"}]
[null,{"$f":"données!B774","v":"li 771"},{"$error":"#N/A"},{"$error":"#N/A"},{"$error":"#N/A"},{"$error":"#N/A"},{"$error":"#N/A"},{"$error":"#N/A"},{"$error":"#N/A"},{"$error":"#N/A"},{"$error":"#N/A"},{"$error":"#N/A"},{"$error":"#N/A"},{"$error":"#N/A"},{"$error":"#N/A"},{"$error":"#N/A"},{"$error":"#N/A"},{"$error":"#N/A"},{"$error":"#N/A"},{"$error":"#N/A"},{"$error":"#N/A"},{"$error":"#N/A"}]
[null,{"$f":"données!B775","v":"li 772"},{"$error":"#N/A"},{"$error":"#N/A"},{"$error":"#N/A"},{"$error":"#N/A"},{"$error":"#N/A"},{"$error":"#N/A"},{"$error":"#N/A"},{"$error":"#N/A"},{"$error":"#N/A"},{"$error":"#N/A"},{"$error":"#N/A"},{"$error":"#N/A"},{"$error":"#N/A"},{"$error":"#N/A"},{"$error":"#N/A"},{"$error":"#N/A"},{"$error":"#N/A"},{"$error":"#N/A"},{"$error":"#N/A"},{"$error":"#N/A"}]
[null,{"$f":"données!B776","v":"li 773"},{"$error":"#N/A"},{"$error":"#N/A"},{"$error":"#N/A"},{"$error":"#N/A"},{"$error":"#N/A"},{"$error":"#N/A"},{"$error":"#N/A"},{"$error":"#N/A"},{"$error":"#N/A"},{"$error":"#N/A"},{"$error":"#N/A"},{"$error":"#N/A"},{"$error":"#N/A"},{"$error":"#N/A"},{"$error":"#N/A"},{"$error":"#N/A"},{"$error":"#N/A"},{"$error":"#N/A"},{"$error":"#N/A"},{"$error":"#N/A"}]
[null,{"$f":"données!B777","v":"li 774"},{"$error":"#N/A"},{"$error":"#N/A"},{"$error":"#N/A"},{"$error":"#N/A"},{"$error":"#N/A"},{"$error":"#N/A"},{"$error":"#N/A"},{"$error":"#N/A"},{"$error":"#N/A"},{"$error":"#N/A"},{"$error":"#N/A"},{"$error":"#N/A"},{"$error":"#N/A"},{"$error":"#N/A"},{"$error":"#N/A"},{"$error":"#N/A"},{"$error":"#N/A"},{"$error":"#N/A"},{"$error":"#N/A"},{"$error":"#N/A"}]
[null,{"$f":"données!B778","v":"li 775"},{"$error":"#N/A"},{"$error":"#N/A"},{"$error":"#N/A"},{"$error":"#N/A"},{"$error":"#N/A"},{"$error":"#N/A"},{"$error":"#N/A"},{"$error":"#N/A"},{"$error":"#N/A"},{"$error":"#N/A"},{"$error":"#N/A"},{"$error":"#N/A"},{"$error":"#N/A"},{"$error":"#N/A"},{"$error":"#N/A"},{"$error":"#N/A"},{"$error":"#N/A"},{"$error":"#N/A"},{"$error":"#N/A"},{"$error":"#N/A"}]
[null,{"$f":"données!B779","v":"li 776"},{"$error":"#N/A"},{"$error":"#N/A"},{"$error":"#N/A"},{"$error":"#N/A"},{"$error":"#N/A"},{"$error":"#N/A"},{"$error":"#N/A"},{"$error":"#N/A"},{"$error":"#N/A"},{"$error":"#N/A"},{"$error":"#N/A"},{"$error":"#N/A"},{"$error":"#N/A"},{"$error":"#N/A"},{"$error":"#N/A"},{"$error":"#N/A"},{"$error":"#N/A"},{"$error":"#N/A"},{"$error":"#N/A"},{"$error":"#N/A"}]
[null,{"$f":"données!B780","v":"li 777"},{"$error":"#N/A"},{"$error":"#N/A"},{"$error":"#N/A"},{"$error":"#N/A"},{"$error":"#N/A"},{"$error":"#N/A"},{"$error":"#N/A"},{"$error":"#N/A"},{"$error":"#N/A"},{"$error":"#N/A"},{"$error":"#N/A"},{"$error":"#N/A"},{"$error":"#N/A"},{"$error":"#N/A"},{"$error":"#N/A"},{"$error":"#N/A"},{"$error":"#N/A"},{"$error":"#N/A"},{"$error":"#N/A"},{"$error":"#N/A"}]
[null,{"$f":"données!B781","v":"li 778"},{"$error":"#N/A"},{"$error":"#N/A"},{"$error":"#N/A"},{"$error":"#N/A"},{"$error":"#N/A"},{"$error":"#N/A"},{"$error":"#N/A"},{"$error":"#N/A"},{"$error":"#N/A"},{"$error":"#N/A"},{"$error":"#N/A"},{"$error":"#N/A"},{"$error":"#N/A"},{"$error":"#N/A"},{"$error":"#N/A"},{"$error":"#N/A"},{"$error":"#N/A"},{"$error":"#N/A"},{"$error":"#N/A"},{"$error":"#N/A"}]
[null,{"$f":"données!B782","v":"li 779"},{"$error":"#N/A"},{"$error":"#N/A"},{"$error":"#N/A"},{"$error":"#N/A"},{"$error":"#N/A"},{"$error":"#N/A"},{"$error":"#N/A"},{"$error":"#N/A"},{"$error":"#N/A"},{"$error":"#N/A"},{"$error":"#N/A"},{"$error":"#N/A"},{"$error":"#N/A"},{"$error":"#N/A"},{"$error":"#N/A"},{"$error":"#N/A"},{"$error":"#N/A"},{"$error":"#N/A"},{"$error":"#N/A"},{"$error":"#N/A"}]
[null,{"$f":"données!B783","v":"li 780"},{"$error":"#N/A"},{"$error":"#N/A"},{"$error":"#N/A"},{"$error":"#N/A"},{"$error":"#N/A"},{"$error":"#N/A"},{"$error":"#N/A"},{"$error":"#N/A"},{"$error":"#N/A"},{"$error":"#N/A"},{"$error":"#N/A"},{"$error":"#N/A"},{"$error":"#N/A"},{"$error":"#N/A"},{"$error":"#N/A"},{"$error":"#N/A"},{"$error":"#N/A"},{"$error":"#N/A"},{"$error":"#N/A"},{"$error":"#N/A"}]
[null,{"$f":"données!B784","v":"li 781"},{"$error":"#N/A"},{"$error":"#N/A"},{"$error":"#N/A"},{"$error":"#N/A"},{"$error":"#N/A"},{"$error":"#N/A"},{"$error":"#N/A"},{"$error":"#N/A"},{"$error":"#N/A"},{"$error":"#N/A"},{"$error":"#N/A"},{"$error":"#N/A"},{"$error":"#N/A"},{"$error":"#N/A"},{"$error":"#N/A"},{"$error":"#N/A"},{"$error":"#N/A"},{"$error":"#N/A"},{"$error":"#N/A"},{"$error":"#N/A"}]
[null,{"$f":"données!B785","v":"li 782"},{"$error":"#N/A"},{"$error":"#N/A"},{"$error":"#N/A"},{"$error":"#N/A"},{"$error":"#N/A"},{"$error":"#N/A"},{"$error":"#N/A"},{"$error":"#N/A"},{"$error":"#N/A"},{"$error":"#N/A"},{"$error":"#N/A"},{"$error":"#N/A"},{"$error":"#N/A"},{"$error":"#N/A"},{"$error":"#N/A"},{"$error":"#N/A"},{"$error":"#N/A"},{"$error":"#N/A"},{"$error":"#N/A"},{"$error":"#N/A"}]
[null,{"$f":"données!B786","v":"li 783"},{"$error":"#N/A"},{"$error":"#N/A"},{"$error":"#N/A"},{"$error":"#N/A"},{"$error":"#N/A"},{"$error":"#N/A"},{"$error":"#N/A"},{"$error":"#N/A"},{"$error":"#N/A"},{"$error":"#N/A"},{"$error":"#N/A"},{"$error":"#N/A"},{"$error":"#N/A"},{"$error":"#N/A"},{"$error":"#N/A"},{"$error":"#N/A"},{"$error":"#N/A"},{"$error":"#N/A"},{"$error":"#N/A"},{"$error":"#N/A"}]
[null,{"$f":"données!B787","v":"li 784"},{"$error":"#N/A"},{"$error":"#N/A"},{"$error":"#N/A"},{"$error":"#N/A"},{"$error":"#N/A"},{"$error":"#N/A"},{"$error":"#N/A"},{"$error":"#N/A"},{"$error":"#N/A"},{"$error":"#N/A"},{"$error":"#N/A"},{"$error":"#N/A"},{"$error":"#N/A"},{"$error":"#N/A"},{"$error":"#N/A"},{"$error":"#N/A"},{"$error":"#N/A"},{"$error":"#N/A"},{"$error":"#N/A"},{"$error":"#N/A"}]
[null,{"$f":"données!B788","v":"li 785"},{"$error":"#N/A"},{"$error":"#N/A"},{"$error":"#N/A"},{"$error":"#N/A"},{"$error":"#N/A"},{"$error":"#N/A"},{"$error":"#N/A"},{"$error":"#N/A"},{"$error":"#N/A"},{"$error":"#N/A"},{"$error":"#N/A"},{"$error":"#N/A"},{"$error":"#N/A"},{"$error":"#N/A"},{"$error":"#N/A"},{"$error":"#N/A"},{"$error":"#N/A"},{"$error":"#N/A"},{"$error":"#N/A"},{"$error":"#N/A"}]
[null,{"$f":"données!B789","v":"li 786"},{"$error":"#N/A"},{"$error":"#N/A"},{"$error":"#N/A"},{"$error":"#N/A"},{"$error":"#N/A"},{"$error":"#N/A"},{"$error":"#N/A"},{"$error":"#N/A"},{"$error":"#N/A"},{"$error":"#N/A"},{"$error":"#N/A"},{"$error":"#N/A"},{"$error":"#N/A"},{"$error":"#N/A"},{"$error":"#N/A"},{"$error":"#N/A"},{"$error":"#N/A"},{"$error":"#N/A"},{"$error":"#N/A"},{"$error":"#N/A"}]
[null,{"$f":"données!B790","v":"li 787"},{"$error":"#N/A"},{"$error":"#N/A"},{"$error":"#N/A"},{"$error":"#N/A"},{"$error":"#N/A"},{"$error":"#N/A"},{"$error":"#N/A"},{"$error":"#N/A"},{"$error":"#N/A"},{"$error":"#N/A"},{"$error":"#N/A"},{"$error":"#N/A"},{"$error":"#N/A"},{"$error":"#N/A"},{"$error":"#N/A"},{"$error":"#N/A"},{"$error":"#N/A"},{"$error":"#N/A"},{"$error":"#N/A"},{"$error":"#N/A"}]
[null,{"$f":"données!B791","v":"li 788"},{"$error":"#N/A"},{"$error":"#N/A"},{"$error":"#N/A"},{"$error":"#N/A"},{"$error":"#N/A"},{"$error":"#N/A"},{"$error":"#N/A"},{"$error":"#N/A"},{"$error":"#N/A"},{"$error":"#N/A"},{"$error":"#N/A"},{"$error":"#N/A"},{"$error":"#N/A"},{"$error":"#N/A"},{"$error":"#N/A"},{"$error":"#N/A"},{"$error":"#N/A"},{"$error":"#N/A"},{"$error":"#N/A"},{"$error":"#N/A"}]
[null,{"$f":"données!B792","v":"li 789"},{"$error":"#N/A"},{"$error":"#N/A"},{"$error":"#N/A"},{"$error":"#N/A"},{"$error":"#N/A"},{"$error":"#N/A"},{"$error":"#N/A"},{"$error":"#N/A"},{"$error":"#N/A"},{"$error":"#N/A"},{"$error":"#N/A"},{"$error":"#N/A"},{"$error":"#N/A"},{"$error":"#N/A"},{"$error":"#N/A"},{"$error":"#N/A"},{"$error":"#N/A"},{"$error":"#N/A"},{"$error":"#N/A"},{"$error":"#N/A"}]
[null,{"$f":"données!B793","v":"li 790"},{"$error":"#N/A"},{"$error":"#N/A"},{"$error":"#N/A"},{"$error":"#N/A"},{"$error":"#N/A"},{"$error":"#N/A"},{"$error":"#N/A"},{"$error":"#N/A"},{"$error":"#N/A"},{"$error":"#N/A"},{"$error":"#N/A"},{"$error":"#N/A"},{"$error":"#N/A"},{"$error":"#N/A"},{"$error":"#N/A"},{"$error":"#N/A"},{"$error":"#N/A"},{"$error":"#N/A"},{"$error":"#N/A"},{"$error":"#N/A"}]
[null,{"$f":"données!B794","v":"li 791"},{"$error":"#N/A"},{"$error":"#N/A"},{"$error":"#N/A"},{"$error":"#N/A"},{"$error":"#N/A"},{"$error":"#N/A"},{"$error":"#N/A"},{"$error":"#N/A"},{"$error":"#N/A"},{"$error":"#N/A"},{"$error":"#N/A"},{"$error":"#N/A"},{"$error":"#N/A"},{"$error":"#N/A"},{"$error":"#N/A"},{"$error":"#N/A"},{"$error":"#N/A"},{"$error":"#N/A"},{"$error":"#N/A"},{"$error":"#N/A"}]
[null,{"$f":"données!B795","v":"li 792"},{"$error":"#N/A"},{"$error":"#N/A"},{"$error":"#N/A"},{"$error":"#N/A"},{"$error":"#N/A"},{"$error":"#N/A"},{"$error":"#N/A"},{"$error":"#N/A"},{"$error":"#N/A"},{"$error":"#N/A"},{"$error":"#N/A"},{"$error":"#N/A"},{"$error":"#N/A"},{"$error":"#N/A"},{"$error":"#N/A"},{"$error":"#N/A"},{"$error":"#N/A"},{"$error":"#N/A"},{"$error":"#N/A"},{"$error":"#N/A"}]
[null,{"$f":"données!B796","v":"li 793"},{"$error":"#N/A"},{"$error":"#N/A"},{"$error":"#N/A"},{"$error":"#N/A"},{"$error":"#N/A"},{"$error":"#N/A"},{"$error":"#N/A"},{"$error":"#N/A"},{"$error":"#N/A"},{"$error":"#N/A"},{"$error":"#N/A"},{"$error":"#N/A"},{"$error":"#N/A"},{"$error":"#N/A"},{"$error":"#N/A"},{"$error":"#N/A"},{"$error":"#N/A"},{"$error":"#N/A"},{"$error":"#N/A"},{"$error":"#N/A"}]
[null,{"$f":"données!B797","v":"li 794"},{"$error":"#N/A"},{"$error":"#N/A"},{"$error":"#N/A"},{"$error":"#N/A"},{"$error":"#N/A"},{"$error":"#N/A"},{"$error":"#N/A"},{"$error":"#N/A"},{"$error":"#N/A"},{"$error":"#N/A"},{"$error":"#N/A"},{"$error":"#N/A"},{"$error":"#N/A"},{"$error":"#N/A"},{"$error":"#N/A"},{"$error":"#N/A"},{"$error":"#N/A"},{"$error":"#N/A"},{"$error":"#N/A"},{"$error":"#N/A"}]
[null,{"$f":"données!B798","v":"li 795"},{"$error":"#N/A"},{"$error":"#N/A"},{"$error":"#N/A"},{"$error":"#N/A"},{"$error":"#N/A"},{"$error":"#N/A"},{"$error":"#N/A"},{"$error":"#N/A"},{"$error":"#N/A"},{"$error":"#N/A"},{"$error":"#N/A"},{"$error":"#N/A"},{"$error":"#N/A"},{"$error":"#N/A"},{"$error":"#N/A"},{"$error":"#N/A"},{"$error":"#N/A"},{"$error":"#N/A"},{"$error":"#N/A"},{"$error":"#N/A"}]
[null,{"$f":"données!B799","v":"li 796"},{"$error":"#N/A"},{"$error":"#N/A"},{"$error":"#N/A"},{"$error":"#N/A"},{"$error":"#N/A"},{"$error":"#N/A"},{"$error":"#N/A"},{"$error":"#N/A"},{"$error":"#N/A"},{"$error":"#N/A"},{"$error":"#N/A"},{"$error":"#N/A"},{"$error":"#N/A"},{"$error":"#N/A"},{"$error":"#N/A"},{"$error":"#N/A"},{"$error":"#N/A"},{"$error":"#N/A"},{"$error":"#N/A"},{"$error":"#N/A"}]
[null,{"$f":"données!B800","v":"li 797"},{"$error":"#N/A"},{"$error":"#N/A"},{"$error":"#N/A"},{"$error":"#N/A"},{"$error":"#N/A"},{"$error":"#N/A"},{"$error":"#N/A"},{"$error":"#N/A"},{"$error":"#N/A"},{"$error":"#N/A"},{"$error":"#N/A"},{"$error":"#N/A"},{"$error":"#N/A"},{"$error":"#N/A"},{"$error":"#N/A"},{"$error":"#N/A"},{"$error":"#N/A"},{"$error":"#N/A"},{"$error":"#N/A"},{"$error":"#N/A"}]
[null,{"$f":"données!B801","v":"li 798"},{"$error":"#N/A"},{"$error":"#N/A"},{"$error":"#N/A"},{"$error":"#N/A"},{"$error":"#N/A"},{"$error":"#N/A"},{"$error":"#N/A"},{"$error":"#N/A"},{"$error":"#N/A"},{"$error":"#N/A"},{"$error":"#N/A"},{"$error":"#N/A"},{"$error":"#N/A"},{"$error":"#N/A"},{"$error":"#N/A"},{"$error":"#N/A"},{"$error":"#N/A"},{"$error":"#N/A"},{"$error":"#N/A"},{"$error":"#N/A"}]
[null,{"$f":"données!B802","v":"li 799"},{"$error":"#N/A"},{"$error":"#N/A"},{"$error":"#N/A"},{"$error":"#N/A"},{"$error":"#N/A"},{"$error":"#N/A"},{"$error":"#N/A"},{"$error":"#N/A"},{"$error":"#N/A"},{"$error":"#N/A"},{"$error":"#N/A"},{"$error":"#N/A"},{"$error":"#N/A"},{"$error":"#N/A"},{"$error":"#N/A"},{"$error":"#N/A"},{"$error":"#N/A"},{"$error":"#N/A"},{"$error":"#N/A"},{"$error":"#N/A"}]
[null,{"$f":"données!B803","v":"li 800"},{"$error":"#N/A"},{"$error":"#N/A"},{"$error":"#N/A"},{"$error":"#N/A"},{"$error":"#N/A"},{"$error":"#N/A"},{"$error":"#N/A"},{"$error":"#N/A"},{"$error":"#N/A"},{"$error":"#N/A"},{"$error":"#N/A"},{"$error":"#N/A"},{"$error":"#N/A"},{"$error":"#N/A"},{"$error":"#N/A"},{"$error":"#N/A"},{"$error":"#N/A"},{"$error":"#N/A"},{"$error":"#N/A"},{"$error":"#N/A"}]
[null,{"$f":"données!B804","v":"li 801"},{"$error":"#N/A"},{"$error":"#N/A"},{"$error":"#N/A"},{"$error":"#N/A"},{"$error":"#N/A"},{"$error":"#N/A"},{"$error":"#N/A"},{"$error":"#N/A"},{"$error":"#N/A"},{"$error":"#N/A"},{"$error":"#N/A"},{"$error":"#N/A"},{"$error":"#N/A"},{"$error":"#N/A"},{"$error":"#N/A"},{"$error":"#N/A"},{"$error":"#N/A"},{"$error":"#N/A"},{"$error":"#N/A"},{"$error":"#N/A"}]
[null,{"$f":"données!B805","v":"li 802"},{"$error":"#N/A"},{"$error":"#N/A"},{"$error":"#N/A"},{"$error":"#N/A"},{"$error":"#N/A"},{"$error":"#N/A"},{"$error":"#N/A"},{"$error":"#N/A"},{"$error":"#N/A"},{"$error":"#N/A"},{"$error":"#N/A"},{"$error":"#N/A"},{"$error":"#N/A"},{"$error":"#N/A"},{"$error":"#N/A"},{"$error":"#N/A"},{"$error":"#N/A"},{"$error":"#N/A"},{"$error":"#N/A"},{"$error":"#N/A"}]
[null,{"$f":"données!B806","v":"li 803"},{"$error":"#N/A"},{"$error":"#N/A"},{"$error":"#N/A"},{"$error":"#N/A"},{"$error":"#N/A"},{"$error":"#N/A"},{"$error":"#N/A"},{"$error":"#N/A"},{"$error":"#N/A"},{"$error":"#N/A"},{"$error":"#N/A"},{"$error":"#N/A"},{"$error":"#N/A"},{"$error":"#N/A"},{"$error":"#N/A"},{"$error":"#N/A"},{"$error":"#N/A"},{"$error":"#N/A"},{"$error":"#N/A"},{"$error":"#N/A"}]
[null,{"$f":"données!B807","v":"li 804"},{"$error":"#N/A"},{"$error":"#N/A"},{"$error":"#N/A"},{"$error":"#N/A"},{"$error":"#N/A"},{"$error":"#N/A"},{"$error":"#N/A"},{"$error":"#N/A"},{"$error":"#N/A"},{"$error":"#N/A"},{"$error":"#N/A"},{"$error":"#N/A"},{"$error":"#N/A"},{"$error":"#N/A"},{"$error":"#N/A"},{"$error":"#N/A"},{"$error":"#N/A"},{"$error":"#N/A"},{"$error":"#N/A"},{"$error":"#N/A"}]
[null,{"$f":"données!B808","v":"li 805"},{"$error":"#N/A"},{"$error":"#N/A"},{"$error":"#N/A"},{"$error":"#N/A"},{"$error":"#N/A"},{"$error":"#N/A"},{"$error":"#N/A"},{"$error":"#N/A"},{"$error":"#N/A"},{"$error":"#N/A"},{"$error":"#N/A"},{"$error":"#N/A"},{"$error":"#N/A"},{"$error":"#N/A"},{"$error":"#N/A"},{"$error":"#N/A"},{"$error":"#N/A"},{"$error":"#N/A"},{"$error":"#N/A"},{"$error":"#N/A"}]
[null,{"$f":"données!B809","v":"li 806"},{"$error":"#N/A"},{"$error":"#N/A"},{"$error":"#N/A"},{"$error":"#N/A"},{"$error":"#N/A"},{"$error":"#N/A"},{"$error":"#N/A"},{"$error":"#N/A"},{"$error":"#N/A"},{"$error":"#N/A"},{"$error":"#N/A"},{"$error":"#N/A"},{"$error":"#N/A"},{"$error":"#N/A"},{"$error":"#N/A"},{"$error":"#N/A"},{"$error":"#N/A"},{"$error":"#N/A"},{"$error":"#N/A"},{"$error":"#N/A"}]
[null,{"$f":"données!B810","v":"li 807"},{"$error":"#N/A"},{"$error":"#N/A"},{"$error":"#N/A"},{"$error":"#N/A"},{"$error":"#N/A"},{"$error":"#N/A"},{"$error":"#N/A"},{"$error":"#N/A"},{"$error":"#N/A"},{"$error":"#N/A"},{"$error":"#N/A"},{"$error":"#N/A"},{"$error":"#N/A"},{"$error":"#N/A"},{"$error":"#N/A"},{"$error":"#N/A"},{"$error":"#N/A"},{"$error":"#N/A"},{"$error":"#N/A"},{"$error":"#N/A"}]
[null,{"$f":"données!B811","v":"li 808"},{"$error":"#N/A"},{"$error":"#N/A"},{"$error":"#N/A"},{"$error":"#N/A"},{"$error":"#N/A"},{"$error":"#N/A"},{"$error":"#N/A"},{"$error":"#N/A"},{"$error":"#N/A"},{"$error":"#N/A"},{"$error":"#N/A"},{"$error":"#N/A"},{"$error":"#N/A"},{"$error":"#N/A"},{"$error":"#N/A"},{"$error":"#N/A"},{"$error":"#N/A"},{"$error":"#N/A"},{"$error":"#N/A"},{"$error":"#N/A"}]
[null,{"$f":"données!B812","v":"li 809"},{"$error":"#N/A"},{"$error":"#N/A"},{"$error":"#N/A"},{"$error":"#N/A"},{"$error":"#N/A"},{"$error":"#N/A"},{"$error":"#N/A"},{"$error":"#N/A"},{"$error":"#N/A"},{"$error":"#N/A"},{"$error":"#N/A"},{"$error":"#N/A"},{"$error":"#N/A"},{"$error":"#N/A"},{"$error":"#N/A"},{"$error":"#N/A"},{"$error":"#N/A"},{"$error":"#N/A"},{"$error":"#N/A"},{"$error":"#N/A"}]
[null,{"$f":"données!B813","v":"li 810"},{"$error":"#N/A"},{"$error":"#N/A"},{"$error":"#N/A"},{"$error":"#N/A"},{"$error":"#N/A"},{"$error":"#N/A"},{"$error":"#N/A"},{"$error":"#N/A"},{"$error":"#N/A"},{"$error":"#N/A"},{"$error":"#N/A"},{"$error":"#N/A"},{"$error":"#N/A"},{"$error":"#N/A"},{"$error":"#N/A"},{"$error":"#N/A"},{"$error":"#N/A"},{"$error":"#N/A"},{"$error":"#N/A"},{"$error":"#N/A"}]
[null,{"$f":"données!B814","v":"li 811"},{"$error":"#N/A"},{"$error":"#N/A"},{"$error":"#N/A"},{"$error":"#N/A"},{"$error":"#N/A"},{"$error":"#N/A"},{"$error":"#N/A"},{"$error":"#N/A"},{"$error":"#N/A"},{"$error":"#N/A"},{"$error":"#N/A"},{"$error":"#N/A"},{"$error":"#N/A"},{"$error":"#N/A"},{"$error":"#N/A"},{"$error":"#N/A"},{"$error":"#N/A"},{"$error":"#N/A"},{"$error":"#N/A"},{"$error":"#N/A"}]
[null,{"$f":"données!B815","v":"li 812"},{"$error":"#N/A"},{"$error":"#N/A"},{"$error":"#N/A"},{"$error":"#N/A"},{"$error":"#N/A"},{"$error":"#N/A"},{"$error":"#N/A"},{"$error":"#N/A"},{"$error":"#N/A"},{"$error":"#N/A"},{"$error":"#N/A"},{"$error":"#N/A"},{"$error":"#N/A"},{"$error":"#N/A"},{"$error":"#N/A"},{"$error":"#N/A"},{"$error":"#N/A"},{"$error":"#N/A"},{"$error":"#N/A"},{"$error":"#N/A"}]
[null,{"$f":"données!B816","v":"li 813"},{"$error":"#N/A"},{"$error":"#N/A"},{"$error":"#N/A"},{"$error":"#N/A"},{"$error":"#N/A"},{"$error":"#N/A"},{"$error":"#N/A"},{"$error":"#N/A"},{"$error":"#N/A"},{"$error":"#N/A"},{"$error":"#N/A"},{"$error":"#N/A"},{"$error":"#N/A"},{"$error":"#N/A"},{"$error":"#N/A"},{"$error":"#N/A"},{"$error":"#N/A"},{"$error":"#N/A"},{"$error":"#N/A"},{"$error":"#N/A"}]
[null,{"$f":"données!B817","v":"li 814"},{"$error":"#N/A"},{"$error":"#N/A"},{"$error":"#N/A"},{"$error":"#N/A"},{"$error":"#N/A"},{"$error":"#N/A"},{"$error":"#N/A"},{"$error":"#N/A"},{"$error":"#N/A"},{"$error":"#N/A"},{"$error":"#N/A"},{"$error":"#N/A"},{"$error":"#N/A"},{"$error":"#N/A"},{"$error":"#N/A"},{"$error":"#N/A"},{"$error":"#N/A"},{"$error":"#N/A"},{"$error":"#N/A"},{"$error":"#N/A"}]
[null,{"$f":"données!B818","v":"li 815"},{"$error":"#N/A"},{"$error":"#N/A"},{"$error":"#N/A"},{"$error":"#N/A"},{"$error":"#N/A"},{"$error":"#N/A"},{"$error":"#N/A"},{"$error":"#N/A"},{"$error":"#N/A"},{"$error":"#N/A"},{"$error":"#N/A"},{"$error":"#N/A"},{"$error":"#N/A"},{"$error":"#N/A"},{"$error":"#N/A"},{"$error":"#N/A"},{"$error":"#N/A"},{"$error":"#N/A"},{"$error":"#N/A"},{"$error":"#N/A"}]
[null,{"$f":"données!B819","v":"li 816"},{"$error":"#N/A"},{"$error":"#N/A"},{"$error":"#N/A"},{"$error":"#N/A"},{"$error":"#N/A"},{"$error":"#N/A"},{"$error":"#N/A"},{"$error":"#N/A"},{"$error":"#N/A"},{"$error":"#N/A"},{"$error":"#N/A"},{"$error":"#N/A"},{"$error":"#N/A"},{"$error":"#N/A"},{"$error":"#N/A"},{"$error":"#N/A"},{"$error":"#N/A"},{"$error":"#N/A"},{"$error":"#N/A"},{"$error":"#N/A"}]
[null,{"$f":"données!B820","v":"li 817"},{"$error":"#N/A"},{"$error":"#N/A"},{"$error":"#N/A"},{"$error":"#N/A"},{"$error":"#N/A"},{"$error":"#N/A"},{"$error":"#N/A"},{"$error":"#N/A"},{"$error":"#N/A"},{"$error":"#N/A"},{"$error":"#N/A"},{"$error":"#N/A"},{"$error":"#N/A"},{"$error":"#N/A"},{"$error":"#N/A"},{"$error":"#N/A"},{"$error":"#N/A"},{"$error":"#N/A"},{"$error":"#N/A"},{"$error":"#N/A"}]
[null,{"$f":"données!B821","v":"li 818"},{"$error":"#N/A"},{"$error":"#N/A"},{"$error":"#N/A"},{"$error":"#N/A"},{"$error":"#N/A"},{"$error":"#N/A"},{"$error":"#N/A"},{"$error":"#N/A"},{"$error":"#N/A"},{"$error":"#N/A"},{"$error":"#N/A"},{"$error":"#N/A"},{"$error":"#N/A"},{"$error":"#N/A"},{"$error":"#N/A"},{"$error":"#N/A"},{"$error":"#N/A"},{"$error":"#N/A"},{"$error":"#N/A"},{"$error":"#N/A"}]
[null,{"$f":"données!B822","v":"li 819"},{"$error":"#N/A"},{"$error":"#N/A"},{"$error":"#N/A"},{"$error":"#N/A"},{"$error":"#N/A"},{"$error":"#N/A"},{"$error":"#N/A"},{"$error":"#N/A"},{"$error":"#N/A"},{"$error":"#N/A"},{"$error":"#N/A"},{"$error":"#N/A"},{"$error":"#N/A"},{"$error":"#N/A"},{"$error":"#N/A"},{"$error":"#N/A"},{"$error":"#N/A"},{"$error":"#N/A"},{"$error":"#N/A"},{"$error":"#N/A"}]
[null,{"$f":"données!B823","v":"li 820"},{"$error":"#N/A"},{"$error":"#N/A"},{"$error":"#N/A"},{"$error":"#N/A"},{"$error":"#N/A"},{"$error":"#N/A"},{"$error":"#N/A"},{"$error":"#N/A"},{"$error":"#N/A"},{"$error":"#N/A"},{"$error":"#N/A"},{"$error":"#N/A"},{"$error":"#N/A"},{"$error":"#N/A"},{"$error":"#N/A"},{"$error":"#N/A"},{"$error":"#N/A"},{"$error":"#N/A"},{"$error":"#N/A"},{"$error":"#N/A"}]
[null,{"$f":"données!B824","v":"li 821"},{"$error":"#N/A"},{"$error":"#N/A"},{"$error":"#N/A"},{"$error":"#N/A"},{"$error":"#N/A"},{"$error":"#N/A"},{"$error":"#N/A"},{"$error":"#N/A"},{"$error":"#N/A"},{"$error":"#N/A"},{"$error":"#N/A"},{"$error":"#N/A"},{"$error":"#N/A"},{"$error":"#N/A"},{"$error":"#N/A"},{"$error":"#N/A"},{"$error":"#N/A"},{"$error":"#N/A"},{"$error":"#N/A"},{"$error":"#N/A"}]
[null,{"$f":"données!B825","v":"li 822"},{"$error":"#N/A"},{"$error":"#N/A"},{"$error":"#N/A"},{"$error":"#N/A"},{"$error":"#N/A"},{"$error":"#N/A"},{"$error":"#N/A"},{"$error":"#N/A"},{"$error":"#N/A"},{"$error":"#N/A"},{"$error":"#N/A"},{"$error":"#N/A"},{"$error":"#N/A"},{"$error":"#N/A"},{"$error":"#N/A"},{"$error":"#N/A"},{"$error":"#N/A"},{"$error":"#N/A"},{"$error":"#N/A"},{"$error":"#N/A"}]
[null,{"$f":"données!B826","v":"li 823"},{"$error":"#N/A"},{"$error":"#N/A"},{"$error":"#N/A"},{"$error":"#N/A"},{"$error":"#N/A"},{"$error":"#N/A"},{"$error":"#N/A"},{"$error":"#N/A"},{"$error":"#N/A"},{"$error":"#N/A"},{"$error":"#N/A"},{"$error":"#N/A"},{"$error":"#N/A"},{"$error":"#N/A"},{"$error":"#N/A"},{"$error":"#N/A"},{"$error":"#N/A"},{"$error":"#N/A"},{"$error":"#N/A"},{"$error":"#N/A"}]
[null,{"$f":"données!B827","v":"li 824"},{"$error":"#N/A"},{"$error":"#N/A"},{"$error":"#N/A"},{"$error":"#N/A"},{"$error":"#N/A"},{"$error":"#N/A"},{"$error":"#N/A"},{"$error":"#N/A"},{"$error":"#N/A"},{"$error":"#N/A"},{"$error":"#N/A"},{"$error":"#N/A"},{"$error":"#N/A"},{"$error":"#N/A"},{"$error":"#N/A"},{"$error":"#N/A"},{"$error":"#N/A"},{"$error":"#N/A"},{"$error":"#N/A"},{"$error":"#N/A"}]
[null,{"$f":"données!B828","v":"li 825"},{"$error":"#N/A"},{"$error":"#N/A"},{"$error":"#N/A"},{"$error":"#N/A"},{"$error":"#N/A"},{"$error":"#N/A"},{"$error":"#N/A"},{"$error":"#N/A"},{"$error":"#N/A"},{"$error":"#N/A"},{"$error":"#N/A"},{"$error":"#N/A"},{"$error":"#N/A"},{"$error":"#N/A"},{"$error":"#N/A"},{"$error":"#N/A"},{"$error":"#N/A"},{"$error":"#N/A"},{"$error":"#N/A"},{"$error":"#N/A"}]
[null,{"$f":"données!B829","v":"li 826"},{"$error":"#N/A"},{"$error":"#N/A"},{"$error":"#N/A"},{"$error":"#N/A"},{"$error":"#N/A"},{"$error":"#N/A"},{"$error":"#N/A"},{"$error":"#N/A"},{"$error":"#N/A"},{"$error":"#N/A"},{"$error":"#N/A"},{"$error":"#N/A"},{"$error":"#N/A"},{"$error":"#N/A"},{"$error":"#N/A"},{"$error":"#N/A"},{"$error":"#N/A"},{"$error":"#N/A"},{"$error":"#N/A"},{"$error":"#N/A"}]
[null,{"$f":"données!B830","v":"li 827"},{"$error":"#N/A"},{"$error":"#N/A"},{"$error":"#N/A"},{"$error":"#N/A"},{"$error":"#N/A"},{"$error":"#N/A"},{"$error":"#N/A"},{"$error":"#N/A"},{"$error":"#N/A"},{"$error":"#N/A"},{"$error":"#N/A"},{"$error":"#N/A"},{"$error":"#N/A"},{"$error":"#N/A"},{"$error":"#N/A"},{"$error":"#N/A"},{"$error":"#N/A"},{"$error":"#N/A"},{"$error":"#N/A"},{"$error":"#N/A"}]
[null,{"$f":"données!B831","v":"li 828"},{"$error":"#N/A"},{"$error":"#N/A"},{"$error":"#N/A"},{"$error":"#N/A"},{"$error":"#N/A"},{"$error":"#N/A"},{"$error":"#N/A"},{"$error":"#N/A"},{"$error":"#N/A"},{"$error":"#N/A"},{"$error":"#N/A"},{"$error":"#N/A"},{"$error":"#N/A"},{"$error":"#N/A"},{"$error":"#N/A"},{"$error":"#N/A"},{"$error":"#N/A"},{"$error":"#N/A"},{"$error":"#N/A"},{"$error":"#N/A"}]
[null,{"$f":"données!B832","v":"li 829"},{"$error":"#N/A"},{"$error":"#N/A"},{"$error":"#N/A"},{"$error":"#N/A"},{"$error":"#N/A"},{"$error":"#N/A"},{"$error":"#N/A"},{"$error":"#N/A"},{"$error":"#N/A"},{"$error":"#N/A"},{"$error":"#N/A"},{"$error":"#N/A"},{"$error":"#N/A"},{"$error":"#N/A"},{"$error":"#N/A"},{"$error":"#N/A"},{"$error":"#N/A"},{"$error":"#N/A"},{"$error":"#N/A"},{"$error":"#N/A"}]
[null,{"$f":"données!B833","v":"li 830"},{"$error":"#N/A"},{"$error":"#N/A"},{"$error":"#N/A"},{"$error":"#N/A"},{"$error":"#N/A"},{"$error":"#N/A"},{"$error":"#N/A"},{"$error":"#N/A"},{"$error":"#N/A"},{"$error":"#N/A"},{"$error":"#N/A"},{"$error":"#N/A"},{"$error":"#N/A"},{"$error":"#N/A"},{"$error":"#N/A"},{"$error":"#N/A"},{"$error":"#N/A"},{"$error":"#N/A"},{"$error":"#N/A"},{"$error":"#N/A"}]
[null,{"$f":"données!B834","v":"li 831"},{"$error":"#N/A"},{"$error":"#N/A"},{"$error":"#N/A"},{"$error":"#N/A"},{"$error":"#N/A"},{"$error":"#N/A"},{"$error":"#N/A"},{"$error":"#N/A"},{"$error":"#N/A"},{"$error":"#N/A"},{"$error":"#N/A"},{"$error":"#N/A"},{"$error":"#N/A"},{"$error":"#N/A"},{"$error":"#N/A"},{"$error":"#N/A"},{"$error":"#N/A"},{"$error":"#N/A"},{"$error":"#N/A"},{"$error":"#N/A"}]
[null,{"$f":"données!B835","v":"li 832"},{"$error":"#N/A"},{"$error":"#N/A"},{"$error":"#N/A"},{"$error":"#N/A"},{"$error":"#N/A"},{"$error":"#N/A"},{"$error":"#N/A"},{"$error":"#N/A"},{"$error":"#N/A"},{"$error":"#N/A"},{"$error":"#N/A"},{"$error":"#N/A"},{"$error":"#N/A"},{"$error":"#N/A"},{"$error":"#N/A"},{"$error":"#N/A"},{"$error":"#N/A"},{"$error":"#N/A"},{"$error":"#N/A"},{"$error":"#N/A"}]
[null,{"$f":"données!B836","v":"li 833"},{"$error":"#N/A"},{"$error":"#N/A"},{"$error":"#N/A"},{"$error":"#N/A"},{"$error":"#N/A"},{"$error":"#N/A"},{"$error":"#N/A"},{"$error":"#N/A"},{"$error":"#N/A"},{"$error":"#N/A"},{"$error":"#N/A"},{"$error":"#N/A"},{"$error":"#N/A"},{"$error":"#N/A"},{"$error":"#N/A"},{"$error":"#N/A"},{"$error":"#N/A"},{"$error":"#N/A"},{"$error":"#N/A"},{"$error":"#N/A"}]
[null,{"$f":"données!B837","v":"li 834"},{"$error":"#N/A"},{"$error":"#N/A"},{"$error":"#N/A"},{"$error":"#N/A"},{"$error":"#N/A"},{"$error":"#N/A"},{"$error":"#N/A"},{"$error":"#N/A"},{"$error":"#N/A"},{"$error":"#N/A"},{"$error":"#N/A"},{"$error":"#N/A"},{"$error":"#N/A"},{"$error":"#N/A"},{"$error":"#N/A"},{"$error":"#N/A"},{"$error":"#N/A"},{"$error":"#N/A"},{"$error":"#N/A"},{"$error":"#N/A"}]
[null,{"$f":"données!B838","v":"li 835"},{"$error":"#N/A"},{"$error":"#N/A"},{"$error":"#N/A"},{"$error":"#N/A"},{"$error":"#N/A"},{"$error":"#N/A"},{"$error":"#N/A"},{"$error":"#N/A"},{"$error":"#N/A"},{"$error":"#N/A"},{"$error":"#N/A"},{"$error":"#N/A"},{"$error":"#N/A"},{"$error":"#N/A"},{"$error":"#N/A"},{"$error":"#N/A"},{"$error":"#N/A"},{"$error":"#N/A"},{"$error":"#N/A"},{"$error":"#N/A"}]
[null,{"$f":"données!B839","v":"li 836"},{"$error":"#N/A"},{"$error":"#N/A"},{"$error":"#N/A"},{"$error":"#N/A"},{"$error":"#N/A"},{"$error":"#N/A"},{"$error":"#N/A"},{"$error":"#N/A"},{"$error":"#N/A"},{"$error":"#N/A"},{"$error":"#N/A"},{"$error":"#N/A"},{"$error":"#N/A"},{"$error":"#N/A"},{"$error":"#N/A"},{"$error":"#N/A"},{"$error":"#N/A"},{"$error":"#N/A"},{"$error":"#N/A"},{"$error":"#N/A"}]
[null,{"$f":"données!B840","v":"li 837"},{"$error":"#N/A"},{"$error":"#N/A"},{"$error":"#N/A"},{"$error":"#N/A"},{"$error":"#N/A"},{"$error":"#N/A"},{"$error":"#N/A"},{"$error":"#N/A"},{"$error":"#N/A"},{"$error":"#N/A"},{"$error":"#N/A"},{"$error":"#N/A"},{"$error":"#N/A"},{"$error":"#N/A"},{"$error":"#N/A"},{"$error":"#N/A"},{"$error":"#N/A"},{"$error":"#N/A"},{"$error":"#N/A"},{"$error":"#N/A"}]
[null,{"$f":"données!B841","v":"li 838"},{"$error":"#N/A"},{"$error":"#N/A"},{"$error":"#N/A"},{"$error":"#N/A"},{"$error":"#N/A"},{"$error":"#N/A"},{"$error":"#N/A"},{"$error":"#N/A"},{"$error":"#N/A"},{"$error":"#N/A"},{"$error":"#N/A"},{"$error":"#N/A"},{"$error":"#N/A"},{"$error":"#N/A"},{"$error":"#N/A"},{"$error":"#N/A"},{"$error":"#N/A"},{"$error":"#N/A"},{"$error":"#N/A"},{"$error":"#N/A"}]
[null,{"$f":"données!B842","v":"li 839"},{"$error":"#N/A"},{"$error":"#N/A"},{"$error":"#N/A"},{"$error":"#N/A"},{"$error":"#N/A"},{"$error":"#N/A"},{"$error":"#N/A"},{"$error":"#N/A"},{"$error":"#N/A"},{"$error":"#N/A"},{"$error":"#N/A"},{"$error":"#N/A"},{"$error":"#N/A"},{"$error":"#N/A"},{"$error":"#N/A"},{"$error":"#N/A"},{"$error":"#N/A"},{"$error":"#N/A"},{"$error":"#N/A"},{"$error":"#N/A"}]
[null,{"$f":"données!B843","v":"li 840"},{"$error":"#N/A"},{"$error":"#N/A"},{"$error":"#N/A"},{"$error":"#N/A"},{"$error":"#N/A"},{"$error":"#N/A"},{"$error":"#N/A"},{"$error":"#N/A"},{"$error":"#N/A"},{"$error":"#N/A"},{"$error":"#N/A"},{"$error":"#N/A"},{"$error":"#N/A"},{"$error":"#N/A"},{"$error":"#N/A"},{"$error":"#N/A"},{"$error":"#N/A"},{"$error":"#N/A"},{"$error":"#N/A"},{"$error":"#N/A"}]
[null,{"$f":"données!B844","v":"li 841"},{"$error":"#N/A"},{"$error":"#N/A"},{"$error":"#N/A"},{"$error":"#N/A"},{"$error":"#N/A"},{"$error":"#N/A"},{"$error":"#N/A"},{"$error":"#N/A"},{"$error":"#N/A"},{"$error":"#N/A"},{"$error":"#N/A"},{"$error":"#N/A"},{"$error":"#N/A"},{"$error":"#N/A"},{"$error":"#N/A"},{"$error":"#N/A"},{"$error":"#N/A"},{"$error":"#N/A"},{"$error":"#N/A"},{"$error":"#N/A"}]
[null,{"$f":"données!B845","v":"li 842"},{"$error":"#N/A"},{"$error":"#N/A"},{"$error":"#N/A"},{"$error":"#N/A"},{"$error":"#N/A"},{"$error":"#N/A"},{"$error":"#N/A"},{"$error":"#N/A"},{"$error":"#N/A"},{"$error":"#N/A"},{"$error":"#N/A"},{"$error":"#N/A"},{"$error":"#N/A"},{"$error":"#N/A"},{"$error":"#N/A"},{"$error":"#N/A"},{"$error":"#N/A"},{"$error":"#N/A"},{"$error":"#N/A"},{"$error":"#N/A"}]
[null,{"$f":"données!B846","v":"li 843"},{"$error":"#N/A"},{"$error":"#N/A"},{"$error":"#N/A"},{"$error":"#N/A"},{"$error":"#N/A"},{"$error":"#N/A"},{"$error":"#N/A"},{"$error":"#N/A"},{"$error":"#N/A"},{"$error":"#N/A"},{"$error":"#N/A"},{"$error":"#N/A"},{"$error":"#N/A"},{"$error":"#N/A"},{"$error":"#N/A"},{"$error":"#N/A"},{"$error":"#N/A"},{"$error":"#N/A"},{"$error":"#N/A"},{"$error":"#N/A"}]
[null,{"$f":"données!B847","v":"li 844"},{"$error":"#N/A"},{"$error":"#N/A"},{"$error":"#N/A"},{"$error":"#N/A"},{"$error":"#N/A"},{"$error":"#N/A"},{"$error":"#N/A"},{"$error":"#N/A"},{"$error":"#N/A"},{"$error":"#N/A"},{"$error":"#N/A"},{"$error":"#N/A"},{"$error":"#N/A"},{"$error":"#N/A"},{"$error":"#N/A"},{"$error":"#N/A"},{"$error":"#N/A"},{"$error":"#N/A"},{"$error":"#N/A"},{"$error":"#N/A"}]
[null,{"$f":"données!B848","v":"li 845"},{"$error":"#N/A"},{"$error":"#N/A"},{"$error":"#N/A"},{"$error":"#N/A"},{"$error":"#N/A"},{"$error":"#N/A"},{"$error":"#N/A"},{"$error":"#N/A"},{"$error":"#N/A"},{"$error":"#N/A"},{"$error":"#N/A"},{"$error":"#N/A"},{"$error":"#N/A"},{"$error":"#N/A"},{"$error":"#N/A"},{"$error":"#N/A"},{"$error":"#N/A"},{"$error":"#N/A"},{"$error":"#N/A"},{"$error":"#N/A"}]
[null,{"$f":"données!B849","v":"li 846"},{"$error":"#N/A"},{"$error":"#N/A"},{"$error":"#N/A"},{"$error":"#N/A"},{"$error":"#N/A"},{"$error":"#N/A"},{"$error":"#N/A"},{"$error":"#N/A"},{"$error":"#N/A"},{"$error":"#N/A"},{"$error":"#N/A"},{"$error":"#N/A"},{"$error":"#N/A"},{"$error":"#N/A"},{"$error":"#N/A"},{"$error":"#N/A"},{"$error":"#N/A"},{"$error":"#N/A"},{"$error":"#N/A"},{"$error":"#N/A"}]
[null,{"$f":"données!B850","v":"li 847"},{"$error":"#N/A"},{"$error":"#N/A"},{"$error":"#N/A"},{"$error":"#N/A"},{"$error":"#N/A"},{"$error":"#N/A"},{"$error":"#N/A"},{"$error":"#N/A"},{"$error":"#N/A"},{"$error":"#N/A"},{"$error":"#N/A"},{"$error":"#N/A"},{"$error":"#N/A"},{"$error":"#N/A"},{"$error":"#N/A"},{"$error":"#N/A"},{"$error":"#N/A"},{"$error":"#N/A"},{"$error":"#N/A"},{"$error":"#N/A"}]
[null,{"$f":"données!B851","v":"li 848"},{"$error":"#N/A"},{"$error":"#N/A"},{"$error":"#N/A"},{"$error":"#N/A"},{"$error":"#N/A"},{"$error":"#N/A"},{"$error":"#N/A"},{"$error":"#N/A"},{"$error":"#N/A"},{"$error":"#N/A"},{"$error":"#N/A"},{"$error":"#N/A"},{"$error":"#N/A"},{"$error":"#N/A"},{"$error":"#N/A"},{"$error":"#N/A"},{"$error":"#N/A"},{"$error":"#N/A"},{"$error":"#N/A"},{"$error":"#N/A"}]
[null,{"$f":"données!B852","v":"li 849"},{"$error":"#N/A"},{"$error":"#N/A"},{"$error":"#N/A"},{"$error":"#N/A"},{"$error":"#N/A"},{"$error":"#N/A"},{"$error":"#N/A"},{"$error":"#N/A"},{"$error":"#N/A"},{"$error":"#N/A"},{"$error":"#N/A"},{"$error":"#N/A"},{"$error":"#N/A"},{"$error":"#N/A"},{"$error":"#N/A"},{"$error":"#N/A"},{"$error":"#N/A"},{"$error":"#N/A"},{"$error":"#N/A"},{"$error":"#N/A"}]
[null,{"$f":"données!B853","v":"li 850"},{"$error":"#N/A"},{"$error":"#N/A"},{"$error":"#N/A"},{"$error":"#N/A"},{"$error":"#N/A"},{"$error":"#N/A"},{"$error":"#N/A"},{"$error":"#N/A"},{"$error":"#N/A"},{"$error":"#N/A"},{"$error":"#N/A"},{"$error":"#N/A"},{"$error":"#N/A"},{"$error":"#N/A"},{"$error":"#N/A"},{"$error":"#N/A"},{"$error":"#N/A"},{"$error":"#N/A"},{"$error":"#N/A"},{"$error":"#N/A"}]
[null,{"$f":"données!B854","v":"li 851"},{"$error":"#N/A"},{"$error":"#N/A"},{"$error":"#N/A"},{"$error":"#N/A"},{"$error":"#N/A"},{"$error":"#N/A"},{"$error":"#N/A"},{"$error":"#N/A"},{"$error":"#N/A"},{"$error":"#N/A"},{"$error":"#N/A"},{"$error":"#N/A"},{"$error":"#N/A"},{"$error":"#N/A"},{"$error":"#N/A"},{"$error":"#N/A"},{"$error":"#N/A"},{"$error":"#N/A"},{"$error":"#N/A"},{"$error":"#N/A"}]
[null,{"$f":"données!B855","v":"li 852"},{"$error":"#N/A"},{"$error":"#N/A"},{"$error":"#N/A"},{"$error":"#N/A"},{"$error":"#N/A"},{"$error":"#N/A"},{"$error":"#N/A"},{"$error":"#N/A"},{"$error":"#N/A"},{"$error":"#N/A"},{"$error":"#N/A"},{"$error":"#N/A"},{"$error":"#N/A"},{"$error":"#N/A"},{"$error":"#N/A"},{"$error":"#N/A"},{"$error":"#N/A"},{"$error":"#N/A"},{"$error":"#N/A"},{"$error":"#N/A"}]
[null,{"$f":"données!B856","v":"li 853"},{"$error":"#N/A"},{"$error":"#N/A"},{"$error":"#N/A"},{"$error":"#N/A"},{"$error":"#N/A"},{"$error":"#N/A"},{"$error":"#N/A"},{"$error":"#N/A"},{"$error":"#N/A"},{"$error":"#N/A"},{"$error":"#N/A"},{"$error":"#N/A"},{"$error":"#N/A"},{"$error":"#N/A"},{"$error":"#N/A"},{"$error":"#N/A"},{"$error":"#N/A"},{"$error":"#N/A"},{"$error":"#N/A"},{"$error":"#N/A"}]
[null,{"$f":"données!B857","v":"li 854"},{"$error":"#N/A"},{"$error":"#N/A"},{"$error":"#N/A"},{"$error":"#N/A"},{"$error":"#N/A"},{"$error":"#N/A"},{"$error":"#N/A"},{"$error":"#N/A"},{"$error":"#N/A"},{"$error":"#N/A"},{"$error":"#N/A"},{"$error":"#N/A"},{"$error":"#N/A"},{"$error":"#N/A"},{"$error":"#N/A"},{"$error":"#N/A"},{"$error":"#N/A"},{"$error":"#N/A"},{"$error":"#N/A"},{"$error":"#N/A"}]
[null,{"$f":"données!B858","v":"li 855"},{"$error":"#N/A"},{"$error":"#N/A"},{"$error":"#N/A"},{"$error":"#N/A"},{"$error":"#N/A"},{"$error":"#N/A"},{"$error":"#N/A"},{"$error":"#N/A"},{"$error":"#N/A"},{"$error":"#N/A"},{"$error":"#N/A"},{"$error":"#N/A"},{"$error":"#N/A"},{"$error":"#N/A"},{"$error":"#N/A"},{"$error":"#N/A"},{"$error":"#N/A"},{"$error":"#N/A"},{"$error":"#N/A"},{"$error":"#N/A"}]
[null,{"$f":"données!B859","v":"li 856"},{"$error":"#N/A"},{"$error":"#N/A"},{"$error":"#N/A"},{"$error":"#N/A"},{"$error":"#N/A"},{"$error":"#N/A"},{"$error":"#N/A"},{"$error":"#N/A"},{"$error":"#N/A"},{"$error":"#N/A"},{"$error":"#N/A"},{"$error":"#N/A"},{"$error":"#N/A"},{"$error":"#N/A"},{"$error":"#N/A"},{"$error":"#N/A"},{"$error":"#N/A"},{"$error":"#N/A"},{"$error":"#N/A"},{"$error":"#N/A"}]
[null,{"$f":"données!B860","v":"li 857"},{"$error":"#N/A"},{"$error":"#N/A"},{"$error":"#N/A"},{"$error":"#N/A"},{"$error":"#N/A"},{"$error":"#N/A"},{"$error":"#N/A"},{"$error":"#N/A"},{"$error":"#N/A"},{"$error":"#N/A"},{"$error":"#N/A"},{"$error":"#N/A"},{"$error":"#N/A"},{"$error":"#N/A"},{"$error":"#N/A"},{"$error":"#N/A"},{"$error":"#N/A"},{"$error":"#N/A"},{"$error":"#N/A"},{"$error":"#N/A"}]
[null,{"$f":"données!B861","v":"li 858"},{"$error":"#N/A"},{"$error":"#N/A"},{"$error":"#N/A"},{"$error":"#N/A"},{"$error":"#N/A"},{"$error":"#N/A"},{"$error":"#N/A"},{"$error":"#N/A"},{"$error":"#N/A"},{"$error":"#N/A"},{"$error":"#N/A"},{"$error":"#N/A"},{"$error":"#N/A"},{"$error":"#N/A"},{"$error":"#N/A"},{"$error":"#N/A"},{"$error":"#N/A"},{"$error":"#N/A"},{"$error":"#N/A"},{"$error":"#N/A"}]
[null,{"$f":"données!B862","v":"li 859"},{"$error":"#N/A"},{"$error":"#N/A"},{"$error":"#N/A"},{"$error":"#N/A"},{"$error":"#N/A"},{"$error":"#N/A"},{"$error":"#N/A"},{"$error":"#N/A"},{"$error":"#N/A"},{"$error":"#N/A"},{"$error":"#N/A"},{"$error":"#N/A"},{"$error":"#N/A"},{"$error":"#N/A"},{"$error":"#N/A"},{"$error":"#N/A"},{"$error":"#N/A"},{"$error":"#N/A"},{"$error":"#N/A"},{"$error":"#N/A"}]
[null,{"$f":"données!B863","v":"li 860"},{"$error":"#N/A"},{"$error":"#N/A"},{"$error":"#N/A"},{"$error":"#N/A"},{"$error":"#N/A"},{"$error":"#N/A"},{"$error":"#N/A"},{"$error":"#N/A"},{"$error":"#N/A"},{"$error":"#N/A"},{"$error":"#N/A"},{"$error":"#N/A"},{"$error":"#N/A"},{"$error":"#N/A"},{"$error":"#N/A"},{"$error":"#N/A"},{"$error":"#N/A"},{"$error":"#N/A"},{"$error":"#N/A"},{"$error":"#N/A"}]
[null,{"$f":"données!B864","v":"li 861"},{"$error":"#N/A"},{"$error":"#N/A"},{"$error":"#N/A"},{"$error":"#N/A"},{"$error":"#N/A"},{"$error":"#N/A"},{"$error":"#N/A"},{"$error":"#N/A"},{"$error":"#N/A"},{"$error":"#N/A"},{"$error":"#N/A"},{"$error":"#N/A"},{"$error":"#N/A"},{"$error":"#N/A"},{"$error":"#N/A"},{"$error":"#N/A"},{"$error":"#N/A"},{"$error":"#N/A"},{"$error":"#N/A"},{"$error":"#N/A"}]
[null,{"$f":"données!B865","v":"li 862"},{"$error":"#N/A"},{"$error":"#N/A"},{"$error":"#N/A"},{"$error":"#N/A"},{"$error":"#N/A"},{"$error":"#N/A"},{"$error":"#N/A"},{"$error":"#N/A"},{"$error":"#N/A"},{"$error":"#N/A"},{"$error":"#N/A"},{"$error":"#N/A"},{"$error":"#N/A"},{"$error":"#N/A"},{"$error":"#N/A"},{"$error":"#N/A"},{"$error":"#N/A"},{"$error":"#N/A"},{"$error":"#N/A"},{"$error":"#N/A"}]
[null,{"$f":"données!B866","v":"li 863"},{"$error":"#N/A"},{"$error":"#N/A"},{"$error":"#N/A"},{"$error":"#N/A"},{"$error":"#N/A"},{"$error":"#N/A"},{"$error":"#N/A"},{"$error":"#N/A"},{"$error":"#N/A"},{"$error":"#N/A"},{"$error":"#N/A"},{"$error":"#N/A"},{"$error":"#N/A"},{"$error":"#N/A"},{"$error":"#N/A"},{"$error":"#N/A"},{"$error":"#N/A"},{"$error":"#N/A"},{"$error":"#N/A"},{"$error":"#N/A"}]
[null,{"$f":"données!B867","v":"li 864"},{"$error":"#N/A"},{"$error":"#N/A"},{"$error":"#N/A"},{"$error":"#N/A"},{"$error":"#N/A"},{"$error":"#N/A"},{"$error":"#N/A"},{"$error":"#N/A"},{"$error":"#N/A"},{"$error":"#N/A"},{"$error":"#N/A"},{"$error":"#N/A"},{"$error":"#N/A"},{"$error":"#N/A"},{"$error":"#N/A"},{"$error":"#N/A"},{"$error":"#N/A"},{"$error":"#N/A"},{"$error":"#N/A"},{"$error":"#N/A"}]
[null,{"$f":"données!B868","v":"li 865"},{"$error":"#N/A"},{"$error":"#N/A"},{"$error":"#N/A"},{"$error":"#N/A"},{"$error":"#N/A"},{"$error":"#N/A"},{"$error":"#N/A"},{"$error":"#N/A"},{"$error":"#N/A"},{"$error":"#N/A"},{"$error":"#N/A"},{"$error":"#N/A"},{"$error":"#N/A"},{"$error":"#N/A"},{"$error":"#N/A"},{"$error":"#N/A"},{"$error":"#N/A"},{"$error":"#N/A"},{"$error":"#N/A"},{"$error":"#N/A"}]
[null,{"$f":"données!B869","v":"li 866"},{"$error":"#N/A"},{"$error":"#N/A"},{"$error":"#N/A"},{"$error":"#N/A"},{"$error":"#N/A"},{"$error":"#N/A"},{"$error":"#N/A"},{"$error":"#N/A"},{"$error":"#N/A"},{"$error":"#N/A"},{"$error":"#N/A"},{"$error":"#N/A"},{"$error":"#N/A"},{"$error":"#N/A"},{"$error":"#N/A"},{"$error":"#N/A"},{"$error":"#N/A"},{"$error":"#N/A"},{"$error":"#N/A"},{"$error":"#N/A"}]
[null,{"$f":"données!B870","v":"li 867"},{"$error":"#N/A"},{"$error":"#N/A"},{"$error":"#N/A"},{"$error":"#N/A"},{"$error":"#N/A"},{"$error":"#N/A"},{"$error":"#N/A"},{"$error":"#N/A"},{"$error":"#N/A"},{"$error":"#N/A"},{"$error":"#N/A"},{"$error":"#N/A"},{"$error":"#N/A"},{"$error":"#N/A"},{"$error":"#N/A"},{"$error":"#N/A"},{"$error":"#N/A"},{"$error":"#N/A"},{"$error":"#N/A"},{"$error":"#N/A"}]
[null,{"$f":"données!B871","v":"li 868"},{"$error":"#N/A"},{"$error":"#N/A"},{"$error":"#N/A"},{"$error":"#N/A"},{"$error":"#N/A"},{"$error":"#N/A"},{"$error":"#N/A"},{"$error":"#N/A"},{"$error":"#N/A"},{"$error":"#N/A"},{"$error":"#N/A"},{"$error":"#N/A"},{"$error":"#N/A"},{"$error":"#N/A"},{"$error":"#N/A"},{"$error":"#N/A"},{"$error":"#N/A"},{"$error":"#N/A"},{"$error":"#N/A"},{"$error":"#N/A"}]
[null,{"$f":"données!B872","v":"li 869"},{"$error":"#N/A"},{"$error":"#N/A"},{"$error":"#N/A"},{"$error":"#N/A"},{"$error":"#N/A"},{"$error":"#N/A"},{"$error":"#N/A"},{"$error":"#N/A"},{"$error":"#N/A"},{"$error":"#N/A"},{"$error":"#N/A"},{"$error":"#N/A"},{"$error":"#N/A"},{"$error":"#N/A"},{"$error":"#N/A"},{"$error":"#N/A"},{"$error":"#N/A"},{"$error":"#N/A"},{"$error":"#N/A"},{"$error":"#N/A"}]
[null,{"$f":"données!B873","v":"li 870"},{"$error":"#N/A"},{"$error":"#N/A"},{"$error":"#N/A"},{"$error":"#N/A"},{"$error":"#N/A"},{"$error":"#N/A"},{"$error":"#N/A"},{"$error":"#N/A"},{"$error":"#N/A"},{"$error":"#N/A"},{"$error":"#N/A"},{"$error":"#N/A"},{"$error":"#N/A"},{"$error":"#N/A"},{"$error":"#N/A"},{"$error":"#N/A"},{"$error":"#N/A"},{"$error":"#N/A"},{"$error":"#N/A"},{"$error":"#N/A"}]
[null,{"$f":"données!B874","v":"li 871"},{"$error":"#N/A"},{"$error":"#N/A"},{"$error":"#N/A"},{"$error":"#N/A"},{"$error":"#N/A"},{"$error":"#N/A"},{"$error":"#N/A"},{"$error":"#N/A"},{"$error":"#N/A"},{"$error":"#N/A"},{"$error":"#N/A"},{"$error":"#N/A"},{"$error":"#N/A"},{"$error":"#N/A"},{"$error":"#N/A"},{"$error":"#N/A"},{"$error":"#N/A"},{"$error":"#N/A"},{"$error":"#N/A"},{"$error":"#N/A"}]
[null,{"$f":"données!B875","v":"li 872"},{"$error":"#N/A"},{"$error":"#N/A"},{"$error":"#N/A"},{"$error":"#N/A"},{"$error":"#N/A"},{"$error":"#N/A"},{"$error":"#N/A"},{"$error":"#N/A"},{"$error":"#N/A"},{"$error":"#N/A"},{"$error":"#N/A"},{"$error":"#N/A"},{"$error":"#N/A"},{"$error":"#N/A"},{"$error":"#N/A"},{"$error":"#N/A"},{"$error":"#N/A"},{"$error":"#N/A"},{"$error":"#N/A"},{"$error":"#N/A"}]
[null,{"$f":"données!B876","v":"li 873"},{"$error":"#N/A"},{"$error":"#N/A"},{"$error":"#N/A"},{"$error":"#N/A"},{"$error":"#N/A"},{"$error":"#N/A"},{"$error":"#N/A"},{"$error":"#N/A"},{"$error":"#N/A"},{"$error":"#N/A"},{"$error":"#N/A"},{"$error":"#N/A"},{"$error":"#N/A"},{"$error":"#N/A"},{"$error":"#N/A"},{"$error":"#N/A"},{"$error":"#N/A"},{"$error":"#N/A"},{"$error":"#N/A"},{"$error":"#N/A"}]
[null,{"$f":"données!B877","v":"li 874"},{"$error":"#N/A"},{"$error":"#N/A"},{"$error":"#N/A"},{"$error":"#N/A"},{"$error":"#N/A"},{"$error":"#N/A"},{"$error":"#N/A"},{"$error":"#N/A"},{"$error":"#N/A"},{"$error":"#N/A"},{"$error":"#N/A"},{"$error":"#N/A"},{"$error":"#N/A"},{"$error":"#N/A"},{"$error":"#N/A"},{"$error":"#N/A"},{"$error":"#N/A"},{"$error":"#N/A"},{"$error":"#N/A"},{"$error":"#N/A"}]
[null,{"$f":"données!B878","v":"li 875"},{"$error":"#N/A"},{"$error":"#N/A"},{"$error":"#N/A"},{"$error":"#N/A"},{"$error":"#N/A"},{"$error":"#N/A"},{"$error":"#N/A"},{"$error":"#N/A"},{"$error":"#N/A"},{"$error":"#N/A"},{"$error":"#N/A"},{"$error":"#N/A"},{"$error":"#N/A"},{"$error":"#N/A"},{"$error":"#N/A"},{"$error":"#N/A"},{"$error":"#N/A"},{"$error":"#N/A"},{"$error":"#N/A"},{"$error":"#N/A"}]
[null,{"$f":"données!B879","v":"li 876"},{"$error":"#N/A"},{"$error":"#N/A"},{"$error":"#N/A"},{"$error":"#N/A"},{"$error":"#N/A"},{"$error":"#N/A"},{"$error":"#N/A"},{"$error":"#N/A"},{"$error":"#N/A"},{"$error":"#N/A"},{"$error":"#N/A"},{"$error":"#N/A"},{"$error":"#N/A"},{"$error":"#N/A"},{"$error":"#N/A"},{"$error":"#N/A"},{"$error":"#N/A"},{"$error":"#N/A"},{"$error":"#N/A"},{"$error":"#N/A"}]
[null,{"$f":"données!B880","v":"li 877"},{"$error":"#N/A"},{"$error":"#N/A"},{"$error":"#N/A"},{"$error":"#N/A"},{"$error":"#N/A"},{"$error":"#N/A"},{"$error":"#N/A"},{"$error":"#N/A"},{"$error":"#N/A"},{"$error":"#N/A"},{"$error":"#N/A"},{"$error":"#N/A"},{"$error":"#N/A"},{"$error":"#N/A"},{"$error":"#N/A"},{"$error":"#N/A"},{"$error":"#N/A"},{"$error":"#N/A"},{"$error":"#N/A"},{"$error":"#N/A"}]
[null,{"$f":"données!B881","v":"li 878"},{"$error":"#N/A"},{"$error":"#N/A"},{"$error":"#N/A"},{"$error":"#N/A"},{"$error":"#N/A"},{"$error":"#N/A"},{"$error":"#N/A"},{"$error":"#N/A"},{"$error":"#N/A"},{"$error":"#N/A"},{"$error":"#N/A"},{"$error":"#N/A"},{"$error":"#N/A"},{"$error":"#N/A"},{"$error":"#N/A"},{"$error":"#N/A"},{"$error":"#N/A"},{"$error":"#N/A"},{"$error":"#N/A"},{"$error":"#N/A"}]
[null,{"$f":"données!B882","v":"li 879"},{"$error":"#N/A"},{"$error":"#N/A"},{"$error":"#N/A"},{"$error":"#N/A"},{"$error":"#N/A"},{"$error":"#N/A"},{"$error":"#N/A"},{"$error":"#N/A"},{"$error":"#N/A"},{"$error":"#N/A"},{"$error":"#N/A"},{"$error":"#N/A"},{"$error":"#N/A"},{"$error":"#N/A"},{"$error":"#N/A"},{"$error":"#N/A"},{"$error":"#N/A"},{"$error":"#N/A"},{"$error":"#N/A"},{"$error":"#N/A"}]
[null,{"$f":"données!B883","v":"li 880"},{"$error":"#N/A"},{"$error":"#N/A"},{"$error":"#N/A"},{"$error":"#N/A"},{"$error":"#N/A"},{"$error":"#N/A"},{"$error":"#N/A"},{"$error":"#N/A"},{"$error":"#N/A"},{"$error":"#N/A"},{"$error":"#N/A"},{"$error":"#N/A"},{"$error":"#N/A"},{"$error":"#N/A"},{"$error":"#N/A"},{"$error":"#N/A"},{"$error":"#N/A"},{"$error":"#N/A"},{"$error":"#N/A"},{"$error":"#N/A"}]
[null,{"$f":"données!B884","v":"li 881"},{"$error":"#N/A"},{"$error":"#N/A"},{"$error":"#N/A"},{"$error":"#N/A"},{"$error":"#N/A"},{"$error":"#N/A"},{"$error":"#N/A"},{"$error":"#N/A"},{"$error":"#N/A"},{"$error":"#N/A"},{"$error":"#N/A"},{"$error":"#N/A"},{"$error":"#N/A"},{"$error":"#N/A"},{"$error":"#N/A"},{"$error":"#N/A"},{"$error":"#N/A"},{"$error":"#N/A"},{"$error":"#N/A"},{"$error":"#N/A"}]
[null,{"$f":"données!B885","v":"li 882"},{"$error":"#N/A"},{"$error":"#N/A"},{"$error":"#N/A"},{"$error":"#N/A"},{"$error":"#N/A"},{"$error":"#N/A"},{"$error":"#N/A"},{"$error":"#N/A"},{"$error":"#N/A"},{"$error":"#N/A"},{"$error":"#N/A"},{"$error":"#N/A"},{"$error":"#N/A"},{"$error":"#N/A"},{"$error":"#N/A"},{"$error":"#N/A"},{"$error":"#N/A"},{"$error":"#N/A"},{"$error":"#N/A"},{"$error":"#N/A"}]
[null,{"$f":"données!B886","v":"li 883"},{"$error":"#N/A"},{"$error":"#N/A"},{"$error":"#N/A"},{"$error":"#N/A"},{"$error":"#N/A"},{"$error":"#N/A"},{"$error":"#N/A"},{"$error":"#N/A"},{"$error":"#N/A"},{"$error":"#N/A"},{"$error":"#N/A"},{"$error":"#N/A"},{"$error":"#N/A"},{"$error":"#N/A"},{"$error":"#N/A"},{"$error":"#N/A"},{"$error":"#N/A"},{"$error":"#N/A"},{"$error":"#N/A"},{"$error":"#N/A"}]
[null,{"$f":"données!B887","v":"li 884"},{"$error":"#N/A"},{"$error":"#N/A"},{"$error":"#N/A"},{"$error":"#N/A"},{"$error":"#N/A"},{"$error":"#N/A"},{"$error":"#N/A"},{"$error":"#N/A"},{"$error":"#N/A"},{"$error":"#N/A"},{"$error":"#N/A"},{"$error":"#N/A"},{"$error":"#N/A"},{"$error":"#N/A"},{"$error":"#N/A"},{"$error":"#N/A"},{"$error":"#N/A"},{"$error":"#N/A"},{"$error":"#N/A"},{"$error":"#N/A"}]
[null,{"$f":"données!B888","v":"li 885"},{"$error":"#N/A"},{"$error":"#N/A"},{"$error":"#N/A"},{"$error":"#N/A"},{"$error":"#N/A"},{"$error":"#N/A"},{"$error":"#N/A"},{"$error":"#N/A"},{"$error":"#N/A"},{"$error":"#N/A"},{"$error":"#N/A"},{"$error":"#N/A"},{"$error":"#N/A"},{"$error":"#N/A"},{"$error":"#N/A"},{"$error":"#N/A"},{"$error":"#N/A"},{"$error":"#N/A"},{"$error":"#N/A"},{"$error":"#N/A"}]
[null,{"$f":"données!B889","v":"li 886"},{"$error":"#N/A"},{"$error":"#N/A"},{"$error":"#N/A"},{"$error":"#N/A"},{"$error":"#N/A"},{"$error":"#N/A"},{"$error":"#N/A"},{"$error":"#N/A"},{"$error":"#N/A"},{"$error":"#N/A"},{"$error":"#N/A"},{"$error":"#N/A"},{"$error":"#N/A"},{"$error":"#N/A"},{"$error":"#N/A"},{"$error":"#N/A"},{"$error":"#N/A"},{"$error":"#N/A"},{"$error":"#N/A"},{"$error":"#N/A"}]
[null,{"$f":"données!B890","v":"li 887"},{"$error":"#N/A"},{"$error":"#N/A"},{"$error":"#N/A"},{"$error":"#N/A"},{"$error":"#N/A"},{"$error":"#N/A"},{"$error":"#N/A"},{"$error":"#N/A"},{"$error":"#N/A"},{"$error":"#N/A"},{"$error":"#N/A"},{"$error":"#N/A"},{"$error":"#N/A"},{"$error":"#N/A"},{"$error":"#N/A"},{"$error":"#N/A"},{"$error":"#N/A"},{"$error":"#N/A"},{"$error":"#N/A"},{"$error":"#N/A"}]
[null,{"$f":"données!B891","v":"li 888"},{"$error":"#N/A"},{"$error":"#N/A"},{"$error":"#N/A"},{"$error":"#N/A"},{"$error":"#N/A"},{"$error":"#N/A"},{"$error":"#N/A"},{"$error":"#N/A"},{"$error":"#N/A"},{"$error":"#N/A"},{"$error":"#N/A"},{"$error":"#N/A"},{"$error":"#N/A"},{"$error":"#N/A"},{"$error":"#N/A"},{"$error":"#N/A"},{"$error":"#N/A"},{"$error":"#N/A"},{"$error":"#N/A"},{"$error":"#N/A"}]
[null,{"$f":"données!B892","v":"li 889"},{"$error":"#N/A"},{"$error":"#N/A"},{"$error":"#N/A"},{"$error":"#N/A"},{"$error":"#N/A"},{"$error":"#N/A"},{"$error":"#N/A"},{"$error":"#N/A"},{"$error":"#N/A"},{"$error":"#N/A"},{"$error":"#N/A"},{"$error":"#N/A"},{"$error":"#N/A"},{"$error":"#N/A"},{"$error":"#N/A"},{"$error":"#N/A"},{"$error":"#N/A"},{"$error":"#N/A"},{"$error":"#N/A"},{"$error":"#N/A"}]
[null,{"$f":"données!B893","v":"li 890"},{"$error":"#N/A"},{"$error":"#N/A"},{"$error":"#N/A"},{"$error":"#N/A"},{"$error":"#N/A"},{"$error":"#N/A"},{"$error":"#N/A"},{"$error":"#N/A"},{"$error":"#N/A"},{"$error":"#N/A"},{"$error":"#N/A"},{"$error":"#N/A"},{"$error":"#N/A"},{"$error":"#N/A"},{"$error":"#N/A"},{"$error":"#N/A"},{"$error":"#N/A"},{"$error":"#N/A"},{"$error":"#N/A"},{"$error":"#N/A"}]
[null,{"$f":"données!B894","v":"li 891"},{"$error":"#N/A"},{"$error":"#N/A"},{"$error":"#N/A"},{"$error":"#N/A"},{"$error":"#N/A"},{"$error":"#N/A"},{"$error":"#N/A"},{"$error":"#N/A"},{"$error":"#N/A"},{"$error":"#N/A"},{"$error":"#N/A"},{"$error":"#N/A"},{"$error":"#N/A"},{"$error":"#N/A"},{"$error":"#N/A"},{"$error":"#N/A"},{"$error":"#N/A"},{"$error":"#N/A"},{"$error":"#N/A"},{"$error":"#N/A"}]
[null,{"$f":"données!B895","v":"li 892"},{"$error":"#N/A"},{"$error":"#N/A"},{"$error":"#N/A"},{"$error":"#N/A"},{"$error":"#N/A"},{"$error":"#N/A"},{"$error":"#N/A"},{"$error":"#N/A"},{"$error":"#N/A"},{"$error":"#N/A"},{"$error":"#N/A"},{"$error":"#N/A"},{"$error":"#N/A"},{"$error":"#N/A"},{"$error":"#N/A"},{"$error":"#N/A"},{"$error":"#N/A"},{"$error":"#N/A"},{"$error":"#N/A"},{"$error":"#N/A"}]
[null,{"$f":"données!B896","v":"li 893"},{"$error":"#N/A"},{"$error":"#N/A"},{"$error":"#N/A"},{"$error":"#N/A"},{"$error":"#N/A"},{"$error":"#N/A"},{"$error":"#N/A"},{"$error":"#N/A"},{"$error":"#N/A"},{"$error":"#N/A"},{"$error":"#N/A"},{"$error":"#N/A"},{"$error":"#N/A"},{"$error":"#N/A"},{"$error":"#N/A"},{"$error":"#N/A"},{"$error":"#N/A"},{"$error":"#N/A"},{"$error":"#N/A"},{"$error":"#N/A"}]
[null,{"$f":"données!B897","v":"li 894"},{"$error":"#N/A"},{"$error":"#N/A"},{"$error":"#N/A"},{"$error":"#N/A"},{"$error":"#N/A"},{"$error":"#N/A"},{"$error":"#N/A"},{"$error":"#N/A"},{"$error":"#N/A"},{"$error":"#N/A"},{"$error":"#N/A"},{"$error":"#N/A"},{"$error":"#N/A"},{"$error":"#N/A"},{"$error":"#N/A"},{"$error":"#N/A"},{"$error":"#N/A"},{"$error":"#N/A"},{"$error":"#N/A"},{"$error":"#N/A"}]
[null,{"$f":"données!B898","v":"li 895"},{"$error":"#N/A"},{"$error":"#N/A"},{"$error":"#N/A"},{"$error":"#N/A"},{"$error":"#N/A"},{"$error":"#N/A"},{"$error":"#N/A"},{"$error":"#N/A"},{"$error":"#N/A"},{"$error":"#N/A"},{"$error":"#N/A"},{"$error":"#N/A"},{"$error":"#N/A"},{"$error":"#N/A"},{"$error":"#N/A"},{"$error":"#N/A"},{"$error":"#N/A"},{"$error":"#N/A"},{"$error":"#N/A"},{"$error":"#N/A"}]
[null,{"$f":"données!B899","v":"li 896"},{"$error":"#N/A"},{"$error":"#N/A"},{"$error":"#N/A"},{"$error":"#N/A"},{"$error":"#N/A"},{"$error":"#N/A"},{"$error":"#N/A"},{"$error":"#N/A"},{"$error":"#N/A"},{"$error":"#N/A"},{"$error":"#N/A"},{"$error":"#N/A"},{"$error":"#N/A"},{"$error":"#N/A"},{"$error":"#N/A"},{"$error":"#N/A"},{"$error":"#N/A"},{"$error":"#N/A"},{"$error":"#N/A"},{"$error":"#N/A"}]
[null,{"$f":"données!B900","v":"li 897"},{"$error":"#N/A"},{"$error":"#N/A"},{"$error":"#N/A"},{"$error":"#N/A"},{"$error":"#N/A"},{"$error":"#N/A"},{"$error":"#N/A"},{"$error":"#N/A"},{"$error":"#N/A"},{"$error":"#N/A"},{"$error":"#N/A"},{"$error":"#N/A"},{"$error":"#N/A"},{"$error":"#N/A"},{"$error":"#N/A"},{"$error":"#N/A"},{"$error":"#N/A"},{"$error":"#N/A"},{"$error":"#N/A"},{"$error":"#N/A"}]
[null,{"$f":"données!B901","v":"li 898"},{"$error":"#N/A"},{"$error":"#N/A"},{"$error":"#N/A"},{"$error":"#N/A"},{"$error":"#N/A"},{"$error":"#N/A"},{"$error":"#N/A"},{"$error":"#N/A"},{"$error":"#N/A"},{"$error":"#N/A"},{"$error":"#N/A"},{"$error":"#N/A"},{"$error":"#N/A"},{"$error":"#N/A"},{"$error":"#N/A"},{"$error":"#N/A"},{"$error":"#N/A"},{"$error":"#N/A"},{"$error":"#N/A"},{"$error":"#N/A"}]
[null,{"$f":"données!B902","v":"li 899"},{"$error":"#N/A"},{"$error":"#N/A"},{"$error":"#N/A"},{"$error":"#N/A"},{"$error":"#N/A"},{"$error":"#N/A"},{"$error":"#N/A"},{"$error":"#N/A"},{"$error":"#N/A"},{"$error":"#N/A"},{"$error":"#N/A"},{"$error":"#N/A"},{"$error":"#N/A"},{"$error":"#N/A"},{"$error":"#N/A"},{"$error":"#N/A"},{"$error":"#N/A"},{"$error":"#N/A"},{"$error":"#N/A"},{"$error":"#N/A"}]
[null,{"$f":"données!B903","v":"li 900"},{"$error":"#N/A"},{"$error":"#N/A"},{"$error":"#N/A"},{"$error":"#N/A"},{"$error":"#N/A"},{"$error":"#N/A"},{"$error":"#N/A"},{"$error":"#N/A"},{"$error":"#N/A"},{"$error":"#N/A"},{"$error":"#N/A"},{"$error":"#N/A"},{"$error":"#N/A"},{"$error":"#N/A"},{"$error":"#N/A"},{"$error":"#N/A"},{"$error":"#N/A"},{"$error":"#N/A"},{"$error":"#N/A"},{"$error":"#N/A"}]
[null,{"$f":"données!B904","v":"li 901"},{"$error":"#N/A"},{"$error":"#N/A"},{"$error":"#N/A"},{"$error":"#N/A"},{"$error":"#N/A"},{"$error":"#N/A"},{"$error":"#N/A"},{"$error":"#N/A"},{"$error":"#N/A"},{"$error":"#N/A"},{"$error":"#N/A"},{"$error":"#N/A"},{"$error":"#N/A"},{"$error":"#N/A"},{"$error":"#N/A"},{"$error":"#N/A"},{"$error":"#N/A"},{"$error":"#N/A"},{"$error":"#N/A"},{"$error":"#N/A"}]
[null,{"$f":"données!B905","v":"li 902"},{"$error":"#N/A"},{"$error":"#N/A"},{"$error":"#N/A"},{"$error":"#N/A"},{"$error":"#N/A"},{"$error":"#N/A"},{"$error":"#N/A"},{"$error":"#N/A"},{"$error":"#N/A"},{"$error":"#N/A"},{"$error":"#N/A"},{"$error":"#N/A"},{"$error":"#N/A"},{"$error":"#N/A"},{"$error":"#N/A"},{"$error":"#N/A"},{"$error":"#N/A"},{"$error":"#N/A"},{"$error":"#N/A"},{"$error":"#N/A"}]
[null,{"$f":"données!B906","v":"li 903"},{"$error":"#N/A"},{"$error":"#N/A"},{"$error":"#N/A"},{"$error":"#N/A"},{"$error":"#N/A"},{"$error":"#N/A"},{"$error":"#N/A"},{"$error":"#N/A"},{"$error":"#N/A"},{"$error":"#N/A"},{"$error":"#N/A"},{"$error":"#N/A"},{"$error":"#N/A"},{"$error":"#N/A"},{"$error":"#N/A"},{"$error":"#N/A"},{"$error":"#N/A"},{"$error":"#N/A"},{"$error":"#N/A"},{"$error":"#N/A"}]
[null,{"$f":"données!B907","v":"li 904"},{"$error":"#N/A"},{"$error":"#N/A"},{"$error":"#N/A"},{"$error":"#N/A"},{"$error":"#N/A"},{"$error":"#N/A"},{"$error":"#N/A"},{"$error":"#N/A"},{"$error":"#N/A"},{"$error":"#N/A"},{"$error":"#N/A"},{"$error":"#N/A"},{"$error":"#N/A"},{"$error":"#N/A"},{"$error":"#N/A"},{"$error":"#N/A"},{"$error":"#N/A"},{"$error":"#N/A"},{"$error":"#N/A"},{"$error":"#N/A"}]
[null,{"$f":"données!B908","v":"li 905"},{"$error":"#N/A"},{"$error":"#N/A"},{"$error":"#N/A"},{"$error":"#N/A"},{"$error":"#N/A"},{"$error":"#N/A"},{"$error":"#N/A"},{"$error":"#N/A"},{"$error":"#N/A"},{"$error":"#N/A"},{"$error":"#N/A"},{"$error":"#N/A"},{"$error":"#N/A"},{"$error":"#N/A"},{"$error":"#N/A"},{"$error":"#N/A"},{"$error":"#N/A"},{"$error":"#N/A"},{"$error":"#N/A"},{"$error":"#N/A"}]
[null,{"$f":"données!B909","v":"li 906"},{"$error":"#N/A"},{"$error":"#N/A"},{"$error":"#N/A"},{"$error":"#N/A"},{"$error":"#N/A"},{"$error":"#N/A"},{"$error":"#N/A"},{"$error":"#N/A"},{"$error":"#N/A"},{"$error":"#N/A"},{"$error":"#N/A"},{"$error":"#N/A"},{"$error":"#N/A"},{"$error":"#N/A"},{"$error":"#N/A"},{"$error":"#N/A"},{"$error":"#N/A"},{"$error":"#N/A"},{"$error":"#N/A"},{"$error":"#N/A"}]
[null,{"$f":"données!B910","v":"li 907"},{"$error":"#N/A"},{"$error":"#N/A"},{"$error":"#N/A"},{"$error":"#N/A"},{"$error":"#N/A"},{"$error":"#N/A"},{"$error":"#N/A"},{"$error":"#N/A"},{"$error":"#N/A"},{"$error":"#N/A"},{"$error":"#N/A"},{"$error":"#N/A"},{"$error":"#N/A"},{"$error":"#N/A"},{"$error":"#N/A"},{"$error":"#N/A"},{"$error":"#N/A"},{"$error":"#N/A"},{"$error":"#N/A"},{"$error":"#N/A"}]
[null,{"$f":"données!B911","v":"li 908"},{"$error":"#N/A"},{"$error":"#N/A"},{"$error":"#N/A"},{"$error":"#N/A"},{"$error":"#N/A"},{"$error":"#N/A"},{"$error":"#N/A"},{"$error":"#N/A"},{"$error":"#N/A"},{"$error":"#N/A"},{"$error":"#N/A"},{"$error":"#N/A"},{"$error":"#N/A"},{"$error":"#N/A"},{"$error":"#N/A"},{"$error":"#N/A"},{"$error":"#N/A"},{"$error":"#N/A"},{"$error":"#N/A"},{"$error":"#N/A"}]
[null,{"$f":"données!B912","v":"li 909"},{"$error":"#N/A"},{"$error":"#N/A"},{"$error":"#N/A"},{"$error":"#N/A"},{"$error":"#N/A"},{"$error":"#N/A"},{"$error":"#N/A"},{"$error":"#N/A"},{"$error":"#N/A"},{"$error":"#N/A"},{"$error":"#N/A"},{"$error":"#N/A"},{"$error":"#N/A"},{"$error":"#N/A"},{"$error":"#N/A"},{"$error":"#N/A"},{"$error":"#N/A"},{"$error":"#N/A"},{"$error":"#N/A"},{"$error":"#N/A"}]
[null,{"$f":"données!B913","v":"li 910"},{"$error":"#N/A"},{"$error":"#N/A"},{"$error":"#N/A"},{"$error":"#N/A"},{"$error":"#N/A"},{"$error":"#N/A"},{"$error":"#N/A"},{"$error":"#N/A"},{"$error":"#N/A"},{"$error":"#N/A"},{"$error":"#N/A"},{"$error":"#N/A"},{"$error":"#N/A"},{"$error":"#N/A"},{"$error":"#N/A"},{"$error":"#N/A"},{"$error":"#N/A"},{"$error":"#N/A"},{"$error":"#N/A"},{"$error":"#N/A"}]
[null,{"$f":"données!B914","v":"li 911"},{"$error":"#N/A"},{"$error":"#N/A"},{"$error":"#N/A"},{"$error":"#N/A"},{"$error":"#N/A"},{"$error":"#N/A"},{"$error":"#N/A"},{"$error":"#N/A"},{"$error":"#N/A"},{"$error":"#N/A"},{"$error":"#N/A"},{"$error":"#N/A"},{"$error":"#N/A"},{"$error":"#N/A"},{"$error":"#N/A"},{"$error":"#N/A"},{"$error":"#N/A"},{"$error":"#N/A"},{"$error":"#N/A"},{"$error":"#N/A"}]
[null,{"$f":"données!B915","v":"li 912"},{"$error":"#N/A"},{"$error":"#N/A"},{"$error":"#N/A"},{"$error":"#N/A"},{"$error":"#N/A"},{"$error":"#N/A"},{"$error":"#N/A"},{"$error":"#N/A"},{"$error":"#N/A"},{"$error":"#N/A"},{"$error":"#N/A"},{"$error":"#N/A"},{"$error":"#N/A"},{"$error":"#N/A"},{"$error":"#N/A"},{"$error":"#N/A"},{"$error":"#N/A"},{"$error":"#N/A"},{"$error":"#N/A"},{"$error":"#N/A"}]
[null,{"$f":"données!B916","v":"li 913"},{"$error":"#N/A"},{"$error":"#N/A"},{"$error":"#N/A"},{"$error":"#N/A"},{"$error":"#N/A"},{"$error":"#N/A"},{"$error":"#N/A"},{"$error":"#N/A"},{"$error":"#N/A"},{"$error":"#N/A"},{"$error":"#N/A"},{"$error":"#N/A"},{"$error":"#N/A"},{"$error":"#N/A"},{"$error":"#N/A"},{"$error":"#N/A"},{"$error":"#N/A"},{"$error":"#N/A"},{"$error":"#N/A"},{"$error":"#N/A"}]
[null,{"$f":"données!B917","v":"li 914"},{"$error":"#N/A"},{"$error":"#N/A"},{"$error":"#N/A"},{"$error":"#N/A"},{"$error":"#N/A"},{"$error":"#N/A"},{"$error":"#N/A"},{"$error":"#N/A"},{"$error":"#N/A"},{"$error":"#N/A"},{"$error":"#N/A"},{"$error":"#N/A"},{"$error":"#N/A"},{"$error":"#N/A"},{"$error":"#N/A"},{"$error":"#N/A"},{"$error":"#N/A"},{"$error":"#N/A"},{"$error":"#N/A"},{"$error":"#N/A"}]
[null,{"$f":"données!B918","v":"li 915"},{"$error":"#N/A"},{"$error":"#N/A"},{"$error":"#N/A"},{"$error":"#N/A"},{"$error":"#N/A"},{"$error":"#N/A"},{"$error":"#N/A"},{"$error":"#N/A"},{"$error":"#N/A"},{"$error":"#N/A"},{"$error":"#N/A"},{"$error":"#N/A"},{"$error":"#N/A"},{"$error":"#N/A"},{"$error":"#N/A"},{"$error":"#N/A"},{"$error":"#N/A"},{"$error":"#N/A"},{"$error":"#N/A"},{"$error":"#N/A"}]
[null,{"$f":"données!B919","v":"li 916"},{"$error":"#N/A"},{"$error":"#N/A"},{"$error":"#N/A"},{"$error":"#N/A"},{"$error":"#N/A"},{"$error":"#N/A"},{"$error":"#N/A"},{"$error":"#N/A"},{"$error":"#N/A"},{"$error":"#N/A"},{"$error":"#N/A"},{"$error":"#N/A"},{"$error":"#N/A"},{"$error":"#N/A"},{"$error":"#N/A"},{"$error":"#N/A"},{"$error":"#N/A"},{"$error":"#N/A"},{"$error":"#N/A"},{"$error":"#N/A"}]
[null,{"$f":"données!B920","v":"li 917"},{"$error":"#N/A"},{"$error":"#N/A"},{"$error":"#N/A"},{"$error":"#N/A"},{"$error":"#N/A"},{"$error":"#N/A"},{"$error":"#N/A"},{"$error":"#N/A"},{"$error":"#N/A"},{"$error":"#N/A"},{"$error":"#N/A"},{"$error":"#N/A"},{"$error":"#N/A"},{"$error":"#N/A"},{"$error":"#N/A"},{"$error":"#N/A"},{"$error":"#N/A"},{"$error":"#N/A"},{"$error":"#N/A"},{"$error":"#N/A"}]
[null,{"$f":"données!B921","v":"li 918"},{"$error":"#N/A"},{"$error":"#N/A"},{"$error":"#N/A"},{"$error":"#N/A"},{"$error":"#N/A"},{"$error":"#N/A"},{"$error":"#N/A"},{"$error":"#N/A"},{"$error":"#N/A"},{"$error":"#N/A"},{"$error":"#N/A"},{"$error":"#N/A"},{"$error":"#N/A"},{"$error":"#N/A"},{"$error":"#N/A"},{"$error":"#N/A"},{"$error":"#N/A"},{"$error":"#N/A"},{"$error":"#N/A"},{"$error":"#N/A"}]
[null,{"$f":"données!B922","v":"li 919"},{"$error":"#N/A"},{"$error":"#N/A"},{"$error":"#N/A"},{"$error":"#N/A"},{"$error":"#N/A"},{"$error":"#N/A"},{"$error":"#N/A"},{"$error":"#N/A"},{"$error":"#N/A"},{"$error":"#N/A"},{"$error":"#N/A"},{"$error":"#N/A"},{"$error":"#N/A"},{"$error":"#N/A"},{"$error":"#N/A"},{"$error":"#N/A"},{"$error":"#N/A"},{"$error":"#N/A"},{"$error":"#N/A"},{"$error":"#N/A"}]
[null,{"$f":"données!B923","v":"li 920"},{"$error":"#N/A"},{"$error":"#N/A"},{"$error":"#N/A"},{"$error":"#N/A"},{"$error":"#N/A"},{"$error":"#N/A"},{"$error":"#N/A"},{"$error":"#N/A"},{"$error":"#N/A"},{"$error":"#N/A"},{"$error":"#N/A"},{"$error":"#N/A"},{"$error":"#N/A"},{"$error":"#N/A"},{"$error":"#N/A"},{"$error":"#N/A"},{"$error":"#N/A"},{"$error":"#N/A"},{"$error":"#N/A"},{"$error":"#N/A"}]
[null,{"$f":"données!B924","v":"li 921"},{"$error":"#N/A"},{"$error":"#N/A"},{"$error":"#N/A"},{"$error":"#N/A"},{"$error":"#N/A"},{"$error":"#N/A"},{"$error":"#N/A"},{"$error":"#N/A"},{"$error":"#N/A"},{"$error":"#N/A"},{"$error":"#N/A"},{"$error":"#N/A"},{"$error":"#N/A"},{"$error":"#N/A"},{"$error":"#N/A"},{"$error":"#N/A"},{"$error":"#N/A"},{"$error":"#N/A"},{"$error":"#N/A"},{"$error":"#N/A"}]
[null,{"$f":"données!B925","v":"li 922"},{"$error":"#N/A"},{"$error":"#N/A"},{"$error":"#N/A"},{"$error":"#N/A"},{"$error":"#N/A"},{"$error":"#N/A"},{"$error":"#N/A"},{"$error":"#N/A"},{"$error":"#N/A"},{"$error":"#N/A"},{"$error":"#N/A"},{"$error":"#N/A"},{"$error":"#N/A"},{"$error":"#N/A"},{"$error":"#N/A"},{"$error":"#N/A"},{"$error":"#N/A"},{"$error":"#N/A"},{"$error":"#N/A"},{"$error":"#N/A"}]
[null,{"$f":"données!B926","v":"li 923"},{"$error":"#N/A"},{"$error":"#N/A"},{"$error":"#N/A"},{"$error":"#N/A"},{"$error":"#N/A"},{"$error":"#N/A"},{"$error":"#N/A"},{"$error":"#N/A"},{"$error":"#N/A"},{"$error":"#N/A"},{"$error":"#N/A"},{"$error":"#N/A"},{"$error":"#N/A"},{"$error":"#N/A"},{"$error":"#N/A"},{"$error":"#N/A"},{"$error":"#N/A"},{"$error":"#N/A"},{"$error":"#N/A"},{"$error":"#N/A"}]
[null,{"$f":"données!B927","v":"li 924"},{"$error":"#N/A"},{"$error":"#N/A"},{"$error":"#N/A"},{"$error":"#N/A"},{"$error":"#N/A"},{"$error":"#N/A"},{"$error":"#N/A"},{"$error":"#N/A"},{"$error":"#N/A"},{"$error":"#N/A"},{"$error":"#N/A"},{"$error":"#N/A"},{"$error":"#N/A"},{"$error":"#N/A"},{"$error":"#N/A"},{"$error":"#N/A"},{"$error":"#N/A"},{"$error":"#N/A"},{"$error":"#N/A"},{"$error":"#N/A"}]
[null,{"$f":"données!B928","v":"li 925"},{"$error":"#N/A"},{"$error":"#N/A"},{"$error":"#N/A"},{"$error":"#N/A"},{"$error":"#N/A"},{"$error":"#N/A"},{"$error":"#N/A"},{"$error":"#N/A"},{"$error":"#N/A"},{"$error":"#N/A"},{"$error":"#N/A"},{"$error":"#N/A"},{"$error":"#N/A"},{"$error":"#N/A"},{"$error":"#N/A"},{"$error":"#N/A"},{"$error":"#N/A"},{"$error":"#N/A"},{"$error":"#N/A"},{"$error":"#N/A"}]
[null,{"$f":"données!B929","v":"li 926"},{"$error":"#N/A"},{"$error":"#N/A"},{"$error":"#N/A"},{"$error":"#N/A"},{"$error":"#N/A"},{"$error":"#N/A"},{"$error":"#N/A"},{"$error":"#N/A"},{"$error":"#N/A"},{"$error":"#N/A"},{"$error":"#N/A"},{"$error":"#N/A"},{"$error":"#N/A"},{"$error":"#N/A"},{"$error":"#N/A"},{"$error":"#N/A"},{"$error":"#N/A"},{"$error":"#N/A"},{"$error":"#N/A"},{"$error":"#N/A"}]
[null,{"$f":"données!B930","v":"li 927"},{"$error":"#N/A"},{"$error":"#N/A"},{"$error":"#N/A"},{"$error":"#N/A"},{"$error":"#N/A"},{"$error":"#N/A"},{"$error":"#N/A"},{"$error":"#N/A"},{"$error":"#N/A"},{"$error":"#N/A"},{"$error":"#N/A"},{"$error":"#N/A"},{"$error":"#N/A"},{"$error":"#N/A"},{"$error":"#N/A"},{"$error":"#N/A"},{"$error":"#N/A"},{"$error":"#N/A"},{"$error":"#N/A"},{"$error":"#N/A"}]
[null,{"$f":"données!B931","v":"li 928"},{"$error":"#N/A"},{"$error":"#N/A"},{"$error":"#N/A"},{"$error":"#N/A"},{"$error":"#N/A"},{"$error":"#N/A"},{"$error":"#N/A"},{"$error":"#N/A"},{"$error":"#N/A"},{"$error":"#N/A"},{"$error":"#N/A"},{"$error":"#N/A"},{"$error":"#N/A"},{"$error":"#N/A"},{"$error":"#N/A"},{"$error":"#N/A"},{"$error":"#N/A"},{"$error":"#N/A"},{"$error":"#N/A"},{"$error":"#N/A"}]
[null,{"$f":"données!B932","v":"li 929"},{"$error":"#N/A"},{"$error":"#N/A"},{"$error":"#N/A"},{"$error":"#N/A"},{"$error":"#N/A"},{"$error":"#N/A"},{"$error":"#N/A"},{"$error":"#N/A"},{"$error":"#N/A"},{"$error":"#N/A"},{"$error":"#N/A"},{"$error":"#N/A"},{"$error":"#N/A"},{"$error":"#N/A"},{"$error":"#N/A"},{"$error":"#N/A"},{"$error":"#N/A"},{"$error":"#N/A"},{"$error":"#N/A"},{"$error":"#N/A"}]
[null,{"$f":"données!B933","v":"li 930"},{"$error":"#N/A"},{"$error":"#N/A"},{"$error":"#N/A"},{"$error":"#N/A"},{"$error":"#N/A"},{"$error":"#N/A"},{"$error":"#N/A"},{"$error":"#N/A"},{"$error":"#N/A"},{"$error":"#N/A"},{"$error":"#N/A"},{"$error":"#N/A"},{"$error":"#N/A"},{"$error":"#N/A"},{"$error":"#N/A"},{"$error":"#N/A"},{"$error":"#N/A"},{"$error":"#N/A"},{"$error":"#N/A"},{"$error":"#N/A"}]
[null,{"$f":"données!B934","v":"li 931"},{"$error":"#N/A"},{"$error":"#N/A"},{"$error":"#N/A"},{"$error":"#N/A"},{"$error":"#N/A"},{"$error":"#N/A"},{"$error":"#N/A"},{"$error":"#N/A"},{"$error":"#N/A"},{"$error":"#N/A"},{"$error":"#N/A"},{"$error":"#N/A"},{"$error":"#N/A"},{"$error":"#N/A"},{"$error":"#N/A"},{"$error":"#N/A"},{"$error":"#N/A"},{"$error":"#N/A"},{"$error":"#N/A"},{"$error":"#N/A"}]
[null,{"$f":"données!B935","v":"li 932"},{"$error":"#N/A"},{"$error":"#N/A"},{"$error":"#N/A"},{"$error":"#N/A"},{"$error":"#N/A"},{"$error":"#N/A"},{"$error":"#N/A"},{"$error":"#N/A"},{"$error":"#N/A"},{"$error":"#N/A"},{"$error":"#N/A"},{"$error":"#N/A"},{"$error":"#N/A"},{"$error":"#N/A"},{"$error":"#N/A"},{"$error":"#N/A"},{"$error":"#N/A"},{"$error":"#N/A"},{"$error":"#N/A"},{"$error":"#N/A"}]
[null,{"$f":"données!B936","v":"li 933"},{"$error":"#N/A"},{"$error":"#N/A"},{"$error":"#N/A"},{"$error":"#N/A"},{"$error":"#N/A"},{"$error":"#N/A"},{"$error":"#N/A"},{"$error":"#N/A"},{"$error":"#N/A"},{"$error":"#N/A"},{"$error":"#N/A"},{"$error":"#N/A"},{"$error":"#N/A"},{"$error":"#N/A"},{"$error":"#N/A"},{"$error":"#N/A"},{"$error":"#N/A"},{"$error":"#N/A"},{"$error":"#N/A"},{"$error":"#N/A"}]
[null,{"$f":"données!B937","v":"li 934"},{"$error":"#N/A"},{"$error":"#N/A"},{"$error":"#N/A"},{"$error":"#N/A"},{"$error":"#N/A"},{"$error":"#N/A"},{"$error":"#N/A"},{"$error":"#N/A"},{"$error":"#N/A"},{"$error":"#N/A"},{"$error":"#N/A"},{"$error":"#N/A"},{"$error":"#N/A"},{"$error":"#N/A"},{"$error":"#N/A"},{"$error":"#N/A"},{"$error":"#N/A"},{"$error":"#N/A"},{"$error":"#N/A"},{"$error":"#N/A"}]
[null,{"$f":"données!B938","v":"li 935"},{"$error":"#N/A"},{"$error":"#N/A"},{"$error":"#N/A"},{"$error":"#N/A"},{"$error":"#N/A"},{"$error":"#N/A"},{"$error":"#N/A"},{"$error":"#N/A"},{"$error":"#N/A"},{"$error":"#N/A"},{"$error":"#N/A"},{"$error":"#N/A"},{"$error":"#N/A"},{"$error":"#N/A"},{"$error":"#N/A"},{"$error":"#N/A"},{"$error":"#N/A"},{"$error":"#N/A"},{"$error":"#N/A"},{"$error":"#N/A"}]
[null,{"$f":"données!B939","v":"li 936"},{"$error":"#N/A"},{"$error":"#N/A"},{"$error":"#N/A"},{"$error":"#N/A"},{"$error":"#N/A"},{"$error":"#N/A"},{"$error":"#N/A"},{"$error":"#N/A"},{"$error":"#N/A"},{"$error":"#N/A"},{"$error":"#N/A"},{"$error":"#N/A"},{"$error":"#N/A"},{"$error":"#N/A"},{"$error":"#N/A"},{"$error":"#N/A"},{"$error":"#N/A"},{"$error":"#N/A"},{"$error":"#N/A"},{"$error":"#N/A"}]
[null,{"$f":"données!B940","v":"li 937"},{"$error":"#N/A"},{"$error":"#N/A"},{"$error":"#N/A"},{"$error":"#N/A"},{"$error":"#N/A"},{"$error":"#N/A"},{"$error":"#N/A"},{"$error":"#N/A"},{"$error":"#N/A"},{"$error":"#N/A"},{"$error":"#N/A"},{"$error":"#N/A"},{"$error":"#N/A"},{"$error":"#N/A"},{"$error":"#N/A"},{"$error":"#N/A"},{"$error":"#N/A"},{"$error":"#N/A"},{"$error":"#N/A"},{"$error":"#N/A"}]
[null,{"$f":"données!B941","v":"li 938"},{"$error":"#N/A"},{"$error":"#N/A"},{"$error":"#N/A"},{"$error":"#N/A"},{"$error":"#N/A"},{"$error":"#N/A"},{"$error":"#N/A"},{"$error":"#N/A"},{"$error":"#N/A"},{"$error":"#N/A"},{"$error":"#N/A"},{"$error":"#N/A"},{"$error":"#N/A"},{"$error":"#N/A"},{"$error":"#N/A"},{"$error":"#N/A"},{"$error":"#N/A"},{"$error":"#N/A"},{"$error":"#N/A"},{"$error":"#N/A"}]
[null,{"$f":"données!B942","v":"li 939"},{"$error":"#N/A"},{"$error":"#N/A"},{"$error":"#N/A"},{"$error":"#N/A"},{"$error":"#N/A"},{"$error":"#N/A"},{"$error":"#N/A"},{"$error":"#N/A"},{"$error":"#N/A"},{"$error":"#N/A"},{"$error":"#N/A"},{"$error":"#N/A"},{"$error":"#N/A"},{"$error":"#N/A"},{"$error":"#N/A"},{"$error":"#N/A"},{"$error":"#N/A"},{"$error":"#N/A"},{"$error":"#N/A"},{"$error":"#N/A"}]
[null,{"$f":"données!B943","v":"li 940"},{"$error":"#N/A"},{"$error":"#N/A"},{"$error":"#N/A"},{"$error":"#N/A"},{"$error":"#N/A"},{"$error":"#N/A"},{"$error":"#N/A"},{"$error":"#N/A"},{"$error":"#N/A"},{"$error":"#N/A"},{"$error":"#N/A"},{"$error":"#N/A"},{"$error":"#N/A"},{"$error":"#N/A"},{"$error":"#N/A"},{"$error":"#N/A"},{"$error":"#N/A"},{"$error":"#N/A"},{"$error":"#N/A"},{"$error":"#N/A"}]
[null,{"$f":"données!B944","v":"li 941"},{"$error":"#N/A"},{"$error":"#N/A"},{"$error":"#N/A"},{"$error":"#N/A"},{"$error":"#N/A"},{"$error":"#N/A"},{"$error":"#N/A"},{"$error":"#N/A"},{"$error":"#N/A"},{"$error":"#N/A"},{"$error":"#N/A"},{"$error":"#N/A"},{"$error":"#N/A"},{"$error":"#N/A"},{"$error":"#N/A"},{"$error":"#N/A"},{"$error":"#N/A"},{"$error":"#N/A"},{"$error":"#N/A"},{"$error":"#N/A"}]
[null,{"$f":"données!B945","v":"li 942"},{"$error":"#N/A"},{"$error":"#N/A"},{"$error":"#N/A"},{"$error":"#N/A"},{"$error":"#N/A"},{"$error":"#N/A"},{"$error":"#N/A"},{"$error":"#N/A"},{"$error":"#N/A"},{"$error":"#N/A"},{"$error":"#N/A"},{"$error":"#N/A"},{"$error":"#N/A"},{"$error":"#N/A"},{"$error":"#N/A"},{"$error":"#N/A"},{"$error":"#N/A"},{"$error":"#N/A"},{"$error":"#N/A"},{"$error":"#N/A"}]
[null,{"$f":"données!B946","v":"li 943"},{"$error":"#N/A"},{"$error":"#N/A"},{"$error":"#N/A"},{"$error":"#N/A"},{"$error":"#N/A"},{"$error":"#N/A"},{"$error":"#N/A"},{"$error":"#N/A"},{"$error":"#N/A"},{"$error":"#N/A"},{"$error":"#N/A"},{"$error":"#N/A"},{"$error":"#N/A"},{"$error":"#N/A"},{"$error":"#N/A"},{"$error":"#N/A"},{"$error":"#N/A"},{"$error":"#N/A"},{"$error":"#N/A"},{"$error":"#N/A"}]
[null,{"$f":"données!B947","v":"li 944"},{"$error":"#N/A"},{"$error":"#N/A"},{"$error":"#N/A"},{"$error":"#N/A"},{"$error":"#N/A"},{"$error":"#N/A"},{"$error":"#N/A"},{"$error":"#N/A"},{"$error":"#N/A"},{"$error":"#N/A"},{"$error":"#N/A"},{"$error":"#N/A"},{"$error":"#N/A"},{"$error":"#N/A"},{"$error":"#N/A"},{"$error":"#N/A"},{"$error":"#N/A"},{"$error":"#N/A"},{"$error":"#N/A"},{"$error":"#N/A"}]
[null,{"$f":"données!B948","v":"li 945"},{"$error":"#N/A"},{"$error":"#N/A"},{"$error":"#N/A"},{"$error":"#N/A"},{"$error":"#N/A"},{"$error":"#N/A"},{"$error":"#N/A"},{"$error":"#N/A"},{"$error":"#N/A"},{"$error":"#N/A"},{"$error":"#N/A"},{"$error":"#N/A"},{"$error":"#N/A"},{"$error":"#N/A"},{"$error":"#N/A"},{"$error":"#N/A"},{"$error":"#N/A"},{"$error":"#N/A"},{"$error":"#N/A"},{"$error":"#N/A"}]
[null,{"$f":"données!B949","v":"li 946"},{"$error":"#N/A"},{"$error":"#N/A"},{"$error":"#N/A"},{"$error":"#N/A"},{"$error":"#N/A"},{"$error":"#N/A"},{"$error":"#N/A"},{"$error":"#N/A"},{"$error":"#N/A"},{"$error":"#N/A"},{"$error":"#N/A"},{"$error":"#N/A"},{"$error":"#N/A"},{"$error":"#N/A"},{"$error":"#N/A"},{"$error":"#N/A"},{"$error":"#N/A"},{"$error":"#N/A"},{"$error":"#N/A"},{"$error":"#N/A"}]
[null,{"$f":"données!B950","v":"li 947"},{"$error":"#N/A"},{"$error":"#N/A"},{"$error":"#N/A"},{"$error":"#N/A"},{"$error":"#N/A"},{"$error":"#N/A"},{"$error":"#N/A"},{"$error":"#N/A"},{"$error":"#N/A"},{"$error":"#N/A"},{"$error":"#N/A"},{"$error":"#N/A"},{"$error":"#N/A"},{"$error":"#N/A"},{"$error":"#N/A"},{"$error":"#N/A"},{"$error":"#N/A"},{"$error":"#N/A"},{"$error":"#N/A"},{"$error":"#N/A"}]
[null,{"$f":"données!B951","v":"li 948"},{"$error":"#N/A"},{"$error":"#N/A"},{"$error":"#N/A"},{"$error":"#N/A"},{"$error":"#N/A"},{"$error":"#N/A"},{"$error":"#N/A"},{"$error":"#N/A"},{"$error":"#N/A"},{"$error":"#N/A"},{"$error":"#N/A"},{"$error":"#N/A"},{"$error":"#N/A"},{"$error":"#N/A"},{"$error":"#N/A"},{"$error":"#N/A"},{"$error":"#N/A"},{"$error":"#N/A"},{"$error":"#N/A"},{"$error":"#N/A"}]
[null,{"$f":"données!B952","v":"li 949"},{"$error":"#N/A"},{"$error":"#N/A"},{"$error":"#N/A"},{"$error":"#N/A"},{"$error":"#N/A"},{"$error":"#N/A"},{"$error":"#N/A"},{"$error":"#N/A"},{"$error":"#N/A"},{"$error":"#N/A"},{"$error":"#N/A"},{"$error":"#N/A"},{"$error":"#N/A"},{"$error":"#N/A"},{"$error":"#N/A"},{"$error":"#N/A"},{"$error":"#N/A"},{"$error":"#N/A"},{"$error":"#N/A"},{"$error":"#N/A"}]
[null,{"$f":"données!B953","v":"li 950"},{"$error":"#N/A"},{"$error":"#N/A"},{"$error":"#N/A"},{"$error":"#N/A"},{"$error":"#N/A"},{"$error":"#N/A"},{"$error":"#N/A"},{"$error":"#N/A"},{"$error":"#N/A"},{"$error":"#N/A"},{"$error":"#N/A"},{"$error":"#N/A"},{"$error":"#N/A"},{"$error":"#N/A"},{"$error":"#N/A"},{"$error":"#N/A"},{"$error":"#N/A"},{"$error":"#N/A"},{"$error":"#N/A"},{"$error":"#N/A"}]
[null,{"$f":"données!B954","v":"li 951"},{"$error":"#N/A"},{"$error":"#N/A"},{"$error":"#N/A"},{"$error":"#N/A"},{"$error":"#N/A"},{"$error":"#N/A"},{"$error":"#N/A"},{"$error":"#N/A"},{"$error":"#N/A"},{"$error":"#N/A"},{"$error":"#N/A"},{"$error":"#N/A"},{"$error":"#N/A"},{"$error":"#N/A"},{"$error":"#N/A"},{"$error":"#N/A"},{"$error":"#N/A"},{"$error":"#N/A"},{"$error":"#N/A"},{"$error":"#N/A"}]
[null,{"$f":"données!B955","v":"li 952"},{"$error":"#N/A"},{"$error":"#N/A"},{"$error":"#N/A"},{"$error":"#N/A"},{"$error":"#N/A"},{"$error":"#N/A"},{"$error":"#N/A"},{"$error":"#N/A"},{"$error":"#N/A"},{"$error":"#N/A"},{"$error":"#N/A"},{"$error":"#N/A"},{"$error":"#N/A"},{"$error":"#N/A"},{"$error":"#N/A"},{"$error":"#N/A"},{"$error":"#N/A"},{"$error":"#N/A"},{"$error":"#N/A"},{"$error":"#N/A"}]
[null,{"$f":"données!B956","v":"li 953"},{"$error":"#N/A"},{"$error":"#N/A"},{"$error":"#N/A"},{"$error":"#N/A"},{"$error":"#N/A"},{"$error":"#N/A"},{"$error":"#N/A"},{"$error":"#N/A"},{"$error":"#N/A"},{"$error":"#N/A"},{"$error":"#N/A"},{"$error":"#N/A"},{"$error":"#N/A"},{"$error":"#N/A"},{"$error":"#N/A"},{"$error":"#N/A"},{"$error":"#N/A"},{"$error":"#N/A"},{"$error":"#N/A"},{"$error":"#N/A"}]
[null,{"$f":"données!B957","v":"li 954"},{"$error":"#N/A"},{"$error":"#N/A"},{"$error":"#N/A"},{"$error":"#N/A"},{"$error":"#N/A"},{"$error":"#N/A"},{"$error":"#N/A"},{"$error":"#N/A"},{"$error":"#N/A"},{"$error":"#N/A"},{"$error":"#N/A"},{"$error":"#N/A"},{"$error":"#N/A"},{"$error":"#N/A"},{"$error":"#N/A"},{"$error":"#N/A"},{"$error":"#N/A"},{"$error":"#N/A"},{"$error":"#N/A"},{"$error":"#N/A"}]
[null,{"$f":"données!B958","v":"li 955"},{"$error":"#N/A"},{"$error":"#N/A"},{"$error":"#N/A"},{"$error":"#N/A"},{"$error":"#N/A"},{"$error":"#N/A"},{"$error":"#N/A"},{"$error":"#N/A"},{"$error":"#N/A"},{"$error":"#N/A"},{"$error":"#N/A"},{"$error":"#N/A"},{"$error":"#N/A"},{"$error":"#N/A"},{"$error":"#N/A"},{"$error":"#N/A"},{"$error":"#N/A"},{"$error":"#N/A"},{"$error":"#N/A"},{"$error":"#N/A"}]
[null,{"$f":"données!B959","v":"li 956"},{"$error":"#N/A"},{"$error":"#N/A"},{"$error":"#N/A"},{"$error":"#N/A"},{"$error":"#N/A"},{"$error":"#N/A"},{"$error":"#N/A"},{"$error":"#N/A"},{"$error":"#N/A"},{"$error":"#N/A"},{"$error":"#N/A"},{"$error":"#N/A"},{"$error":"#N/A"},{"$error":"#N/A"},{"$error":"#N/A"},{"$error":"#N/A"},{"$error":"#N/A"},{"$error":"#N/A"},{"$error":"#N/A"},{"$error":"#N/A"}]
[null,{"$f":"données!B960","v":"li 957"},{"$error":"#N/A"},{"$error":"#N/A"},{"$error":"#N/A"},{"$error":"#N/A"},{"$error":"#N/A"},{"$error":"#N/A"},{"$error":"#N/A"},{"$error":"#N/A"},{"$error":"#N/A"},{"$error":"#N/A"},{"$error":"#N/A"},{"$error":"#N/A"},{"$error":"#N/A"},{"$error":"#N/A"},{"$error":"#N/A"},{"$error":"#N/A"},{"$error":"#N/A"},{"$error":"#N/A"},{"$error":"#N/A"},{"$error":"#N/A"}]
[null,{"$f":"données!B961","v":"li 958"},{"$error":"#N/A"},{"$error":"#N/A"},{"$error":"#N/A"},{"$error":"#N/A"},{"$error":"#N/A"},{"$error":"#N/A"},{"$error":"#N/A"},{"$error":"#N/A"},{"$error":"#N/A"},{"$error":"#N/A"},{"$error":"#N/A"},{"$error":"#N/A"},{"$error":"#N/A"},{"$error":"#N/A"},{"$error":"#N/A"},{"$error":"#N/A"},{"$error":"#N/A"},{"$error":"#N/A"},{"$error":"#N/A"},{"$error":"#N/A"}]
[null,{"$f":"données!B962","v":"li 959"},{"$error":"#N/A"},{"$error":"#N/A"},{"$error":"#N/A"},{"$error":"#N/A"},{"$error":"#N/A"},{"$error":"#N/A"},{"$error":"#N/A"},{"$error":"#N/A"},{"$error":"#N/A"},{"$error":"#N/A"},{"$error":"#N/A"},{"$error":"#N/A"},{"$error":"#N/A"},{"$error":"#N/A"},{"$error":"#N/A"},{"$error":"#N/A"},{"$error":"#N/A"},{"$error":"#N/A"},{"$error":"#N/A"},{"$error":"#N/A"}]
[null,{"$f":"données!B963","v":"li 960"},{"$error":"#N/A"},{"$error":"#N/A"},{"$error":"#N/A"},{"$error":"#N/A"},{"$error":"#N/A"},{"$error":"#N/A"},{"$error":"#N/A"},{"$error":"#N/A"},{"$error":"#N/A"},{"$error":"#N/A"},{"$error":"#N/A"},{"$error":"#N/A"},{"$error":"#N/A"},{"$error":"#N/A"},{"$error":"#N/A"},{"$error":"#N/A"},{"$error":"#N/A"},{"$error":"#N/A"},{"$error":"#N/A"},{"$error":"#N/A"}]
[null,{"$f":"données!B964","v":"li 961"},{"$error":"#N/A"},{"$error":"#N/A"},{"$error":"#N/A"},{"$error":"#N/A"},{"$error":"#N/A"},{"$error":"#N/A"},{"$error":"#N/A"},{"$error":"#N/A"},{"$error":"#N/A"},{"$error":"#N/A"},{"$error":"#N/A"},{"$error":"#N/A"},{"$error":"#N/A"},{"$error":"#N/A"},{"$error":"#N/A"},{"$error":"#N/A"},{"$error":"#N/A"},{"$error":"#N/A"},{"$error":"#N/A"},{"$error":"#N/A"}]
[null,{"$f":"données!B965","v":"li 962"},{"$error":"#N/A"},{"$error":"#N/A"},{"$error":"#N/A"},{"$error":"#N/A"},{"$error":"#N/A"},{"$error":"#N/A"},{"$error":"#N/A"},{"$error":"#N/A"},{"$error":"#N/A"},{"$error":"#N/A"},{"$error":"#N/A"},{"$error":"#N/A"},{"$error":"#N/A"},{"$error":"#N/A"},{"$error":"#N/A"},{"$error":"#N/A"},{"$error":"#N/A"},{"$error":"#N/A"},{"$error":"#N/A"},{"$error":"#N/A"}]
[null,{"$f":"données!B966","v":"li 963"},{"$error":"#N/A"},{"$error":"#N/A"},{"$error":"#N/A"},{"$error":"#N/A"},{"$error":"#N/A"},{"$error":"#N/A"},{"$error":"#N/A"},{"$error":"#N/A"},{"$error":"#N/A"},{"$error":"#N/A"},{"$error":"#N/A"},{"$error":"#N/A"},{"$error":"#N/A"},{"$error":"#N/A"},{"$error":"#N/A"},{"$error":"#N/A"},{"$error":"#N/A"},{"$error":"#N/A"},{"$error":"#N/A"},{"$error":"#N/A"}]
[null,{"$f":"données!B967","v":"li 964"},{"$error":"#N/A"},{"$error":"#N/A"},{"$error":"#N/A"},{"$error":"#N/A"},{"$error":"#N/A"},{"$error":"#N/A"},{"$error":"#N/A"},{"$error":"#N/A"},{"$error":"#N/A"},{"$error":"#N/A"},{"$error":"#N/A"},{"$error":"#N/A"},{"$error":"#N/A"},{"$error":"#N/A"},{"$error":"#N/A"},{"$error":"#N/A"},{"$error":"#N/A"},{"$error":"#N/A"},{"$error":"#N/A"},{"$error":"#N/A"}]
[null,{"$f":"données!B968","v":"li 965"},{"$error":"#N/A"},{"$error":"#N/A"},{"$error":"#N/A"},{"$error":"#N/A"},{"$error":"#N/A"},{"$error":"#N/A"},{"$error":"#N/A"},{"$error":"#N/A"},{"$error":"#N/A"},{"$error":"#N/A"},{"$error":"#N/A"},{"$error":"#N/A"},{"$error":"#N/A"},{"$error":"#N/A"},{"$error":"#N/A"},{"$error":"#N/A"},{"$error":"#N/A"},{"$error":"#N/A"},{"$error":"#N/A"},{"$error":"#N/A"}]
[null,{"$f":"données!B969","v":"li 966"},{"$error":"#N/A"},{"$error":"#N/A"},{"$error":"#N/A"},{"$error":"#N/A"},{"$error":"#N/A"},{"$error":"#N/A"},{"$error":"#N/A"},{"$error":"#N/A"},{"$error":"#N/A"},{"$error":"#N/A"},{"$error":"#N/A"},{"$error":"#N/A"},{"$error":"#N/A"},{"$error":"#N/A"},{"$error":"#N/A"},{"$error":"#N/A"},{"$error":"#N/A"},{"$error":"#N/A"},{"$error":"#N/A"},{"$error":"#N/A"}]
[null,{"$f":"données!B970","v":"li 967"},{"$error":"#N/A"},{"$error":"#N/A"},{"$error":"#N/A"},{"$error":"#N/A"},{"$error":"#N/A"},{"$error":"#N/A"},{"$error":"#N/A"},{"$error":"#N/A"},{"$error":"#N/A"},{"$error":"#N/A"},{"$error":"#N/A"},{"$error":"#N/A"},{"$error":"#N/A"},{"$error":"#N/A"},{"$error":"#N/A"},{"$error":"#N/A"},{"$error":"#N/A"},{"$error":"#N/A"},{"$error":"#N/A"},{"$error":"#N/A"}]
[null,{"$f":"données!B971","v":"li 968"},{"$error":"#N/A"},{"$error":"#N/A"},{"$error":"#N/A"},{"$error":"#N/A"},{"$error":"#N/A"},{"$error":"#N/A"},{"$error":"#N/A"},{"$error":"#N/A"},{"$error":"#N/A"},{"$error":"#N/A"},{"$error":"#N/A"},{"$error":"#N/A"},{"$error":"#N/A"},{"$error":"#N/A"},{"$error":"#N/A"},{"$error":"#N/A"},{"$error":"#N/A"},{"$error":"#N/A"},{"$error":"#N/A"},{"$error":"#N/A"}]
[null,{"$f":"données!B972","v":"li 969"},{"$error":"#N/A"},{"$error":"#N/A"},{"$error":"#N/A"},{"$error":"#N/A"},{"$error":"#N/A"},{"$error":"#N/A"},{"$error":"#N/A"},{"$error":"#N/A"},{"$error":"#N/A"},{"$error":"#N/A"},{"$error":"#N/A"},{"$error":"#N/A"},{"$error":"#N/A"},{"$error":"#N/A"},{"$error":"#N/A"},{"$error":"#N/A"},{"$error":"#N/A"},{"$error":"#N/A"},{"$error":"#N/A"},{"$error":"#N/A"}]
[null,{"$f":"données!B973","v":"li 970"},{"$error":"#N/A"},{"$error":"#N/A"},{"$error":"#N/A"},{"$error":"#N/A"},{"$error":"#N/A"},{"$error":"#N/A"},{"$error":"#N/A"},{"$error":"#N/A"},{"$error":"#N/A"},{"$error":"#N/A"},{"$error":"#N/A"},{"$error":"#N/A"},{"$error":"#N/A"},{"$error":"#N/A"},{"$error":"#N/A"},{"$error":"#N/A"},{"$error":"#N/A"},{"$error":"#N/A"},{"$error":"#N/A"},{"$error":"#N/A"}]
[null,{"$f":"données!B974","v":"li 971"},{"$error":"#N/A"},{"$error":"#N/A"},{"$error":"#N/A"},{"$error":"#N/A"},{"$error":"#N/A"},{"$error":"#N/A"},{"$error":"#N/A"},{"$error":"#N/A"},{"$error":"#N/A"},{"$error":"#N/A"},{"$error":"#N/A"},{"$error":"#N/A"},{"$error":"#N/A"},{"$error":"#N/A"},{"$error":"#N/A"},{"$error":"#N/A"},{"$error":"#N/A"},{"$error":"#N/A"},{"$error":"#N/A"},{"$error":"#N/A"}]
[null,{"$f":"données!B975","v":"li 972"},{"$error":"#N/A"},{"$error":"#N/A"},{"$error":"#N/A"},{"$error":"#N/A"},{"$error":"#N/A"},{"$error":"#N/A"},{"$error":"#N/A"},{"$error":"#N/A"},{"$error":"#N/A"},{"$error":"#N/A"},{"$error":"#N/A"},{"$error":"#N/A"},{"$error":"#N/A"},{"$error":"#N/A"},{"$error":"#N/A"},{"$error":"#N/A"},{"$error":"#N/A"},{"$error":"#N/A"},{"$error":"#N/A"},{"$error":"#N/A"}]
[null,{"$f":"données!B976","v":"li 973"},{"$error":"#N/A"},{"$error":"#N/A"},{"$error":"#N/A"},{"$error":"#N/A"},{"$error":"#N/A"},{"$error":"#N/A"},{"$error":"#N/A"},{"$error":"#N/A"},{"$error":"#N/A"},{"$error":"#N/A"},{"$error":"#N/A"},{"$error":"#N/A"},{"$error":"#N/A"},{"$error":"#N/A"},{"$error":"#N/A"},{"$error":"#N/A"},{"$error":"#N/A"},{"$error":"#N/A"},{"$error":"#N/A"},{"$error":"#N/A"}]
[null,{"$f":"données!B977","v":"li 974"},{"$error":"#N/A"},{"$error":"#N/A"},{"$error":"#N/A"},{"$error":"#N/A"},{"$error":"#N/A"},{"$error":"#N/A"},{"$error":"#N/A"},{"$error":"#N/A"},{"$error":"#N/A"},{"$error":"#N/A"},{"$error":"#N/A"},{"$error":"#N/A"},{"$error":"#N/A"},{"$error":"#N/A"},{"$error":"#N/A"},{"$error":"#N/A"},{"$error":"#N/A"},{"$error":"#N/A"},{"$error":"#N/A"},{"$error":"#N/A"}]
[null,{"$f":"données!B978","v":"li 975"},{"$error":"#N/A"},{"$error":"#N/A"},{"$error":"#N/A"},{"$error":"#N/A"},{"$error":"#N/A"},{"$error":"#N/A"},{"$error":"#N/A"},{"$error":"#N/A"},{"$error":"#N/A"},{"$error":"#N/A"},{"$error":"#N/A"},{"$error":"#N/A"},{"$error":"#N/A"},{"$error":"#N/A"},{"$error":"#N/A"},{"$error":"#N/A"},{"$error":"#N/A"},{"$error":"#N/A"},{"$error":"#N/A"},{"$error":"#N/A"}]
[null,{"$f":"données!B979","v":"li 976"},{"$error":"#N/A"},{"$error":"#N/A"},{"$error":"#N/A"},{"$error":"#N/A"},{"$error":"#N/A"},{"$error":"#N/A"},{"$error":"#N/A"},{"$error":"#N/A"},{"$error":"#N/A"},{"$error":"#N/A"},{"$error":"#N/A"},{"$error":"#N/A"},{"$error":"#N/A"},{"$error":"#N/A"},{"$error":"#N/A"},{"$error":"#N/A"},{"$error":"#N/A"},{"$error":"#N/A"},{"$error":"#N/A"},{"$error":"#N/A"}]
[null,{"$f":"données!B980","v":"li 977"},{"$error":"#N/A"},{"$error":"#N/A"},{"$error":"#N/A"},{"$error":"#N/A"},{"$error":"#N/A"},{"$error":"#N/A"},{"$error":"#N/A"},{"$error":"#N/A"},{"$error":"#N/A"},{"$error":"#N/A"},{"$error":"#N/A"},{"$error":"#N/A"},{"$error":"#N/A"},{"$error":"#N/A"},{"$error":"#N/A"},{"$error":"#N/A"},{"$error":"#N/A"},{"$error":"#N/A"},{"$error":"#N/A"},{"$error":"#N/A"}]
[null,{"$f":"données!B981","v":"li 978"},{"$error":"#N/A"},{"$error":"#N/A"},{"$error":"#N/A"},{"$error":"#N/A"},{"$error":"#N/A"},{"$error":"#N/A"},{"$error":"#N/A"},{"$error":"#N/A"},{"$error":"#N/A"},{"$error":"#N/A"},{"$error":"#N/A"},{"$error":"#N/A"},{"$error":"#N/A"},{"$error":"#N/A"},{"$error":"#N/A"},{"$error":"#N/A"},{"$error":"#N/A"},{"$error":"#N/A"},{"$error":"#N/A"},{"$error":"#N/A"}]
[null,{"$f":"données!B982","v":"li 979"},{"$error":"#N/A"},{"$error":"#N/A"},{"$error":"#N/A"},{"$error":"#N/A"},{"$error":"#N/A"},{"$error":"#N/A"},{"$error":"#N/A"},{"$error":"#N/A"},{"$error":"#N/A"},{"$error":"#N/A"},{"$error":"#N/A"},{"$error":"#N/A"},{"$error":"#N/A"},{"$error":"#N/A"},{"$error":"#N/A"},{"$error":"#N/A"},{"$error":"#N/A"},{"$error":"#N/A"},{"$error":"#N/A"},{"$error":"#N/A"}]
[null,{"$f":"données!B983","v":"li 980"},{"$error":"#N/A"},{"$error":"#N/A"},{"$error":"#N/A"},{"$error":"#N/A"},{"$error":"#N/A"},{"$error":"#N/A"},{"$error":"#N/A"},{"$error":"#N/A"},{"$error":"#N/A"},{"$error":"#N/A"},{"$error":"#N/A"},{"$error":"#N/A"},{"$error":"#N/A"},{"$error":"#N/A"},{"$error":"#N/A"},{"$error":"#N/A"},{"$error":"#N/A"},{"$error":"#N/A"},{"$error":"#N/A"},{"$error":"#N/A"}]
[null,{"$f":"données!B984","v":"li 981"},{"$error":"#N/A"},{"$error":"#N/A"},{"$error":"#N/A"},{"$error":"#N/A"},{"$error":"#N/A"},{"$error":"#N/A"},{"$error":"#N/A"},{"$error":"#N/A"},{"$error":"#N/A"},{"$error":"#N/A"},{"$error":"#N/A"},{"$error":"#N/A"},{"$error":"#N/A"},{"$error":"#N/A"},{"$error":"#N/A"},{"$error":"#N/A"},{"$error":"#N/A"},{"$error":"#N/A"},{"$error":"#N/A"},{"$error":"#N/A"}]
[null,{"$f":"données!B985","v":"li 982"},{"$error":"#N/A"},{"$error":"#N/A"},{"$error":"#N/A"},{"$error":"#N/A"},{"$error":"#N/A"},{"$error":"#N/A"},{"$error":"#N/A"},{"$error":"#N/A"},{"$error":"#N/A"},{"$error":"#N/A"},{"$error":"#N/A"},{"$error":"#N/A"},{"$error":"#N/A"},{"$error":"#N/A"},{"$error":"#N/A"},{"$error":"#N/A"},{"$error":"#N/A"},{"$error":"#N/A"},{"$error":"#N/A"},{"$error":"#N/A"}]
[null,{"$f":"données!B986","v":"li 983"},{"$error":"#N/A"},{"$error":"#N/A"},{"$error":"#N/A"},{"$error":"#N/A"},{"$error":"#N/A"},{"$error":"#N/A"},{"$error":"#N/A"},{"$error":"#N/A"},{"$error":"#N/A"},{"$error":"#N/A"},{"$error":"#N/A"},{"$error":"#N/A"},{"$error":"#N/A"},{"$error":"#N/A"},{"$error":"#N/A"},{"$error":"#N/A"},{"$error":"#N/A"},{"$error":"#N/A"},{"$error":"#N/A"},{"$error":"#N/A"}]
[null,{"$f":"données!B987","v":"li 984"},{"$error":"#N/A"},{"$error":"#N/A"},{"$error":"#N/A"},{"$error":"#N/A"},{"$error":"#N/A"},{"$error":"#N/A"},{"$error":"#N/A"},{"$error":"#N/A"},{"$error":"#N/A"},{"$error":"#N/A"},{"$error":"#N/A"},{"$error":"#N/A"},{"$error":"#N/A"},{"$error":"#N/A"},{"$error":"#N/A"},{"$error":"#N/A"},{"$error":"#N/A"},{"$error":"#N/A"},{"$error":"#N/A"},{"$error":"#N/A"}]
[null,{"$f":"données!B988","v":"li 985"},{"$error":"#N/A"},{"$error":"#N/A"},{"$error":"#N/A"},{"$error":"#N/A"},{"$error":"#N/A"},{"$error":"#N/A"},{"$error":"#N/A"},{"$error":"#N/A"},{"$error":"#N/A"},{"$error":"#N/A"},{"$error":"#N/A"},{"$error":"#N/A"},{"$error":"#N/A"},{"$error":"#N/A"},{"$error":"#N/A"},{"$error":"#N/A"},{"$error":"#N/A"},{"$error":"#N/A"},{"$error":"#N/A"},{"$error":"#N/A"}]
[null,{"$f":"données!B989","v":"li 986"},{"$error":"#N/A"},{"$error":"#N/A"},{"$error":"#N/A"},{"$error":"#N/A"},{"$error":"#N/A"},{"$error":"#N/A"},{"$error":"#N/A"},{"$error":"#N/A"},{"$error":"#N/A"},{"$error":"#N/A"},{"$error":"#N/A"},{"$error":"#N/A"},{"$error":"#N/A"},{"$error":"#N/A"},{"$error":"#N/A"},{"$error":"#N/A"},{"$error":"#N/A"},{"$error":"#N/A"},{"$error":"#N/A"},{"$error":"#N/A"}]
[null,{"$f":"données!B990","v":"li 987"},{"$error":"#N/A"},{"$error":"#N/A"},{"$error":"#N/A"},{"$error":"#N/A"},{"$error":"#N/A"},{"$error":"#N/A"},{"$error":"#N/A"},{"$error":"#N/A"},{"$error":"#N/A"},{"$error":"#N/A"},{"$error":"#N/A"},{"$error":"#N/A"},{"$error":"#N/A"},{"$error":"#N/A"},{"$error":"#N/A"},{"$error":"#N/A"},{"$error":"#N/A"},{"$error":"#N/A"},{"$error":"#N/A"},{"$error":"#N/A"}]
[null,{"$f":"données!B991","v":"li 988"},{"$error":"#N/A"},{"$error":"#N/A"},{"$error":"#N/A"},{"$error":"#N/A"},{"$error":"#N/A"},{"$error":"#N/A"},{"$error":"#N/A"},{"$error":"#N/A"},{"$error":"#N/A"},{"$error":"#N/A"},{"$error":"#N/A"},{"$error":"#N/A"},{"$error":"#N/A"},{"$error":"#N/A"},{"$error":"#N/A"},{"$error":"#N/A"},{"$error":"#N/A"},{"$error":"#N/A"},{"$error":"#N/A"},{"$error":"#N/A"}]
[null,{"$f":"données!B992","v":"li 989"},{"$error":"#N/A"},{"$error":"#N/A"},{"$error":"#N/A"},{"$error":"#N/A"},{"$error":"#N/A"},{"$error":"#N/A"},{"$error":"#N/A"},{"$error":"#N/A"},{"$error":"#N/A"},{"$error":"#N/A"},{"$error":"#N/A"},{"$error":"#N/A"},{"$error":"#N/A"},{"$error":"#N/A"},{"$error":"#N/A"},{"$error":"#N/A"},{"$error":"#N/A"},{"$error":"#N/A"},{"$error":"#N/A"},{"$error":"#N/A"}]
[null,{"$f":"données!B993","v":"li 990"},{"$error":"#N/A"},{"$error":"#N/A"},{"$error":"#N/A"},{"$error":"#N/A"},{"$error":"#N/A"},{"$error":"#N/A"},{"$error":"#N/A"},{"$error":"#N/A"},{"$error":"#N/A"},{"$error":"#N/A"},{"$error":"#N/A"},{"$error":"#N/A"},{"$error":"#N/A"},{"$error":"#N/A"},{"$error":"#N/A"},{"$error":"#N/A"},{"$error":"#N/A"},{"$error":"#N/A"},{"$error":"#N/A"},{"$error":"#N/A"}]
[null,{"$f":"données!B994","v":"li 991"},{"$error":"#N/A"},{"$error":"#N/A"},{"$error":"#N/A"},{"$error":"#N/A"},{"$error":"#N/A"},{"$error":"#N/A"},{"$error":"#N/A"},{"$error":"#N/A"},{"$error":"#N/A"},{"$error":"#N/A"},{"$error":"#N/A"},{"$error":"#N/A"},{"$error":"#N/A"},{"$error":"#N/A"},{"$error":"#N/A"},{"$error":"#N/A"},{"$error":"#N/A"},{"$error":"#N/A"},{"$error":"#N/A"},{"$error":"#N/A"}]
[null,{"$f":"données!B995","v":"li 992"},{"$error":"#N/A"},{"$error":"#N/A"},{"$error":"#N/A"},{"$error":"#N/A"},{"$error":"#N/A"},{"$error":"#N/A"},{"$error":"#N/A"},{"$error":"#N/A"},{"$error":"#N/A"},{"$error":"#N/A"},{"$error":"#N/A"},{"$error":"#N/A"},{"$error":"#N/A"},{"$error":"#N/A"},{"$error":"#N/A"},{"$error":"#N/A"},{"$error":"#N/A"},{"$error":"#N/A"},{"$error":"#N/A"},{"$error":"#N/A"}]
[null,{"$f":"données!B996","v":"li 993"},{"$error":"#N/A"},{"$error":"#N/A"},{"$error":"#N/A"},{"$error":"#N/A"},{"$error":"#N/A"},{"$error":"#N/A"},{"$error":"#N/A"},{"$error":"#N/A"},{"$error":"#N/A"},{"$error":"#N/A"},{"$error":"#N/A"},{"$error":"#N/A"},{"$error":"#N/A"},{"$error":"#N/A"},{"$error":"#N/A"},{"$error":"#N/A"},{"$error":"#N/A"},{"$error":"#N/A"},{"$error":"#N/A"},{"$error":"#N/A"}]
[null,{"$f":"données!B997","v":"li 994"},{"$error":"#N/A"},{"$error":"#N/A"},{"$error":"#N/A"},{"$error":"#N/A"},{"$error":"#N/A"},{"$error":"#N/A"},{"$error":"#N/A"},{"$error":"#N/A"},{"$error":"#N/A"},{"$error":"#N/A"},{"$error":"#N/A"},{"$error":"#N/A"},{"$error":"#N/A"},{"$error":"#N/A"},{"$error":"#N/A"},{"$error":"#N/A"},{"$error":"#N/A"},{"$error":"#N/A"},{"$error":"#N/A"},{"$error":"#N/A"}]
[null,{"$f":"données!B998","v":"li 995"},{"$error":"#N/A"},{"$error":"#N/A"},{"$error":"#N/A"},{"$error":"#N/A"},{"$error":"#N/A"},{"$error":"#N/A"},{"$error":"#N/A"},{"$error":"#N/A"},{"$error":"#N/A"},{"$error":"#N/A"},{"$error":"#N/A"},{"$error":"#N/A"},{"$error":"#N/A"},{"$error":"#N/A"},{"$error":"#N/A"},{"$error":"#N/A"},{"$error":"#N/A"},{"$error":"#N/A"},{"$error":"#N/A"},{"$error":"#N/A"}]
[null,{"$f":"données!B999","v":"li 996"},{"$error":"#N/A"},{"$error":"#N/A"},{"$error":"#N/A"},{"$error":"#N/A"},{"$error":"#N/A"},{"$error":"#N/A"},{"$error":"#N/A"},{"$error":"#N/A"},{"$error":"#N/A"},{"$error":"#N/A"},{"$error":"#N/A"},{"$error":"#N/A"},{"$error":"#N/A"},{"$error":"#N/A"},{"$error":"#N/A"},{"$error":"#N/A"},{"$error":"#N/A"},{"$error":"#N/A"},{"$error":"#N/A"},{"$error":"#N/A"}]
[null,{"$f":"données!B1000","v":"li 997"},{"$error":"#N/A"},{"$error":"#N/A"},{"$error":"#N/A"},{"$error":"#N/A"},{"$error":"#N/A"},{"$error":"#N/A"},{"$error":"#N/A"},{"$error":"#N/A"},{"$error":"#N/A"},{"$error":"#N/A"},{"$error":"#N/A"},{"$error":"#N/A"},{"$error":"#N/A"},{"$error":"#N/A"},{"$error":"#N/A"},{"$error":"#N/A"},{"$error":"#N/A"},{"$error":"#N/A"},{"$error":"#N/A"},{"$error":"#N/A"}]
[null,{"$f":"données!B1001","v":"li 998"},{"$error":"#N/A"},{"$error":"#N/A"},{"$error":"#N/A"},{"$error":"#N/A"},{"$error":"#N/A"},{"$error":"#N/A"},{"$error":"#N/A"},{"$error":"#N/A"},{"$error":"#N/A"},{"$error":"#N/A"},{"$error":"#N/A"},{"$error":"#N/A"},{"$error":"#N/A"},{"$error":"#N/A"},{"$error":"#N/A"},{"$error":"#N/A"},{"$error":"#N/A"},{"$error":"#N/A"},{"$error":"#N/A"},{"$error":"#N/A"}]
[null,{"$f":"données!B1002","v":"li 999"},{"$error":"#N/A"},{"$error":"#N/A"},{"$error":"#N/A"},{"$error":"#N/A"},{"$error":"#N/A"},{"$error":"#N/A"},{"$error":"#N/A"},{"$error":"#N/A"},{"$error":"#N/A"},{"$error":"#N/A"},{"$error":"#N/A"},{"$error":"#N/A"},{"$error":"#N/A"},{"$error":"#N/A"},{"$error":"#N/A"},{"$error":"#N/A"},{"$error":"#N/A"},{"$error":"#N/A"},{"$error":"#N/A"},{"$error":"#N/A"}]
[null,{"$f":"données!B1003","v":"li 1000"},{"$error":"#N/A"},{"$error":"#N/A"},{"$error":"#N/A"},{"$error":"#N/A"},{"$error":"#N/A"},{"$error":"#N/A"},{"$error":"#N/A"},{"$error":"#N/A"},{"$error":"#N/A"},{"$error":"#N/A"},{"$error":"#N/A"},{"$error":"#N/A"},{"$error":"#N/A"},{"$error":"#N/A"},{"$error":"#N/A"},{"$error":"#N/A"},{"$error":"#N/A"},{"$error":"#N/A"},{"$error":"#N/A"},{"$error":"#N/A"}]
[null,{"$f":"données!B1004","v":0},{"$error":"#N/A"},{"$error":"#N/A"},{"$error":"#N/A"},{"$error":"#N/A"},{"$error":"#N/A"},{"$error":"#N/A"},{"$error":"#N/A"},{"$error":"#N/A"},{"$error":"#N/A"},{"$error":"#N/A"},{"$error":"#N/A"},{"$error":"#N/A"},{"$error":"#N/A"},{"$error":"#N/A"},{"$error":"#N/A"},{"$error":"#N/A"},{"$error":"#N/A"},{"$error":"#N/A"},{"$error":"#N/A"},{"$error":"#N/A"}]
[null,{"$f":"données!A1005","v":"Individus à ajouter"},{"$error":"#N/A"},{"$error":"#N/A"},{"$error":"#N/A"},{"$error":"#N/A"},{"$error":"#N/A"},{"$error":"#N/A"},{"$error":"#N/A"},{"$error":"#N/A"},{"$error":"#N/A"},{"$error":"#N/A"},{"$error":"#N/A"},{"$error":"#N/A"},{"$error":"#N/A"},{"$error":"#N/A"},{"$error":"#N/A"},{"$error":"#N/A"},{"$error":"#N/A"},{"$error":"#N/A"},{"$error":"#N/A"},{"$error":"#N/A"}]
[null,{"$f":"données!B1006","v":"IA1"},{"$error":"#N/A"},{"$error":"#N/A"},{"$error":"#N/A"},{"$error":"#N/A"},{"$error":"#N/A"},{"$error":"#N/A"},{"$error":"#N/A"},{"$error":"#N/A"},{"$error":"#N/A"},{"$error":"#N/A"},{"$error":"#N/A"},{"$error":"#N/A"},{"$error":"#N/A"},{"$error":"#N/A"},{"$error":"#N/A"},{"$error":"#N/A"},{"$error":"#N/A"},{"$error":"#N/A"},{"$error":"#N/A"},{"$error":"#N/A"}]
[null,{"$f":"données!B1007","v":"IA2"},{"$error":"#N/A"},{"$error":"#N/A"},{"$error":"#N/A"},{"$error":"#N/A"},{"$error":"#N/A"},{"$error":"#N/A"},{"$error":"#N/A"},{"$error":"#N/A"},{"$error":"#N/A"},{"$error":"#N/A"},{"$error":"#N/A"},{"$error":"#N/A"},{"$error":"#N/A"},{"$error":"#N/A"},{"$error":"#N/A"},{"$error":"#N/A"},{"$error":"#N/A"},{"$error":"#N/A"},{"$error":"#N/A"},{"$error":"#N/A"}]
[null,{"$f":"données!B1008","v":"IA3"},{"$error":"#N/A"},{"$error":"#N/A"},{"$error":"#N/A"},{"$error":"#N/A"},{"$error":"#N/A"},{"$error":"#N/A"},{"$error":"#N/A"},{"$error":"#N/A"},{"$error":"#N/A"},{"$error":"#N/A"},{"$error":"#N/A"},{"$error":"#N/A"},{"$error":"#N/A"},{"$error":"#N/A"},{"$error":"#N/A"},{"$error":"#N/A"},{"$error":"#N/A"},{"$error":"#N/A"},{"$error":"#N/A"},{"$error":"#N/A"}]
[null,{"$f":"données!B1009","v":"IA4"},{"$error":"#N/A"},{"$error":"#N/A"},{"$error":"#N/A"},{"$error":"#N/A"},{"$error":"#N/A"},{"$error":"#N/A"},{"$error":"#N/A"},{"$error":"#N/A"},{"$error":"#N/A"},{"$error":"#N/A"},{"$error":"#N/A"},{"$error":"#N/A"},{"$error":"#N/A"},{"$error":"#N/A"},{"$error":"#N/A"},{"$error":"#N/A"},{"$error":"#N/A"},{"$error":"#N/A"},{"$error":"#N/A"},{"$error":"#N/A"}]
[null,{"$f":"données!B1010","v":"IA5"},{"$error":"#N/A"},{"$error":"#N/A"},{"$error":"#N/A"},{"$error":"#N/A"},{"$error":"#N/A"},{"$error":"#N/A"},{"$error":"#N/A"},{"$error":"#N/A"},{"$error":"#N/A"},{"$error":"#N/A"},{"$error":"#N/A"},{"$error":"#N/A"},{"$error":"#N/A"},{"$error":"#N/A"},{"$error":"#N/A"},{"$error":"#N/A"},{"$error":"#N/A"},{"$error":"#N/A"},{"$error":"#N/A"},{"$error":"#N/A"}]
[null,{"$f":"données!B1011","v":"IA6"},{"$error":"#N/A"},{"$error":"#N/A"},{"$error":"#N/A"},{"$error":"#N/A"},{"$error":"#N/A"},{"$error":"#N/A"},{"$error":"#N/A"},{"$error":"#N/A"},{"$error":"#N/A"},{"$error":"#N/A"},{"$error":"#N/A"},{"$error":"#N/A"},{"$error":"#N/A"},{"$error":"#N/A"},{"$error":"#N/A"},{"$error":"#N/A"},{"$error":"#N/A"},{"$error":"#N/A"},{"$error":"#N/A"},{"$error":"#N/A"}]
[null,{"$f":"données!B1012","v":"IA7"},{"$error":"#N/A"},{"$error":"#N/A"},{"$error":"#N/A"},{"$error":"#N/A"},{"$error":"#N/A"},{"$error":"#N/A"},{"$error":"#N/A"},{"$error":"#N/A"},{"$error":"#N/A"},{"$error":"#N/A"},{"$error":"#N/A"},{"$error":"#N/A"},{"$error":"#N/A"},{"$error":"#N/A"},{"$error":"#N/A"},{"$error":"#N/A"},{"$error":"#N/A"},{"$error":"#N/A"},{"$error":"#N/A"},{"$error":"#N/A"}]
[null,{"$f":"données!B1013","v":"IA8"},{"$error":"#N/A"},{"$error":"#N/A"},{"$error":"#N/A"},{"$error":"#N/A"},{"$error":"#N/A"},{"$error":"#N/A"},{"$error":"#N/A"},{"$error":"#N/A"},{"$error":"#N/A"},{"$error":"#N/A"},{"$error":"#N/A"},{"$error":"#N/A"},{"$error":"#N/A"},{"$error":"#N/A"},{"$error":"#N/A"},{"$error":"#N/A"},{"$error":"#N/A"},{"$error":"#N/A"},{"$error":"#N/A"},{"$error":"#N/A"}]
[null,{"$f":"données!B1014","v":"IA9"},{"$error":"#N/A"},{"$error":"#N/A"},{"$error":"#N/A"},{"$error":"#N/A"},{"$error":"#N/A"},{"$error":"#N/A"},{"$error":"#N/A"},{"$error":"#N/A"},{"$error":"#N/A"},{"$error":"#N/A"},{"$error":"#N/A"},{"$error":"#N/A"},{"$error":"#N/A"},{"$error":"#N/A"},{"$error":"#N/A"},{"$error":"#N/A"},{"$error":"#N/A"},{"$error":"#N/A"},{"$error":"#N/A"},{"$error":"#N/A"}]
[null,{"$f":"données!B1015","v":"IA10"},{"$error":"#N/A"},{"$error":"#N/A"},{"$error":"#N/A"},{"$error":"#N/A"},{"$error":"#N/A"},{"$error":"#N/A"},{"$error":"#N/A"},{"$error":"#N/A"},{"$error":"#N/A"},{"$error":"#N/A"},{"$error":"#N/A"},{"$error":"#N/A"},{"$error":"#N/A"},{"$error":"#N/A"},{"$error":"#N/A"},{"$error":"#N/A"},{"$error":"#N/A"},{"$error":"#N/A"},{"$error":"#N/A"},{"$error":"#N/A"}]
[null,{"$f":"données!B1016","v":"IA11"},{"$error":"#N/A"},{"$error":"#N/A"},{"$error":"#N/A"},{"$error":"#N/A"},{"$error":"#N/A"},{"$error":"#N/A"},{"$error":"#N/A"},{"$error":"#N/A"},{"$error":"#N/A"},{"$error":"#N/A"},{"$error":"#N/A"},{"$error":"#N/A"},{"$error":"#N/A"},{"$error":"#N/A"},{"$error":"#N/A"},{"$error":"#N/A"},{"$error":"#N/A"},{"$error":"#N/A"},{"$error":"#N/A"},{"$error":"#N/A"}]
[null,{"$f":"données!B1017","v":"IA12"},{"$error":"#N/A"},{"$error":"#N/A"},{"$error":"#N/A"},{"$error":"#N/A"},{"$error":"#N/A"},{"$error":"#N/A"},{"$error":"#N/A"},{"$error":"#N/A"},{"$error":"#N/A"},{"$error":"#N/A"},{"$error":"#N/A"},{"$error":"#N/A"},{"$error":"#N/A"},{"$error":"#N/A"},{"$error":"#N/A"},{"$error":"#N/A"},{"$error":"#N/A"},{"$error":"#N/A"},{"$error":"#N/A"},{"$error":"#N/A"}]
[null,{"$f":"données!B1018","v":"IA13"},{"$error":"#N/A"},{"$error":"#N/A"},{"$error":"#N/A"},{"$error":"#N/A"},{"$error":"#N/A"},{"$error":"#N/A"},{"$error":"#N/A"},{"$error":"#N/A"},{"$error":"#N/A"},{"$error":"#N/A"},{"$error":"#N/A"},{"$error":"#N/A"},{"$error":"#N/A"},{"$error":"#N/A"},{"$error":"#N/A"},{"$error":"#N/A"},{"$error":"#N/A"},{"$error":"#N/A"},{"$error":"#N/A"},{"$error":"#N/A"}]
[null,{"$f":"données!B1019","v":"IA14"},{"$error":"#N/A"},{"$error":"#N/A"},{"$error":"#N/A"},{"$error":"#N/A"},{"$error":"#N/A"},{"$error":"#N/A"},{"$error":"#N/A"},{"$error":"#N/A"},{"$error":"#N/A"},{"$error":"#N/A"},{"$error":"#N/A"},{"$error":"#N/A"},{"$error":"#N/A"},{"$error":"#N/A"},{"$error":"#N/A"},{"$error":"#N/A"},{"$error":"#N/A"},{"$error":"#N/A"},{"$error":"#N/A"},{"$error":"#N/A"}]
[null,{"$f":"données!B1020","v":"IA15"},{"$error":"#N/A"},{"$error":"#N/A"},{"$error":"#N/A"},{"$error":"#N/A"},{"$error":"#N/A"},{"$error":"#N/A"},{"$error":"#N/A"},{"$error":"#N/A"},{"$error":"#N/A"},{"$error":"#N/A"},{"$error":"#N/A"},{"$error":"#N/A"},{"$error":"#N/A"},{"$error":"#N/A"},{"$error":"#N/A"},{"$error":"#N/A"},{"$error":"#N/A"},{"$error":"#N/A"},{"$error":"#N/A"},{"$error":"#N/A"}]
[null,{"$f":"données!B1021","v":"IA16"},{"$error":"#N/A"},{"$error":"#N/A"},{"$error":"#N/A"},{"$error":"#N/A"},{"$error":"#N/A"},{"$error":"#N/A"},{"$error":"#N/A"},{"$error":"#N/A"},{"$error":"#N/A"},{"$error":"#N/A"},{"$error":"#N/A"},{"$error":"#N/A"},{"$error":"#N/A"},{"$error":"#N/A"},{"$error":"#N/A"},{"$error":"#N/A"},{"$error":"#N/A"},{"$error":"#N/A"},{"$error":"#N/A"},{"$error":"#N/A"}]
[null,{"$f":"données!B1022","v":"IA17"},{"$error":"#N/A"},{"$error":"#N/A"},{"$error":"#N/A"},{"$error":"#N/A"},{"$error":"#N/A"},{"$error":"#N/A"},{"$error":"#N/A"},{"$error":"#N/A"},{"$error":"#N/A"},{"$error":"#N/A"},{"$error":"#N/A"},{"$error":"#N/A"},{"$error":"#N/A"},{"$error":"#N/A"},{"$error":"#N/A"},{"$error":"#N/A"},{"$error":"#N/A"},{"$error":"#N/A"},{"$error":"#N/A"},{"$error":"#N/A"}]
[null,{"$f":"données!B1023","v":"IA18"},{"$error":"#N/A"},{"$error":"#N/A"},{"$error":"#N/A"},{"$error":"#N/A"},{"$error":"#N/A"},{"$error":"#N/A"},{"$error":"#N/A"},{"$error":"#N/A"},{"$error":"#N/A"},{"$error":"#N/A"},{"$error":"#N/A"},{"$error":"#N/A"},{"$error":"#N/A"},{"$error":"#N/A"},{"$error":"#N/A"},{"$error":"#N/A"},{"$error":"#N/A"},{"$error":"#N/A"},{"$error":"#N/A"},{"$error":"#N/A"}]
[null,{"$f":"données!B1024","v":"IA19"},{"$error":"#N/A"},{"$error":"#N/A"},{"$error":"#N/A"},{"$error":"#N/A"},{"$error":"#N/A"},{"$error":"#N/A"},{"$error":"#N/A"},{"$error":"#N/A"},{"$error":"#N/A"},{"$error":"#N/A"},{"$error":"#N/A"},{"$error":"#N/A"},{"$error":"#N/A"},{"$error":"#N/A"},{"$error":"#N/A"},{"$error":"#N/A"},{"$error":"#N/A"},{"$error":"#N/A"},{"$error":"#N/A"},{"$error":"#N/A"}]
[null,{"$f":"données!B1025","v":"IA20"},{"$error":"#N/A"},{"$error":"#N/A"},{"$error":"#N/A"},{"$error":"#N/A"},{"$error":"#N/A"},{"$error":"#N/A"},{"$error":"#N/A"},{"$error":"#N/A"},{"$error":"#N/A"},{"$error":"#N/A"},{"$error":"#N/A"},{"$error":"#N/A"},{"$error":"#N/A"},{"$error":"#N/A"},{"$error":"#N/A"},{"$error":"#N/A"},{"$error":"#N/A"},{"$error":"#N/A"},{"$error":"#N/A"},{"$error":"#N/A"}]
[null,{"$f":"données!B1026","v":"IA21"},{"$error":"#N/A"},{"$error":"#N/A"},{"$error":"#N/A"},{"$error":"#N/A"},{"$error":"#N/A"},{"$error":"#N/A"},{"$error":"#N/A"},{"$error":"#N/A"},{"$error":"#N/A"},{"$error":"#N/A"},{"$error":"#N/A"},{"$error":"#N/A"},{"$error":"#N/A"},{"$error":"#N/A"},{"$error":"#N/A"},{"$error":"#N/A"},{"$error":"#N/A"},{"$error":"#N/A"},{"$error":"#N/A"},{"$error":"#N/A"}]
[null,{"$f":"données!B1027","v":"IA22"},{"$error":"#N/A"},{"$error":"#N/A"},{"$error":"#N/A"},{"$error":"#N/A"},{"$error":"#N/A"},{"$error":"#N/A"},{"$error":"#N/A"},{"$error":"#N/A"},{"$error":"#N/A"},{"$error":"#N/A"},{"$error":"#N/A"},{"$error":"#N/A"},{"$error":"#N/A"},{"$error":"#N/A"},{"$error":"#N/A"},{"$error":"#N/A"},{"$error":"#N/A"},{"$error":"#N/A"},{"$error":"#N/A"},{"$error":"#N/A"}]
[null,{"$f":"données!B1028","v":"IA23"},{"$error":"#N/A"},{"$error":"#N/A"},{"$error":"#N/A"},{"$error":"#N/A"},{"$error":"#N/A"},{"$error":"#N/A"},{"$error":"#N/A"},{"$error":"#N/A"},{"$error":"#N/A"},{"$error":"#N/A"},{"$error":"#N/A"},{"$error":"#N/A"},{"$error":"#N/A"},{"$error":"#N/A"},{"$error":"#N/A"},{"$error":"#N/A"},{"$error":"#N/A"},{"$error":"#N/A"},{"$error":"#N/A"},{"$error":"#N/A"}]
[null,{"$f":"données!B1029","v":"IA24"},{"$error":"#N/A"},{"$error":"#N/A"},{"$error":"#N/A"},{"$error":"#N/A"},{"$error":"#N/A"},{"$error":"#N/A"},{"$error":"#N/A"},{"$error":"#N/A"},{"$error":"#N/A"},{"$error":"#N/A"},{"$error":"#N/A"},{"$error":"#N/A"},{"$error":"#N/A"},{"$error":"#N/A"},{"$error":"#N/A"},{"$error":"#N/A"},{"$error":"#N/A"},{"$error":"#N/A"},{"$error":"#N/A"},{"$error":"#N/A"}]
[null,{"$f":"données!B1030","v":"IA25"},{"$error":"#N/A"},{"$error":"#N/A"},{"$error":"#N/A"},{"$error":"#N/A"},{"$error":"#N/A"},{"$error":"#N/A"},{"$error":"#N/A"},{"$error":"#N/A"},{"$error":"#N/A"},{"$error":"#N/A"},{"$error":"#N/A"},{"$error":"#N/A"},{"$error":"#N/A"},{"$error":"#N/A"},{"$error":"#N/A"},{"$error":"#N/A"},{"$error":"#N/A"},{"$error":"#N/A"},{"$error":"#N/A"},{"$error":"#N/A"}]
[null,{"$f":"données!B1031","v":"IA26"},{"$error":"#N/A"},{"$error":"#N/A"},{"$error":"#N/A"},{"$error":"#N/A"},{"$error":"#N/A"},{"$error":"#N/A"},{"$error":"#N/A"},{"$error":"#N/A"},{"$error":"#N/A"},{"$error":"#N/A"},{"$error":"#N/A"},{"$error":"#N/A"},{"$error":"#N/A"},{"$error":"#N/A"},{"$error":"#N/A"},{"$error":"#N/A"},{"$error":"#N/A"},{"$error":"#N/A"},{"$error":"#N/A"},{"$error":"#N/A"}]
[null,{"$f":"données!B1032","v":"IA27"},{"$error":"#N/A"},{"$error":"#N/A"},{"$error":"#N/A"},{"$error":"#N/A"},{"$error":"#N/A"},{"$error":"#N/A"},{"$error":"#N/A"},{"$error":"#N/A"},{"$error":"#N/A"},{"$error":"#N/A"},{"$error":"#N/A"},{"$error":"#N/A"},{"$error":"#N/A"},{"$error":"#N/A"},{"$error":"#N/A"},{"$error":"#N/A"},{"$error":"#N/A"},{"$error":"#N/A"},{"$error":"#N/A"},{"$error":"#N/A"}]
[null,{"$f":"données!B1033","v":"IA28"},{"$error":"#N/A"},{"$error":"#N/A"},{"$error":"#N/A"},{"$error":"#N/A"},{"$error":"#N/A"},{"$error":"#N/A"},{"$error":"#N/A"},{"$error":"#N/A"},{"$error":"#N/A"},{"$error":"#N/A"},{"$error":"#N/A"},{"$error":"#N/A"},{"$error":"#N/A"},{"$error":"#N/A"},{"$error":"#N/A"},{"$error":"#N/A"},{"$error":"#N/A"},{"$error":"#N/A"},{"$error":"#N/A"},{"$error":"#N/A"}]
[null,{"$f":"données!B1034","v":"IA29"},{"$error":"#N/A"},{"$error":"#N/A"},{"$error":"#N/A"},{"$error":"#N/A"},{"$error":"#N/A"},{"$error":"#N/A"},{"$error":"#N/A"},{"$error":"#N/A"},{"$error":"#N/A"},{"$error":"#N/A"},{"$error":"#N/A"},{"$error":"#N/A"},{"$error":"#N/A"},{"$error":"#N/A"},{"$error":"#N/A"},{"$error":"#N/A"},{"$error":"#N/A"},{"$error":"#N/A"},{"$error":"#N/A"},{"$error":"#N/A"}]
[null,{"$f":"données!B1035","v":"IA30"},{"$error":"#N/A"},{"$error":"#N/A"},{"$error":"#N/A"},{"$error":"#N/A"},{"$error":"#N/A"},{"$error":"#N/A"},{"$error":"#N/A"},{"$error":"#N/A"},{"$error":"#N/A"},{"$error":"#N/A"},{"$error":"#N/A"},{"$error":"#N/A"},{"$error":"#N/A"},{"$error":"#N/A"},{"$error":"#N/A"},{"$error":"#N/A"},{"$error":"#N/A"},{"$error":"#N/A"},{"$error":"#N/A"},{"$error":"#N/A"}]
[null,{"$f":"données!B1036","v":"IA31"},{"$error":"#N/A"},{"$error":"#N/A"},{"$error":"#N/A"},{"$error":"#N/A"},{"$error":"#N/A"},{"$error":"#N/A"},{"$error":"#N/A"},{"$error":"#N/A"},{"$error":"#N/A"},{"$error":"#N/A"},{"$error":"#N/A"},{"$error":"#N/A"},{"$error":"#N/A"},{"$error":"#N/A"},{"$error":"#N/A"},{"$error":"#N/A"},{"$error":"#N/A"},{"$error":"#N/A"},{"$error":"#N/A"},{"$error":"#N/A"}]
[null,{"$f":"données!B1037","v":"IA32"},{"$error":"#N/A"},{"$error":"#N/A"},{"$error":"#N/A"},{"$error":"#N/A"},{"$error":"#N/A"},{"$error":"#N/A"},{"$error":"#N/A"},{"$error":"#N/A"},{"$error":"#N/A"},{"$error":"#N/A"},{"$error":"#N/A"},{"$error":"#N/A"},{"$error":"#N/A"},{"$error":"#N/A"},{"$error":"#N/A"},{"$error":"#N/A"},{"$error":"#N/A"},{"$error":"#N/A"},{"$error":"#N/A"},{"$error":"#N/A"}]
[null,{"$f":"données!B1038","v":"IA33"},{"$error":"#N/A"},{"$error":"#N/A"},{"$error":"#N/A"},{"$error":"#N/A"},{"$error":"#N/A"},{"$error":"#N/A"},{"$error":"#N/A"},{"$error":"#N/A"},{"$error":"#N/A"},{"$error":"#N/A"},{"$error":"#N/A"},{"$error":"#N/A"},{"$error":"#N/A"},{"$error":"#N/A"},{"$error":"#N/A"},{"$error":"#N/A"},{"$error":"#N/A"},{"$error":"#N/A"},{"$error":"#N/A"},{"$error":"#N/A"}]
[null,{"$f":"données!B1039","v":"IA34"},{"$error":"#N/A"},{"$error":"#N/A"},{"$error":"#N/A"},{"$error":"#N/A"},{"$error":"#N/A"},{"$error":"#N/A"},{"$error":"#N/A"},{"$error":"#N/A"},{"$error":"#N/A"},{"$error":"#N/A"},{"$error":"#N/A"},{"$error":"#N/A"},{"$error":"#N/A"},{"$error":"#N/A"},{"$error":"#N/A"},{"$error":"#N/A"},{"$error":"#N/A"},{"$error":"#N/A"},{"$error":"#N/A"},{"$error":"#N/A"}]
[null,{"$f":"données!B1040","v":"IA35"},{"$error":"#N/A"},{"$error":"#N/A"},{"$error":"#N/A"},{"$error":"#N/A"},{"$error":"#N/A"},{"$error":"#N/A"},{"$error":"#N/A"},{"$error":"#N/A"},{"$error":"#N/A"},{"$error":"#N/A"},{"$error":"#N/A"},{"$error":"#N/A"},{"$error":"#N/A"},{"$error":"#N/A"},{"$error":"#N/A"},{"$error":"#N/A"},{"$error":"#N/A"},{"$error":"#N/A"},{"$error":"#N/A"},{"$error":"#N/A"}]
[null,{"$f":"données!B1041","v":"IA36"},{"$error":"#N/A"},{"$error":"#N/A"},{"$error":"#N/A"},{"$error":"#N/A"},{"$error":"#N/A"},{"$error":"#N/A"},{"$error":"#N/A"},{"$error":"#N/A"},{"$error":"#N/A"},{"$error":"#N/A"},{"$error":"#N/A"},{"$error":"#N/A"},{"$error":"#N/A"},{"$error":"#N/A"},{"$error":"#N/A"},{"$error":"#N/A"},{"$error":"#N/A"},{"$error":"#N/A"},{"$error":"#N/A"},{"$error":"#N/A"}]
[null,{"$f":"données!B1042","v":"IA37"},{"$error":"#N/A"},{"$error":"#N/A"},{"$error":"#N/A"},{"$error":"#N/A"},{"$error":"#N/A"},{"$error":"#N/A"},{"$error":"#N/A"},{"$error":"#N/A"},{"$error":"#N/A"},{"$error":"#N/A"},{"$error":"#N/A"},{"$error":"#N/A"},{"$error":"#N/A"},{"$error":"#N/A"},{"$error":"#N/A"},{"$error":"#N/A"},{"$error":"#N/A"},{"$error":"#N/A"},{"$error":"#N/A"},{"$error":"#N/A"}]
[null,{"$f":"données!B1043","v":"IA38"},{"$error":"#N/A"},{"$error":"#N/A"},{"$error":"#N/A"},{"$error":"#N/A"},{"$error":"#N/A"},{"$error":"#N/A"},{"$error":"#N/A"},{"$error":"#N/A"},{"$error":"#N/A"},{"$error":"#N/A"},{"$error":"#N/A"},{"$error":"#N/A"},{"$error":"#N/A"},{"$error":"#N/A"},{"$error":"#N/A"},{"$error":"#N/A"},{"$error":"#N/A"},{"$error":"#N/A"},{"$error":"#N/A"},{"$error":"#N/A"}]
[null,{"$f":"données!B1044","v":"IA39"},{"$error":"#N/A"},{"$error":"#N/A"},{"$error":"#N/A"},{"$error":"#N/A"},{"$error":"#N/A"},{"$error":"#N/A"},{"$error":"#N/A"},{"$error":"#N/A"},{"$error":"#N/A"},{"$error":"#N/A"},{"$error":"#N/A"},{"$error":"#N/A"},{"$error":"#N/A"},{"$error":"#N/A"},{"$error":"#N/A"},{"$error":"#N/A"},{"$error":"#N/A"},{"$error":"#N/A"},{"$error":"#N/A"},{"$error":"#N/A"}]
[null,{"$f":"données!B1045","v":"IA40"},{"$error":"#N/A"},{"$error":"#N/A"},{"$error":"#N/A"},{"$error":"#N/A"},{"$error":"#N/A"},{"$error":"#N/A"},{"$error":"#N/A"},{"$error":"#N/A"},{"$error":"#N/A"},{"$error":"#N/A"},{"$error":"#N/A"},{"$error":"#N/A"},{"$error":"#N/A"},{"$error":"#N/A"},{"$error":"#N/A"},{"$error":"#N/A"},{"$error":"#N/A"},{"$error":"#N/A"},{"$error":"#N/A"},{"$error":"#N/A"}]
[null,{"$f":"données!B1046","v":"IA41"},{"$error":"#N/A"},{"$error":"#N/A"},{"$error":"#N/A"},{"$error":"#N/A"},{"$error":"#N/A"},{"$error":"#N/A"},{"$error":"#N/A"},{"$error":"#N/A"},{"$error":"#N/A"},{"$error":"#N/A"},{"$error":"#N/A"},{"$error":"#N/A"},{"$error":"#N/A"},{"$error":"#N/A"},{"$error":"#N/A"},{"$error":"#N/A"},{"$error":"#N/A"},{"$error":"#N/A"},{"$error":"#N/A"},{"$error":"#N/A"}]
[null,{"$f":"données!B1047","v":"IA42"},{"$error":"#N/A"},{"$error":"#N/A"},{"$error":"#N/A"},{"$error":"#N/A"},{"$error":"#N/A"},{"$error":"#N/A"},{"$error":"#N/A"},{"$error":"#N/A"},{"$error":"#N/A"},{"$error":"#N/A"},{"$error":"#N/A"},{"$error":"#N/A"},{"$error":"#N/A"},{"$error":"#N/A"},{"$error":"#N/A"},{"$error":"#N/A"},{"$error":"#N/A"},{"$error":"#N/A"},{"$error":"#N/A"},{"$error":"#N/A"}]
[null,{"$f":"données!B1048","v":"IA43"},{"$error":"#N/A"},{"$error":"#N/A"},{"$error":"#N/A"},{"$error":"#N/A"},{"$error":"#N/A"},{"$error":"#N/A"},{"$error":"#N/A"},{"$error":"#N/A"},{"$error":"#N/A"},{"$error":"#N/A"},{"$error":"#N/A"},{"$error":"#N/A"},{"$error":"#N/A"},{"$error":"#N/A"},{"$error":"#N/A"},{"$error":"#N/A"},{"$error":"#N/A"},{"$error":"#N/A"},{"$error":"#N/A"},{"$error":"#N/A"}]
[null,{"$f":"données!B1049","v":"IA44"},{"$error":"#N/A"},{"$error":"#N/A"},{"$error":"#N/A"},{"$error":"#N/A"},{"$error":"#N/A"},{"$error":"#N/A"},{"$error":"#N/A"},{"$error":"#N/A"},{"$error":"#N/A"},{"$error":"#N/A"},{"$error":"#N/A"},{"$error":"#N/A"},{"$error":"#N/A"},{"$error":"#N/A"},{"$error":"#N/A"},{"$error":"#N/A"},{"$error":"#N/A"},{"$error":"#N/A"},{"$error":"#N/A"},{"$error":"#N/A"}]
[null,{"$f":"données!B1050","v":"IA45"},{"$error":"#N/A"},{"$error":"#N/A"},{"$error":"#N/A"},{"$error":"#N/A"},{"$error":"#N/A"},{"$error":"#N/A"},{"$error":"#N/A"},{"$error":"#N/A"},{"$error":"#N/A"},{"$error":"#N/A"},{"$error":"#N/A"},{"$error":"#N/A"},{"$error":"#N/A"},{"$error":"#N/A"},{"$error":"#N/A"},{"$error":"#N/A"},{"$error":"#N/A"},{"$error":"#N/A"},{"$error":"#N/A"},{"$error":"#N/A"}]
[null,{"$f":"données!B1051","v":"IA46"},{"$error":"#N/A"},{"$error":"#N/A"},{"$error":"#N/A"},{"$error":"#N/A"},{"$error":"#N/A"},{"$error":"#N/A"},{"$error":"#N/A"},{"$error":"#N/A"},{"$error":"#N/A"},{"$error":"#N/A"},{"$error":"#N/A"},{"$error":"#N/A"},{"$error":"#N/A"},{"$error":"#N/A"},{"$error":"#N/A"},{"$error":"#N/A"},{"$error":"#N/A"},{"$error":"#N/A"},{"$error":"#N/A"},{"$error":"#N/A"}]
[null,{"$f":"données!B1052","v":"IA47"},{"$error":"#N/A"},{"$error":"#N/A"},{"$error":"#N/A"},{"$error":"#N/A"},{"$error":"#N/A"},{"$error":"#N/A"},{"$error":"#N/A"},{"$error":"#N/A"},{"$error":"#N/A"},{"$error":"#N/A"},{"$error":"#N/A"},{"$error":"#N/A"},{"$error":"#N/A"},{"$error":"#N/A"},{"$error":"#N/A"},{"$error":"#N/A"},{"$error":"#N/A"},{"$error":"#N/A"},{"$error":"#N/A"},{"$error":"#N/A"}]
[null,{"$f":"données!B1053","v":"IA48"},{"$error":"#N/A"},{"$error":"#N/A"},{"$error":"#N/A"},{"$error":"#N/A"},{"$error":"#N/A"},{"$error":"#N/A"},{"$error":"#N/A"},{"$error":"#N/A"},{"$error":"#N/A"},{"$error":"#N/A"},{"$error":"#N/A"},{"$error":"#N/A"},{"$error":"#N/A"},{"$error":"#N/A"},{"$error":"#N/A"},{"$error":"#N/A"},{"$error":"#N/A"},{"$error":"#N/A"},{"$error":"#N/A"},{"$error":"#N/A"}]
[null,{"$f":"données!B1054","v":"IA49"},{"$error":"#N/A"},{"$error":"#N/A"},{"$error":"#N/A"},{"$error":"#N/A"},{"$error":"#N/A"},{"$error":"#N/A"},{"$error":"#N/A"},{"$error":"#N/A"},{"$error":"#N/A"},{"$error":"#N/A"},{"$error":"#N/A"},{"$error":"#N/A"},{"$error":"#N/A"},{"$error":"#N/A"},{"$error":"#N/A"},{"$error":"#N/A"},{"$error":"#N/A"},{"$error":"#N/A"},{"$error":"#N/A"},{"$error":"#N/A"}]
[null,{"$f":"données!B1055","v":"IA50"},{"$error":"#N/A"},{"$error":"#N/A"},{"$error":"#N/A"},{"$error":"#N/A"},{"$error":"#N/A"},{"$error":"#N/A"},{"$error":"#N/A"},{"$error":"#N/A"},{"$error":"#N/A"},{"$error":"#N/A"},{"$error":"#N/A"},{"$error":"#N/A"},{"$error":"#N/A"},{"$error":"#N/A"},{"$error":"#N/A"},{"$error":"#N/A"},{"$error":"#N/A"},{"$error":"#N/A"},{"$error":"#N/A"},{"$error":"#N/A"}]
[null,{"$f":"données!B1056","v":"IA51"},{"$error":"#N/A"},{"$error":"#N/A"},{"$error":"#N/A"},{"$error":"#N/A"},{"$error":"#N/A"},{"$error":"#N/A"},{"$error":"#N/A"},{"$error":"#N/A"},{"$error":"#N/A"},{"$error":"#N/A"},{"$error":"#N/A"},{"$error":"#N/A"},{"$error":"#N/A"},{"$error":"#N/A"},{"$error":"#N/A"},{"$error":"#N/A"},{"$error":"#N/A"},{"$error":"#N/A"},{"$error":"#N/A"},{"$error":"#N/A"}]
[null,{"$f":"données!B1057","v":"IA52"},{"$error":"#N/A"},{"$error":"#N/A"},{"$error":"#N/A"},{"$error":"#N/A"},{"$error":"#N/A"},{"$error":"#N/A"},{"$error":"#N/A"},{"$error":"#N/A"},{"$error":"#N/A"},{"$error":"#N/A"},{"$error":"#N/A"},{"$error":"#N/A"},{"$error":"#N/A"},{"$error":"#N/A"},{"$error":"#N/A"},{"$error":"#N/A"},{"$error":"#N/A"},{"$error":"#N/A"},{"$error":"#N/A"},{"$error":"#N/A"}]
[null,{"$f":"données!B1058","v":"IA53"},{"$error":"#N/A"},{"$error":"#N/A"},{"$error":"#N/A"},{"$error":"#N/A"},{"$error":"#N/A"},{"$error":"#N/A"},{"$error":"#N/A"},{"$error":"#N/A"},{"$error":"#N/A"},{"$error":"#N/A"},{"$error":"#N/A"},{"$error":"#N/A"},{"$error":"#N/A"},{"$error":"#N/A"},{"$error":"#N/A"},{"$error":"#N/A"},{"$error":"#N/A"},{"$error":"#N/A"},{"$error":"#N/A"},{"$error":"#N/A"}]
[null,{"$f":"données!B1059","v":"IA54"},{"$error":"#N/A"},{"$error":"#N/A"},{"$error":"#N/A"},{"$error":"#N/A"},{"$error":"#N/A"},{"$error":"#N/A"},{"$error":"#N/A"},{"$error":"#N/A"},{"$error":"#N/A"},{"$error":"#N/A"},{"$error":"#N/A"},{"$error":"#N/A"},{"$error":"#N/A"},{"$error":"#N/A"},{"$error":"#N/A"},{"$error":"#N/A"},{"$error":"#N/A"},{"$error":"#N/A"},{"$error":"#N/A"},{"$error":"#N/A"}]
[null,{"$f":"données!B1060","v":"IA55"},{"$error":"#N/A"},{"$error":"#N/A"},{"$error":"#N/A"},{"$error":"#N/A"},{"$error":"#N/A"},{"$error":"#N/A"},{"$error":"#N/A"},{"$error":"#N/A"},{"$error":"#N/A"},{"$error":"#N/A"},{"$error":"#N/A"},{"$error":"#N/A"},{"$error":"#N/A"},{"$error":"#N/A"},{"$error":"#N/A"},{"$error":"#N/A"},{"$error":"#N/A"},{"$error":"#N/A"},{"$error":"#N/A"},{"$error":"#N/A"}]
[null,{"$f":"données!B1061","v":"IA56"},{"$error":"#N/A"},{"$error":"#N/A"},{"$error":"#N/A"},{"$error":"#N/A"},{"$error":"#N/A"},{"$error":"#N/A"},{"$error":"#N/A"},{"$error":"#N/A"},{"$error":"#N/A"},{"$error":"#N/A"},{"$error":"#N/A"},{"$error":"#N/A"},{"$error":"#N/A"},{"$error":"#N/A"},{"$error":"#N/A"},{"$error":"#N/A"},{"$error":"#N/A"},{"$error":"#N/A"},{"$error":"#N/A"},{"$error":"#N/A"}]
[null,{"$f":"données!B1062","v":"IA57"},{"$error":"#N/A"},{"$error":"#N/A"},{"$error":"#N/A"},{"$error":"#N/A"},{"$error":"#N/A"},{"$error":"#N/A"},{"$error":"#N/A"},{"$error":"#N/A"},{"$error":"#N/A"},{"$error":"#N/A"},{"$error":"#N/A"},{"$error":"#N/A"},{"$error":"#N/A"},{"$error":"#N/A"},{"$error":"#N/A"},{"$error":"#N/A"},{"$error":"#N/A"},{"$error":"#N/A"},{"$error":"#N/A"},{"$error":"#N/A"}]
[null,{"$f":"données!B1063","v":"IA58"},{"$error":"#N/A"},{"$error":"#N/A"},{"$error":"#N/A"},{"$error":"#N/A"},{"$error":"#N/A"},{"$error":"#N/A"},{"$error":"#N/A"},{"$error":"#N/A"},{"$error":"#N/A"},{"$error":"#N/A"},{"$error":"#N/A"},{"$error":"#N/A"},{"$error":"#N/A"},{"$error":"#N/A"},{"$error":"#N/A"},{"$error":"#N/A"},{"$error":"#N/A"},{"$error":"#N/A"},{"$error":"#N/A"},{"$error":"#N/A"}]
[null,{"$f":"données!B1064","v":"IA59"},{"$error":"#N/A"},{"$error":"#N/A"},{"$error":"#N/A"},{"$error":"#N/A"},{"$error":"#N/A"},{"$error":"#N/A"},{"$error":"#N/A"},{"$error":"#N/A"},{"$error":"#N/A"},{"$error":"#N/A"},{"$error":"#N/A"},{"$error":"#N/A"},{"$error":"#N/A"},{"$error":"#N/A"},{"$error":"#N/A"},{"$error":"#N/A"},{"$error":"#N/A"},{"$error":"#N/A"},{"$error":"#N/A"},{"$error":"#N/A"}]
[null,{"$f":"données!B1065","v":"IA60"},{"$error":"#N/A"},{"$error":"#N/A"},{"$error":"#N/A"},{"$error":"#N/A"},{"$error":"#N/A"},{"$error":"#N/A"},{"$error":"#N/A"},{"$error":"#N/A"},{"$error":"#N/A"},{"$error":"#N/A"},{"$error":"#N/A"},{"$error":"#N/A"},{"$error":"#N/A"},{"$error":"#N/A"},{"$error":"#N/A"},{"$error":"#N/A"},{"$error":"#N/A"},{"$error":"#N/A"},{"$error":"#N/A"},{"$error":"#N/A"}]
[null,{"$f":"données!B1066","v":"IA61"},{"$error":"#N/A"},{"$error":"#N/A"},{"$error":"#N/A"},{"$error":"#N/A"},{"$error":"#N/A"},{"$error":"#N/A"},{"$error":"#N/A"},{"$error":"#N/A"},{"$error":"#N/A"},{"$error":"#N/A"},{"$error":"#N/A"},{"$error":"#N/A"},{"$error":"#N/A"},{"$error":"#N/A"},{"$error":"#N/A"},{"$error":"#N/A"},{"$error":"#N/A"},{"$error":"#N/A"},{"$error":"#N/A"},{"$error":"#N/A"}]
[null,{"$f":"données!B1067","v":"IA62"},{"$error":"#N/A"},{"$error":"#N/A"},{"$error":"#N/A"},{"$error":"#N/A"},{"$error":"#N/A"},{"$error":"#N/A"},{"$error":"#N/A"},{"$error":"#N/A"},{"$error":"#N/A"},{"$error":"#N/A"},{"$error":"#N/A"},{"$error":"#N/A"},{"$error":"#N/A"},{"$error":"#N/A"},{"$error":"#N/A"},{"$error":"#N/A"},{"$error":"#N/A"},{"$error":"#N/A"},{"$error":"#N/A"},{"$error":"#N/A"}]
[null,{"$f":"données!B1068","v":"IA63"},{"$error":"#N/A"},{"$error":"#N/A"},{"$error":"#N/A"},{"$error":"#N/A"},{"$error":"#N/A"},{"$error":"#N/A"},{"$error":"#N/A"},{"$error":"#N/A"},{"$error":"#N/A"},{"$error":"#N/A"},{"$error":"#N/A"},{"$error":"#N/A"},{"$error":"#N/A"},{"$error":"#N/A"},{"$error":"#N/A"},{"$error":"#N/A"},{"$error":"#N/A"},{"$error":"#N/A"},{"$error":"#N/A"},{"$error":"#N/A"}]
[null,{"$f":"données!B1069","v":"IA64"},{"$error":"#N/A"},{"$error":"#N/A"},{"$error":"#N/A"},{"$error":"#N/A"},{"$error":"#N/A"},{"$error":"#N/A"},{"$error":"#N/A"},{"$error":"#N/A"},{"$error":"#N/A"},{"$error":"#N/A"},{"$error":"#N/A"},{"$error":"#N/A"},{"$error":"#N/A"},{"$error":"#N/A"},{"$error":"#N/A"},{"$error":"#N/A"},{"$error":"#N/A"},{"$error":"#N/A"},{"$error":"#N/A"},{"$error":"#N/A"}]
[null,{"$f":"données!B1070","v":"IA65"},{"$error":"#N/A"},{"$error":"#N/A"},{"$error":"#N/A"},{"$error":"#N/A"},{"$error":"#N/A"},{"$error":"#N/A"},{"$error":"#N/A"},{"$error":"#N/A"},{"$error":"#N/A"},{"$error":"#N/A"},{"$error":"#N/A"},{"$error":"#N/A"},{"$error":"#N/A"},{"$error":"#N/A"},{"$error":"#N/A"},{"$error":"#N/A"},{"$error":"#N/A"},{"$error":"#N/A"},{"$error":"#N/A"},{"$error":"#N/A"}]
[null,{"$f":"données!B1071","v":"IA66"},{"$error":"#N/A"},{"$error":"#N/A"},{"$error":"#N/A"},{"$error":"#N/A"},{"$error":"#N/A"},{"$error":"#N/A"},{"$error":"#N/A"},{"$error":"#N/A"},{"$error":"#N/A"},{"$error":"#N/A"},{"$error":"#N/A"},{"$error":"#N/A"},{"$error":"#N/A"},{"$error":"#N/A"},{"$error":"#N/A"},{"$error":"#N/A"},{"$error":"#N/A"},{"$error":"#N/A"},{"$error":"#N/A"},{"$error":"#N/A"}]
[null,{"$f":"données!B1072","v":"IA67"},{"$error":"#N/A"},{"$error":"#N/A"},{"$error":"#N/A"},{"$error":"#N/A"},{"$error":"#N/A"},{"$error":"#N/A"},{"$error":"#N/A"},{"$error":"#N/A"},{"$error":"#N/A"},{"$error":"#N/A"},{"$error":"#N/A"},{"$error":"#N/A"},{"$error":"#N/A"},{"$error":"#N/A"},{"$error":"#N/A"},{"$error":"#N/A"},{"$error":"#N/A"},{"$error":"#N/A"},{"$error":"#N/A"},{"$error":"#N/A"}]
[null,{"$f":"données!B1073","v":"IA68"},{"$error":"#N/A"},{"$error":"#N/A"},{"$error":"#N/A"},{"$error":"#N/A"},{"$error":"#N/A"},{"$error":"#N/A"},{"$error":"#N/A"},{"$error":"#N/A"},{"$error":"#N/A"},{"$error":"#N/A"},{"$error":"#N/A"},{"$error":"#N/A"},{"$error":"#N/A"},{"$error":"#N/A"},{"$error":"#N/A"},{"$error":"#N/A"},{"$error":"#N/A"},{"$error":"#N/A"},{"$error":"#N/A"},{"$error":"#N/A"}]
[null,{"$f":"données!B1074","v":"IA69"},{"$error":"#N/A"},{"$error":"#N/A"},{"$error":"#N/A"},{"$error":"#N/A"},{"$error":"#N/A"},{"$error":"#N/A"},{"$error":"#N/A"},{"$error":"#N/A"},{"$error":"#N/A"},{"$error":"#N/A"},{"$error":"#N/A"},{"$error":"#N/A"},{"$error":"#N/A"},{"$error":"#N/A"},{"$error":"#N/A"},{"$error":"#N/A"},{"$error":"#N/A"},{"$error":"#N/A"},{"$error":"#N/A"},{"$error":"#N/A"}]
[null,{"$f":"données!B1075","v":"IA70"},{"$error":"#N/A"},{"$error":"#N/A"},{"$error":"#N/A"},{"$error":"#N/A"},{"$error":"#N/A"},{"$error":"#N/A"},{"$error":"#N/A"},{"$error":"#N/A"},{"$error":"#N/A"},{"$error":"#N/A"},{"$error":"#N/A"},{"$error":"#N/A"},{"$error":"#N/A"},{"$error":"#N/A"},{"$error":"#N/A"},{"$error":"#N/A"},{"$error":"#N/A"},{"$error":"#N/A"},{"$error":"#N/A"},{"$error":"#N/A"}]
[null,{"$f":"données!B1076","v":"IA71"},{"$error":"#N/A"},{"$error":"#N/A"},{"$error":"#N/A"},{"$error":"#N/A"},{"$error":"#N/A"},{"$error":"#N/A"},{"$error":"#N/A"},{"$error":"#N/A"},{"$error":"#N/A"},{"$error":"#N/A"},{"$error":"#N/A"},{"$error":"#N/A"},{"$error":"#N/A"},{"$error":"#N/A"},{"$error":"#N/A"},{"$error":"#N/A"},{"$error":"#N/A"},{"$error":"#N/A"},{"$error":"#N/A"},{"$error":"#N/A"}]
[null,{"$f":"données!B1077","v":"IA72"},{"$error":"#N/A"},{"$error":"#N/A"},{"$error":"#N/A"},{"$error":"#N/A"},{"$error":"#N/A"},{"$error":"#N/A"},{"$error":"#N/A"},{"$error":"#N/A"},{"$error":"#N/A"},{"$error":"#N/A"},{"$error":"#N/A"},{"$error":"#N/A"},{"$error":"#N/A"},{"$error":"#N/A"},{"$error":"#N/A"},{"$error":"#N/A"},{"$error":"#N/A"},{"$error":"#N/A"},{"$error":"#N/A"},{"$error":"#N/A"}]
[null,{"$f":"données!B1078","v":"IA73"},{"$error":"#N/A"},{"$error":"#N/A"},{"$error":"#N/A"},{"$error":"#N/A"},{"$error":"#N/A"},{"$error":"#N/A"},{"$error":"#N/A"},{"$error":"#N/A"},{"$error":"#N/A"},{"$error":"#N/A"},{"$error":"#N/A"},{"$error":"#N/A"},{"$error":"#N/A"},{"$error":"#N/A"},{"$error":"#N/A"},{"$error":"#N/A"},{"$error":"#N/A"},{"$error":"#N/A"},{"$error":"#N/A"},{"$error":"#N/A"}]
[null,{"$f":"données!B1079","v":"IA74"},{"$error":"#N/A"},{"$error":"#N/A"},{"$error":"#N/A"},{"$error":"#N/A"},{"$error":"#N/A"},{"$error":"#N/A"},{"$error":"#N/A"},{"$error":"#N/A"},{"$error":"#N/A"},{"$error":"#N/A"},{"$error":"#N/A"},{"$error":"#N/A"},{"$error":"#N/A"},{"$error":"#N/A"},{"$error":"#N/A"},{"$error":"#N/A"},{"$error":"#N/A"},{"$error":"#N/A"},{"$error":"#N/A"},{"$error":"#N/A"}]
[null,{"$f":"données!B1080","v":"IA75"},{"$error":"#N/A"},{"$error":"#N/A"},{"$error":"#N/A"},{"$error":"#N/A"},{"$error":"#N/A"},{"$error":"#N/A"},{"$error":"#N/A"},{"$error":"#N/A"},{"$error":"#N/A"},{"$error":"#N/A"},{"$error":"#N/A"},{"$error":"#N/A"},{"$error":"#N/A"},{"$error":"#N/A"},{"$error":"#N/A"},{"$error":"#N/A"},{"$error":"#N/A"},{"$error":"#N/A"},{"$error":"#N/A"},{"$error":"#N/A"}]
[null,{"$f":"données!B1081","v":"IA76"},{"$error":"#N/A"},{"$error":"#N/A"},{"$error":"#N/A"},{"$error":"#N/A"},{"$error":"#N/A"},{"$error":"#N/A"},{"$error":"#N/A"},{"$error":"#N/A"},{"$error":"#N/A"},{"$error":"#N/A"},{"$error":"#N/A"},{"$error":"#N/A"},{"$error":"#N/A"},{"$error":"#N/A"},{"$error":"#N/A"},{"$error":"#N/A"},{"$error":"#N/A"},{"$error":"#N/A"},{"$error":"#N/A"},{"$error":"#N/A"}]
[null,{"$f":"données!B1082","v":"IA77"},{"$error":"#N/A"},{"$error":"#N/A"},{"$error":"#N/A"},{"$error":"#N/A"},{"$error":"#N/A"},{"$error":"#N/A"},{"$error":"#N/A"},{"$error":"#N/A"},{"$error":"#N/A"},{"$error":"#N/A"},{"$error":"#N/A"},{"$error":"#N/A"},{"$error":"#N/A"},{"$error":"#N/A"},{"$error":"#N/A"},{"$error":"#N/A"},{"$error":"#N/A"},{"$error":"#N/A"},{"$error":"#N/A"},{"$error":"#N/A"}]
[null,{"$f":"données!B1083","v":"IA78"},{"$error":"#N/A"},{"$error":"#N/A"},{"$error":"#N/A"},{"$error":"#N/A"},{"$error":"#N/A"},{"$error":"#N/A"},{"$error":"#N/A"},{"$error":"#N/A"},{"$error":"#N/A"},{"$error":"#N/A"},{"$error":"#N/A"},{"$error":"#N/A"},{"$error":"#N/A"},{"$error":"#N/A"},{"$error":"#N/A"},{"$error":"#N/A"},{"$error":"#N/A"},{"$error":"#N/A"},{"$error":"#N/A"},{"$error":"#N/A"}]
[null,{"$f":"données!B1084","v":"IA79"},{"$error":"#N/A"},{"$error":"#N/A"},{"$error":"#N/A"},{"$error":"#N/A"},{"$error":"#N/A"},{"$error":"#N/A"},{"$error":"#N/A"},{"$error":"#N/A"},{"$error":"#N/A"},{"$error":"#N/A"},{"$error":"#N/A"},{"$error":"#N/A"},{"$error":"#N/A"},{"$error":"#N/A"},{"$error":"#N/A"},{"$error":"#N/A"},{"$error":"#N/A"},{"$error":"#N/A"},{"$error":"#N/A"},{"$error":"#N/A"}]
[null,{"$f":"données!B1085","v":"IA80"},{"$error":"#N/A"},{"$error":"#N/A"},{"$error":"#N/A"},{"$error":"#N/A"},{"$error":"#N/A"},{"$error":"#N/A"},{"$error":"#N/A"},{"$error":"#N/A"},{"$error":"#N/A"},{"$error":"#N/A"},{"$error":"#N/A"},{"$error":"#N/A"},{"$error":"#N/A"},{"$error":"#N/A"},{"$error":"#N/A"},{"$error":"#N/A"},{"$error":"#N/A"},{"$error":"#N/A"},{"$error":"#N/A"},{"$error":"#N/A"}]
[null,{"$f":"données!B1086","v":"IA81"},{"$error":"#N/A"},{"$error":"#N/A"},{"$error":"#N/A"},{"$error":"#N/A"},{"$error":"#N/A"},{"$error":"#N/A"},{"$error":"#N/A"},{"$error":"#N/A"},{"$error":"#N/A"},{"$error":"#N/A"},{"$error":"#N/A"},{"$error":"#N/A"},{"$error":"#N/A"},{"$error":"#N/A"},{"$error":"#N/A"},{"$error":"#N/A"},{"$error":"#N/A"},{"$error":"#N/A"},{"$error":"#N/A"},{"$error":"#N/A"}]
[null,{"$f":"données!B1087","v":"IA82"},{"$error":"#N/A"},{"$error":"#N/A"},{"$error":"#N/A"},{"$error":"#N/A"},{"$error":"#N/A"},{"$error":"#N/A"},{"$error":"#N/A"},{"$error":"#N/A"},{"$error":"#N/A"},{"$error":"#N/A"},{"$error":"#N/A"},{"$error":"#N/A"},{"$error":"#N/A"},{"$error":"#N/A"},{"$error":"#N/A"},{"$error":"#N/A"},{"$error":"#N/A"},{"$error":"#N/A"},{"$error":"#N/A"},{"$error":"#N/A"}]
[null,{"$f":"données!B1088","v":"IA83"},{"$error":"#N/A"},{"$error":"#N/A"},{"$error":"#N/A"},{"$error":"#N/A"},{"$error":"#N/A"},{"$error":"#N/A"},{"$error":"#N/A"},{"$error":"#N/A"},{"$error":"#N/A"},{"$error":"#N/A"},{"$error":"#N/A"},{"$error":"#N/A"},{"$error":"#N/A"},{"$error":"#N/A"},{"$error":"#N/A"},{"$error":"#N/A"},{"$error":"#N/A"},{"$error":"#N/A"},{"$error":"#N/A"},{"$error":"#N/A"}]
[null,{"$f":"données!B1089","v":"IA84"},{"$error":"#N/A"},{"$error":"#N/A"},{"$error":"#N/A"},{"$error":"#N/A"},{"$error":"#N/A"},{"$error":"#N/A"},{"$error":"#N/A"},{"$error":"#N/A"},{"$error":"#N/A"},{"$error":"#N/A"},{"$error":"#N/A"},{"$error":"#N/A"},{"$error":"#N/A"},{"$error":"#N/A"},{"$error":"#N/A"},{"$error":"#N/A"},{"$error":"#N/A"},{"$error":"#N/A"},{"$error":"#N/A"},{"$error":"#N/A"}]
[null,{"$f":"données!B1090","v":"IA85"},{"$error":"#N/A"},{"$error":"#N/A"},{"$error":"#N/A"},{"$error":"#N/A"},{"$error":"#N/A"},{"$error":"#N/A"},{"$error":"#N/A"},{"$error":"#N/A"},{"$error":"#N/A"},{"$error":"#N/A"},{"$error":"#N/A"},{"$error":"#N/A"},{"$error":"#N/A"},{"$error":"#N/A"},{"$error":"#N/A"},{"$error":"#N/A"},{"$error":"#N/A"},{"$error":"#N/A"},{"$error":"#N/A"},{"$error":"#N/A"}]
[null,{"$f":"données!B1091","v":"IA86"},{"$error":"#N/A"},{"$error":"#N/A"},{"$error":"#N/A"},{"$error":"#N/A"},{"$error":"#N/A"},{"$error":"#N/A"},{"$error":"#N/A"},{"$error":"#N/A"},{"$error":"#N/A"},{"$error":"#N/A"},{"$error":"#N/A"},{"$error":"#N/A"},{"$error":"#N/A"},{"$error":"#N/A"},{"$error":"#N/A"},{"$error":"#N/A"},{"$error":"#N/A"},{"$error":"#N/A"},{"$error":"#N/A"},{"$error":"#N/A"}]
[null,{"$f":"données!B1092","v":"IA87"},{"$error":"#N/A"},{"$error":"#N/A"},{"$error":"#N/A"},{"$error":"#N/A"},{"$error":"#N/A"},{"$error":"#N/A"},{"$error":"#N/A"},{"$error":"#N/A"},{"$error":"#N/A"},{"$error":"#N/A"},{"$error":"#N/A"},{"$error":"#N/A"},{"$error":"#N/A"},{"$error":"#N/A"},{"$error":"#N/A"},{"$error":"#N/A"},{"$error":"#N/A"},{"$error":"#N/A"},{"$error":"#N/A"},{"$error":"#N/A"}]
[null,{"$f":"données!B1093","v":"IA88"},{"$error":"#N/A"},{"$error":"#N/A"},{"$error":"#N/A"},{"$error":"#N/A"},{"$error":"#N/A"},{"$error":"#N/A"},{"$error":"#N/A"},{"$error":"#N/A"},{"$error":"#N/A"},{"$error":"#N/A"},{"$error":"#N/A"},{"$error":"#N/A"},{"$error":"#N/A"},{"$error":"#N/A"},{"$error":"#N/A"},{"$error":"#N/A"},{"$error":"#N/A"},{"$error":"#N/A"},{"$error":"#N/A"},{"$error":"#N/A"}]
[null,{"$f":"données!B1094","v":"IA89"},{"$error":"#N/A"},{"$error":"#N/A"},{"$error":"#N/A"},{"$error":"#N/A"},{"$error":"#N/A"},{"$error":"#N/A"},{"$error":"#N/A"},{"$error":"#N/A"},{"$error":"#N/A"},{"$error":"#N/A"},{"$error":"#N/A"},{"$error":"#N/A"},{"$error":"#N/A"},{"$error":"#N/A"},{"$error":"#N/A"},{"$error":"#N/A"},{"$error":"#N/A"},{"$error":"#N/A"},{"$error":"#N/A"},{"$error":"#N/A"}]
[null,{"$f":"données!B1095","v":"IA90"},{"$error":"#N/A"},{"$error":"#N/A"},{"$error":"#N/A"},{"$error":"#N/A"},{"$error":"#N/A"},{"$error":"#N/A"},{"$error":"#N/A"},{"$error":"#N/A"},{"$error":"#N/A"},{"$error":"#N/A"},{"$error":"#N/A"},{"$error":"#N/A"},{"$error":"#N/A"},{"$error":"#N/A"},{"$error":"#N/A"},{"$error":"#N/A"},{"$error":"#N/A"},{"$error":"#N/A"},{"$error":"#N/A"},{"$error":"#N/A"}]
[null,{"$f":"données!B1096","v":"IA91"},{"$error":"#N/A"},{"$error":"#N/A"},{"$error":"#N/A"},{"$error":"#N/A"},{"$error":"#N/A"},{"$error":"#N/A"},{"$error":"#N/A"},{"$error":"#N/A"},{"$error":"#N/A"},{"$error":"#N/A"},{"$error":"#N/A"},{"$error":"#N/A"},{"$error":"#N/A"},{"$error":"#N/A"},{"$error":"#N/A"},{"$error":"#N/A"},{"$error":"#N/A"},{"$error":"#N/A"},{"$error":"#N/A"},{"$error":"#N/A"}]
[null,{"$f":"données!B1097","v":"IA92"},{"$error":"#N/A"},{"$error":"#N/A"},{"$error":"#N/A"},{"$error":"#N/A"},{"$error":"#N/A"},{"$error":"#N/A"},{"$error":"#N/A"},{"$error":"#N/A"},{"$error":"#N/A"},{"$error":"#N/A"},{"$error":"#N/A"},{"$error":"#N/A"},{"$error":"#N/A"},{"$error":"#N/A"},{"$error":"#N/A"},{"$error":"#N/A"},{"$error":"#N/A"},{"$error":"#N/A"},{"$error":"#N/A"},{"$error":"#N/A"}]
[null,{"$f":"données!B1098","v":"IA93"},{"$error":"#N/A"},{"$error":"#N/A"},{"$error":"#N/A"},{"$error":"#N/A"},{"$error":"#N/A"},{"$error":"#N/A"},{"$error":"#N/A"},{"$error":"#N/A"},{"$error":"#N/A"},{"$error":"#N/A"},{"$error":"#N/A"},{"$error":"#N/A"},{"$error":"#N/A"},{"$error":"#N/A"},{"$error":"#N/A"},{"$error":"#N/A"},{"$error":"#N/A"},{"$error":"#N/A"},{"$error":"#N/A"},{"$error":"#N/A"}]
[null,{"$f":"données!B1099","v":"IA94"},{"$error":"#N/A"},{"$error":"#N/A"},{"$error":"#N/A"},{"$error":"#N/A"},{"$error":"#N/A"},{"$error":"#N/A"},{"$error":"#N/A"},{"$error":"#N/A"},{"$error":"#N/A"},{"$error":"#N/A"},{"$error":"#N/A"},{"$error":"#N/A"},{"$error":"#N/A"},{"$error":"#N/A"},{"$error":"#N/A"},{"$error":"#N/A"},{"$error":"#N/A"},{"$error":"#N/A"},{"$error":"#N/A"},{"$error":"#N/A"}]
[null,{"$f":"données!B1100","v":"IA95"},{"$error":"#N/A"},{"$error":"#N/A"},{"$error":"#N/A"},{"$error":"#N/A"},{"$error":"#N/A"},{"$error":"#N/A"},{"$error":"#N/A"},{"$error":"#N/A"},{"$error":"#N/A"},{"$error":"#N/A"},{"$error":"#N/A"},{"$error":"#N/A"},{"$error":"#N/A"},{"$error":"#N/A"},{"$error":"#N/A"},{"$error":"#N/A"},{"$error":"#N/A"},{"$error":"#N/A"},{"$error":"#N/A"},{"$error":"#N/A"}]
[null,{"$f":"données!B1101","v":"IA96"},{"$error":"#N/A"},{"$error":"#N/A"},{"$error":"#N/A"},{"$error":"#N/A"},{"$error":"#N/A"},{"$error":"#N/A"},{"$error":"#N/A"},{"$error":"#N/A"},{"$error":"#N/A"},{"$error":"#N/A"},{"$error":"#N/A"},{"$error":"#N/A"},{"$error":"#N/A"},{"$error":"#N/A"},{"$error":"#N/A"},{"$error":"#N/A"},{"$error":"#N/A"},{"$error":"#N/A"},{"$error":"#N/A"},{"$error":"#N/A"}]
[null,{"$f":"données!B1102","v":"IA97"},{"$error":"#N/A"},{"$error":"#N/A"},{"$error":"#N/A"},{"$error":"#N/A"},{"$error":"#N/A"},{"$error":"#N/A"},{"$error":"#N/A"},{"$error":"#N/A"},{"$error":"#N/A"},{"$error":"#N/A"},{"$error":"#N/A"},{"$error":"#N/A"},{"$error":"#N/A"},{"$error":"#N/A"},{"$error":"#N/A"},{"$error":"#N/A"},{"$error":"#N/A"},{"$error":"#N/A"},{"$error":"#N/A"},{"$error":"#N/A"}]
[null,{"$f":"données!B1103","v":"IA98"},{"$error":"#N/A"},{"$error":"#N/A"},{"$error":"#N/A"},{"$error":"#N/A"},{"$error":"#N/A"},{"$error":"#N/A"},{"$error":"#N/A"},{"$error":"#N/A"},{"$error":"#N/A"},{"$error":"#N/A"},{"$error":"#N/A"},{"$error":"#N/A"},{"$error":"#N/A"},{"$error":"#N/A"},{"$error":"#N/A"},{"$error":"#N/A"},{"$error":"#N/A"},{"$error":"#N/A"},{"$error":"#N/A"},{"$error":"#N/A"}]
[]
[null,null,{"$f":"(ajout_brut-données!C1:V1)/données!C2:V2","v":1.376799452705211},0.42021650215702488,0.34168501574219506,0.71175199977099946,0.20829989025018697,0.4905251816202727,1.3370150488663985,{"$error":"#DIV/0!"},{"$error":"#DIV/0!"},{"$error":"#DIV/0!"},{"$error":"#DIV/0!"},{"$error":"#DIV/0!"},{"$error":"#DIV/0!"},{"$error":"#DIV/0!"},{"$error":"#DIV/0!"},{"$error":"#DIV/0!"},{"$error":"#DIV/0!"},{"$error":"#DIV/0!"},{"$error":"#DIV/0!"},{"$error":"#DIV/0!"}]
[null,null,-888.68916847018033,-15.419036207270532,-2.6138036483425773,0.44436183310162602,-13.967909790874074,-3.018962250961668,0.13173342114768466,{"$error":"#DIV/0!"},{"$error":"#DIV/0!"},{"$error":"#DIV/0!"},{"$error":"#DIV/0!"},{"$error":"#DIV/0!"},{"$error":"#DIV/0!"},{"$error":"#DIV/0!"},{"$error":"#DIV/0!"},{"$error":"#DIV/0!"},{"$error":"#DIV/0!"},{"$error":"#DIV/0!"},{"$error":"#DIV/0!"},{"$error":"#DIV/0!"}]
[null,null,-888.68916847018033,-15.419036207270532,-2.6138036483425773,0.44436183310162602,-13.967909790874074,-3.018962250961668,0.13173342114768466,{"$error":"#DIV/0!"},{"$error":"#DIV/0!"},{"$error":"#DIV/0!"},{"$error":"#DIV/0!"},{"$error":"#DIV/0!"},{"$error":"#DIV/0!"},{"$error":"#DIV/0!"},{"$error":"#DIV/0!"},{"$error":"#DIV/0!"},{"$error":"#DIV/0!"},{"$error":"#DIV/0!"},{"$error":"#DIV/0!"},{"$error":"#DIV/0!"}]
[null,null,-888.68916847018033,-15.419036207270532,-2.6138036483425773,0.44436183310162602,-13.967909790874074,-3.018962250961668,0.13173342114768466,{"$error":"#DIV/0!"},{"$error":"#DIV/0!"},{"$error":"#DIV/0!"},{"$error":"#DIV/0!"},{"$error":"#DIV/0!"},{"$error":"#DIV/0!"},{"$error":"#DIV/0!"},{"$error":"#DIV/0!"},{"$error":"#DIV/0!"},{"$error":"#DIV/0!"},{"$error":"#DIV/0!"},{"$error":"#DIV/0!"},{"$error":"#DIV/0!"}]
[null,null,-888.68916847018033,-15.419036207270532,-2.6138036483425773,0.44436183310162602,-13.967909790874074,-3.018962250961668,0.13173342114768466,{"$error":"#DIV/0!"},{"$error":"#DIV/0!"},{"$error":"#DIV/0!"},{"$error":"#DIV/0!"},{"$error":"#DIV/0!"},{"$error":"#DIV/0!"},{"$error":"#DIV/0!"},{"$error":"#DIV/0!"},{"$error":"#DIV/0!"},{"$error":"#DIV/0!"},{"$error":"#DIV/0!"},{"$error":"#DIV/0!"},{"$error":"#DIV/0!"}]
[null,null,-888.68916847018033,-15.419036207270532,-2.6138036483425773,0.44436183310162602,-13.967909790874074,-3.018962250961668,0.13173342114768466,{"$error":"#DIV/0!"},{"$error":"#DIV/0!"},{"$error":"#DIV/0!"},{"$error":"#DIV/0!"},{"$error":"#DIV/0!"},{"$error":"#DIV/0!"},{"$error":"#DIV/0!"},{"$error":"#DIV/0!"},{"$error":"#DIV/0!"},{"$error":"#DIV/0!"},{"$error":"#DIV/0!"},{"$error":"#DIV/0!"},{"$error":"#DIV/0!"}]
[null,null,-888.68916847018033,-15.419036207270532,-2.6138036483425773,0.44436183310162602,-13.967909790874074,-3.018962250961668,0.13173342114768466,{"$error":"#DIV/0!"},{"$error":"#DIV/0!"},{"$error":"#DIV/0!"},{"$error":"#DIV/0!"},{"$error":"#DIV/0!"},{"$error":"#DIV/0!"},{"$error":"#DIV/0!"},{"$error":"#DIV/0!"},{"$error":"#DIV/0!"},{"$error":"#DIV/0!"},{"$error":"#DIV/0!"},{"$error":"#DIV/0!"},{"$error":"#DIV/0!"}]
[null,null,-888.68916847018033,-15.419036207270532,-2.6138036483425773,0.44436183310162602,-13.967909790874074,-3.018962250961668,0.13173342114768466,{"$error":"#DIV/0!"},{"$error":"#DIV/0!"},{"$error":"#DIV/0!"},{"$error":"#DIV/0!"},{"$error":"#DIV/0!"},{"$error":"#DIV/0!"},{"$error":"#DIV/0!"},{"$error":"#DIV/0!"},{"$error":"#DIV/0!"},{"$error":"#DIV/0!"},{"$error":"#DIV/0!"},{"$error":"#DIV/0!"},{"$error":"#DIV/0!"}]
[null,null,-888.68916847018033,-15.419036207270532,-2.6138036483425773,0.44436183310162602,-13.967909790874074,-3.018962250961668,0.13173342114768466,{"$error":"#DIV/0!"},{"$error":"#DIV/0!"},{"$error":"#DIV/0!"},{"$error":"#DIV/0!"},{"$error":"#DIV/0!"},{"$error":"#DIV/0!"},{"$error":"#DIV/0!"},{"$error":"#DIV/0!"},{"$error":"#DIV/0!"},{"$error":"#DIV/0!"},{"$error":"#DIV/0!"},{"$error":"#DIV/0!"},{"$error":"#DIV/0!"}]
[null,null,-888.68916847018033,-15.419036207270532,-2.6138036483425773,0.44436183310162602,-13.967909790874074,-3.018962250961668,0.13173342114768466,{"$error":"#DIV/0!"},{"$error":"#DIV/0!"},{"$error":"#DIV/0!"},{"$error":"#DIV/0!"},{"$error":"#DIV/0!"},{"$error":"#DIV/0!"},{"$error":"#DIV/0!"},{"$error":"#DIV/0!"},{"$error":"#DIV/0!"},{"$error":"#DIV/0!"},{"$error":"#DIV/0!"},{"$error":"#DIV/0!"},{"$error":"#DIV/0!"}]
[null,null,-888.68916847018033,-15.419036207270532,-2.6138036483425773,0.44436183310162602,-13.967909790874074,-3.018962250961668,0.13173342114768466,{"$error":"#DIV/0!"},{"$error":"#DIV/0!"},{"$error":"#DIV/0!"},{"$error":"#DIV/0!"},{"$error":"#DIV/0!"},{"$error":"#DIV/0!"},{"$error":"#DIV/0!"},{"$error":"#DIV/0!"},{"$error":"#DIV/0!"},{"$error":"#DIV/0!"},{"$error":"#DIV/0!"},{"$error":"#DIV/0!"},{"$error":"#DIV/0!"}]
[null,null,-888.68916847018033,-15.419036207270532,-2.6138036483425773,0.44436183310162602,-13.967909790874074,-3.018962250961668,0.13173342114768466,{"$error":"#DIV/0!"},{"$error":"#DIV/0!"},{"$error":"#DIV/0!"},{"$error":"#DIV/0!"},{"$error":"#DIV/0!"},{"$error":"#DIV/0!"},{"$error":"#DIV/0!"},{"$error":"#DIV/0!"},{"$error":"#DIV/0!"},{"$error":"#DIV/0!"},{"$error":"#DIV/0!"},{"$error":"#DIV/0!"},{"$error":"#DIV/0!"}]
[null,null,-888.68916847018033,-15.419036207270532,-2.6138036483425773,0.44436183310162602,-13.967909790874074,-3.018962250961668,0.13173342114768466,{"$error":"#DIV/0!"},{"$error":"#DIV/0!"},{"$error":"#DIV/0!"},{"$error":"#DIV/0!"},{"$error":"#DIV/0!"},{"$error":"#DIV/0!"},{"$error":"#DIV/0!"},{"$error":"#DIV/0!"},{"$error":"#DIV/0!"},{"$error":"#DIV/0!"},{"$error":"#DIV/0!"},{"$error":"#DIV/0!"},{"$error":"#DIV/0!"}]
[null,null,-888.68916847018033,-15.419036207270532,-2.6138036483425773,0.44436183310162602,-13.967909790874074,-3.018962250961668,0.13173342114768466,{"$error":"#DIV/0!"},{"$error":"#DIV/0!"},{"$error":"#DIV/0!"},{"$error":"#DIV/0!"},{"$error":"#DIV/0!"},{"$error":"#DIV/0!"},{"$error":"#DIV/0!"},{"$error":"#DIV/0!"},{"$error":"#DIV/0!"},{"$error":"#DIV/0!"},{"$error":"#DIV/0!"},{"$error":"#DIV/0!"},{"$error":"#DIV/0!"}]
[null,null,-888.68916847018033,-15.419036207270532,-2.6138036483425773,0.44436183310162602,-13.967909790874074,-3.018962250961668,0.13173342114768466,{"$error":"#DIV/0!"},{"$error":"#DIV/0!"},{"$error":"#DIV/0!"},{"$error":"#DIV/0!"},{"$error":"#DIV/0!"},{"$error":"#DIV/0!"},{"$error":"#DIV/0!"},{"$error":"#DIV/0!"},{"$error":"#DIV/0!"},{"$error":"#DIV/0!"},{"$error":"#DIV/0!"},{"$error":"#DIV/0!"},{"$error":"#DIV/0!"}]
[null,null,-888.68916847018033,-15.419036207270532,-2.6138036483425773,0.44436183310162602,-13.967909790874074,-3.018962250961668,0.13173342114768466,{"$error":"#DIV/0!"},{"$error":"#DIV/0!"},{"$error":"#DIV/0!"},{"$error":"#DIV/0!"},{"$error":"#DIV/0!"},{"$error":"#DIV/0!"},{"$error":"#DIV/0!"},{"$error":"#DIV/0!"},{"$error":"#DIV/0!"},{"$error":"#DIV/0!"},{"$error":"#DIV/0!"},{"$error":"#DIV/0!"},{"$error":"#DIV/0!"}]
[null,null,-888.68916847018033,-15.419036207270532,-2.6138036483425773,0.44436183310162602,-13.967909790874074,-3.018962250961668,0.13173342114768466,{"$error":"#DIV/0!"},{"$error":"#DIV/0!"},{"$error":"#DIV/0!"},{"$error":"#DIV/0!"},{"$error":"#DIV/0!"},{"$error":"#DIV/0!"},{"$error":"#DIV/0!"},{"$error":"#DIV/0!"},{"$error":"#DIV/0!"},{"$error":"#DIV/0!"},{"$error":"#DIV/0!"},{"$error":"#DIV/0!"},{"$error":"#DIV/0!"}]
[null,null,-888.68916847018033,-15.419036207270532,-2.6138036483425773,0.44436183310162602,-13.967909790874074,-3.018962250961668,0.13173342114768466,{"$error":"#DIV/0!"},{"$error":"#DIV/0!"},{"$error":"#DIV/0!"},{"$error":"#DIV/0!"},{"$error":"#DIV/0!"},{"$error":"#DIV/0!"},{"$error":"#DIV/0!"},{"$error":"#DIV/0!"},{"$error":"#DIV/0!"},{"$error":"#DIV/0!"},{"$error":"#DIV/0!"},{"$error":"#DIV/0!"},{"$error":"#DIV/0!"}]
[null,null,-888.68916847018033,-15.419036207270532,-2.6138036483425773,0.44436183310162602,-13.967909790874074,-3.018962250961668,0.13173342114768466,{"$error":"#DIV/0!"},{"$error":"#DIV/0!"},{"$error":"#DIV/0!"},{"$error":"#DIV/0!"},{"$error":"#DIV/0!"},{"$error":"#DIV/0!"},{"$error":"#DIV/0!"},{"$error":"#DIV/0!"},{"$error":"#DIV/0!"},{"$error":"#DIV/0!"},{"$error":"#DIV/0!"},{"$error":"#DIV/0!"},{"$error":"#DIV/0!"}]
[null,null,-888.68916847018033,-15.419036207270532,-2.6138036483425773,0.44436183310162602,-13.967909790874074,-3.018962250961668,0.13173342114768466,{"$error":"#DIV/0!"},{"$error":"#DIV/0!"},{"$error":"#DIV/0!"},{"$error":"#DIV/0!"},{"$error":"#DIV/0!"},{"$error":"#DIV/0!"},{"$error":"#DIV/0!"},{"$error":"#DIV/0!"},{"$error":"#DIV/0!"},{"$error":"#DIV/0!"},{"$error":"#DIV/0!"},{"$error":"#DIV/0!"},{"$error":"#DIV/0!"}]
[null,null,-888.68916847018033,-15.419036207270532,-2.6138036483425773,0.44436183310162602,-13.967909790874074,-3.018962250961668,0.13173342114768466,{"$error":"#DIV/0!"},{"$error":"#DIV/0!"},{"$error":"#DIV/0!"},{"$error":"#DIV/0!"},{"$error":"#DIV/0!"},{"$error":"#DIV/0!"},{"$error":"#DIV/0!"},{"$error":"#DIV/0!"},{"$error":"#DIV/0!"},{"$error":"#DIV/0!"},{"$error":"#DIV/0!"},{"$error":"#DIV/0!"},{"$error":"#DIV/0!"}]
[null,null,-888.68916847018033,-15.419036207270532,-2.6138036483425773,0.44436183310162602,-13.967909790874074,-3.018962250961668,0.13173342114768466,{"$error":"#DIV/0!"},{"$error":"#DIV/0!"},{"$error":"#DIV/0!"},{"$error":"#DIV/0!"},{"$error":"#DIV/0!"},{"$error":"#DIV/0!"},{"$error":"#DIV/0!"},{"$error":"#DIV/0!"},{"$error":"#DIV/0!"},{"$error":"#DIV/0!"},{"$error":"#DIV/0!"},{"$error":"#DIV/0!"},{"$error":"#DIV/0!"}]
[null,null,-888.68916847018033,-15.419036207270532,-2.6138036483425773,0.44436183310162602,-13.967909790874074,-3.018962250961668,0.13173342114768466,{"$error":"#DIV/0!"},{"$error":"#DIV/0!"},{"$error":"#DIV/0!"},{"$error":"#DIV/0!"},{"$error":"#DIV/0!"},{"$error":"#DIV/0!"},{"$error":"#DIV/0!"},{"$error":"#DIV/0!"},{"$error":"#DIV/0!"},{"$error":"#DIV/0!"},{"$error":"#DIV/0!"},{"$error":"#DIV/0!"},{"$error":"#DIV/0!"}]
[null,null,-888.68916847018033,-15.419036207270532,-2.6138036483425773,0.44436183310162602,-13.967909790874074,-3.018962250961668,0.13173342114768466,{"$error":"#DIV/0!"},{"$error":"#DIV/0!"},{"$error":"#DIV/0!"},{"$error":"#DIV/0!"},{"$error":"#DIV/0!"},{"$error":"#DIV/0!"},{"$error":"#DIV/0!"},{"$error":"#DIV/0!"},{"$error":"#DIV/0!"},{"$error":"#DIV/0!"},{"$error":"#DIV/0!"},{"$error":"#DIV/0!"},{"$error":"#DIV/0!"}]
[null,null,-888.68916847018033,-15.419036207270532,-2.6138036483425773,0.44436183310162602,-13.967909790874074,-3.018962250961668,0.13173342114768466,{"$error":"#DIV/0!"},{"$error":"#DIV/0!"},{"$error":"#DIV/0!"},{"$error":"#DIV/0!"},{"$error":"#DIV/0!"},{"$error":"#DIV/0!"},{"$error":"#DIV/0!"},{"$error":"#DIV/0!"},{"$error":"#DIV/0!"},{"$error":"#DIV/0!"},{"$error":"#DIV/0!"},{"$error":"#DIV/0!"},{"$error":"#DIV/0!"}]
[null,null,-888.68916847018033,-15.419036207270532,-2.6138036483425773,0.44436183310162602,-13.967909790874074,-3.018962250961668,0.13173342114768466,{"$error":"#DIV/0!"},{"$error":"#DIV/0!"},{"$error":"#DIV/0!"},{"$error":"#DIV/0!"},{"$error":"#DIV/0!"},{"$error":"#DIV/0!"},{"$error":"#DIV/0!"},{"$error":"#DIV/0!"},{"$error":"#DIV/0!"},{"$error":"#DIV/0!"},{"$error":"#DIV/0!"},{"$error":"#DIV/0!"},{"$error":"#DIV/0!"}]
[null,null,-888.68916847018033,-15.419036207270532,-2.6138036483425773,0.44436183310162602,-13.967909790874074,-3.018962250961668,0.13173342114768466,{"$error":"#DIV/0!"},{"$error":"#DIV/0!"},{"$error":"#DIV/0!"},{"$error":"#DIV/0!"},{"$error":"#DIV/0!"},{"$error":"#DIV/0!"},{"$error":"#DIV/0!"},{"$error":"#DIV/0!"},{"$error":"#DIV/0!"},{"$error":"#DIV/0!"},{"$error":"#DIV/0!"},{"$error":"#DIV/0!"},{"$error":"#DIV/0!"}]
[null,null,-888.68916847018033,-15.419036207270532,-2.6138036483425773,0.44436183310162602,-13.967909790874074,-3.018962250961668,0.13173342114768466,{"$error":"#DIV/0!"},{"$error":"#DIV/0!"},{"$error":"#DIV/0!"},{"$error":"#DIV/0!"},{"$error":"#DIV/0!"},{"$error":"#DIV/0!"},{"$error":"#DIV/0!"},{"$error":"#DIV/0!"},{"$error":"#DIV/0!"},{"$error":"#DIV/0!"},{"$error":"#DIV/0!"},{"$error":"#DIV/0!"},{"$error":"#DIV/0!"}]
[null,null,-888.68916847018033,-15.419036207270532,-2.6138036483425773,0.44436183310162602,-13.967909790874074,-3.018962250961668,0.13173342114768466,{"$error":"#DIV/0!"},{"$error":"#DIV/0!"},{"$error":"#DIV/0!"},{"$error":"#DIV/0!"},{"$error":"#DIV/0!"},{"$error":"#DIV/0!"},{"$error":"#DIV/0!"},{"$error":"#DIV/0!"},{"$error":"#DIV/0!"},{"$error":"#DIV/0!"},{"$error":"#DIV/0!"},{"$error":"#DIV/0!"},{"$error":"#DIV/0!"}]
[null,null,-888.68916847018033,-15.419036207270532,-2.6138036483425773,0.44436183310162602,-13.967909790874074,-3.018962250961668,0.13173342114768466,{"$error":"#DIV/0!"},{"$error":"#DIV/0!"},{"$error":"#DIV/0!"},{"$error":"#DIV/0!"},{"$error":"#DIV/0!"},{"$error":"#DIV/0!"},{"$error":"#DIV/0!"},{"$error":"#DIV/0!"},{"$error":"#DIV/0!"},{"$error":"#DIV/0!"},{"$error":"#DIV/0!"},{"$error":"#DIV/0!"},{"$error":"#DIV/0!"}]
[null,null,-888.68916847018033,-15.419036207270532,-2.6138036483425773,0.44436183310162602,-13.967909790874074,-3.018962250961668,0.13173342114768466,{"$error":"#DIV/0!"},{"$error":"#DIV/0!"},{"$error":"#DIV/0!"},{"$error":"#DIV/0!"},{"$error":"#DIV/0!"},{"$error":"#DIV/0!"},{"$error":"#DIV/0!"},{"$error":"#DIV/0!"},{"$error":"#DIV/0!"},{"$error":"#DIV/0!"},{"$error":"#DIV/0!"},{"$error":"#DIV/0!"},{"$error":"#DIV/0!"}]
[null,null,-888.68916847018033,-15.419036207270532,-2.6138036483425773,0.44436183310162602,-13.967909790874074,-3.018962250961668,0.13173342114768466,{"$error":"#DIV/0!"},{"$error":"#DIV/0!"},{"$error":"#DIV/0!"},{"$error":"#DIV/0!"},{"$error":"#DIV/0!"},{"$error":"#DIV/0!"},{"$error":"#DIV/0!"},{"$error":"#DIV/0!"},{"$error":"#DIV/0!"},{"$error":"#DIV/0!"},{"$error":"#DIV/0!"},{"$error":"#DIV/0!"},{"$error":"#DIV/0!"}]
[null,null,-888.68916847018033,-15.419036207270532,-2.6138036483425773,0.44436183310162602,-13.967909790874074,-3.018962250961668,0.13173342114768466,{"$error":"#DIV/0!"},{"$error":"#DIV/0!"},{"$error":"#DIV/0!"},{"$error":"#DIV/0!"},{"$error":"#DIV/0!"},{"$error":"#DIV/0!"},{"$error":"#DIV/0!"},{"$error":"#DIV/0!"},{"$error":"#DIV/0!"},{"$error":"#DIV/0!"},{"$error":"#DIV/0!"},{"$error":"#DIV/0!"},{"$error":"#DIV/0!"}]
[null,null,-888.68916847018033,-15.419036207270532,-2.6138036483425773,0.44436183310162602,-13.967909790874074,-3.018962250961668,0.13173342114768466,{"$error":"#DIV/0!"},{"$error":"#DIV/0!"},{"$error":"#DIV/0!"},{"$error":"#DIV/0!"},{"$error":"#DIV/0!"},{"$error":"#DIV/0!"},{"$error":"#DIV/0!"},{"$error":"#DIV/0!"},{"$error":"#DIV/0!"},{"$error":"#DIV/0!"},{"$error":"#DIV/0!"},{"$error":"#DIV/0!"},{"$error":"#DIV/0!"}]
[null,null,-888.68916847018033,-15.419036207270532,-2.6138036483425773,0.44436183310162602,-13.967909790874074,-3.018962250961668,0.13173342114768466,{"$error":"#DIV/0!"},{"$error":"#DIV/0!"},{"$error":"#DIV/0!"},{"$error":"#DIV/0!"},{"$error":"#DIV/0!"},{"$error":"#DIV/0!"},{"$error":"#DIV/0!"},{"$error":"#DIV/0!"},{"$error":"#DIV/0!"},{"$error":"#DIV/0!"},{"$error":"#DIV/0!"},{"$error":"#DIV/0!"},{"$error":"#DIV/0!"}]
[null,null,-888.68916847018033,-15.419036207270532,-2.6138036483425773,0.44436183310162602,-13.967909790874074,-3.018962250961668,0.13173342114768466,{"$error":"#DIV/0!"},{"$error":"#DIV/0!"},{"$error":"#DIV/0!"},{"$error":"#DIV/0!"},{"$error":"#DIV/0!"},{"$error":"#DIV/0!"},{"$error":"#DIV/0!"},{"$error":"#DIV/0!"},{"$error":"#DIV/0!"},{"$error":"#DIV/0!"},{"$error":"#DIV/0!"},{"$error":"#DIV/0!"},{"$error":"#DIV/0!"}]
[null,null,-888.68916847018033,-15.419036207270532,-2.6138036483425773,0.44436183310162602,-13.967909790874074,-3.018962250961668,0.13173342114768466,{"$error":"#DIV/0!"},{"$error":"#DIV/0!"},{"$error":"#DIV/0!"},{"$error":"#DIV/0!"},{"$error":"#DIV/0!"},{"$error":"#DIV/0!"},{"$error":"#DIV/0!"},{"$error":"#DIV/0!"},{"$error":"#DIV/0!"},{"$error":"#DIV/0!"},{"$error":"#DIV/0!"},{"$error":"#DIV/0!"},{"$error":"#DIV/0!"}]
[null,null,-888.68916847018033,-15.419036207270532,-2.6138036483425773,0.44436183310162602,-13.967909790874074,-3.018962250961668,0.13173342114768466,{"$error":"#DIV/0!"},{"$error":"#DIV/0!"},{"$error":"#DIV/0!"},{"$error":"#DIV/0!"},{"$error":"#DIV/0!"},{"$error":"#DIV/0!"},{"$error":"#DIV/0!"},{"$error":"#DIV/0!"},{"$error":"#DIV/0!"},{"$error":"#DIV/0!"},{"$error":"#DIV/0!"},{"$error":"#DIV/0!"},{"$error":"#DIV/0!"}]
[null,null,-888.68916847018033,-15.419036207270532,-2.6138036483425773,0.44436183310162602,-13.967909790874074,-3.018962250961668,0.13173342114768466,{"$error":"#DIV/0!"},{"$error":"#DIV/0!"},{"$error":"#DIV/0!"},{"$error":"#DIV/0!"},{"$error":"#DIV/0!"},{"$error":"#DIV/0!"},{"$error":"#DIV/0!"},{"$error":"#DIV/0!"},{"$error":"#DIV/0!"},{"$error":"#DIV/0!"},{"$error":"#DIV/0!"},{"$error":"#DIV/0!"},{"$error":"#DIV/0!"}]
[null,null,-888.68916847018033,-15.419036207270532,-2.6138036483425773,0.44436183310162602,-13.967909790874074,-3.018962250961668,0.13173342114768466,{"$error":"#DIV/0!"},{"$error":"#DIV/0!"},{"$error":"#DIV/0!"},{"$error":"#DIV/0!"},{"$error":"#DIV/0!"},{"$error":"#DIV/0!"},{"$error":"#DIV/0!"},{"$error":"#DIV/0!"},{"$error":"#DIV/0!"},{"$error":"#DIV/0!"},{"$error":"#DIV/0!"},{"$error":"#DIV/0!"},{"$error":"#DIV/0!"}]
[null,null,-888.68916847018033,-15.419036207270532,-2.6138036483425773,0.44436183310162602,-13.967909790874074,-3.018962250961668,0.13173342114768466,{"$error":"#DIV/0!"},{"$error":"#DIV/0!"},{"$error":"#DIV/0!"},{"$error":"#DIV/0!"},{"$error":"#DIV/0!"},{"$error":"#DIV/0!"},{"$error":"#DIV/0!"},{"$error":"#DIV/0!"},{"$error":"#DIV/0!"},{"$error":"#DIV/0!"},{"$error":"#DIV/0!"},{"$error":"#DIV/0!"},{"$error":"#DIV/0!"}]
[null,null,-888.68916847018033,-15.419036207270532,-2.6138036483425773,0.44436183310162602,-13.967909790874074,-3.018962250961668,0.13173342114768466,{"$error":"#DIV/0!"},{"$error":"#DIV/0!"},{"$error":"#DIV/0!"},{"$error":"#DIV/0!"},{"$error":"#DIV/0!"},{"$error":"#DIV/0!"},{"$error":"#DIV/0!"},{"$error":"#DIV/0!"},{"$error":"#DIV/0!"},{"$error":"#DIV/0!"},{"$error":"#DIV/0!"},{"$error":"#DIV/0!"},{"$error":"#DIV/0!"}]
[null,null,-888.68916847018033,-15.419036207270532,-2.6138036483425773,0.44436183310162602,-13.967909790874074,-3.018962250961668,0.13173342114768466,{"$error":"#DIV/0!"},{"$error":"#DIV/0!"},{"$error":"#DIV/0!"},{"$error":"#DIV/0!"},{"$error":"#DIV/0!"},{"$error":"#DIV/0!"},{"$error":"#DIV/0!"},{"$error":"#DIV/0!"},{"$error":"#DIV/0!"},{"$error":"#DIV/0!"},{"$error":"#DIV/0!"},{"$error":"#DIV/0!"},{"$error":"#DIV/0!"}]
[null,null,-888.68916847018033,-15.419036207270532,-2.6138036483425773,0.44436183310162602,-13.967909790874074,-3.018962250961668,0.13173342114768466,{"$error":"#DIV/0!"},{"$error":"#DIV/0!"},{"$error":"#DIV/0!"},{"$error":"#DIV/0!"},{"$error":"#DIV/0!"},{"$error":"#DIV/0!"},{"$error":"#DIV/0!"},{"$error":"#DIV/0!"},{"$error":"#DIV/0!"},{"$error":"#DIV/0!"},{"$error":"#DIV/0!"},{"$error":"#DIV/0!"},{"$error":"#DIV/0!"}]
[null,null,-888.68916847018033,-15.419036207270532,-2.6138036483425773,0.44436183310162602,-13.967909790874074,-3.018962250961668,0.13173342114768466,{"$error":"#DIV/0!"},{"$error":"#DIV/0!"},{"$error":"#DIV/0!"},{"$error":"#DIV/0!"},{"$error":"#DIV/0!"},{"$error":"#DIV/0!"},{"$error":"#DIV/0!"},{"$error":"#DIV/0!"},{"$error":"#DIV/0!"},{"$error":"#DIV/0!"},{"$error":"#DIV/0!"},{"$error":"#DIV/0!"},{"$error":"#DIV/0!"}]
[null,null,-888.68916847018033,-15.419036207270532,-2.6138036483425773,0.44436183310162602,-13.967909790874074,-3.018962250961668,0.13173342114768466,{"$error":"#DIV/0!"},{"$error":"#DIV/0!"},{"$error":"#DIV/0!"},{"$error":"#DIV/0!"},{"$error":"#DIV/0!"},{"$error":"#DIV/0!"},{"$error":"#DIV/0!"},{"$error":"#DIV/0!"},{"$error":"#DIV/0!"},{"$error":"#DIV/0!"},{"$error":"#DIV/0!"},{"$error":"#DIV/0!"},{"$error":"#DIV/0!"}]
[null,null,-888.68916847018033,-15.419036207270532,-2.6138036483425773,0.44436183310162602,-13.967909790874074,-3.018962250961668,0.13173342114768466,{"$error":"#DIV/0!"},{"$error":"#DIV/0!"},{"$error":"#DIV/0!"},{"$error":"#DIV/0!"},{"$error":"#DIV/0!"},{"$error":"#DIV/0!"},{"$error":"#DIV/0!"},{"$error":"#DIV/0!"},{"$error":"#DIV/0!"},{"$error":"#DIV/0!"},{"$error":"#DIV/0!"},{"$error":"#DIV/0!"},{"$error":"#DIV/0!"}]
[null,null,-888.68916847018033,-15.419036207270532,-2.6138036483425773,0.44436183310162602,-13.967909790874074,-3.018962250961668,0.13173342114768466,{"$error":"#DIV/0!"},{"$error":"#DIV/0!"},{"$error":"#DIV/0!"},{"$error":"#DIV/0!"},{"$error":"#DIV/0!"},{"$error":"#DIV/0!"},{"$error":"#DIV/0!"},{"$error":"#DIV/0!"},{"$error":"#DIV/0!"},{"$error":"#DIV/0!"},{"$error":"#DIV/0!"},{"$error":"#DIV/0!"},{"$error":"#DIV/0!"}]
[null,null,-888.68916847018033,-15.419036207270532,-2.6138036483425773,0.44436183310162602,-13.967909790874074,-3.018962250961668,0.13173342114768466,{"$error":"#DIV/0!"},{"$error":"#DIV/0!"},{"$error":"#DIV/0!"},{"$error":"#DIV/0!"},{"$error":"#DIV/0!"},{"$error":"#DIV/0!"},{"$error":"#DIV/0!"},{"$error":"#DIV/0!"},{"$error":"#DIV/0!"},{"$error":"#DIV/0!"},{"$error":"#DIV/0!"},{"$error":"#DIV/0!"},{"$error":"#DIV/0!"}]
[null,null,-888.68916847018033,-15.419036207270532,-2.6138036483425773,0.44436183310162602,-13.967909790874074,-3.018962250961668,0.13173342114768466,{"$error":"#DIV/0!"},{"$error":"#DIV/0!"},{"$error":"#DIV/0!"},{"$error":"#DIV/0!"},{"$error":"#DIV/0!"},{"$error":"#DIV/0!"},{"$error":"#DIV/0!"},{"$error":"#DIV/0!"},{"$error":"#DIV/0!"},{"$error":"#DIV/0!"},{"$error":"#DIV/0!"},{"$error":"#DIV/0!"},{"$error":"#DIV/0!"}]
[null,null,-888.68916847018033,-15.419036207270532,-2.6138036483425773,0.44436183310162602,-13.967909790874074,-3.018962250961668,0.13173342114768466,{"$error":"#DIV/0!"},{"$error":"#DIV/0!"},{"$error":"#DIV/0!"},{"$error":"#DIV/0!"},{"$error":"#DIV/0!"},{"$error":"#DIV/0!"},{"$error":"#DIV/0!"},{"$error":"#DIV/0!"},{"$error":"#DIV/0!"},{"$error":"#DIV/0!"},{"$error":"#DIV/0!"},{"$error":"#DIV/0!"},{"$error":"#DIV/0!"}]
[null,null,-888.68916847018033,-15.419036207270532,-2.6138036483425773,0.44436183310162602,-13.967909790874074,-3.018962250961668,0.13173342114768466,{"$error":"#DIV/0!"},{"$error":"#DIV/0!"},{"$error":"#DIV/0!"},{"$error":"#DIV/0!"},{"$error":"#DIV/0!"},{"$error":"#DIV/0!"},{"$error":"#DIV/0!"},{"$error":"#DIV/0!"},{"$error":"#DIV/0!"},{"$error":"#DIV/0!"},{"$error":"#DIV/0!"},{"$error":"#DIV/0!"},{"$error":"#DIV/0!"}]
[null,null,-888.68916847018033,-15.419036207270532,-2.6138036483425773,0.44436183310162602,-13.967909790874074,-3.018962250961668,0.13173342114768466,{"$error":"#DIV/0!"},{"$error":"#DIV/0!"},{"$error":"#DIV/0!"},{"$error":"#DIV/0!"},{"$error":"#DIV/0!"},{"$error":"#DIV/0!"},{"$error":"#DIV/0!"},{"$error":"#DIV/0!"},{"$error":"#DIV/0!"},{"$error":"#DIV/0!"},{"$error":"#DIV/0!"},{"$error":"#DIV/0!"},{"$error":"#DIV/0!"}]
[null,null,-888.68916847018033,-15.419036207270532,-2.6138036483425773,0.44436183310162602,-13.967909790874074,-3.018962250961668,0.13173342114768466,{"$error":"#DIV/0!"},{"$error":"#DIV/0!"},{"$error":"#DIV/0!"},{"$error":"#DIV/0!"},{"$error":"#DIV/0!"},{"$error":"#DIV/0!"},{"$error":"#DIV/0!"},{"$error":"#DIV/0!"},{"$error":"#DIV/0!"},{"$error":"#DIV/0!"},{"$error":"#DIV/0!"},{"$error":"#DIV/0!"},{"$error":"#DIV/0!"}]
[null,null,-888.68916847018033,-15.419036207270532,-2.6138036483425773,0.44436183310162602,-13.967909790874074,-3.018962250961668,0.13173342114768466,{"$error":"#DIV/0!"},{"$error":"#DIV/0!"},{"$error":"#DIV/0!"},{"$error":"#DIV/0!"},{"$error":"#DIV/0!"},{"$error":"#DIV/0!"},{"$error":"#DIV/0!"},{"$error":"#DIV/0!"},{"$error":"#DIV/0!"},{"$error":"#DIV/0!"},{"$error":"#DIV/0!"},{"$error":"#DIV/0!"},{"$error":"#DIV/0!"}]
[null,null,-888.68916847018033,-15.419036207270532,-2.6138036483425773,0.44436183310162602,-13.967909790874074,-3.018962250961668,0.13173342114768466,{"$error":"#DIV/0!"},{"$error":"#DIV/0!"},{"$error":"#DIV/0!"},{"$error":"#DIV/0!"},{"$error":"#DIV/0!"},{"$error":"#DIV/0!"},{"$error":"#DIV/0!"},{"$error":"#DIV/0!"},{"$error":"#DIV/0!"},{"$error":"#DIV/0!"},{"$error":"#DIV/0!"},{"$error":"#DIV/0!"},{"$error":"#DIV/0!"}]
[null,null,-888.68916847018033,-15.419036207270532,-2.6138036483425773,0.44436183310162602,-13.967909790874074,-3.018962250961668,0.13173342114768466,{"$error":"#DIV/0!"},{"$error":"#DIV/0!"},{"$error":"#DIV/0!"},{"$error":"#DIV/0!"},{"$error":"#DIV/0!"},{"$error":"#DIV/0!"},{"$error":"#DIV/0!"},{"$error":"#DIV/0!"},{"$error":"#DIV/0!"},{"$error":"#DIV/0!"},{"$error":"#DIV/0!"},{"$error":"#DIV/0!"},{"$error":"#DIV/0!"}]
[null,null,-888.68916847018033,-15.419036207270532,-2.6138036483425773,0.44436183310162602,-13.967909790874074,-3.018962250961668,0.13173342114768466,{"$error":"#DIV/0!"},{"$error":"#DIV/0!"},{"$error":"#DIV/0!"},{"$error":"#DIV/0!"},{"$error":"#DIV/0!"},{"$error":"#DIV/0!"},{"$error":"#DIV/0!"},{"$error":"#DIV/0!"},{"$error":"#DIV/0!"},{"$error":"#DIV/0!"},{"$error":"#DIV/0!"},{"$error":"#DIV/0!"},{"$error":"#DIV/0!"}]
[null,null,-888.68916847018033,-15.419036207270532,-2.6138036483425773,0.44436183310162602,-13.967909790874074,-3.018962250961668,0.13173342114768466,{"$error":"#DIV/0!"},{"$error":"#DIV/0!"},{"$error":"#DIV/0!"},{"$error":"#DIV/0!"},{"$error":"#DIV/0!"},{"$error":"#DIV/0!"},{"$error":"#DIV/0!"},{"$error":"#DIV/0!"},{"$error":"#DIV/0!"},{"$error":"#DIV/0!"},{"$error":"#DIV/0!"},{"$error":"#DIV/0!"},{"$error":"#DIV/0!"}]
[null,null,-888.68916847018033,-15.419036207270532,-2.6138036483425773,0.44436183310162602,-13.967909790874074,-3.018962250961668,0.13173342114768466,{"$error":"#DIV/0!"},{"$error":"#DIV/0!"},{"$error":"#DIV/0!"},{"$error":"#DIV/0!"},{"$error":"#DIV/0!"},{"$error":"#DIV/0!"},{"$error":"#DIV/0!"},{"$error":"#DIV/0!"},{"$error":"#DIV/0!"},{"$error":"#DIV/0!"},{"$error":"#DIV/0!"},{"$error":"#DIV/0!"},{"$error":"#DIV/0!"}]
[null,null,-888.68916847018033,-15.419036207270532,-2.6138036483425773,0.44436183310162602,-13.967909790874074,-3.018962250961668,0.13173342114768466,{"$error":"#DIV/0!"},{"$error":"#DIV/0!"},{"$error":"#DIV/0!"},{"$error":"#DIV/0!"},{"$error":"#DIV/0!"},{"$error":"#DIV/0!"},{"$error":"#DIV/0!"},{"$error":"#DIV/0!"},{"$error":"#DIV/0!"},{"$error":"#DIV/0!"},{"$error":"#DIV/0!"},{"$error":"#DIV/0!"},{"$error":"#DIV/0!"}]
[null,null,-888.68916847018033,-15.419036207270532,-2.6138036483425773,0.44436183310162602,-13.967909790874074,-3.018962250961668,0.13173342114768466,{"$error":"#DIV/0!"},{"$error":"#DIV/0!"},{"$error":"#DIV/0!"},{"$error":"#DIV/0!"},{"$error":"#DIV/0!"},{"$error":"#DIV/0!"},{"$error":"#DIV/0!"},{"$error":"#DIV/0!"},{"$error":"#DIV/0!"},{"$error":"#DIV/0!"},{"$error":"#DIV/0!"},{"$error":"#DIV/0!"},{"$error":"#DIV/0!"}]
[null,null,-888.68916847018033,-15.419036207270532,-2.6138036483425773,0.44436183310162602,-13.967909790874074,-3.018962250961668,0.13173342114768466,{"$error":"#DIV/0!"},{"$error":"#DIV/0!"},{"$error":"#DIV/0!"},{"$error":"#DIV/0!"},{"$error":"#DIV/0!"},{"$error":"#DIV/0!"},{"$error":"#DIV/0!"},{"$error":"#DIV/0!"},{"$error":"#DIV/0!"},{"$error":"#DIV/0!"},{"$error":"#DIV/0!"},{"$error":"#DIV/0!"},{"$error":"#DIV/0!"}]
[null,null,-888.68916847018033,-15.419036207270532,-2.6138036483425773,0.44436183310162602,-13.967909790874074,-3.018962250961668,0.13173342114768466,{"$error":"#DIV/0!"},{"$error":"#DIV/0!"},{"$error":"#DIV/0!"},{"$error":"#DIV/0!"},{"$error":"#DIV/0!"},{"$error":"#DIV/0!"},{"$error":"#DIV/0!"},{"$error":"#DIV/0!"},{"$error":"#DIV/0!"},{"$error":"#DIV/0!"},{"$error":"#DIV/0!"},{"$error":"#DIV/0!"},{"$error":"#DIV/0!"}]
[null,null,-888.68916847018033,-15.419036207270532,-2.6138036483425773,0.44436183310162602,-13.967909790874074,-3.018962250961668,0.13173342114768466,{"$error":"#DIV/0!"},{"$error":"#DIV/0!"},{"$error":"#DIV/0!"},{"$error":"#DIV/0!"},{"$error":"#DIV/0!"},{"$error":"#DIV/0!"},{"$error":"#DIV/0!"},{"$error":"#DIV/0!"},{"$error":"#DIV/0!"},{"$error":"#DIV/0!"},{"$error":"#DIV/0!"},{"$error":"#DIV/0!"},{"$error":"#DIV/0!"}]
[null,null,-888.68916847018033,-15.419036207270532,-2.6138036483425773,0.44436183310162602,-13.967909790874074,-3.018962250961668,0.13173342114768466,{"$error":"#DIV/0!"},{"$error":"#DIV/0!"},{"$error":"#DIV/0!"},{"$error":"#DIV/0!"},{"$error":"#DIV/0!"},{"$error":"#DIV/0!"},{"$error":"#DIV/0!"},{"$error":"#DIV/0!"},{"$error":"#DIV/0!"},{"$error":"#DIV/0!"},{"$error":"#DIV/0!"},{"$error":"#DIV/0!"},{"$error":"#DIV/0!"}]
[null,null,-888.68916847018033,-15.419036207270532,-2.6138036483425773,0.44436183310162602,-13.967909790874074,-3.018962250961668,0.13173342114768466,{"$error":"#DIV/0!"},{"$error":"#DIV/0!"},{"$error":"#DIV/0!"},{"$error":"#DIV/0!"},{"$error":"#DIV/0!"},{"$error":"#DIV/0!"},{"$error":"#DIV/0!"},{"$error":"#DIV/0!"},{"$error":"#DIV/0!"},{"$error":"#DIV/0!"},{"$error":"#DIV/0!"},{"$error":"#DIV/0!"},{"$error":"#DIV/0!"}]
[null,null,-888.68916847018033,-15.419036207270532,-2.6138036483425773,0.44436183310162602,-13.967909790874074,-3.018962250961668,0.13173342114768466,{"$error":"#DIV/0!"},{"$error":"#DIV/0!"},{"$error":"#DIV/0!"},{"$error":"#DIV/0!"},{"$error":"#DIV/0!"},{"$error":"#DIV/0!"},{"$error":"#DIV/0!"},{"$error":"#DIV/0!"},{"$error":"#DIV/0!"},{"$error":"#DIV/0!"},{"$error":"#DIV/0!"},{"$error":"#DIV/0!"},{"$error":"#DIV/0!"}]
[null,null,-888.68916847018033,-15.419036207270532,-2.6138036483425773,0.44436183310162602,-13.967909790874074,-3.018962250961668,0.13173342114768466,{"$error":"#DIV/0!"},{"$error":"#DIV/0!"},{"$error":"#DIV/0!"},{"$error":"#DIV/0!"},{"$error":"#DIV/0!"},{"$error":"#DIV/0!"},{"$error":"#DIV/0!"},{"$error":"#DIV/0!"},{"$error":"#DIV/0!"},{"$error":"#DIV/0!"},{"$error":"#DIV/0!"},{"$error":"#DIV/0!"},{"$error":"#DIV/0!"}]
[null,null,-888.68916847018033,-15.419036207270532,-2.6138036483425773,0.44436183310162602,-13.967909790874074,-3.018962250961668,0.13173342114768466,{"$error":"#DIV/0!"},{"$error":"#DIV/0!"},{"$error":"#DIV/0!"},{"$error":"#DIV/0!"},{"$error":"#DIV/0!"},{"$error":"#DIV/0!"},{"$error":"#DIV/0!"},{"$error":"#DIV/0!"},{"$error":"#DIV/0!"},{"$error":"#DIV/0!"},{"$error":"#DIV/0!"},{"$error":"#DIV/0!"},{"$error":"#DIV/0!"}]
[null,null,-888.68916847018033,-15.419036207270532,-2.6138036483425773,0.44436183310162602,-13.967909790874074,-3.018962250961668,0.13173342114768466,{"$error":"#DIV/0!"},{"$error":"#DIV/0!"},{"$error":"#DIV/0!"},{"$error":"#DIV/0!"},{"$error":"#DIV/0!"},{"$error":"#DIV/0!"},{"$error":"#DIV/0!"},{"$error":"#DIV/0!"},{"$error":"#DIV/0!"},{"$error":"#DIV/0!"},{"$error":"#DIV/0!"},{"$error":"#DIV/0!"},{"$error":"#DIV/0!"}]
[null,null,-888.68916847018033,-15.419036207270532,-2.6138036483425773,0.44436183310162602,-13.967909790874074,-3.018962250961668,0.13173342114768466,{"$error":"#DIV/0!"},{"$error":"#DIV/0!"},{"$error":"#DIV/0!"},{"$error":"#DIV/0!"},{"$error":"#DIV/0!"},{"$error":"#DIV/0!"},{"$error":"#DIV/0!"},{"$error":"#DIV/0!"},{"$error":"#DIV/0!"},{"$error":"#DIV/0!"},{"$error":"#DIV/0!"},{"$error":"#DIV/0!"},{"$error":"#DIV/0!"}]
[null,null,-888.68916847018033,-15.419036207270532,-2.6138036483425773,0.44436183310162602,-13.967909790874074,-3.018962250961668,0.13173342114768466,{"$error":"#DIV/0!"},{"$error":"#DIV/0!"},{"$error":"#DIV/0!"},{"$error":"#DIV/0!"},{"$error":"#DIV/0!"},{"$error":"#DIV/0!"},{"$error":"#DIV/0!"},{"$error":"#DIV/0!"},{"$error":"#DIV/0!"},{"$error":"#DIV/0!"},{"$error":"#DIV/0!"},{"$error":"#DIV/0!"},{"$error":"#DIV/0!"}]
[null,null,-888.68916847018033,-15.419036207270532,-2.6138036483425773,0.44436183310162602,-13.967909790874074,-3.018962250961668,0.13173342114768466,{"$error":"#DIV/0!"},{"$error":"#DIV/0!"},{"$error":"#DIV/0!"},{"$error":"#DIV/0!"},{"$error":"#DIV/0!"},{"$error":"#DIV/0!"},{"$error":"#DIV/0!"},{"$error":"#DIV/0!"},{"$error":"#DIV/0!"},{"$error":"#DIV/0!"},{"$error":"#DIV/0!"},{"$error":"#DIV/0!"},{"$error":"#DIV/0!"}]
[null,null,-888.68916847018033,-15.419036207270532,-2.6138036483425773,0.44436183310162602,-13.967909790874074,-3.018962250961668,0.13173342114768466,{"$error":"#DIV/0!"},{"$error":"#DIV/0!"},{"$error":"#DIV/0!"},{"$error":"#DIV/0!"},{"$error":"#DIV/0!"},{"$error":"#DIV/0!"},{"$error":"#DIV/0!"},{"$error":"#DIV/0!"},{"$error":"#DIV/0!"},{"$error":"#DIV/0!"},{"$error":"#DIV/0!"},{"$error":"#DIV/0!"},{"$error":"#DIV/0!"}]
[null,null,-888.68916847018033,-15.419036207270532,-2.6138036483425773,0.44436183310162602,-13.967909790874074,-3.018962250961668,0.13173342114768466,{"$error":"#DIV/0!"},{"$error":"#DIV/0!"},{"$error":"#DIV/0!"},{"$error":"#DIV/0!"},{"$error":"#DIV/0!"},{"$error":"#DIV/0!"},{"$error":"#DIV/0!"},{"$error":"#DIV/0!"},{"$error":"#DIV/0!"},{"$error":"#DIV/0!"},{"$error":"#DIV/0!"},{"$error":"#DIV/0!"},{"$error":"#DIV/0!"}]
[null,null,-888.68916847018033,-15.419036207270532,-2.6138036483425773,0.44436183310162602,-13.967909790874074,-3.018962250961668,0.13173342114768466,{"$error":"#DIV/0!"},{"$error":"#DIV/0!"},{"$error":"#DIV/0!"},{"$error":"#DIV/0!"},{"$error":"#DIV/0!"},{"$error":"#DIV/0!"},{"$error":"#DIV/0!"},{"$error":"#DIV/0!"},{"$error":"#DIV/0!"},{"$error":"#DIV/0!"},{"$error":"#DIV/0!"},{"$error":"#DIV/0!"},{"$error":"#DIV/0!"}]
[null,null,-888.68916847018033,-15.419036207270532,-2.6138036483425773,0.44436183310162602,-13.967909790874074,-3.018962250961668,0.13173342114768466,{"$error":"#DIV/0!"},{"$error":"#DIV/0!"},{"$error":"#DIV/0!"},{"$error":"#DIV/0!"},{"$error":"#DIV/0!"},{"$error":"#DIV/0!"},{"$error":"#DIV/0!"},{"$error":"#DIV/0!"},{"$error":"#DIV/0!"},{"$error":"#DIV/0!"},{"$error":"#DIV/0!"},{"$error":"#DIV/0!"},{"$error":"#DIV/0!"}]
[null,null,-888.68916847018033,-15.419036207270532,-2.6138036483425773,0.44436183310162602,-13.967909790874074,-3.018962250961668,0.13173342114768466,{"$error":"#DIV/0!"},{"$error":"#DIV/0!"},{"$error":"#DIV/0!"},{"$error":"#DIV/0!"},{"$error":"#DIV/0!"},{"$error":"#DIV/0!"},{"$error":"#DIV/0!"},{"$error":"#DIV/0!"},{"$error":"#DIV/0!"},{"$error":"#DIV/0!"},{"$error":"#DIV/0!"},{"$error":"#DIV/0!"},{"$error":"#DIV/0!"}]
[null,null,-888.68916847018033,-15.419036207270532,-2.6138036483425773,0.44436183310162602,-13.967909790874074,-3.018962250961668,0.13173342114768466,{"$error":"#DIV/0!"},{"$error":"#DIV/0!"},{"$error":"#DIV/0!"},{"$error":"#DIV/0!"},{"$error":"#DIV/0!"},{"$error":"#DIV/0!"},{"$error":"#DIV/0!"},{"$error":"#DIV/0!"},{"$error":"#DIV/0!"},{"$error":"#DIV/0!"},{"$error":"#DIV/0!"},{"$error":"#DIV/0!"},{"$error":"#DIV/0!"}]
[null,null,-888.68916847018033,-15.419036207270532,-2.6138036483425773,0.44436183310162602,-13.967909790874074,-3.018962250961668,0.13173342114768466,{"$error":"#DIV/0!"},{"$error":"#DIV/0!"},{"$error":"#DIV/0!"},{"$error":"#DIV/0!"},{"$error":"#DIV/0!"},{"$error":"#DIV/0!"},{"$error":"#DIV/0!"},{"$error":"#DIV/0!"},{"$error":"#DIV/0!"},{"$error":"#DIV/0!"},{"$error":"#DIV/0!"},{"$error":"#DIV/0!"},{"$error":"#DIV/0!"}]
[null,null,-888.68916847018033,-15.419036207270532,-2.6138036483425773,0.44436183310162602,-13.967909790874074,-3.018962250961668,0.13173342114768466,{"$error":"#DIV/0!"},{"$error":"#DIV/0!"},{"$error":"#DIV/0!"},{"$error":"#DIV/0!"},{"$error":"#DIV/0!"},{"$error":"#DIV/0!"},{"$error":"#DIV/0!"},{"$error":"#DIV/0!"},{"$error":"#DIV/0!"},{"$error":"#DIV/0!"},{"$error":"#DIV/0!"},{"$error":"#DIV/0!"},{"$error":"#DIV/0!"}]
[null,null,-888.68916847018033,-15.419036207270532,-2.6138036483425773,0.44436183310162602,-13.967909790874074,-3.018962250961668,0.13173342114768466,{"$error":"#DIV/0!"},{"$error":"#DIV/0!"},{"$error":"#DIV/0!"},{"$error":"#DIV/0!"},{"$error":"#DIV/0!"},{"$error":"#DIV/0!"},{"$error":"#DIV/0!"},{"$error":"#DIV/0!"},{"$error":"#DIV/0!"},{"$error":"#DIV/0!"},{"$error":"#DIV/0!"},{"$error":"#DIV/0!"},{"$error":"#DIV/0!"}]
[null,null,-888.68916847018033,-15.419036207270532,-2.6138036483425773,0.44436183310162602,-13.967909790874074,-3.018962250961668,0.13173342114768466,{"$error":"#DIV/0!"},{"$error":"#DIV/0!"},{"$error":"#DIV/0!"},{"$error":"#DIV/0!"},{"$error":"#DIV/0!"},{"$error":"#DIV/0!"},{"$error":"#DIV/0!"},{"$error":"#DIV/0!"},{"$error":"#DIV/0!"},{"$error":"#DIV/0!"},{"$error":"#DIV/0!"},{"$error":"#DIV/0!"},{"$error":"#DIV/0!"}]
[null,null,-888.68916847018033,-15.419036207270532,-2.6138036483425773,0.44436183310162602,-13.967909790874074,-3.018962250961668,0.13173342114768466,{"$error":"#DIV/0!"},{"$error":"#DIV/0!"},{"$error":"#DIV/0!"},{"$error":"#DIV/0!"},{"$error":"#DIV/0!"},{"$error":"#DIV/0!"},{"$error":"#DIV/0!"},{"$error":"#DIV/0!"},{"$error":"#DIV/0!"},{"$error":"#DIV/0!"},{"$error":"#DIV/0!"},{"$error":"#DIV/0!"},{"$error":"#DIV/0!"}]
[null,null,-888.68916847018033,-15.419036207270532,-2.6138036483425773,0.44436183310162602,-13.967909790874074,-3.018962250961668,0.13173342114768466,{"$error":"#DIV/0!"},{"$error":"#DIV/0!"},{"$error":"#DIV/0!"},{"$error":"#DIV/0!"},{"$error":"#DIV/0!"},{"$error":"#DIV/0!"},{"$error":"#DIV/0!"},{"$error":"#DIV/0!"},{"$error":"#DIV/0!"},{"$error":"#DIV/0!"},{"$error":"#DIV/0!"},{"$error":"#DIV/0!"},{"$error":"#DIV/0!"}]
[null,null,-888.68916847018033,-15.419036207270532,-2.6138036483425773,0.44436183310162602,-13.967909790874074,-3.018962250961668,0.13173342114768466,{"$error":"#DIV/0!"},{"$error":"#DIV/0!"},{"$error":"#DIV/0!"},{"$error":"#DIV/0!"},{"$error":"#DIV/0!"},{"$error":"#DIV/0!"},{"$error":"#DIV/0!"},{"$error":"#DIV/0!"},{"$error":"#DIV/0!"},{"$error":"#DIV/0!"},{"$error":"#DIV/0!"},{"$error":"#DIV/0!"},{"$error":"#DIV/0!"}]
[null,null,-888.68916847018033,-15.419036207270532,-2.6138036483425773,0.44436183310162602,-13.967909790874074,-3.018962250961668,0.13173342114768466,{"$error":"#DIV/0!"},{"$error":"#DIV/0!"},{"$error":"#DIV/0!"},{"$error":"#DIV/0!"},{"$error":"#DIV/0!"},{"$error":"#DIV/0!"},{"$error":"#DIV/0!"},{"$error":"#DIV/0!"},{"$error":"#DIV/0!"},{"$error":"#DIV/0!"},{"$error":"#DIV/0!"},{"$error":"#DIV/0!"},{"$error":"#DIV/0!"}]
[null,null,-888.68916847018033,-15.419036207270532,-2.6138036483425773,0.44436183310162602,-13.967909790874074,-3.018962250961668,0.13173342114768466,{"$error":"#DIV/0!"},{"$error":"#DIV/0!"},{"$error":"#DIV/0!"},{"$error":"#DIV/0!"},{"$error":"#DIV/0!"},{"$error":"#DIV/0!"},{"$error":"#DIV/0!"},{"$error":"#DIV/0!"},{"$error":"#DIV/0!"},{"$error":"#DIV/0!"},{"$error":"#DIV/0!"},{"$error":"#DIV/0!"},{"$error":"#DIV/0!"}]
[null,null,-888.68916847018033,-15.419036207270532,-2.6138036483425773,0.44436183310162602,-13.967909790874074,-3.018962250961668,0.13173342114768466,{"$error":"#DIV/0!"},{"$error":"#DIV/0!"},{"$error":"#DIV/0!"},{"$error":"#DIV/0!"},{"$error":"#DIV/0!"},{"$error":"#DIV/0!"},{"$error":"#DIV/0!"},{"$error":"#DIV/0!"},{"$error":"#DIV/0!"},{"$error":"#DIV/0!"},{"$error":"#DIV/0!"},{"$error":"#DIV/0!"},{"$error":"#DIV/0!"}]
[null,null,-888.68916847018033,-15.419036207270532,-2.6138036483425773,0.44436183310162602,-13.967909790874074,-3.018962250961668,0.13173342114768466,{"$error":"#DIV/0!"},{"$error":"#DIV/0!"},{"$error":"#DIV/0!"},{"$error":"#DIV/0!"},{"$error":"#DIV/0!"},{"$error":"#DIV/0!"},{"$error":"#DIV/0!"},{"$error":"#DIV/0!"},{"$error":"#DIV/0!"},{"$error":"#DIV/0!"},{"$error":"#DIV/0!"},{"$error":"#DIV/0!"},{"$error":"#DIV/0!"}]
[null,null,-888.68916847018033,-15.419036207270532,-2.6138036483425773,0.44436183310162602,-13.967909790874074,-3.018962250961668,0.13173342114768466,{"$error":"#DIV/0!"},{"$error":"#DIV/0!"},{"$error":"#DIV/0!"},{"$error":"#DIV/0!"},{"$error":"#DIV/0!"},{"$error":"#DIV/0!"},{"$error":"#DIV/0!"},{"$error":"#DIV/0!"},{"$error":"#DIV/0!"},{"$error":"#DIV/0!"},{"$error":"#DIV/0!"},{"$error":"#DIV/0!"},{"$error":"#DIV/0!"}]
[null,null,-888.68916847018033,-15.419036207270532,-2.6138036483425773,0.44436183310162602,-13.967909790874074,-3.018962250961668,0.13173342114768466,{"$error":"#DIV/0!"},{"$error":"#DIV/0!"},{"$error":"#DIV/0!"},{"$error":"#DIV/0!"},{"$error":"#DIV/0!"},{"$error":"#DIV/0!"},{"$error":"#DIV/0!"},{"$error":"#DIV/0!"},{"$error":"#DIV/0!"},{"$error":"#DIV/0!"},{"$error":"#DIV/0!"},{"$error":"#DIV/0!"},{"$error":"#DIV/0!"}]
[null,null,-888.68916847018033,-15.419036207270532,-2.6138036483425773,0.44436183310162602,-13.967909790874074,-3.018962250961668,0.13173342114768466,{"$error":"#DIV/0!"},{"$error":"#DIV/0!"},{"$error":"#DIV/0!"},{"$error":"#DIV/0!"},{"$error":"#DIV/0!"},{"$error":"#DIV/0!"},{"$error":"#DIV/0!"},{"$error":"#DIV/0!"},{"$error":"#DIV/0!"},{"$error":"#DIV/0!"},{"$error":"#DIV/0!"},{"$error":"#DIV/0!"},{"$error":"#DIV/0!"}]
[null,null,-888.68916847018033,-15.419036207270532,-2.6138036483425773,0.44436183310162602,-13.967909790874074,-3.018962250961668,0.13173342114768466,{"$error":"#DIV/0!"},{"$error":"#DIV/0!"},{"$error":"#DIV/0!"},{"$error":"#DIV/0!"},{"$error":"#DIV/0!"},{"$error":"#DIV/0!"},{"$error":"#DIV/0!"},{"$error":"#DIV/0!"},{"$error":"#DIV/0!"},{"$error":"#DIV/0!"},{"$error":"#DIV/0!"},{"$error":"#DIV/0!"},{"$error":"#DIV/0!"}]
[null,null,-888.68916847018033,-15.419036207270532,-2.6138036483425773,0.44436183310162602,-13.967909790874074,-3.018962250961668,0.13173342114768466,{"$error":"#DIV/0!"},{"$error":"#DIV/0!"},{"$error":"#DIV/0!"},{"$error":"#DIV/0!"},{"$error":"#DIV/0!"},{"$error":"#DIV/0!"},{"$error":"#DIV/0!"},{"$error":"#DIV/0!"},{"$error":"#DIV/0!"},{"$error":"#DIV/0!"},{"$error":"#DIV/0!"},{"$error":"#DIV/0!"},{"$error":"#DIV/0!"}]
[null,null,-888.68916847018033,-15.419036207270532,-2.6138036483425773,0.44436183310162602,-13.967909790874074,-3.018962250961668,0.13173342114768466,{"$error":"#DIV/0!"},{"$error":"#DIV/0!"},{"$error":"#DIV/0!"},{"$error":"#DIV/0!"},{"$error":"#DIV/0!"},{"$error":"#DIV/0!"},{"$error":"#DIV/0!"},{"$error":"#DIV/0!"},{"$error":"#DIV/0!"},{"$error":"#DIV/0!"},{"$error":"#DIV/0!"},{"$error":"#DIV/0!"},{"$error":"#DIV/0!"}]
[null,null,-888.68916847018033,-15.419036207270532,-2.6138036483425773,0.44436183310162602,-13.967909790874074,-3.018962250961668,0.13173342114768466,{"$error":"#DIV/0!"},{"$error":"#DIV/0!"},{"$error":"#DIV/0!"},{"$error":"#DIV/0!"},{"$error":"#DIV/0!"},{"$error":"#DIV/0!"},{"$error":"#DIV/0!"},{"$error":"#DIV/0!"},{"$error":"#DIV/0!"},{"$error":"#DIV/0!"},{"$error":"#DIV/0!"},{"$error":"#DIV/0!"},{"$error":"#DIV/0!"}]
[null,null,-888.68916847018033,-15.419036207270532,-2.6138036483425773,0.44436183310162602,-13.967909790874074,-3.018962250961668,0.13173342114768466,{"$error":"#DIV/0!"},{"$error":"#DIV/0!"},{"$error":"#DIV/0!"},{"$error":"#DIV/0!"},{"$error":"#DIV/0!"},{"$error":"#DIV/0!"},{"$error":"#DIV/0!"},{"$error":"#DIV/0!"},{"$error":"#DIV/0!"},{"$error":"#DIV/0!"},{"$error":"#DIV/0!"},{"$error":"#DIV/0!"},{"$error":"#DIV/0!"}]
[null,null,-888.68916847018033,-15.419036207270532,-2.6138036483425773,0.44436183310162602,-13.967909790874074,-3.018962250961668,0.13173342114768466,{"$error":"#DIV/0!"},{"$error":"#DIV/0!"},{"$error":"#DIV/0!"},{"$error":"#DIV/0!"},{"$error":"#DIV/0!"},{"$error":"#DIV/0!"},{"$error":"#DIV/0!"},{"$error":"#DIV/0!"},{"$error":"#DIV/0!"},{"$error":"#DIV/0!"},{"$error":"#DIV/0!"},{"$error":"#DIV/0!"},{"$error":"#DIV/0!"}]
[null,null,-888.68916847018033,-15.419036207270532,-2.6138036483425773,0.44436183310162602,-13.967909790874074,-3.018962250961668,0.13173342114768466,{"$error":"#DIV/0!"},{"$error":"#DIV/0!"},{"$error":"#DIV/0!"},{"$error":"#DIV/0!"},{"$error":"#DIV/0!"},{"$error":"#DIV/0!"},{"$error":"#DIV/0!"},{"$error":"#DIV/0!"},{"$error":"#DIV/0!"},{"$error":"#DIV/0!"},{"$error":"#DIV/0!"},{"$error":"#DIV/0!"},{"$error":"#DIV/0!"}]

{"sheet":"var_vp","index":4,"n_rows":58,"n_cols":23,"rows_kept":58,"cut":false,"hidden":false,"merged":[]}
[]
[]
[]
[]
[]
[{"$f":"données!A1","v":"nb lignes"},{"$f":"données!B1","v":"moyennes"},null,null,{"$f":"nc","v":7}]
[{"$f":"nl","v":48},{"$f":"données!B2","v":"écarts type"}]
[{"$f":"données!A3","v":"nb colonnes"},{"$f":"données!B3","v":"numéro"},null,{"$f":"données!C3","v":"heure"},{"$f":"données!D3","v":"diamètre1"},{"$f":"données!E3","v":"décalage1"},{"$f":"données!F3","v":"aspérités1"},{"$f":"données!G3","v":"diamètre2"},{"$f":"données!H3","v":"décalage2"},{"$f":"données!I3","v":"aspérités2"},{"$f":"données!J3","v":0},{"$f":"données!K3","v":0},{"$f":"données!L3","v":0},{"$f":"données!M3","v":0},{"$f":"données!N3","v":0},{"$f":"données!O3","v":0},{"$f":"données!P3","v":0},{"$f":"données!Q3","v":0},{"$f":"données!R3","v":0},{"$f":"données!S3","v":0},{"$f":"données!T3","v":0},{"$f":"données!U3","v":0},{"$f":"données!V3","v":0}]
[{"$f":"nc","v":7},{"$f":"D8","v":"heure"},null,{"$f":"1/(nl-1)*MMULT(TRANSPOSE(mcr),mcr)","v":1},-0.11321683445524562,-0.20811858836886579,0.22061280857054921,-0.40453402201251565,-7.4314890263845954E-2,0.64368129079647585,{"$error":"#N/A"},{"$error":"#N/A"},{"$error":"#N/A"},{"$error":"#N/A"},{"$error":"#N/A"},{"$error":"#N/A"},{"$error":"#N/A"},{"$error":"#N/A"},{"$error":"#N/A"},{"$error":"#N/A"},{"$error":"#N/A"},{"$error":"#N/A"},{"$error":"#N/A"}]
[null,{"$f":"E8","v":"diamètre1"},null,-0.11321683445524562,1.0000000000000002,0.45334812820106346,8.570595861014307E-3,0.64174562738336982,0.61039613033997286,0.19089863115814062,{"$error":"#N/A"},{"$error":"#N/A"},{"$error":"#N/A"},{"$error":"#N/A"},{"$error":"#N/A"},{"$error":"#N/A"},{"$error":"#N/A"},{"$error":"#N/A"},{"$error":"#N/A"},{"$error":"#N/A"},{"$error":"#N/A"},{"$error":"#N/A"},{"$error":"#N/A"}]
[null,{"$f":"F8","v":"décalage1"},null,-0.20811858836886579,0.45334812820106346,1.0000000000000002,-0.45074688073362823,0.62108044950677599,0.69551846145332952,-0.35296898206186317,{"$error":"#N/A"},{"$error":"#N/A"},{"$error":"#N/A"},{"$error":"#N/A"},{"$error":"#N/A"},{"$error":"#N/A"},{"$error":"#N/A"},{"$error":"#N/A"},{"$error":"#N/A"},{"$error":"#N/A"},{"$error":"#N/A"},{"$error":"#N/A"},{"$error":"#N/A"}]
[null,{"$f":"G8","v":"aspérités1"},null,0.22061280857054921,8.570595861014307E-3,-0.45074688073362823,0.99999999999999933,-0.23625085075104582,-0.41251031709095004,0.24292885208963375,{"$error":"#N/A"},{"$error":"#N/A"},{"$error":"#N/A"},{"$error":"#N/A"},{"$error":"#N/A"},{"$error":"#N/A"},{"$error":"#N/A"},{"$error":"#N/A"},{"$error":"#N/A"},{"$error":"#N/A"},{"$error":"#N/A"},{"$error":"#N/A"},{"$error":"#N/A"}]
[null,{"$f":"H8","v":"diamètre2"},null,-0.40453402201251565,0.64174562738336982,0.62108044950677599,-0.23625085075104582,1.0000000000000004,0.74082367821369688,-0.40896878440779788,{"$error":"#N/A"},{"$error":"#N/A"},{"$error":"#N/A"},{"$error":"#N/A"},{"$error":"#N/A"},{"$error":"#N/A"},{"$error":"#N/A"},{"$error":"#N/A"},{"$error":"#N/A"},{"$error":"#N/A"},{"$error":"#N/A"},{"$error":"#N/A"},{"$error":"#N/A"}]
[null,{"$f":"I8","v":"décalage2"},null,-7.4314890263845954E-2,0.61039613033997286,0.69551846145332952,-0.41251031709095004,0.74082367821369688,1.0000000000000016,-0.22693487610463459,{"$error":"#N/A"},{"$error":"#N/A"},{"$error":"#N/A"},{"$error":"#N/A"},{"$error":"#N/A"},{"$error":"#N/A"},{"$error":"#N/A"},{"$error":"#N/A"},{"$error":"#N/A"},{"$error":"#N/A"},{"$error":"#N/A"},{"$error":"#N/A"},{"$error":"#N/A"}]
[null,{"$f":"J8","v":"aspérités2"},null,0.64368129079647585,0.19089863115814062,-0.35296898206186317,0.24292885208963375,-0.40896878440779788,-0.22693487610463459,1,{"$error":"#N/A"},{"$error":"#N/A"},{"$error":"#N/A"},{"$error":"#N/A"},{"$error":"#N/A"},{"$error":"#N/A"},{"$error":"#N/A"},{"$error":"#N/A"},{"$error":"#N/A"},{"$error":"#N/A"},{"$error":"#N/A"},{"$error":"#N/A"},{"$error":"#N/A"}]
[null,{"$f":"K8","v":0},null,{"$error":"#N/A"},{"$error":"#N/A"},{"$error":"#N/A"},{"$error":"#N/A"},{"$error":"#N/A"},{"$error":"#N/A"},{"$error":"#N/A"},{"$error":"#N/A"},{"$error":"#N/A"},{"$error":"#N/A"},{"$error":"#N/A"},{"$error":"#N/A"},{"$error":"#N/A"},{"$error":"#N/A"},{"$error":"#N/A"},{"$error":"#N/A"},{"$error":"#N/A"},{"$error":"#N/A"},{"$error":"#N/A"},{"$error":"#N/A"}]
[null,{"$f":"L8","v":0},null,{"$error":"#N/A"},{"$error":"#N/A"},{"$error":"#N/A"},{"$error":"#N/A"},{"$error":"#N/A"},{"$error":"#N/A"},{"$error":"#N/A"},{"$error":"#N/A"},{"$error":"#N/A"},{"$error":"#N/A"},{"$error":"#N/A"},{"$error":"#N/A"},{"$error":"#N/A"},{"$error":"#N/A"},{"$error":"#N/A"},{"$error":"#N/A"},{"$error":"#N/A"},{"$error":"#N/A"},{"$error":"#N/A"},{"$error":"#N/A"}]
[null,{"$f":"M8","v":0},null,{"$error":"#N/A"},{"$error":"#N/A"},{"$error":"#N/A"},{"$error":"#N/A"},{"$error":"#N/A"},{"$error":"#N/A"},{"$error":"#N/A"},{"$error":"#N/A"},{"$error":"#N/A"},{"$error":"#N/A"},{"$error":"#N/A"},{"$error":"#N/A"},{"$error":"#N/A"},{"$error":"#N/A"},{"$error":"#N/A"},{"$error":"#N/A"},{"$error":"#N/A"},{"$error":"#N/A"},{"$error":"#N/A"},{"$error":"#N/A"}]
[null,{"$f":"N8","v":0},null,{"$error":"#N/A"},{"$error":"#N/A"},{"$error":"#N/A"},{"$error":"#N/A"},{"$error":"#N/A"},{"$error":"#N/A"},{"$error":"#N/A"},{"$error":"#N/A"},{"$error":"#N/A"},{"$error":"#N/A"},{"$error":"#N/A"},{"$error":"#N/A"},{"$error":"#N/A"},{"$error":"#N/A"},{"$error":"#N/A"},{"$error":"#N/A"},{"$error":"#N/A"},{"$error":"#N/A"},{"$error":"#N/A"},{"$error":"#N/A"}]
[null,{"$f":"O8","v":0},null,{"$error":"#N/A"},{"$error":"#N/A"},{"$error":"#N/A"},{"$error":"#N/A"},{"$error":"#N/A"},{"$error":"#N/A"},{"$error":"#N/A"},{"$error":"#N/A"},{"$error":"#N/A"},{"$error":"#N/A"},{"$error":"#N/A"},{"$error":"#N/A"},{"$error":"#N/A"},{"$error":"#N/A"},{"$error":"#N/A"},{"$error":"#N/A"},{"$error":"#N/A"},{"$error":"#N/A"},{"$error":"#N/A"},{"$error":"#N/A"}]
[null,{"$f":"P8","v":0},null,{"$error":"#N/A"},{"$error":"#N/A"},{"$error":"#N/A"},{"$error":"#N/A"},{"$error":"#N/A"},{"$error":"#N/A"},{"$error":"#N/A"},{"$error":"#N/A"},{"$error":"#N/A"},{"$error":"#N/A"},{"$error":"#N/A"},{"$error":"#N/A"},{"$error":"#N/A"},{"$error":"#N/A"},{"$error":"#N/A"},{"$error":"#N/A"},{"$error":"#N/A"},{"$error":"#N/A"},{"$error":"#N/A"},{"$error":"#N/A"}]
[null,{"$f":"Q8","v":0},null,{"$error":"#N/A"},{"$error":"#N/A"},{"$error":"#N/A"},{"$error":"#N/A"},{"$error":"#N/A"},{"$error":"#N/A"},{"$error":"#N/A"},{"$error":"#N/A"},{"$error":"#N/A"},{"$error":"#N/A"},{"$error":"#N/A"},{"$error":"#N/A"},{"$error":"#N/A"},{"$error":"#N/A"},{"$error":"#N/A"},{"$error":"#N/A"},{"$error":"#N/A"},{"$error":"#N/A"},{"$error":"#N/A"},{"$error":"#N/A"}]
[null,{"$f":"R8","v":0},null,{"$error":"#N/A"},{"$error":"#N/A"},{"$error":"#N/A"},{"$error":"#N/A"},{"$error":"#N/A"},{"$error":"#N/A"},{"$error":"#N/A"},{"$error":"#N/A"},{"$error":"#N/A"},{"$error":"#N/A"},{"$error":"#N/A"},{"$error":"#N/A"},{"$error":"#N/A"},{"$error":"#N/A"},{"$error":"#N/A"},{"$error":"#N/A"},{"$error":"#N/A"},{"$error":"#N/A"},{"$error":"#N/A"},{"$error":"#N/A"}]
[null,{"$f":"S8","v":0},null,{"$error":"#N/A"},{"$error":"#N/A"},{"$error":"#N/A"},{"$error":"#N/A"},{"$error":"#N/A"},{"$error":"#N/A"},{"$error":"#N/A"},{"$error":"#N/A"},{"$error":"#N/A"},{"$error":"#N/A"},{"$error":"#N/A"},{"$error":"#N/A"},{"$error":"#N/A"},{"$error":"#N/A"},{"$error":"#N/A"},{"$error":"#N/A"},{"$error":"#N/A"},{"$error":"#N/A"},{"$error":"#N/A"},{"$error":"#N/A"}]
[null,{"$f":"T8","v":0},null,{"$error":"#N/A"},{"$error":"#N/A"},{"$error":"#N/A"},{"$error":"#N/A"},{"$error":"#N/A"},{"$error":"#N/A"},{"$error":"#N/A"},{"$error":"#N/A"},{"$error":"#N/A"},{"$error":"#N/A"},{"$error":"#N/A"},{"$error":"#N/A"},{"$error":"#N/A"},{"$error":"#N/A"},{"$error":"#N/A"},{"$error":"#N/A"},{"$error":"#N/A"},{"$error":"#N/A"},{"$error":"#N/A"},{"$error":"#N/A"}]
[null,{"$f":"U8","v":0},null,{"$error":"#N/A"},{"$error":"#N/A"},{"$error":"#N/A"},{"$error":"#N/A"},{"$error":"#N/A"},{"$error":"#N/A"},{"$error":"#N/A"},{"$error":"#N/A"},{"$error":"#N/A"},{"$error":"#N/A"},{"$error":"#N/A"},{"$error":"#N/A"},{"$error":"#N/A"},{"$error":"#N/A"},{"$error":"#N/A"},{"$error":"#N/A"},{"$error":"#N/A"},{"$error":"#N/A"},{"$error":"#N/A"},{"$error":"#N/A"}]
[null,{"$f":"V8","v":0},null,{"$error":"#N/A"},{"$error":"#N/A"},{"$error":"#N/A"},{"$error":"#N/A"},{"$error":"#N/A"},{"$error":"#N/A"},{"$error":"#N/A"},{"$error":"#N/A"},{"$error":"#N/A"},{"$error":"#N/A"},{"$error":"#N/A"},{"$error":"#N/A"},{"$error":"#N/A"},{"$error":"#N/A"},{"$error":"#N/A"},{"$error":"#N/A"},{"$error":"#N/A"},{"$error":"#N/A"},{"$error":"#N/A"},{"$error":"#N/A"}]
[null,{"$f":"W8","v":0},null,{"$error":"#N/A"},{"$error":"#N/A"},{"$error":"#N/A"},{"$error":"#N/A"},{"$error":"#N/A"},{"$error":"#N/A"},{"$error":"#N/A"},{"$error":"#N/A"},{"$error":"#N/A"},{"$error":"#N/A"},{"$error":"#N/A"},{"$error":"#N/A"},{"$error":"#N/A"},{"$error":"#N/A"},{"$error":"#N/A"},{"$error":"#N/A"},{"$error":"#N/A"},{"$error":"#N/A"},{"$error":"#N/A"},{"$error":"#N/A"}]
[]
[null,null,null,null,null,null,{"$f":"nc","v":7}]
[]
["somme vp",{"$f":"SUM(OFFSET(D32,0,0,1,nc))","v":7.0000000000000009},{"$f":"SymmetricEigenvectors(nc,varcov)","v":"Eigenvalues:"},3.3129803073366326,1.5969564683405761,0.99264777860195241,0.52935675603838228,0.32441148829596006,0.15750138250120588,8.6145818885292019E-2,{"$error":"#N/A"},{"$error":"#N/A"},{"$error":"#N/A"},{"$error":"#N/A"},{"$error":"#N/A"},{"$error":"#N/A"},{"$error":"#N/A"},{"$error":"#N/A"},{"$error":"#N/A"},{"$error":"#N/A"},{"$error":"#N/A"},{"$error":"#N/A"},{"$error":"#N/A"}]
[null,null,"","","","","","","","",{"$error":"#N/A"},{"$error":"#N/A"},{"$error":"#N/A"},{"$error":"#N/A"},{"$error":"#N/A"},{"$error":"#N/A"},{"$error":"#N/A"},{"$error":"#N/A"},{"$error":"#N/A"},{"$error":"#N/A"},{"$error":"#N/A"},{"$error":"#N/A"},{"$error":"#N/A"}]
[null,{"$f":"B9","v":"heure"},"Eigenvectors:",-0.26108559518266106,0.52324533326510414,-0.39896779885839523,0.53534308043037304,-0.15765383159980834,0.20575719215440724,-0.38090728815873981,{"$error":"#N/A"},{"$error":"#N/A"},{"$error":"#N/A"},{"$error":"#N/A"},{"$error":"#N/A"},{"$error":"#N/A"},{"$error":"#N/A"},{"$error":"#N/A"},{"$error":"#N/A"},{"$error":"#N/A"},{"$error":"#N/A"},{"$error":"#N/A"},{"$error":"#N/A"}]
[null,"diamètre1","",0.33754893940929859,0.49486225981660226,0.35425084131250756,-0.35586415141824873,0.1226727560052492,-0.19584417884613781,-0.57934062262521513,{"$error":"#N/A"},{"$error":"#N/A"},{"$error":"#N/A"},{"$error":"#N/A"},{"$error":"#N/A"},{"$error":"#N/A"},{"$error":"#N/A"},{"$error":"#N/A"},{"$error":"#N/A"},{"$error":"#N/A"},{"$error":"#N/A"},{"$error":"#N/A"},{"$error":"#N/A"}]
[null,"décalage1","",0.45710145605812885,6.9703781368137499E-2,-0.23014497200417428,0.28172018625615824,0.78923004398155838,9.8407189930777766E-2,0.14594051149804207,{"$error":"#N/A"},{"$error":"#N/A"},{"$error":"#N/A"},{"$error":"#N/A"},{"$error":"#N/A"},{"$error":"#N/A"},{"$error":"#N/A"},{"$error":"#N/A"},{"$error":"#N/A"},{"$error":"#N/A"},{"$error":"#N/A"},{"$error":"#N/A"},{"$error":"#N/A"}]
[null,"aspérités1","",-0.27497541052638347,0.18811296571048644,0.74387122535114747,0.49317972139156424,0.15700001409218434,-0.1255551244096906,0.22807521686867871,{"$error":"#N/A"},{"$error":"#N/A"},{"$error":"#N/A"},{"$error":"#N/A"},{"$error":"#N/A"},{"$error":"#N/A"},{"$error":"#N/A"},{"$error":"#N/A"},{"$error":"#N/A"},{"$error":"#N/A"},{"$error":"#N/A"},{"$error":"#N/A"},{"$error":"#N/A"}]
[null,"diamètre2","",0.48863233023384783,7.6561548995790527E-2,0.2648744286161101,7.7036726400342023E-2,-0.35729193236720513,0.72888005311618564,0.14268846537498481,{"$error":"#N/A"},{"$error":"#N/A"},{"$error":"#N/A"},{"$error":"#N/A"},{"$error":"#N/A"},{"$error":"#N/A"},{"$error":"#N/A"},{"$error":"#N/A"},{"$error":"#N/A"},{"$error":"#N/A"},{"$error":"#N/A"},{"$error":"#N/A"},{"$error":"#N/A"}]
[null,"décalage2","",0.46751387156167151,0.25595341074018479,-0.16043319967554773,0.2198195260207971,-0.41404731337426381,-0.57989598157146727,0.36625765342796607,{"$error":"#N/A"},{"$error":"#N/A"},{"$error":"#N/A"},{"$error":"#N/A"},{"$error":"#N/A"},{"$error":"#N/A"},{"$error":"#N/A"},{"$error":"#N/A"},{"$error":"#N/A"},{"$error":"#N/A"},{"$error":"#N/A"},{"$error":"#N/A"},{"$error":"#N/A"}]
[null,"aspérités2","",-0.27570098606065213,0.60803514764026134,-0.11455415473217535,-0.45817104862718466,0.1160641844875506,0.16222049784112499,0.53986338689723112,{"$error":"#N/A"},{"$error":"#N/A"},{"$error":"#N/A"},{"$error":"#N/A"},{"$error":"#N/A"},{"$error":"#N/A"},{"$error":"#N/A"},{"$error":"#N/A"},{"$error":"#N/A"},{"$error":"#N/A"},{"$error":"#N/A"},{"$error":"#N/A"},{"$error":"#N/A"}]
[null,0,{"$error":"#N/A"},{"$error":"#N/A"},{"$error":"#N/A"},{"$error":"#N/A"},{"$error":"#N/A"},{"$error":"#N/A"},{"$error":"#N/A"},{"$error":"#N/A"},{"$error":"#N/A"},{"$error":"#N/A"},{"$error":"#N/A"},{"$error":"#N/A"},{"$error":"#N/A"},{"$error":"#N/A"},{"$error":"#N/A"},{"$error":"#N/A"},{"$error":"#N/A"},{"$error":"#N/A"},{"$error":"#N/A"},{"$error":"#N/A"},{"$error":"#N/A"}]
[null,0,{"$error":"#N/A"},{"$error":"#N/A"},{"$error":"#N/A"},{"$error":"#N/A"},{"$error":"#N/A"},{"$error":"#N/A"},{"$error":"#N/A"},{"$error":"#N/A"},{"$error":"#N/A"},{"$error":"#N/A"},{"$error":"#N/A"},{"$error":"#N/A"},{"$error":"#N/A"},{"$error":"#N/A"},{"$error":"#N/A"},{"$error":"#N/A"},{"$error":"#N/A"},{"$error":"#N/A"},{"$error":"#N/A"},{"$error":"#N/A"},{"$error":"#N/A"}]
[null,0,{"$error":"#N/A"},{"$error":"#N/A"},{"$error":"#N/A"},{"$error":"#N/A"},{"$error":"#N/A"},{"$error":"#N/A"},{"$error":"#N/A"},{"$error":"#N/A"},{"$error":"#N/A"},{"$error":"#N/A"},{"$error":"#N/A"},{"$error":"#N/A"},{"$error":"#N/A"},{"$error":"#N/A"},{"$error":"#N/A"},{"$error":"#N/A"},{"$error":"#N/A"},{"$error":"#N/A"},{"$error":"#N/A"},{"$error":"#N/A"},{"$error":"#N/A"}]
[null,0,{"$error":"#N/A"},{"$error":"#N/A"},{"$error":"#N/A"},{"$error":"#N/A"},{"$error":"#N/A"},{"$error":"#N/A"},{"$error":"#N/A"},{"$error":"#N/A"},{"$error":"#N/A"},{"$error":"#N/A"},{"$error":"#N/A"},{"$error":"#N/A"},{"$error":"#N/A"},{"$error":"#N/A"},{"$error":"#N/A"},{"$error":"#N/A"},{"$error":"#N/A"},{"$error":"#N/A"},{"$error":"#N/A"},{"$error":"#N/A"},{"$error":"#N/A"}]
[null,0,{"$error":"#N/A"},{"$error":"#N/A"},{"$error":"#N/A"},{"$error":"#N/A"},{"$error":"#N/A"},{"$error":"#N/A"},{"$error":"#N/A"},{"$error":"#N/A"},{"$error":"#N/A"},{"$error":"#N/A"},{"$error":"#N/A"},{"$error":"#N/A"},{"$error":"#N/A"},{"$error":"#N/A"},{"$error":"#N/A"},{"$error":"#N/A"},{"$error":"#N/A"},{"$error":"#N/A"},{"$error":"#N/A"},{"$error":"#N/A"},{"$error":"#N/A"}]
[null,0,{"$error":"#N/A"},{"$error":"#N/A"},{"$error":"#N/A"},{"$error":"#N/A"},{"$error":"#N/A"},{"$error":"#N/A"},{"$error":"#N/A"},{"$error":"#N/A"},{"$error":"#N/A"},{"$error":"#N/A"},{"$error":"#N/A"},{"$error":"#N/A"},{"$error":"#N/A"},{"$error":"#N/A"},{"$error":"#N/A"},{"$error":"#N/A"},{"$error":"#N/A"},{"$error":"#N/A"},{"$error":"#N/A"},{"$error":"#N/A"},{"$error":"#N/A"}]
[null,0,{"$error":"#N/A"},{"$error":"#N/A"},{"$error":"#N/A"},{"$error":"#N/A"},{"$error":"#N/A"},{"$error":"#N/A"},{"$error":"#N/A"},{"$error":"#N/A"},{"$error":"#N/A"},{"$error":"#N/A"},{"$error":"#N/A"},{"$error":"#N/A"},{"$error":"#N/A"},{"$error":"#N/A"},{"$error":"#N/A"},{"$error":"#N/A"},{"$error":"#N/A"},{"$error":"#N/A"},{"$error":"#N/A"},{"$error":"#N/A"},{"$error":"#N/A"}]
[null,0,{"$error":"#N/A"},{"$error":"#N/A"},{"$error":"#N/A"},{"$error":"#N/A"},{"$error":"#N/A"},{"$error":"#N/A"},{"$error":"#N/A"},{"$error":"#N/A"},{"$error":"#N/A"},{"$error":"#N/A"},{"$error":"#N/A"},{"$error":"#N/A"},{"$error":"#N/A"},{"$error":"#N/A"},{"$error":"#N/A"},{"$error":"#N/A"},{"$error":"#N/A"},{"$error":"#N/A"},{"$error":"#N/A"},{"$error":"#N/A"},{"$error":"#N/A"}]
[null,0,{"$error":"#N/A"},{"$error":"#N/A"},{"$error":"#N/A"},{"$error":"#N/A"},{"$error":"#N/A"},{"$error":"#N/A"},{"$error":"#N/A"},{"$error":"#N/A"},{"$error":"#N/A"},{"$error":"#N/A"},{"$error":"#N/A"},{"$error":"#N/A"},{"$error":"#N/A"},{"$error":"#N/A"},{"$error":"#N/A"},{"$error":"#N/A"},{"$error":"#N/A"},{"$error":"#N/A"},{"$error":"#N/A"},{"$error":"#N/A"},{"$error":"#N/A"}]
[null,0,{"$error":"#N/A"},{"$error":"#N/A"},{"$error":"#N/A"},{"$error":"#N/A"},{"$error":"#N/A"},{"$error":"#N/A"},{"$error":"#N/A"},{"$error":"#N/A"},{"$error":"#N/A"},{"$error":"#N/A"},{"$error":"#N/A"},{"$error":"#N/A"},{"$error":"#N/A"},{"$error":"#N/A"},{"$error":"#N/A"},{"$error":"#N/A"},{"$error":"#N/A"},{"$error":"#N/A"},{"$error":"#N/A"},{"$error":"#N/A"},{"$error":"#N/A"}]
[null,0,{"$error":"#N/A"},{"$error":"#N/A"},{"$error":"#N/A"},{"$error":"#N/A"},{"$error":"#N/A"},{"$error":"#N/A"},{"$error":"#N/A"},{"$error":"#N/A"},{"$error":"#N/A"},{"$error":"#N/A"},{"$error":"#N/A"},{"$error":"#N/A"},{"$error":"#N/A"},{"$error":"#N/A"},{"$error":"#N/A"},{"$error":"#N/A"},{"$error":"#N/A"},{"$error":"#N/A"},{"$error":"#N/A"},{"$error":"#N/A"},{"$error":"#N/A"}]
[null,0,{"$error":"#N/A"},{"$error":"#N/A"},{"$error":"#N/A"},{"$error":"#N/A"},{"$error":"#N/A"},{"$error":"#N/A"},{"$error":"#N/A"},{"$error":"#N/A"},{"$error":"#N/A"},{"$error":"#N/A"},{"$error":"#N/A"},{"$error":"#N/A"},{"$error":"#N/A"},{"$error":"#N/A"},{"$error":"#N/A"},{"$error":"#N/A"},{"$error":"#N/A"},{"$error":"#N/A"},{"$error":"#N/A"},{"$error":"#N/A"},{"$error":"#N/A"}]
[null,0,{"$error":"#N/A"},{"$error":"#N/A"},{"$error":"#N/A"},{"$error":"#N/A"},{"$error":"#N/A"},{"$error":"#N/A"},{"$error":"#N/A"},{"$error":"#N/A"},{"$error":"#N/A"},{"$error":"#N/A"},{"$error":"#N/A"},{"$error":"#N/A"},{"$error":"#N/A"},{"$error":"#N/A"},{"$error":"#N/A"},{"$error":"#N/A"},{"$error":"#N/A"},{"$error":"#N/A"},{"$error":"#N/A"},{"$error":"#N/A"},{"$error":"#N/A"}]
[]
[]
[null,null,null,"axe 1","axe 2","axe 3","axe 4","axe 5","axe 6","axe 7","axe 8","axe 9","axe 10","axe 11","axe 12","axe 13","axe 14","axe 15","axe 16","axe 17","axe 18","axe 19","axe 20"]
[null,null,"information axe",{"$f":"D32/$B$32","v":0.47328290104809029},0.22813663833436798,0.14180682551456461,7.5622393719768893E-2,4.6344498327994289E-2,2.2500197500172264E-2,1.2306545555041716E-2,{"$error":"#N/A"},{"$error":"#N/A"},{"$error":"#N/A"},{"$error":"#N/A"},{"$error":"#N/A"},{"$error":"#N/A"},{"$error":"#N/A"},{"$error":"#N/A"},{"$error":"#N/A"},{"$error":"#N/A"},{"$error":"#N/A"},{"$error":"#N/A"},{"$error":"#N/A"}]
[null,null,"information cumulée",{"$f":"D57","v":0.47328290104809029},{"$f":"E57+D58","v":0.70141953938245827},{"$f":"F57+E58","v":0.84322636489702285},0.91884875861679172,0.96519325694478597,0.98769345444495826,1,{"$error":"#N/A"},{"$error":"#N/A"},{"$error":"#N/A"},{"$error":"#N/A"},{"$error":"#N/A"},{"$error":"#N/A"},{"$error":"#N/A"},{"$error":"#N/A"},{"$error":"#N/A"},{"$error":"#N/A"},{"$error":"#N/A"},{"$error":"#N/A"},{"$error":"#N/A"}]

{"sheet":"calculs","index":8,"n_rows":29,"n_cols":9,"rows_kept":29,"cut":false,"hidden":true,"merged":[]}
["données pour faire le cercle des correllations variable",null,null,null,null,"vecteurs à afficher"]
[null,null,null,null,3,1,2]
[{"$f":"2*PI()/24","v":0.26179938779914941},"x","y",null,"valeur propre",{"$f":"INDEX(var_vp!$D$32:$W$32,calculs!F2)^0.5","v":1.8201594181105765},{"$f":"INDEX(var_vp!$D$32:$W$32,calculs!G2)^0.5","v":1.2637074298826354},null,"axe1"]
["angle","cosinus","sinus",null,null,{"$f":"ROUND(INDEX(var_vp!$D$57:$W$57,calculs!F2)*100,0)","v":47},{"$f":"ROUND(INDEX(var_vp!$D$57:$W$57,calculs!G2)*100,0)","v":23},null,"axe2"]
[0,{"$f":"COS(A5)","v":1},{"$f":"SIN(A5)","v":0},null,null,null,null,"vecteur*valeur","axe3"]
[{"$f":"$A$3+A5","v":0.26179938779914941},{"$f":"COS(A6)","v":0.96592582628906831},{"$f":"SIN(A6)","v":0.25881904510252074},null,{"$f":"\"information totale \"&F4+G4&\"%\"","v":"information totale 70%"},{"$f":"\"axe\"&F2&\" \"&F4&\"%\"","v":"axe1 47%"},{"$f":"\"axe\"&G2&\" \"&G4&\"%\"","v":"axe2 23%"},null,"axe4"]
[{"$f":"$A$3+A6","v":0.52359877559829882},0.86602540378443871,0.49999999999999994,null,{"$f":"var_vp!B9","v":"heure"},{"$f":"INDEX(var_vp!D34:W34,calculs!$F$2)*calculs!$F$3","v":-0.47521740500472587},{"$f":"INDEX(var_vp!D34:W34,calculs!$G$2)*calculs!$G$3","v":0.66122901529852773},{"$f":"F7^2+G7^2","v":0.66305539269208635},"axe5"]
[0.78539816339744828,0.70710678118654757,0.70710678118654746,null,{"$f":"var_vp!B10","v":"diamètre1"},{"$f":"INDEX(var_vp!D35:W35,calculs!$F$2)*calculs!$F$3","v":0.6143928811390712},{"$f":"INDEX(var_vp!D35:W35,calculs!$G$2)*calculs!$G$3","v":0.62536111449875142},{"$f":"F8^2+G8^2","v":0.76855513592148927}]
[1.0471975511965976,0.50000000000000011,0.8660254037844386,null,{"$f":"var_vp!B11","v":"décalage1"},{"$f":"INDEX(var_vp!D36:W36,calculs!$F$2)*calculs!$F$3","v":0.83199752027626106},{"$f":"INDEX(var_vp!D36:W36,calculs!$G$2)*calculs!$G$3","v":8.8085186405830171E-2},0.69997887380999735]
[1.308996938995747,0.25881904510252096,0.9659258262890682,null,{"$f":"var_vp!B12","v":"aspérités1"},{"$f":"INDEX(var_vp!D37:W37,calculs!$F$2)*calculs!$F$3","v":-0.50049908321841896},{"$f":"INDEX(var_vp!D37:W37,calculs!$G$2)*calculs!$G$3","v":0.23771975242559915},0.30701001299576602]
[1.5707963267948963,2.8330202767046231E-16,1,null,{"$f":"var_vp!B13","v":"diamètre2"},{"$f":"INDEX(var_vp!D38:W38,calculs!$F$2)*calculs!$F$3","v":0.88938873786845551},{"$f":"INDEX(var_vp!D38:W38,calculs!$G$2)*calculs!$G$3","v":9.6751398309303918E-2},0.80037316012204984]
[1.8325957145940457,-0.25881904510252041,0.96592582628906842,null,{"$f":"var_vp!B14","v":"décalage2"},{"$f":"INDEX(var_vp!D39:W39,calculs!$F$2)*calculs!$F$3","v":0.85094977642031477},{"$f":"INDEX(var_vp!D39:W39,calculs!$G$2)*calculs!$G$3","v":0.32345022685617347},0.82873557124309372]
[2.0943951023931953,-0.49999999999999978,0.86602540378443871,null,{"$f":"var_vp!B15","v":"aspérités2"},{"$f":"INDEX(var_vp!D40:W40,calculs!$F$2)*calculs!$F$3","v":-0.50181974636066873},{"$f":"INDEX(var_vp!D40:W40,calculs!$G$2)*calculs!$G$3","v":0.76837853370278342},0.84222862889272543]
[2.3561944901923448,-0.70710678118654746,0.70710678118654757,null,{"$f":"var_vp!B16","v":0},{"$f":"INDEX(var_vp!D41:W41,calculs!$F$2)*calculs!$F$3","v":{"$error":"#N/A"}},{"$f":"INDEX(var_vp!D41:W41,calculs!$G$2)*calculs!$G$3","v":{"$error":"#N/A"}},{"$error":"#N/A"}]
[2.6179938779914944,-0.86602540378443871,0.49999999999999994,null,{"$f":"var_vp!B17","v":0},{"$f":"INDEX(var_vp!D42:W42,calculs!$F$2)*calculs!$F$3","v":{"$error":"#N/A"}},{"$f":"INDEX(var_vp!D42:W42,calculs!$G$2)*calculs!$G$3","v":{"$error":"#N/A"}},{"$error":"#N/A"}]
[2.879793265790644,-0.96592582628906831,0.25881904510252057,null,{"$f":"var_vp!B18","v":0},{"$f":"INDEX(var_vp!D43:W43,calculs!$F$2)*calculs!$F$3","v":{"$error":"#N/A"}},{"$f":"INDEX(var_vp!D43:W43,calculs!$G$2)*calculs!$G$3","v":{"$error":"#N/A"}},{"$error":"#N/A"}]
[3.1415926535897936,-1,-3.2157436435920062E-16,null,{"$f":"var_vp!B19","v":0},{"$f":"INDEX(var_vp!D44:W44,calculs!$F$2)*calculs!$F$3","v":{"$error":"#N/A"}},{"$f":"INDEX(var_vp!D44:W44,calculs!$G$2)*calculs!$G$3","v":{"$error":"#N/A"}},{"$error":"#N/A"}]
[3.4033920413889431,-0.9659258262890682,-0.25881904510252118,null,{"$f":"var_vp!B20","v":0},{"$f":"INDEX(var_vp!D45:W45,calculs!$F$2)*calculs!$F$3","v":{"$error":"#N/A"}},{"$f":"INDEX(var_vp!D45:W45,calculs!$G$2)*calculs!$G$3","v":{"$error":"#N/A"}},{"$error":"#N/A"}]
[3.6651914291880927,-0.86602540378443837,-0.50000000000000056,null,{"$f":"var_vp!B21","v":0},{"$f":"INDEX(var_vp!D46:W46,calculs!$F$2)*calculs!$F$3","v":{"$error":"#N/A"}},{"$f":"INDEX(var_vp!D46:W46,calculs!$G$2)*calculs!$G$3","v":{"$error":"#N/A"}},{"$error":"#N/A"}]
[3.9269908169872423,-0.70710678118654702,-0.70710678118654802,null,{"$f":"var_vp!B22","v":0},{"$f":"INDEX(var_vp!D47:W47,calculs!$F$2)*calculs!$F$3","v":{"$error":"#N/A"}},{"$f":"INDEX(var_vp!D47:W47,calculs!$G$2)*calculs!$G$3","v":{"$error":"#N/A"}},{"$error":"#N/A"}]
[4.1887902047863914,-0.49999999999999961,-0.86602540378443882,null,{"$f":"var_vp!B23","v":0},{"$f":"INDEX(var_vp!D48:W48,calculs!$F$2)*calculs!$F$3","v":{"$error":"#N/A"}},{"$f":"INDEX(var_vp!D48:W48,calculs!$G$2)*calculs!$G$3","v":{"$error":"#N/A"}},{"$error":"#N/A"}]
[4.4505895925855405,-0.25881904510252063,-0.96592582628906831,null,{"$f":"var_vp!B24","v":0},{"$f":"INDEX(var_vp!D49:W49,calculs!$F$2)*calculs!$F$3","v":{"$error":"#N/A"}},{"$f":"INDEX(var_vp!D49:W49,calculs!$G$2)*calculs!$G$3","v":{"$error":"#N/A"}},{"$error":"#N/A"}]
[4.7123889803846897,-1.83772268236293E-16,-1,null,{"$f":"var_vp!B25","v":0},{"$f":"INDEX(var_vp!D50:W50,calculs!$F$2)*calculs!$F$3","v":{"$error":"#N/A"}},{"$f":"INDEX(var_vp!D50:W50,calculs!$G$2)*calculs!$G$3","v":{"$error":"#N/A"}},{"$f":"F23^2+G23^2","v":{"$error":"#N/A"}}]
[4.9741883681838388,0.2588190451025203,-0.96592582628906842,null,{"$f":"var_vp!B26","v":0},{"$f":"INDEX(var_vp!D51:W51,calculs!$F$2)*calculs!$F$3","v":{"$error":"#N/A"}},{"$f":"INDEX(var_vp!D51:W51,calculs!$G$2)*calculs!$G$3","v":{"$error":"#N/A"}},{"$error":"#N/A"}]
[5.2359877559829879,0.49999999999999933,-0.86602540378443904,null,{"$f":"var_vp!B27","v":0},{"$f":"INDEX(var_vp!D52:W52,calculs!$F$2)*calculs!$F$3","v":{"$error":"#N/A"}},{"$f":"INDEX(var_vp!D52:W52,calculs!$G$2)*calculs!$G$3","v":{"$error":"#N/A"}},{"$error":"#N/A"}]
[5.4977871437821371,0.7071067811865468,-0.70710678118654835,null,{"$f":"var_vp!B28","v":0},{"$f":"INDEX(var_vp!D53:W53,calculs!$F$2)*calculs!$F$3","v":{"$error":"#N/A"}},{"$f":"INDEX(var_vp!D53:W53,calculs!$G$2)*calculs!$G$3","v":{"$error":"#N/A"}},{"$error":"#N/A"}]
[5.7595865315812862,0.86602540378443793,-0.50000000000000122]
[6.0213859193804353,0.96592582628906787,-0.2588190451025224]
[6.2831853071795845,1,-2.0213865303819745E-15]

{"sheet":"Segmentation","index":9,"n_rows":27,"n_cols":9,"rows_kept":27,"cut":false,"hidden":false,"merged":[]}
[]
[null,null,null,null,"Cette segmentation se fait sur les 3 premiers axes factoriels"]
[null,null,null,null,"Elle se fait sur maximum 7 groupes"]
[null,null,null,null,"Vous pouvez visualiser le résultat sur la feuille "]
[null,null,null,null,"graph segmentation"]
[]
[null,"Barycentres","Axe1","Axe2","Axe3","nb","distances"]
[null,"B1",1.278039312153983,-0.84624842863188476,0.47254990405364389,21,{"$f":"((C8-C$16)^2+(D8-D$16)^2+(E8-E$16)^2)^0.5*F8","v":33.68405432105029}]
[null,"B2",-0.26425306539964732,1.6700546542615529,0.14959268358562328,16,{"$f":"((C9-C$16)^2+(D9-D$16)^2+(E9-E$16)^2)^0.5*F9","v":27.15898178604548}]
[null,"B3",2.9009052076790134,0.23506215184140566,-3.6813134098596447,2,9.3856430063752576]
[null,"B4",-3.1569541026883878,-1.04664241895571,-0.55048934475272748,9,30.34062465316627]
[null,"B5",null,null,null,null,0]
[null,"B6",null,null,null,null,0]
[null,"B7",null,null,null,null,0]
[]
[null,"moyenne",{"$f":"AVERAGE(OFFSET(source_cahi,0,0,,1))","v":3.7992757088526709E-14},{"$f":"AVERAGE(OFFSET(source_cahi,0,1,,1))","v":-6.9009612838992026E-14},{"$f":"AVERAGE(OFFSET(source_cahi,0,2,,1))","v":5.5415163198920446E-14},"inter",{"$f":"SUM(G8:G14)/C18","v":0.35496210333025557}]
[null,"somme deltas",{"$f":"VAR(OFFSET(source_cahi,,,,1))*nl","v":159.02305475215843},{"$f":"VAR(OFFSET(source_cahi,,1,,1))*nl","v":76.653910480347605},{"$f":"VAR(OFFSET(source_cahi,,2,,1))*nl","v":47.64709337289375},"intra",{"$f":"1-G16","v":0.64503789666974443}]
[null,"total",{"$f":"SUM(C17:E17)","v":283.32405860539978}]
[null,null,null,null,null,null,null,"nbclasses",4]
[null,"nb classes","inter","intra","variation"]
[null,2,0.21417612611164269,{"$f":"1-C21","v":0.78582387388835728},{"$f":"C21","v":0.21417612611164269},{"$f":"IF(E21=0,0,B21)","v":2}]
[null,3,0.33364846496699768,{"$f":"1-C22","v":0.66635153503300226},{"$f":"ROUND(C22-C21,2)","v":0.12},{"$f":"IF(E22=0,0,IF(F21=0,0,B22))","v":3}]
[null,4,0.35496210333025557,0.64503789666974443,{"$f":"ROUND(C23-C22,2)","v":0.02},{"$f":"IF(E23=0,0,IF(F22=0,0,B23))","v":4}]
[null,5,0.3553569015781618,0.6446430984218382,0,0]
[null,6,0.35504939910369676,0.64495060089630329,{"$f":"ROUND(C25-C24,2)","v":0},0]
[null,7,0.35540214497028905,0.6445978550297109,0,0]
[null,null,null,null,null,{"$f":"MAX(F21:F26)","v":4}]

{"sheet":"Aide","index":11,"n_rows":41,"n_cols":13,"rows_kept":41,"cut":false,"hidden":false,"merged":[]}
["Code aide xlstore","","","","","","","","","","seg","",""]
["Entête","introduction","Aide classeur analyse en composantes principales","Données de départ","Matrice centrée réduite","Vecteurs propres et valeurs propres","Le cercle des variables","Graphique des individus","Graphique en 3d","Les résultats","Segmentation en plusieurs classes","Le graphique","Résultats"]
["Icone","&"]
["Texte","Cette aide sert à aider la compréhension du classeur mais il est de votre responsabilité de vérifier la cohérence des résultats ainsi que toute erreur dans les calculs ou dans les formules\r\nSi vous trouvez un problème vous pouvez m'en faire part :\r\nnicolas.sylvain1@libertysurf.fr","Ce classeur est composé de grandes formules matricielles avec peu de procédures. Il convient de faire des copies de sauvegarde du document pour éviter des pertes de données en cas de problème\r\nSi vous avez l'habitude des formules matricielles vous pouvez les reprendre pour l'adapter à vos exigences et aussi diminuer sa taille","Elles sont saisies ou collées dans la feuille données\r\nligne 3 colonnes de C à V (zone verte) : les intitulés des variables\r\ncolonne B ligne 4 à 1003 (zone bleue) : les noms des individus\r\nDans la zone c4:v1003 les valeur (zone jaune) : uniquement des chiffres, pas de ligne vide.\r\n\r\nEn a2 et a4 s'affichent le nombre de lignes et de colonnes de votre tableau. Ces variables sont notées nl et nc dans les formules\r\nCes valeurs servent à définir la variable mdonnées (matrice des données) qui va servir au calcul des données centrées réduites\r\npour calculer les données centrées réduites on utilise aussi les moyennes et écarts-type de chaque colonne ligne 1 et 2","Sur l'onglet centrée_réduite on a le résultat de chaque valeur moins sa moyenne divisée par son écart type. \r\nLes nouvelles moyennes et écarts type de chaque colonne deviennent 0 et 1\r\nLes résultats sont dans la variable mcr pour matrice centrée réduite","Le premier tableau contient des résultats de type matrice de variance covariance. La formule matricielle utilisée ici est\r\n=1/(nl-1)*PRODUITMAT(TRANSPOSE(mcr);mcr)\r\nCe tableau est stocké dans la variable varcov\r\n\r\nEn dessous se trouvent les valeurs propres et vecteurs propres on utilise pour ce calcul la formule suivante\r\n=SymmetricEigenvectors(nc;varcov)\r\nLa fonction SymmetricEigenvectors est définie dans les macros de ce classeur.\r\n\r\nLa quantité d'information de chaque axe factoriel est montré en dessous dans un tableau puis dans un graphique. La courbe bleue reprend elle la quantité d'information cumulée sur l'axe de droite.","Avec les menus déroulants on choisit les 2 axes factoriels à afficher.\r\nComme excel ne met pas automatiquement les étiquettes sur les graphiques xy il y a un bouton pour lancer une procédure qui le fait.\r\nLe format de l'étiquette est fonction du format dans la zone où sont les données servant à faire ce graphe : feuille calculs à partir de E6\r\nCe graphique doit vous permettre d'interpréter un axe factoriel en trouvant ce qu'il représente.\r\nLes variables situées au centre ne sont pas expliquées par l'axe par contre au plus une variables est sur l'axe et éloignée du centre au plus elle explique cet axe.","Comme pour le cercle des variables on choisit 2 axes factoriels parmi les 5 premiers et on lance la procédure pour les étiquettes.\r\nIci une variante : la taille des caractères est ramenée à 6 quand l'individu est peu représenté sur le plan choisi\r\nles données sont sur la feuille individus.\r\nCette première visualisation peut vous donner une information sur le possible regroupements de certains individus.","Les axes utilisés sont sont les 3 premiers axes factoriels\r\nLla procédure pour les étiquettes est la même que pour le graphe 2d (les formats seront ceux de la feuille individus)\r\nLe compteur en haut à gauche sert pour changer l'angle entre l'axe 1 et l'axe 2\r\nLes données en haut à droite servent à visualiser un individu quand sa position peut être ambiguë.","Sur la feuille données apparaissent les valeurs des projections de chaque individu sur les 5 premiers axes factoriels ainsi que les cos2 associés. Ces données peuvent être ajoutées comme nouvelles variables à votre tableau et ainsi remplacer toutes les autres pour une segmentation.\r\nLa taille du classeur peut le rendre son comportement instable et inattendu. Je conseille donc de récupérer les résultats des projections dans un autre classeur par collage spécial valeurs et de fermer ce classeur pour libérer de la mémoire.\r\nPour copier un graphique et le rendre indépendant de ses données sources, vous cliquez sur la série de données à figer et dans la barre de formules vous appuyez sur F9","Ce classeur fait aussi une segmentation en maximum 7 classes à partir des 3 premiers axes factoriels (cela permet de voir le résultat sur un graphe).\r\nLe bouton \"Faire la segmentation\" lance toutes les segmentations de 2 à 7 classes et fait une récapitulation sous forme de tableau et graphique.\r\nL'objectif est de trouver le nombre minimum de classes pour lequel les classes sont homogènes.","Le résultat de la segmentation est affiché dans un graphique 3d comme celui après l'acp. \r\nChaque classe est représentée par une série de couleur différente.\r\nLe centre d'inertie d'une classe est représenté par un point de même forme et couleur que les points de la classe mais sans être rempli.\r\nIl y a un ascenseur qui permet de visualiser le nuage de points en fonction du nombre de classes choisies.","Les classes attribuées sont indiquées dans la feuille données à droite du tableau colonne AH."]
["Labels1","Segmentation"]
["Labels2","description un peu plus importante de l'acp sur mon site"]
["Labels3"]
["Labels4"]
["Labels5"]
["Type 1","lien aide"]
["Type 2","lien aide"]
["Type 3"]
["Type 4"]
["Type 5"]
["Code Aide liée 1","seg"]
["Code Aide liée 2","http://sn1.chez-alice.fr/calculs/acp.html"]
["Code Aide liée 3"]
["Code Aide liée 4"]
["Code Aide liée 5"]
["Affichage modal","Non","Non","Non","Non","Non","Non","Non","Non","Non","Non","Non","Non"]
["Autorisation croix rouge pour fermer","Oui","Oui","Oui","Oui","Oui","Oui","Oui","Oui","Oui","Oui","Oui","Oui"]
["Bouton 1",null,"Premier","Premier","Premier","Premier","Premier","Premier","Premier","Premier","Premier","Premier","Premier"]
["Bouton 2",null,"précédent","précédent","précédent","précédent","précédent","précédent","précédent","précédent","précédent","précédent","précédent"]
["Bouton 3","Fermer","Fermer","Fermer","Fermer","Fermer","Fermer","Fermer","Fermer","Fermer","Fermer","Fermer","Fermer"]
["Bouton 4","Suivant","Suivant","Suivant","Suivant","Suivant","Suivant","Suivant","Suivant",null,"Suivant","Suivant"]
["Bouton 5","Dernier","Dernier","Dernier","Dernier","Dernier","Dernier","Dernier","Dernier",null,"Dernier","Dernier"]
["Zone saisie texte","Non","Non","Non","Non","Non","Non","Non","Non","Non","Non","Non","Non"]
["Afficher l'image","Non","Non","Oui","Oui","Oui","Oui","Oui","Oui","Oui","Oui","Oui","Oui"]
["Image ou adresse image",null,null,"données!$A$1:$H$13","centrée_réduite!$A$1:$J$12","var_vp!$B$59:$w$75","Images!$B$2:$H$27","Images!$B$31:$H$57","Images!$B$59:$I$80","données!$V$1:$AG$5","Segmentation!$B$20:$G$44","Images!$B$87:$G$110","données!$AE$1:$AH$6"]
["Mots clés","","","","","","","","","","","",""]
["Bouton","Fermer"]
["Choix 1",false]
["Choix 2",false]
["Choix 3",false]
["Choix 4",false]
["Choix 5",false]
["Colonne",8]
["Répertoire aide"]
[]
["Modèle fichier html"]
["Texte entré"]

{"sheet":"calculs3d","index":12,"n_rows":1001,"n_cols":37,"rows_kept":1001,"cut":false,"hidden":true,"merged":[]}
[{"$f":"données!W3","v":"axe1"},{"$f":"données!X3","v":"axe2"},{"$f":"données!Y3","v":"axe3"},{"$f":"données!AH3","v":"Classe"},"x","y",null,"alpha",{"$f":"PI()/40*J1","v":1.0995574287564276},14,null,null,null,null,"axes","violet",null,null,null,null,null,null,null,1,1,2,2,3,3,4,4,5,5,6,6,7,7]
[{"$f":"données!W4","v":1.4286959208351848},{"$f":"données!X4","v":-1.0451871519398601},{"$f":"données!Y4","v":0.49150924115351247},{"$f":"données!AH4","v":1},{"$f":"A2+B2*$I$2","v":0.95419088340465408},{"$f":"C2+B2*$I$3","v":-0.4397593302227617},null,"cos",{"$f":"COS(I1)","v":0.4539904997395468},null,null,null,null,null,null,"x","y","z",null,null,null,null,null,{"$f":"IF($D2=X$1,$E2,#N/A)","v":0.95419088340465408},{"$f":"IF($D2=Y$1,$F2,#N/A)","v":-0.4397593302227617},{"$f":"IF($D2=Z$1,$E2,#N/A)","v":{"$error":"#N/A"}},{"$f":"IF($D2=AA$1,$F2,#N/A)","v":{"$error":"#N/A"}},{"$f":"IF($D2=AB$1,$E2,#N/A)","v":{"$error":"#N/A"}},{"$f":"IF($D2=AC$1,$F2,#N/A)","v":{"$error":"#N/A"}},{"$f":"IF($D2=AD$1,$E2,#N/A)","v":{"$error":"#N/A"}},{"$f":"IF($D2=AE$1,$F2,#N/A)","v":{"$error":"#N/A"}},{"$f":"IF($D2=AF$1,$E2,#N/A)","v":{"$error":"#N/A"}},{"$f":"IF($D2=AG$1,$F2,#N/A)","v":{"$error":"#N/A"}},{"$f":"IF($D2=AH$1,$E2,#N/A)","v":{"$error":"#N/A"}},{"$f":"IF($D2=AI$1,$F2,#N/A)","v":{"$error":"#N/A"}},{"$f":"IF($D2=AJ$1,$E2,#N/A)","v":{"$error":"#N/A"}},{"$f":"IF($D2=AK$1,$F2,#N/A)","v":{"$error":"#N/A"}}]
[{"$f":"données!W5","v":1.4107897781723926},{"$f":"données!X5","v":-0.85589446341684794},{"$f":"données!Y5","v":0.5230806413059087},{"$f":"données!AH5","v":1},1.0222218230014666,-0.23952690961520506,null,"sin",{"$f":"SIN(I1)","v":0.89100652418836779},null,null,null,null,null,"max",{"$f":"MAX(OFFSET(A2,0,0,nl,1))","v":3.0003892735768978},{"$f":"MAX(OFFSET(B2,0,0,nl,1))","v":2.2621012196033603},{"$f":"MAX(OFFSET(C2,0,0,nl,1))","v":0.78499040651753327},null,null,null,null,null,1.0222218230014666,-0.23952690961520506,{"$error":"#N/A"},{"$error":"#N/A"},{"$error":"#N/A"},{"$error":"#N/A"},{"$error":"#N/A"},{"$error":"#N/A"},{"$error":"#N/A"},{"$error":"#N/A"},{"$error":"#N/A"},{"$error":"#N/A"},{"$error":"#N/A"},{"$error":"#N/A"}]
[{"$f":"données!W6","v":1.4857934807627537},{"$f":"données!X6","v":-0.9314389823634307},{"$f":"données!Y6","v":0.52922327410100733},{"$f":"données!AH6","v":1},1.0629290316826849,-0.30069493606818343,null,"repère (vert foncé)",null,null,null,null,null,null,"min",{"$f":"MIN(OFFSET(A2,0,0,nl,1))","v":-4.3276916919830795},{"$f":"MIN(OFFSET(B2,0,0,nl,1))","v":-2.0487767897480302},{"$f":"MIN(OFFSET(C2,0,0,nl,1))","v":-3.7226743515586924},null,null,null,null,null,1.0629290316826849,-0.30069493606818343,{"$error":"#N/A"},{"$error":"#N/A"},{"$error":"#N/A"},{"$error":"#N/A"},{"$error":"#N/A"},{"$error":"#N/A"},{"$error":"#N/A"},{"$error":"#N/A"},{"$error":"#N/A"},{"$error":"#N/A"},{"$error":"#N/A"},{"$error":"#N/A"}]
[{"$f":"données!W7","v":1.2620884841879407},{"$f":"données!X7","v":-0.96396943340801511},{"$f":"données!Y7","v":0.58001362385615751},{"$f":"données!AH7","v":1},0.82445551938138817,-0.2788894304285483,null,"longueur des axes",null,null,null,null,null,null,"origine",0,0,0,null,null,null,null,null,0.82445551938138817,-0.2788894304285483,{"$error":"#N/A"},{"$error":"#N/A"},{"$error":"#N/A"},{"$error":"#N/A"},{"$error":"#N/A"},{"$error":"#N/A"},{"$error":"#N/A"},{"$error":"#N/A"},{"$error":"#N/A"},{"$error":"#N/A"},{"$error":"#N/A"},{"$error":"#N/A"}]
[{"$f":"données!W8","v":1.4008174302000009},{"$f":"données!X8","v":-0.94161178114601696},{"$f":"données!Y8","v":0.4330359622416291},{"$f":"données!AH8","v":1},0.97333462711687591,-0.40594627801210148,null,"x","y","z",null,null,null,null,"x","y","z",null,"x","y",null,null,null,0.97333462711687591,-0.40594627801210148,{"$error":"#N/A"},{"$error":"#N/A"},{"$error":"#N/A"},{"$error":"#N/A"},{"$error":"#N/A"},{"$error":"#N/A"},{"$error":"#N/A"},{"$error":"#N/A"},{"$error":"#N/A"},{"$error":"#N/A"},{"$error":"#N/A"},{"$error":"#N/A"}]
[{"$f":"données!W9","v":1.1964581917459098},{"$f":"données!X9","v":-1.0015819734824905},{"$f":"données!Y9","v":0.61019520395367688},{"$f":"données!AH9","v":1},0.74174949107447241,-0.28222086892868292,null,1,1,1,null,null,null,null,{"$f":"$P$5","v":0},{"$f":"$Q$5","v":0},{"$f":"$R$5","v":0},null,{"$f":"O7+P7*$I$2","v":0},{"$f":"Q7+P7*$I$3","v":0},null,null,null,0.74174949107447241,-0.28222086892868292,{"$error":"#N/A"},{"$error":"#N/A"},{"$error":"#N/A"},{"$error":"#N/A"},{"$error":"#N/A"},{"$error":"#N/A"},{"$error":"#N/A"},{"$error":"#N/A"},{"$error":"#N/A"},{"$error":"#N/A"},{"$error":"#N/A"},{"$error":"#N/A"}]
[{"$f":"données!W10","v":1.59565051366044},{"$f":"données!X10","v":-0.80420655357247695},{"$f":"données!Y10","v":0.48393335548389271},{"$f":"données!AH10","v":1},1.2305483785102527,-0.23261993054422636,null,"x","y","z",null,"x","y",null,{"$f":"P3","v":3.0003892735768978},{"$f":"$Q$5","v":0},0,null,{"$f":"O8+P8*$I$2","v":3.0003892735768978},0,null,null,null,1.2305483785102527,-0.23261993054422636,{"$error":"#N/A"},{"$error":"#N/A"},{"$error":"#N/A"},{"$error":"#N/A"},{"$error":"#N/A"},{"$error":"#N/A"},{"$error":"#N/A"},{"$error":"#N/A"},{"$error":"#N/A"},{"$error":"#N/A"},{"$error":"#N/A"},{"$error":"#N/A"}]
[{"$f":"données!W11","v":1.4789910768646215},{"$f":"données!X11","v":-0.8216545753287523},{"$f":"données!Y11","v":0.4041814457074705},{"$f":"données!AH11","v":1},1.1059677055978361,-0.32791814153967047,null,{"$f":"$P$5","v":0},{"$f":"$Q$5","v":0},{"$f":"$R$5","v":0},null,{"$f":"H9+I9*$I$2","v":0},{"$f":"J9+I9*$I$3","v":0},null,{"$f":"$P$5","v":0},{"$f":"$Q$5","v":0},0,null,0,0,null,null,null,1.1059677055978361,-0.32791814153967047,{"$error":"#N/A"},{"$error":"#N/A"},{"$error":"#N/A"},{"$error":"#N/A"},{"$error":"#N/A"},{"$error":"#N/A"},{"$error":"#N/A"},{"$error":"#N/A"},{"$error":"#N/A"},{"$error":"#N/A"},{"$error":"#N/A"},{"$error":"#N/A"}]
[{"$f":"données!W12","v":1.3010592911549979},{"$f":"données!X12","v":-0.91567384763065574},{"$f":"données!Y12","v":0.579085904882498},{"$f":"données!AH12","v":1},0.88535206347072282,-0.23678546738508166,null,{"$f":"H9+H7","v":1},{"$f":"$Q$5","v":0},{"$f":"$R$5","v":0},null,1,0,null,{"$f":"P4","v":-4.3276916919830795},{"$f":"$Q$5","v":0},0,null,{"$f":"O10+P10*$I$2","v":-4.3276916919830795},0,null,null,null,0.88535206347072282,-0.23678546738508166,{"$error":"#N/A"},{"$error":"#N/A"},{"$error":"#N/A"},{"$error":"#N/A"},{"$error":"#N/A"},{"$error":"#N/A"},{"$error":"#N/A"},{"$error":"#N/A"},{"$error":"#N/A"},{"$error":"#N/A"},{"$error":"#N/A"},{"$error":"#N/A"}]
[{"$f":"données!W13","v":1.2322810623528304},{"$f":"données!X13","v":-0.827024133168485},{"$f":"données!Y13","v":0.39962794717000288},{"$f":"données!AH13","v":1},0.85681996283900441,-0.33725595114434676,null,{"$f":"$P$5","v":0},{"$f":"$Q$5","v":0},{"$f":"$R$5","v":0},null,0,0,null,{"$f":"$P$5","v":0},{"$f":"$Q$5","v":0},0,null,0,0,null,null,null,0.85681996283900441,-0.33725595114434676,{"$error":"#N/A"},{"$error":"#N/A"},{"$error":"#N/A"},{"$error":"#N/A"},{"$error":"#N/A"},{"$error":"#N/A"},{"$error":"#N/A"},{"$error":"#N/A"},{"$error":"#N/A"},{"$error":"#N/A"},{"$error":"#N/A"},{"$error":"#N/A"}]
[{"$f":"données!W14","v":1.2151822409788431},{"$f":"données!X14","v":-0.8942931475729381},{"$f":"données!Y14","v":0.47962210904191283},{"$f":"données!AH14","v":1},0.80918164799855263,-0.31719891998252581,null,{"$f":"$P$5","v":0},{"$f":"$Q$5","v":0},{"$f":"$R$5+J7","v":1},null,0,1,null,0,{"$f":"Q3","v":2.2621012196033603},0,null,{"$f":"O12+P12*$I$2","v":1.0269724631491679},{"$f":"Q12+P12*$I$3","v":2.0155469450410579},null,null,null,0.80918164799855263,-0.31719891998252581,{"$error":"#N/A"},{"$error":"#N/A"},{"$error":"#N/A"},{"$error":"#N/A"},{"$error":"#N/A"},{"$error":"#N/A"},{"$error":"#N/A"},{"$error":"#N/A"},{"$error":"#N/A"},{"$error":"#N/A"},{"$error":"#N/A"},{"$error":"#N/A"}]
[{"$f":"données!W15","v":1.2209420653857821},{"$f":"données!X15","v":-0.89592497165192764},{"$f":"données!Y15","v":0.45455506195846523},{"$f":"données!AH15","v":1},0.81420063977638413,-0.34371993296668074,null,{"$f":"$P$5","v":0},{"$f":"$Q$5","v":0},{"$f":"$R$5","v":0},null,0,0,null,0,{"$f":"$Q$5","v":0},0,null,0,0,null,null,null,0.81420063977638413,-0.34371993296668074,{"$error":"#N/A"},{"$error":"#N/A"},{"$error":"#N/A"},{"$error":"#N/A"},{"$error":"#N/A"},{"$error":"#N/A"},{"$error":"#N/A"},{"$error":"#N/A"},{"$error":"#N/A"},{"$error":"#N/A"},{"$error":"#N/A"},{"$error":"#N/A"}]
[{"$f":"données!W16","v":1.1671391237508075},{"$f":"données!X16","v":-0.96504795595870219},{"$f":"données!Y16","v":0.57827484546726615},{"$f":"données!AH16","v":1},0.72901651995248817,-0.28158917944658612,null,{"$f":"0+($P$5)","v":0},{"$f":"I7+($Q$5)","v":1},{"$f":"0+($R$5)","v":0},null,0.4539904997395468,0.89100652418836779,null,0,{"$f":"Q4","v":-2.0487767897480302},0,null,{"$f":"O14+P14*$I$2","v":-0.93012519863249266},{"$f":"Q14+P14*$I$3","v":-1.8254734862711948},null,null,null,0.72901651995248817,-0.28158917944658612,{"$error":"#N/A"},{"$error":"#N/A"},{"$error":"#N/A"},{"$error":"#N/A"},{"$error":"#N/A"},{"$error":"#N/A"},{"$error":"#N/A"},{"$error":"#N/A"},{"$error":"#N/A"},{"$error":"#N/A"},{"$error":"#N/A"},{"$error":"#N/A"}]
[{"$f":"données!W17","v":1.1445139913998865},{"$f":"données!X17","v":-0.84401380449289554},{"$f":"données!Y17","v":0.58742399189775829},{"$f":"données!AH17","v":1},0.76133974251108072,-0.16459781441045718,null,18,"projection (cercle bleu clair)",null,null,null,null,null,0,{"$f":"$Q$5","v":0},0,null,0,0,null,null,null,0.76133974251108072,-0.16459781441045718,{"$error":"#N/A"},{"$error":"#N/A"},{"$error":"#N/A"},{"$error":"#N/A"},{"$error":"#N/A"},{"$error":"#N/A"},{"$error":"#N/A"},{"$error":"#N/A"},{"$error":"#N/A"},{"$error":"#N/A"},{"$error":"#N/A"},{"$error":"#N/A"}]
[{"$f":"données!W18","v":1.2337285725019147},{"$f":"données!X18","v":-0.69225921275403135},{"$f":"données!Y18","v":0.34018768536628474},{"$f":"données!AH18","v":1},0.91944946655440674,-0.27661978962706057,null,"x","y","z",null,"x","y",null,0,{"$f":"$Q$5","v":0},{"$f":"R4","v":-3.7226743515586924},null,0,{"$f":"Q16+P16*$I$3","v":-3.7226743515586924},null,null,null,0.91944946655440674,-0.27661978962706057,{"$error":"#N/A"},{"$error":"#N/A"},{"$error":"#N/A"},{"$error":"#N/A"},{"$error":"#N/A"},{"$error":"#N/A"},{"$error":"#N/A"},{"$error":"#N/A"},{"$error":"#N/A"},{"$error":"#N/A"},{"$error":"#N/A"},{"$error":"#N/A"}]
[{"$f":"données!W19","v":1.2135409408845637},{"$f":"données!X19","v":-0.81209671354793467},{"$f":"données!Y19","v":0.48081343448063019},{"$f":"données!AH19","v":1},0.84485674806409317,-0.24277003556251164,null,{"$f":"ROUND(INDEX(A:A,$H$15+1),3)","v":1.2609999999999999},{"$f":"ROUND(INDEX(B:B,$H$15+1),3)","v":-0.64800000000000002},{"$f":"ROUND(INDEX(C:C,$H$15+1),3)","v":0.442},null,{"$f":"H17+I17*$I$2","v":0.96681415616877353},{"$f":"J17+I17*$I$3","v":-0.13537222767406237},null,0,{"$f":"$Q$5","v":0},{"$f":"$R$5","v":0},null,0,0,null,null,null,0.84485674806409317,-0.24277003556251164,{"$error":"#N/A"},{"$error":"#N/A"},{"$error":"#N/A"},{"$error":"#N/A"},{"$error":"#N/A"},{"$error":"#N/A"},{"$error":"#N/A"},{"$error":"#N/A"},{"$error":"#N/A"},{"$error":"#N/A"},{"$error":"#N/A"},{"$error":"#N/A"}]
[{"$f":"données!W20","v":1.2013492107380235},{"$f":"données!X20","v":-0.74380458523351656},{"$f":"données!Y20","v":0.46987479047813063},{"$f":"données!AH20","v":1},0.86366899537929298,-0.19285994768615555,null,{"$f":"H17","v":1.2609999999999999},{"$f":"I17","v":-0.64800000000000002},0,null,{"$f":"H18+I18*$I$2","v":0.96681415616877353},{"$f":"J18+I18*$I$3","v":-0.57737222767406238},null,0,{"$f":"$Q$5","v":0},{"$f":"R3","v":0.78499040651753327},null,0,{"$f":"Q18+P18*$I$3","v":0.78499040651753327},null,null,null,0.86366899537929298,-0.19285994768615555,{"$error":"#N/A"},{"$error":"#N/A"},{"$error":"#N/A"},{"$error":"#N/A"},{"$error":"#N/A"},{"$error":"#N/A"},{"$error":"#N/A"},{"$error":"#N/A"},{"$error":"#N/A"},{"$error":"#N/A"},{"$error":"#N/A"},{"$error":"#N/A"}]
[{"$f":"données!W21","v":1.261485353489054},{"$f":"données!X21","v":-0.64825151655784619},{"$f":"données!Y21","v":0.44199530358852196},{"$f":"données!AH21","v":1},0.96718532353003828,-0.13560102697952275,null,{"$f":"$P$5","v":0},{"$f":"I17","v":-0.64800000000000002},{"$f":"$R$5","v":0},null,{"$f":"H19+I19*$I$2","v":-0.29418584383122631},{"$f":"J19+I19*$I$3","v":-0.57737222767406238},null,null,null,null,null,null,null,null,null,null,0.96718532353003828,-0.13560102697952275,{"$error":"#N/A"},{"$error":"#N/A"},{"$error":"#N/A"},{"$error":"#N/A"},{"$error":"#N/A"},{"$error":"#N/A"},{"$error":"#N/A"},{"$error":"#N/A"},{"$error":"#N/A"},{"$error":"#N/A"},{"$error":"#N/A"},{"$error":"#N/A"}]
[{"$f":"données!W22","v":1.3105553831957084},{"$f":"données!X22","v":-0.61807391899495645},{"$f":"données!Y22","v":0.26603402202733212},{"$f":"données!AH22","v":1},1.0299556958352079,-0.28467387222784685,null,{"$f":"H17","v":1.2609999999999999},{"$f":"I18","v":-0.64800000000000002},{"$f":"$R$5","v":0},null,{"$f":"H20+I20*$I$2","v":0.96681415616877353},{"$f":"J20+I20*$I$3","v":-0.57737222767406238},null,null,"zone de saisie",null,null,null,null,null,null,null,1.0299556958352079,-0.28467387222784685,{"$error":"#N/A"},{"$error":"#N/A"},{"$error":"#N/A"},{"$error":"#N/A"},{"$error":"#N/A"},{"$error":"#N/A"},{"$error":"#N/A"},{"$error":"#N/A"},{"$error":"#N/A"},{"$error":"#N/A"},{"$error":"#N/A"},{"$error":"#N/A"}]
[{"$f":"données!W23","v":0.75629246871029365},{"$f":"données!X23","v":-0.9641514773478469},{"$f":"données!Y23","v":0.52953657124675479},{"$f":"données!AH23","v":1},0.31857685768452232,-0.32952868537603008,null,{"$f":"H20","v":1.2609999999999999},0,0,null,{"$f":"H21+I21*$I$2","v":1.2609999999999999},{"$f":"J21+I21*$I$3","v":0},null,null,"calculs des coordonnées 2d",null,null,null,null,null,null,null,0.31857685768452232,-0.32952868537603008,{"$error":"#N/A"},{"$error":"#N/A"},{"$error":"#N/A"},{"$error":"#N/A"},{"$error":"#N/A"},{"$error":"#N/A"},{"$error":"#N/A"},{"$error":"#N/A"},{"$error":"#N/A"},{"$error":"#N/A"},{"$error":"#N/A"},{"$error":"#N/A"}]
[{"$f":"données!W24","v":1.3214709742616979},{"$f":"données!X24","v":-0.58505680169995311},{"$f":"données!Y24","v":0.26134356971770961},{"$f":"données!AH24","v":1},1.0558607444819152,-0.25994585761772876,null,null,null,null,null,null,null,null,null,null,null,null,null,null,null,null,null,1.0558607444819152,-0.25994585761772876,{"$error":"#N/A"},{"$error":"#N/A"},{"$error":"#N/A"},{"$error":"#N/A"},{"$error":"#N/A"},{"$error":"#N/A"},{"$error":"#N/A"},{"$error":"#N/A"},{"$error":"#N/A"},{"$error":"#N/A"},{"$error":"#N/A"},{"$error":"#N/A"}]
[{"$f":"données!W25","v":4.1566465216739124E-2},{"$f":"données!X25","v":1.3403219998878257},{"$f":"données!Y25","v":0.57549362230851364},{"$f":"données!AH25","v":2},0.65005991975772193,1.7697292687217672,null,null,null,null,null,null,null,null,"nicolas.sylvain1@libertysurf.fr",null,null,null,null,null,null,null,null,{"$f":"IF($D23=X$1,$E23,#N/A)","v":{"$error":"#N/A"}},{"$f":"IF($D23=Y$1,$F23,#N/A)","v":{"$error":"#N/A"}},{"$f":"IF($D23=Z$1,$E23,#N/A)","v":0.65005991975772193},{"$f":"IF($D23=AA$1,$F23,#N/A)","v":1.7697292687217672},{"$error":"#N/A"},{"$error":"#N/A"},{"$error":"#N/A"},{"$error":"#N/A"},{"$error":"#N/A"},{"$error":"#N/A"},{"$error":"#N/A"},{"$error":"#N/A"},{"$error":"#N/A"},{"$error":"#N/A"}]
[{"$f":"données!W26","v":0.8468244351612717},{"$f":"données!X26","v":1.5005286610826207},{"$f":"données!Y26","v":0.23828129955582539},{"$f":"données!AH26","v":2},1.5280501918796836,1.5752621263120767,null,null,null,null,null,null,null,null,"http://sn1.chez-alice.fr",null,null,null,null,null,null,null,null,{"$error":"#N/A"},{"$error":"#N/A"},1.5280501918796836,1.5752621263120767,{"$error":"#N/A"},{"$error":"#N/A"},{"$error":"#N/A"},{"$error":"#N/A"},{"$error":"#N/A"},{"$error":"#N/A"},{"$error":"#N/A"},{"$error":"#N/A"},{"$error":"#N/A"},{"$error":"#N/A"}]
[{"$f":"données!W27","v":0.46698669445391033},{"$f":"données!X27","v":1.5412515024187716},{"$f":"données!Y27","v":0.39617555640188751},{"$f":"données!AH27","v":2},1.1667002342613357,1.7694407004721371,null,null,null,null,null,null,null,null,null,null,null,null,null,null,null,null,null,{"$error":"#N/A"},{"$error":"#N/A"},1.1667002342613357,1.7694407004721371,{"$error":"#N/A"},{"$error":"#N/A"},{"$error":"#N/A"},{"$error":"#N/A"},{"$error":"#N/A"},{"$error":"#N/A"},{"$error":"#N/A"},{"$error":"#N/A"},{"$error":"#N/A"},{"$error":"#N/A"}]
[{"$f":"données!W28","v":0.61568157965982873},{"$f":"données!X28","v":1.6611122911783154},{"$f":"données!Y28","v":0.36980856019122521},{"$f":"données!AH28","v":2},1.3698107788553757,1.8498704490405919,null,null,null,null,null,null,null,null,null,null,null,null,null,null,null,null,null,{"$error":"#N/A"},{"$error":"#N/A"},1.3698107788553757,1.8498704490405919,{"$error":"#N/A"},{"$error":"#N/A"},{"$error":"#N/A"},{"$error":"#N/A"},{"$error":"#N/A"},{"$error":"#N/A"},{"$error":"#N/A"},{"$error":"#N/A"},{"$error":"#N/A"},{"$error":"#N/A"}]
[{"$f":"données!W29","v":-0.20970789491506114},{"$f":"données!X29","v":1.0833913061245006},{"$f":"données!Y29","v":0.47087264625429037},{"$f":"données!AH29","v":2},0.28214146556588121,1.4361813682601776,null,null,null,null,null,null,null,null,null,null,null,null,null,null,null,null,null,{"$error":"#N/A"},{"$error":"#N/A"},0.28214146556588121,1.4361813682601776,{"$error":"#N/A"},{"$error":"#N/A"},{"$error":"#N/A"},{"$error":"#N/A"},{"$error":"#N/A"},{"$error":"#N/A"},{"$error":"#N/A"},{"$error":"#N/A"},{"$error":"#N/A"},{"$error":"#N/A"}]
[{"$f":"données!W30","v":-1.2452950971788723E-2},{"$f":"données!X30","v":1.1965917129942771},{"$f":"données!Y30","v":0.46293806365195378},{"$f":"données!AH30","v":2},0.53078831879468358,1.5291090867195896,null,null,null,null,null,null,null,null,null,null,null,null,null,null,null,null,null,{"$error":"#N/A"},{"$error":"#N/A"},0.53078831879468358,1.5291090867195896,{"$error":"#N/A"},{"$error":"#N/A"},{"$error":"#N/A"},{"$error":"#N/A"},{"$error":"#N/A"},{"$error":"#N/A"},{"$error":"#N/A"},{"$error":"#N/A"},{"$error":"#N/A"},{"$error":"#N/A"}]
[{"$f":"données!W31","v":-2.4492476243535894},{"$f":"données!X31","v":-2.0248726885891646},{"$f":"données!Y31","v":-1.6806847798217874},{"$f":"données!AH31","v":4},-3.3685205881551439,-3.4848595560055742,null,null,null,null,null,null,null,null,null,null,null,null,null,null,null,null,null,{"$error":"#N/A"},{"$error":"#N/A"},{"$error":"#N/A"},{"$error":"#N/A"},{"$error":"#N/A"},{"$error":"#N/A"},{"$f":"IF($D29=AD$1,$E29,#N/A)","v":-3.3685205881551439},{"$f":"IF($D29=AE$1,$F29,#N/A)","v":-3.4848595560055742},{"$error":"#N/A"},{"$error":"#N/A"},{"$error":"#N/A"},{"$error":"#N/A"},{"$error":"#N/A"},{"$error":"#N/A"}]
[{"$f":"données!W32","v":-2.4758535686187977},{"$f":"données!X32","v":-2.0487767897480302},{"$f":"données!Y32","v":-1.3820480531986943},{"$f":"données!AH32","v":4},-3.4059787672512902,-3.207521539469889,null,null,null,null,null,null,null,null,null,null,null,null,null,null,null,null,null,{"$error":"#N/A"},{"$error":"#N/A"},{"$error":"#N/A"},{"$error":"#N/A"},{"$error":"#N/A"},{"$error":"#N/A"},-3.4059787672512902,-3.207521539469889,{"$error":"#N/A"},{"$error":"#N/A"},{"$error":"#N/A"},{"$error":"#N/A"},{"$error":"#N/A"},{"$error":"#N/A"}]
[{"$f":"données!W33","v":-4.0252180964896436},{"$f":"données!X33","v":-1.2590352347978657},{"$f":"données!Y33","v":0.78499040651753327},{"$f":"données!AH33","v":4},-4.5968081319252239,-0.33681820187039868,null,null,null,null,null,null,null,null,null,null,null,null,null,null,null,null,null,{"$error":"#N/A"},{"$error":"#N/A"},{"$error":"#N/A"},{"$error":"#N/A"},{"$error":"#N/A"},{"$error":"#N/A"},-4.5968081319252239,-0.33681820187039868,{"$error":"#N/A"},{"$error":"#N/A"},{"$error":"#N/A"},{"$error":"#N/A"},{"$error":"#N/A"},{"$error":"#N/A"}]
[{"$f":"données!W34","v":-3.5108453761095459},{"$f":"données!X34","v":-0.79315717826524301},{"$f":"données!Y34","v":-0.75558557574830076},{"$f":"données!AH34","v":4},-3.8709311998421922,-1.4622937962894684,null,null,null,null,null,null,null,null,null,null,null,null,null,null,null,null,null,{"$error":"#N/A"},{"$error":"#N/A"},{"$error":"#N/A"},{"$error":"#N/A"},{"$error":"#N/A"},{"$error":"#N/A"},-3.8709311998421922,-1.4622937962894684,{"$error":"#N/A"},{"$error":"#N/A"},{"$error":"#N/A"},{"$error":"#N/A"},{"$error":"#N/A"},{"$error":"#N/A"}]
[{"$f":"données!W35","v":-2.2565023558246349},{"$f":"données!X35","v":-1.118291685372351},{"$f":"données!Y35","v":-2.2262404892984242},{"$f":"données!AH35","v":4},-2.7641961569214084,-3.2226456769107945,null,null,null,null,null,null,null,null,null,null,null,null,null,null,null,null,null,{"$error":"#N/A"},{"$error":"#N/A"},{"$error":"#N/A"},{"$error":"#N/A"},{"$error":"#N/A"},{"$error":"#N/A"},-2.7641961569214084,-3.2226456769107945,{"$error":"#N/A"},{"$error":"#N/A"},{"$error":"#N/A"},{"$error":"#N/A"},{"$error":"#N/A"},{"$error":"#N/A"}]
[{"$f":"données!W36","v":-2.0039834991267425},{"$f":"données!X36","v":-9.1591973860305043E-2},{"$f":"données!Y36","v":-1.2661208195270188},{"$f":"données!AH36","v":4},-2.0455653851117139,-1.3477298657998411,null,null,null,null,null,null,null,null,null,null,null,null,null,null,null,null,null,{"$error":"#N/A"},{"$error":"#N/A"},{"$error":"#N/A"},{"$error":"#N/A"},{"$error":"#N/A"},{"$error":"#N/A"},-2.0455653851117139,-1.3477298657998411,{"$error":"#N/A"},{"$error":"#N/A"},{"$error":"#N/A"},{"$error":"#N/A"},{"$error":"#N/A"},{"$error":"#N/A"}]
[{"$f":"données!W37","v":-4.0312219738564989},{"$f":"données!X37","v":-0.86777156801214395},{"$f":"données!Y37","v":0.54504840378068331},{"$f":"données!AH37","v":4},-4.4251820216781024,-0.22814172482330686,null,null,null,null,null,null,null,null,null,null,null,null,null,null,null,null,null,{"$error":"#N/A"},{"$error":"#N/A"},{"$error":"#N/A"},{"$error":"#N/A"},{"$error":"#N/A"},{"$error":"#N/A"},-4.4251820216781024,-0.22814172482330686,{"$error":"#N/A"},{"$error":"#N/A"},{"$error":"#N/A"},{"$error":"#N/A"},{"$error":"#N/A"},{"$error":"#N/A"}]
[{"$f":"données!W38","v":-3.3320227378329559},{"$f":"données!X38","v":-0.53760525349939092},{"$f":"données!Y38","v":0.31751259538823029},{"$f":"données!AH38","v":4},-3.5760904155317501,-0.16149719291766834,null,null,null,null,null,null,null,null,null,null,null,null,null,null,null,null,null,{"$error":"#N/A"},{"$error":"#N/A"},{"$error":"#N/A"},{"$error":"#N/A"},{"$error":"#N/A"},{"$error":"#N/A"},-3.5760904155317501,-0.16149719291766834,{"$error":"#N/A"},{"$error":"#N/A"},{"$error":"#N/A"},{"$error":"#N/A"},{"$error":"#N/A"},{"$error":"#N/A"}]
[{"$f":"données!W39","v":-4.3276916919830795},{"$f":"données!X39","v":-0.67867939845689496},{"$f":"données!Y39","v":0.70872420913323186},{"$f":"données!AH39","v":4},-4.63580569125146,0.1040164372759016,null,null,null,null,null,null,null,null,null,null,null,null,null,null,null,null,null,{"$error":"#N/A"},{"$error":"#N/A"},{"$error":"#N/A"},{"$error":"#N/A"},{"$error":"#N/A"},{"$error":"#N/A"},-4.63580569125146,0.1040164372759016,{"$error":"#N/A"},{"$error":"#N/A"},{"$error":"#N/A"},{"$error":"#N/A"},{"$error":"#N/A"},{"$error":"#N/A"}]
[{"$f":"données!W40","v":3.0003892735768978},{"$f":"données!X40","v":0.34753238340455711},{"$f":"données!Y40","v":-3.7226743515586924},{"$f":"données!AH40","v":3},3.1581656739944086,-3.413020730578499,null,null,null,null,null,null,null,null,null,null,null,null,null,null,null,null,null,{"$error":"#N/A"},{"$error":"#N/A"},{"$error":"#N/A"},{"$error":"#N/A"},{"$f":"IF($D38=AB$1,$E38,#N/A)","v":3.1581656739944086},{"$f":"IF($D38=AC$1,$F38,#N/A)","v":-3.413020730578499},{"$error":"#N/A"},{"$error":"#N/A"},{"$error":"#N/A"},{"$error":"#N/A"},{"$error":"#N/A"},{"$error":"#N/A"},{"$error":"#N/A"},{"$error":"#N/A"}]
[{"$f":"données!W41","v":2.8014211417811286},{"$f":"données!X41","v":0.12259192027825422},{"$f":"données!Y41","v":-3.639952468160597},{"$f":"données!AH41","v":3},2.8570767089322837,-3.5307222673798924,null,null,null,null,null,null,null,null,null,null,null,null,null,null,null,null,null,{"$error":"#N/A"},{"$error":"#N/A"},{"$error":"#N/A"},{"$error":"#N/A"},{"$f":"IF($D39=AB$1,$E39,#N/A)","v":2.8570767089322837},{"$f":"IF($D39=AC$1,$F39,#N/A)","v":-3.5307222673798924},{"$error":"#N/A"},{"$error":"#N/A"},{"$error":"#N/A"},{"$error":"#N/A"},{"$error":"#N/A"},{"$error":"#N/A"},{"$error":"#N/A"},{"$error":"#N/A"}]
[{"$f":"données!W42","v":-0.29789587986591115},{"$f":"données!X42","v":1.9819933581409015},{"$f":"données!Y42","v":-1.9943991350430706E-2},{"$f":"données!AH42","v":2},0.6019102752769393,1.7460250216511248,null,null,null,null,null,null,null,null,null,null,null,null,{"$f":"Segmentation!C8+Segmentation!D8*$I$2","v":0.89385056513558747},{"$f":"Segmentation!E8+Segmentation!D8*$I$3","v":-0.28146296694151979},null,null,null,{"$error":"#N/A"},{"$error":"#N/A"},{"$f":"IF($D40=Z$1,$E40,#N/A)","v":0.6019102752769393},{"$f":"IF($D40=AA$1,$F40,#N/A)","v":1.7460250216511248},{"$error":"#N/A"},{"$error":"#N/A"},{"$error":"#N/A"},{"$error":"#N/A"},{"$error":"#N/A"},{"$error":"#N/A"},{"$error":"#N/A"},{"$error":"#N/A"},{"$error":"#N/A"},{"$error":"#N/A"}]
[{"$f":"données!W43","v":0.17780296417471275},{"$f":"données!X43","v":2.2621012196033603},{"$f":"données!Y43","v":-1.1046363528096875E-2},{"$f":"données!AH43","v":2},1.2047754273238807,2.0045005815129611,null,null,null,null,null,null,null,null,null,null,null,null,{"$f":"Segmentation!C9+Segmentation!D9*$I$2","v":0.49393588168091107},{"$f":"Segmentation!E9+Segmentation!D9*$I$3","v":1.6376222762838157},null,null,null,{"$error":"#N/A"},{"$error":"#N/A"},1.2047754273238807,2.0045005815129611,{"$error":"#N/A"},{"$error":"#N/A"},{"$error":"#N/A"},{"$error":"#N/A"},{"$error":"#N/A"},{"$error":"#N/A"},{"$error":"#N/A"},{"$error":"#N/A"},{"$error":"#N/A"},{"$error":"#N/A"}]
[{"$f":"données!W44","v":-0.29611911596011364},{"$f":"données!X44","v":2.0434445856403398},{"$f":"données!Y44","v":-0.12854236759898346},{"$f":"données!AH44","v":2},0.63158531266481532,1.6921800900239552,null,null,null,null,null,null,null,null,null,null,null,null,{"$f":"Segmentation!C10+Segmentation!D10*$I$2","v":3.0076211914633464},{"$f":"Segmentation!E10+Segmentation!D10*$I$3","v":-3.4718714989791954},null,null,null,{"$error":"#N/A"},{"$error":"#N/A"},0.63158531266481532,1.6921800900239552,{"$error":"#N/A"},{"$error":"#N/A"},{"$error":"#N/A"},{"$error":"#N/A"},{"$error":"#N/A"},{"$error":"#N/A"},{"$error":"#N/A"},{"$error":"#N/A"},{"$error":"#N/A"},{"$error":"#N/A"}]
[{"$f":"données!W45","v":5.0602758831700068E-2},{"$f":"données!X45","v":2.0536014981963753},{"$f":"données!Y45","v":-0.24945996768798076},{"$f":"données!AH45","v":2},0.98291832926375455,1.5803123652879962,null,null,null,null,null,null,null,null,null,null,null,null,{"$f":"Segmentation!C11+Segmentation!D11*$I$2","v":-3.6321198175186988},{"$f":"Segmentation!E11+Segmentation!D11*$I$3","v":-1.48305456853456},null,null,null,{"$error":"#N/A"},{"$error":"#N/A"},0.98291832926375455,1.5803123652879962,{"$error":"#N/A"},{"$error":"#N/A"},{"$error":"#N/A"},{"$error":"#N/A"},{"$error":"#N/A"},{"$error":"#N/A"},{"$error":"#N/A"},{"$error":"#N/A"},{"$error":"#N/A"},{"$error":"#N/A"}]
[{"$f":"données!W46","v":5.4396983488428391E-2},{"$f":"données!X46","v":1.3774755124989468},{"$f":"données!Y46","v":0.21802434650623378},{"$f":"données!AH46","v":2},0.67975777978681362,1.4453640150525109,null,null,null,null,null,null,null,null,null,null,null,null,{"$f":"Segmentation!C12+Segmentation!D12*$I$2","v":0},{"$f":"Segmentation!E12+Segmentation!D12*$I$3","v":0},null,null,null,{"$error":"#N/A"},{"$error":"#N/A"},0.67975777978681362,1.4453640150525109,{"$error":"#N/A"},{"$error":"#N/A"},{"$error":"#N/A"},{"$error":"#N/A"},{"$error":"#N/A"},{"$error":"#N/A"},{"$error":"#N/A"},{"$error":"#N/A"},{"$error":"#N/A"},{"$error":"#N/A"}]
[{"$f":"données!W47","v":-1.3389463766332899},{"$f":"données!X47","v":1.6353828012562772},{"$f":"données!Y47","v":0.12877463185302507},{"$f":"données!AH47","v":2},-0.59649812142549263,1.5859113773178168,null,null,null,null,null,null,null,null,null,null,null,null,{"$f":"Segmentation!C13+Segmentation!D13*$I$2","v":0},{"$f":"Segmentation!E13+Segmentation!D13*$I$3","v":0},null,null,null,{"$error":"#N/A"},{"$error":"#N/A"},-0.59649812142549263,1.5859113773178168,{"$error":"#N/A"},{"$error":"#N/A"},{"$error":"#N/A"},{"$error":"#N/A"},{"$error":"#N/A"},{"$error":"#N/A"},{"$error":"#N/A"},{"$error":"#N/A"},{"$error":"#N/A"},{"$error":"#N/A"}]
[{"$f":"données!W48","v":-0.90284149411780268},{"$f":"données!X48","v":1.9990674827136166},{"$f":"données!Y48","v":6.5024211631310419E-2},{"$f":"données!AH48","v":2},4.7161513724299775E-3,1.84620638102196,null,null,null,null,null,null,null,null,null,null,null,null,{"$f":"Segmentation!C14+Segmentation!D14*$I$2","v":0},{"$f":"Segmentation!E14+Segmentation!D14*$I$3","v":0},null,null,null,{"$error":"#N/A"},{"$error":"#N/A"},4.7161513724299775E-3,1.84620638102196,{"$error":"#N/A"},{"$error":"#N/A"},{"$error":"#N/A"},{"$error":"#N/A"},{"$error":"#N/A"},{"$error":"#N/A"},{"$error":"#N/A"},{"$error":"#N/A"},{"$error":"#N/A"},{"$error":"#N/A"}]
[{"$f":"données!W49","v":-1.0218870522052272},{"$f":"données!X49","v":1.6528138955847249},{"$f":"données!Y49","v":1.8278135775435217E-2},{"$f":"données!AH49","v":2},-0.2715252457722509,1.4909461000106168,null,null,null,null,null,null,null,null,null,null,null,null,null,null,null,null,null,{"$error":"#N/A"},{"$error":"#N/A"},-0.2715252457722509,1.4909461000106168,{"$error":"#N/A"},{"$error":"#N/A"},{"$error":"#N/A"},{"$error":"#N/A"},{"$error":"#N/A"},{"$error":"#N/A"},{"$error":"#N/A"},{"$error":"#N/A"},{"$error":"#N/A"},{"$error":"#N/A"}]
[{"$f":"données!W50","v":-1.0850016710009789},{"$f":"données!X50","v":1.715116488946721},{"$f":"données!Y50","v":-0.13049912709381217},{"$f":"données!AH50","v":2},-0.30635507907252013,1.3976808543007628,null,null,null,null,null,null,null,null,null,null,null,null,null,null,null,null,null,{"$error":"#N/A"},{"$error":"#N/A"},-0.30635507907252013,1.3976808543007628,{"$error":"#N/A"},{"$error":"#N/A"},{"$error":"#N/A"},{"$error":"#N/A"},{"$error":"#N/A"},{"$error":"#N/A"},{"$error":"#N/A"},{"$error":"#N/A"},{"$error":"#N/A"},{"$error":"#N/A"}]
[{"$f":"données!W51","v":-1.3170584917107753},{"$f":"données!X51","v":1.6766801519172718},{"$f":"données!Y51","v":-1.0696319500424128E-2},{"$f":"données!AH51","v":2},-0.5558616316384738,1.4832366348350088,null,null,null,null,null,null,null,null,null,null,null,null,null,null,null,null,null,{"$error":"#N/A"},{"$error":"#N/A"},-0.5558616316384738,1.4832366348350088,{"$error":"#N/A"},{"$error":"#N/A"},{"$error":"#N/A"},{"$error":"#N/A"},{"$error":"#N/A"},{"$error":"#N/A"},{"$error":"#N/A"},{"$error":"#N/A"},{"$error":"#N/A"},{"$error":"#N/A"}]
[{"$f":"données!W52","v":{"$error":"#N/A"}},{"$f":"données!X52","v":{"$error":"#N/A"}},{"$f":"données!Y52","v":{"$error":"#N/A"}},{"$f":"données!AH52","v":2},{"$error":"#N/A"},{"$error":"#N/A"},null,null,null,null,null,null,null,null,null,null,null,null,null,null,null,null,null,{"$error":"#N/A"},{"$error":"#N/A"},{"$error":"#N/A"},{"$error":"#N/A"},{"$f":"IF($D50=AB$1,$E50,#N/A)","v":{"$error":"#N/A"}},{"$f":"IF($D50=AC$1,$F50,#N/A)","v":{"$error":"#N/A"}},{"$error":"#N/A"},{"$error":"#N/A"},{"$error":"#N/A"},{"$error":"#N/A"},{"$error":"#N/A"},{"$error":"#N/A"},{"$error":"#N/A"},{"$error":"#N/A"}]
[{"$f":"données!W53","v":{"$error":"#N/A"}},{"$f":"données!X53","v":{"$error":"#N/A"}},{"$f":"données!Y53","v":{"$error":"#N/A"}},{"$f":"données!AH53","v":2},{"$error":"#N/A"},{"$error":"#N/A"},null,null,null,null,null,null,null,null,null,null,null,null,null,null,null,null,null,{"$error":"#N/A"},{"$error":"#N/A"},{"$error":"#N/A"},{"$error":"#N/A"},{"$error":"#N/A"},{"$error":"#N/A"},{"$error":"#N/A"},{"$error":"#N/A"},{"$error":"#N/A"},{"$error":"#N/A"},{"$error":"#N/A"},{"$error":"#N/A"},{"$error":"#N/A"},{"$error":"#N/A"}]
[{"$f":"données!W54","v":{"$error":"#N/A"}},{"$f":"données!X54","v":{"$error":"#N/A"}},{"$f":"données!Y54","v":{"$error":"#N/A"}},{"$f":"données!AH54","v":2},{"$error":"#N/A"},{"$error":"#N/A"},null,null,null,null,null,null,null,null,null,null,null,null,null,null,null,null,null,{"$error":"#N/A"},{"$error":"#N/A"},{"$error":"#N/A"},{"$error":"#N/A"},{"$error":"#N/A"},{"$error":"#N/A"},{"$error":"#N/A"},{"$error":"#N/A"},{"$error":"#N/A"},{"$error":"#N/A"},{"$error":"#N/A"},{"$error":"#N/A"},{"$error":"#N/A"},{"$error":"#N/A"}]
[{"$f":"données!W55","v":{"$error":"#N/A"}},{"$f":"données!X55","v":{"$error":"#N/A"}},{"$f":"données!Y55","v":{"$error":"#N/A"}},{"$f":"données!AH55","v":2},{"$error":"#N/A"},{"$error":"#N/A"},null,null,null,null,null,null,null,null,null,null,null,null,null,null,null,null,null,{"$error":"#N/A"},{"$error":"#N/A"},{"$error":"#N/A"},{"$error":"#N/A"},{"$error":"#N/A"},{"$error":"#N/A"},{"$error":"#N/A"},{"$error":"#N/A"},{"$error":"#N/A"},{"$error":"#N/A"},{"$error":"#N/A"},{"$error":"#N/A"},{"$error":"#N/A"},{"$error":"#N/A"}]
[{"$f":"données!W56","v":{"$error":"#N/A"}},{"$f":"données!X56","v":{"$error":"#N/A"}},{"$f":"données!Y56","v":{"$error":"#N/A"}},{"$f":"données!AH56","v":2},{"$error":"#N/A"},{"$error":"#N/A"},null,null,null,null,null,null,null,null,null,null,null,null,null,null,null,null,null,{"$error":"#N/A"},{"$error":"#N/A"},{"$error":"#N/A"},{"$error":"#N/A"},{"$error":"#N/A"},{"$error":"#N/A"},{"$error":"#N/A"},{"$error":"#N/A"},{"$error":"#N/A"},{"$error":"#N/A"},{"$error":"#N/A"},{"$error":"#N/A"},{"$error":"#N/A"},{"$error":"#N/A"}]
[{"$f":"données!W57","v":{"$error":"#N/A"}},{"$f":"données!X57","v":{"$error":"#N/A"}},{"$f":"données!Y57","v":{"$error":"#N/A"}},{"$f":"données!AH57","v":2},{"$error":"#N/A"},{"$error":"#N/A"},null,null,null,null,null,null,null,null,null,null,null,null,null,null,null,null,null,{"$error":"#N/A"},{"$error":"#N/A"},{"$error":"#N/A"},{"$error":"#N/A"},{"$error":"#N/A"},{"$error":"#N/A"},{"$error":"#N/A"},{"$error":"#N/A"},{"$error":"#N/A"},{"$error":"#N/A"},{"$error":"#N/A"},{"$error":"#N/A"},{"$error":"#N/A"},{"$error":"#N/A"}]
[{"$f":"données!W58","v":{"$error":"#N/A"}},{"$f":"données!X58","v":{"$error":"#N/A"}},{"$f":"données!Y58","v":{"$error":"#N/A"}},{"$f":"données!AH58","v":2},{"$error":"#N/A"},{"$error":"#N/A"},null,null,null,null,null,null,null,null,null,null,null,null,null,null,null,null,null,{"$error":"#N/A"},{"$error":"#N/A"},{"$error":"#N/A"},{"$error":"#N/A"},{"$error":"#N/A"},{"$error":"#N/A"},{"$error":"#N/A"},{"$error":"#N/A"},{"$error":"#N/A"},{"$error":"#N/A"},{"$error":"#N/A"},{"$error":"#N/A"},{"$error":"#N/A"},{"$error":"#N/A"}]
[{"$f":"données!W59","v":{"$error":"#N/A"}},{"$f":"données!X59","v":{"$error":"#N/A"}},{"$f":"données!Y59","v":{"$error":"#N/A"}},{"$f":"données!AH59","v":2},{"$error":"#N/A"},{"$error":"#N/A"},null,null,null,null,null,null,null,null,null,null,null,null,null,null,null,null,null,{"$error":"#N/A"},{"$error":"#N/A"},{"$error":"#N/A"},{"$error":"#N/A"},{"$error":"#N/A"},{"$error":"#N/A"},{"$error":"#N/A"},{"$error":"#N/A"},{"$error":"#N/A"},{"$error":"#N/A"},{"$error":"#N/A"},{"$error":"#N/A"},{"$error":"#N/A"},{"$error":"#N/A"}]
[{"$f":"données!W60","v":{"$error":"#N/A"}},{"$f":"données!X60","v":{"$error":"#N/A"}},{"$f":"données!Y60","v":{"$error":"#N/A"}},{"$f":"données!AH60","v":2},{"$error":"#N/A"},{"$error":"#N/A"},null,null,null,null,null,null,null,null,null,null,null,null,null,null,null,null,null,{"$error":"#N/A"},{"$error":"#N/A"},{"$error":"#N/A"},{"$error":"#N/A"},{"$error":"#N/A"},{"$error":"#N/A"},{"$error":"#N/A"},{"$error":"#N/A"},{"$error":"#N/A"},{"$error":"#N/A"},{"$error":"#N/A"},{"$error":"#N/A"},{"$error":"#N/A"},{"$error":"#N/A"}]
[{"$f":"données!W61","v":{"$error":"#N/A"}},{"$f":"données!X61","v":{"$error":"#N/A"}},{"$f":"données!Y61","v":{"$error":"#N/A"}},{"$f":"données!AH61","v":2},{"$error":"#N/A"},{"$error":"#N/A"},null,null,null,null,null,null,null,null,null,null,null,null,null,null,null,null,null,{"$error":"#N/A"},{"$error":"#N/A"},{"$error":"#N/A"},{"$error":"#N/A"},{"$error":"#N/A"},{"$error":"#N/A"},{"$error":"#N/A"},{"$error":"#N/A"},{"$error":"#N/A"},{"$error":"#N/A"},{"$error":"#N/A"},{"$error":"#N/A"},{"$error":"#N/A"},{"$error":"#N/A"}]
[{"$f":"données!W62","v":{"$error":"#N/A"}},{"$f":"données!X62","v":{"$error":"#N/A"}},{"$f":"données!Y62","v":{"$error":"#N/A"}},{"$f":"données!AH62","v":2},{"$error":"#N/A"},{"$error":"#N/A"},null,null,null,null,null,null,null,null,null,null,null,null,null,null,null,null,null,{"$error":"#N/A"},{"$error":"#N/A"},{"$error":"#N/A"},{"$error":"#N/A"},{"$error":"#N/A"},{"$error":"#N/A"},{"$error":"#N/A"},{"$error":"#N/A"},{"$error":"#N/A"},{"$error":"#N/A"},{"$error":"#N/A"},{"$error":"#N/A"},{"$error":"#N/A"},{"$error":"#N/A"}]
[{"$f":"données!W63","v":{"$error":"#N/A"}},{"$f":"données!X63","v":{"$error":"#N/A"}},{"$f":"données!Y63","v":{"$error":"#N/A"}},{"$f":"données!AH63","v":2},{"$error":"#N/A"},{"$error":"#N/A"},null,null,null,null,null,null,null,null,null,null,null,null,null,null,null,null,null,{"$error":"#N/A"},{"$error":"#N/A"},{"$error":"#N/A"},{"$error":"#N/A"},{"$error":"#N/A"},{"$error":"#N/A"},{"$error":"#N/A"},{"$error":"#N/A"},{"$f":"IF($D61=AF$1,$E61,#N/A)","v":{"$error":"#N/A"}},{"$f":"IF($D61=AG$1,$F61,#N/A)","v":{"$error":"#N/A"}},{"$error":"#N/A"},{"$error":"#N/A"},{"$error":"#N/A"},{"$error":"#N/A"}]
[{"$f":"données!W64","v":{"$error":"#N/A"}},{"$f":"données!X64","v":{"$error":"#N/A"}},{"$f":"données!Y64","v":{"$error":"#N/A"}},{"$f":"données!AH64","v":2},{"$error":"#N/A"},{"$error":"#N/A"},null,null,null,null,null,null,null,null,null,null,null,null,null,null,null,null,null,{"$error":"#N/A"},{"$error":"#N/A"},{"$error":"#N/A"},{"$error":"#N/A"},{"$error":"#N/A"},{"$error":"#N/A"},{"$error":"#N/A"},{"$error":"#N/A"},{"$f":"IF($D62=AF$1,$E62,#N/A)","v":{"$error":"#N/A"}},{"$f":"IF($D62=AG$1,$F62,#N/A)","v":{"$error":"#N/A"}},{"$error":"#N/A"},{"$error":"#N/A"},{"$error":"#N/A"},{"$error":"#N/A"}]
[{"$f":"données!W65","v":{"$error":"#N/A"}},{"$f":"données!X65","v":{"$error":"#N/A"}},{"$f":"données!Y65","v":{"$error":"#N/A"}},{"$f":"données!AH65","v":2},{"$error":"#N/A"},{"$error":"#N/A"},null,null,null,null,null,null,null,null,null,null,null,null,null,null,null,null,null,{"$error":"#N/A"},{"$error":"#N/A"},{"$error":"#N/A"},{"$error":"#N/A"},{"$error":"#N/A"},{"$error":"#N/A"},{"$error":"#N/A"},{"$error":"#N/A"},{"$f":"IF($D63=AF$1,$E63,#N/A)","v":{"$error":"#N/A"}},{"$f":"IF($D63=AG$1,$F63,#N/A)","v":{"$error":"#N/A"}},{"$error":"#N/A"},{"$error":"#N/A"},{"$error":"#N/A"},{"$error":"#N/A"}]
[{"$f":"données!W66","v":{"$error":"#N/A"}},{"$f":"données!X66","v":{"$error":"#N/A"}},{"$f":"données!Y66","v":{"$error":"#N/A"}},{"$f":"données!AH66","v":3},{"$error":"#N/A"},{"$error":"#N/A"},null,null,null,null,null,null,null,null,null,null,null,null,null,null,null,null,null,{"$error":"#N/A"},{"$error":"#N/A"},{"$error":"#N/A"},{"$error":"#N/A"},{"$error":"#N/A"},{"$error":"#N/A"},{"$error":"#N/A"},{"$error":"#N/A"},{"$f":"IF($D64=AF$1,$E64,#N/A)","v":{"$error":"#N/A"}},{"$f":"IF($D64=AG$1,$F64,#N/A)","v":{"$error":"#N/A"}},{"$error":"#N/A"},{"$error":"#N/A"},{"$error":"#N/A"},{"$error":"#N/A"}]
[{"$f":"données!W67","v":{"$error":"#N/A"}},{"$f":"données!X67","v":{"$error":"#N/A"}},{"$f":"données!Y67","v":{"$error":"#N/A"}},{"$f":"données!AH67","v":3},{"$error":"#N/A"},{"$error":"#N/A"},null,null,null,null,null,null,null,null,null,null,null,null,null,null,null,null,null,{"$error":"#N/A"},{"$error":"#N/A"},{"$error":"#N/A"},{"$error":"#N/A"},{"$error":"#N/A"},{"$error":"#N/A"},{"$error":"#N/A"},{"$error":"#N/A"},{"$error":"#N/A"},{"$error":"#N/A"},{"$f":"IF($D65=AH$1,$E65,#N/A)","v":{"$error":"#N/A"}},{"$f":"IF($D65=AI$1,$F65,#N/A)","v":{"$error":"#N/A"}},{"$error":"#N/A"},{"$error":"#N/A"}]
[{"$f":"données!W68","v":{"$error":"#N/A"}},{"$f":"données!X68","v":{"$error":"#N/A"}},{"$f":"données!Y68","v":{"$error":"#N/A"}},{"$f":"données!AH68","v":3},{"$f":"A66+B66*$I$2","v":{"$error":"#N/A"}},{"$f":"C66+B66*$I$3","v":{"$error":"#N/A"}},null,null,null,null,null,null,null,null,null,null,null,null,null,null,null,null,null,{"$f":"IF($D66=X$1,$E66,#N/A)","v":{"$error":"#N/A"}},{"$f":"IF($D66=Y$1,$F66,#N/A)","v":{"$error":"#N/A"}},{"$f":"IF($D66=Z$1,$E66,#N/A)","v":{"$error":"#N/A"}},{"$f":"IF($D66=AA$1,$F66,#N/A)","v":{"$error":"#N/A"}},{"$f":"IF($D66=AB$1,$E66,#N/A)","v":{"$error":"#N/A"}},{"$f":"IF($D66=AC$1,$F66,#N/A)","v":{"$error":"#N/A"}},{"$f":"IF($D66=AD$1,$E66,#N/A)","v":{"$error":"#N/A"}},{"$f":"IF($D66=AE$1,$F66,#N/A)","v":{"$error":"#N/A"}},{"$f":"IF($D66=AF$1,$E66,#N/A)","v":{"$error":"#N/A"}},{"$f":"IF($D66=AG$1,$F66,#N/A)","v":{"$error":"#N/A"}},{"$f":"IF($D66=AH$1,$E66,#N/A)","v":{"$error":"#N/A"}},{"$f":"IF($D66=AI$1,$F66,#N/A)","v":{"$error":"#N/A"}},{"$f":"IF($D66=AJ$1,$E66,#N/A)","v":{"$error":"#N/A"}},{"$f":"IF($D66=AK$1,$F66,#N/A)","v":{"$error":"#N/A"}}]
[{"$f":"données!W69","v":{"$error":"#N/A"}},{"$f":"données!X69","v":{"$error":"#N/A"}},{"$f":"données!Y69","v":{"$error":"#N/A"}},{"$f":"données!AH69","v":3},{"$error":"#N/A"},{"$error":"#N/A"},null,null,null,null,null,null,null,null,null,null,null,null,null,null,null,null,null,{"$error":"#N/A"},{"$error":"#N/A"},{"$error":"#N/A"},{"$error":"#N/A"},{"$error":"#N/A"},{"$error":"#N/A"},{"$f":"IF($D67=AD$1,$E67,#N/A)","v":{"$error":"#N/A"}},{"$f":"IF($D67=AE$1,$F67,#N/A)","v":{"$error":"#N/A"}},{"$error":"#N/A"},{"$error":"#N/A"},{"$f":"IF($D67=AH$1,$E67,#N/A)","v":{"$error":"#N/A"}},{"$f":"IF($D67=AI$1,$F67,#N/A)","v":{"$error":"#N/A"}},{"$error":"#N/A"},{"$error":"#N/A"}]
[{"$f":"données!W70","v":{"$error":"#N/A"}},{"$f":"données!X70","v":{"$error":"#N/A"}},{"$f":"données!Y70","v":{"$error":"#N/A"}},{"$f":"données!AH70","v":3},{"$error":"#N/A"},{"$error":"#N/A"},null,null,null,null,null,null,null,null,null,null,null,null,null,null,null,null,null,{"$error":"#N/A"},{"$error":"#N/A"},{"$error":"#N/A"},{"$error":"#N/A"},{"$error":"#N/A"},{"$error":"#N/A"},{"$error":"#N/A"},{"$error":"#N/A"},{"$error":"#N/A"},{"$error":"#N/A"},{"$f":"IF($D68=AH$1,$E68,#N/A)","v":{"$error":"#N/A"}},{"$f":"IF($D68=AI$1,$F68,#N/A)","v":{"$error":"#N/A"}},{"$error":"#N/A"},{"$error":"#N/A"}]
[{"$f":"données!W71","v":{"$error":"#N/A"}},{"$f":"données!X71","v":{"$error":"#N/A"}},{"$f":"données!Y71","v":{"$error":"#N/A"}},{"$f":"données!AH71","v":3},{"$error":"#N/A"},{"$error":"#N/A"},null,null,null,null,null,null,null,null,null,null,null,null,null,null,null,null,null,{"$error":"#N/A"},{"$error":"#N/A"},{"$error":"#N/A"},{"$error":"#N/A"},{"$error":"#N/A"},{"$error":"#N/A"},{"$error":"#N/A"},{"$error":"#N/A"},{"$error":"#N/A"},{"$error":"#N/A"},{"$f":"IF($D69=AH$1,$E69,#N/A)","v":{"$error":"#N/A"}},{"$f":"IF($D69=AI$1,$F69,#N/A)","v":{"$error":"#N/A"}},{"$error":"#N/A"},{"$error":"#N/A"}]
[{"$f":"données!W72","v":{"$error":"#N/A"}},{"$f":"données!X72","v":{"$error":"#N/A"}},{"$f":"données!Y72","v":{"$error":"#N/A"}},{"$f":"données!AH72","v":3},{"$error":"#N/A"},{"$error":"#N/A"},null,null,null,null,null,null,null,null,null,null,null,null,null,null,null,null,null,{"$error":"#N/A"},{"$error":"#N/A"},{"$error":"#N/A"},{"$error":"#N/A"},{"$error":"#N/A"},{"$error":"#N/A"},{"$error":"#N/A"},{"$error":"#N/A"},{"$f":"IF($D70=AF$1,$E70,#N/A)","v":{"$error":"#N/A"}},{"$f":"IF($D70=AG$1,$F70,#N/A)","v":{"$error":"#N/A"}},{"$error":"#N/A"},{"$error":"#N/A"},{"$error":"#N/A"},{"$error":"#N/A"}]
[{"$f":"données!W73","v":{"$error":"#N/A"}},{"$f":"données!X73","v":{"$error":"#N/A"}},{"$f":"données!Y73","v":{"$error":"#N/A"}},{"$f":"données!AH73","v":3},{"$error":"#N/A"},{"$error":"#N/A"},null,null,null,null,null,null,null,null,null,null,null,null,null,null,null,null,null,{"$error":"#N/A"},{"$error":"#N/A"},{"$error":"#N/A"},{"$error":"#N/A"},{"$error":"#N/A"},{"$error":"#N/A"},{"$f":"IF($D71=AD$1,$E71,#N/A)","v":{"$error":"#N/A"}},{"$f":"IF($D71=AE$1,$F71,#N/A)","v":{"$error":"#N/A"}},{"$error":"#N/A"},{"$error":"#N/A"},{"$error":"#N/A"},{"$error":"#N/A"},{"$error":"#N/A"},{"$error":"#N/A"}]
[{"$f":"données!W74","v":{"$error":"#N/A"}},{"$f":"données!X74","v":{"$error":"#N/A"}},{"$f":"données!Y74","v":{"$error":"#N/A"}},{"$f":"données!AH74","v":3},{"$error":"#N/A"},{"$error":"#N/A"},null,null,null,null,null,null,null,null,null,null,null,null,null,null,null,null,null,{"$error":"#N/A"},{"$error":"#N/A"},{"$error":"#N/A"},{"$error":"#N/A"},{"$error":"#N/A"},{"$error":"#N/A"},{"$error":"#N/A"},{"$error":"#N/A"},{"$error":"#N/A"},{"$error":"#N/A"},{"$error":"#N/A"},{"$error":"#N/A"},{"$error":"#N/A"},{"$error":"#N/A"}]
[{"$f":"données!W75","v":{"$error":"#N/A"}},{"$f":"données!X75","v":{"$error":"#N/A"}},{"$f":"données!Y75","v":{"$error":"#N/A"}},{"$f":"données!AH75","v":3},{"$error":"#N/A"},{"$error":"#N/A"},null,null,null,null,null,null,null,null,null,null,null,null,null,null,null,null,null,{"$error":"#N/A"},{"$error":"#N/A"},{"$error":"#N/A"},{"$error":"#N/A"},{"$error":"#N/A"},{"$error":"#N/A"},{"$error":"#N/A"},{"$error":"#N/A"},{"$error":"#N/A"},{"$error":"#N/A"},{"$error":"#N/A"},{"$error":"#N/A"},{"$error":"#N/A"},{"$error":"#N/A"}]
[{"$f":"données!W76","v":{"$error":"#N/A"}},{"$f":"données!X76","v":{"$error":"#N/A"}},{"$f":"données!Y76","v":{"$error":"#N/A"}},{"$f":"données!AH76","v":3},{"$error":"#N/A"},{"$error":"#N/A"},null,null,null,null,null,null,null,null,null,null,null,null,null,null,null,null,null,{"$error":"#N/A"},{"$error":"#N/A"},{"$error":"#N/A"},{"$error":"#N/A"},{"$error":"#N/A"},{"$error":"#N/A"},{"$error":"#N/A"},{"$error":"#N/A"},{"$error":"#N/A"},{"$error":"#N/A"},{"$error":"#N/A"},{"$error":"#N/A"},{"$error":"#N/A"},{"$error":"#N/A"}]
[{"$f":"données!W77","v":{"$error":"#N/A"}},{"$f":"données!X77","v":{"$error":"#N/A"}},{"$f":"données!Y77","v":{"$error":"#N/A"}},{"$f":"données!AH77","v":3},{"$error":"#N/A"},{"$error":"#N/A"},null,null,null,null,null,null,null,null,null,null,null,null,null,null,null,null,null,{"$error":"#N/A"},{"$error":"#N/A"},{"$error":"#N/A"},{"$error":"#N/A"},{"$error":"#N/A"},{"$error":"#N/A"},{"$error":"#N/A"},{"$error":"#N/A"},{"$error":"#N/A"},{"$error":"#N/A"},{"$error":"#N/A"},{"$error":"#N/A"},{"$error":"#N/A"},{"$error":"#N/A"}]
[{"$f":"données!W78","v":{"$error":"#N/A"}},{"$f":"données!X78","v":{"$error":"#N/A"}},{"$f":"données!Y78","v":{"$error":"#N/A"}},{"$f":"données!AH78","v":3},{"$error":"#N/A"},{"$error":"#N/A"},null,null,null,null,null,null,null,null,null,null,null,null,null,null,null,null,null,{"$error":"#N/A"},{"$error":"#N/A"},{"$error":"#N/A"},{"$error":"#N/A"},{"$error":"#N/A"},{"$error":"#N/A"},{"$error":"#N/A"},{"$error":"#N/A"},{"$error":"#N/A"},{"$error":"#N/A"},{"$error":"#N/A"},{"$error":"#N/A"},{"$error":"#N/A"},{"$error":"#N/A"}]
[{"$f":"données!W79","v":{"$error":"#N/A"}},{"$f":"données!X79","v":{"$error":"#N/A"}},{"$f":"données!Y79","v":{"$error":"#N/A"}},{"$f":"données!AH79","v":3},{"$error":"#N/A"},{"$error":"#N/A"},null,null,null,null,null,null,null,null,null,null,null,null,null,null,null,null,null,{"$error":"#N/A"},{"$error":"#N/A"},{"$error":"#N/A"},{"$error":"#N/A"},{"$error":"#N/A"},{"$error":"#N/A"},{"$error":"#N/A"},{"$error":"#N/A"},{"$error":"#N/A"},{"$error":"#N/A"},{"$error":"#N/A"},{"$error":"#N/A"},{"$error":"#N/A"},{"$error":"#N/A"}]
[{"$f":"données!W80","v":{"$error":"#N/A"}},{"$f":"données!X80","v":{"$error":"#N/A"}},{"$f":"données!Y80","v":{"$error":"#N/A"}},{"$f":"données!AH80","v":3},{"$error":"#N/A"},{"$error":"#N/A"},null,null,null,null,null,null,null,null,null,null,null,null,null,null,null,null,null,{"$error":"#N/A"},{"$error":"#N/A"},{"$error":"#N/A"},{"$error":"#N/A"},{"$error":"#N/A"},{"$error":"#N/A"},{"$error":"#N/A"},{"$error":"#N/A"},{"$error":"#N/A"},{"$error":"#N/A"},{"$error":"#N/A"},{"$error":"#N/A"},{"$error":"#N/A"},{"$error":"#N/A"}]
[{"$f":"données!W81","v":{"$error":"#N/A"}},{"$f":"données!X81","v":{"$error":"#N/A"}},{"$f":"données!Y81","v":{"$error":"#N/A"}},{"$f":"données!AH81","v":3},{"$error":"#N/A"},{"$error":"#N/A"},null,null,null,null,null,null,null,null,null,null,null,null,null,null,null,null,null,{"$error":"#N/A"},{"$error":"#N/A"},{"$error":"#N/A"},{"$error":"#N/A"},{"$error":"#N/A"},{"$error":"#N/A"},{"$error":"#N/A"},{"$error":"#N/A"},{"$error":"#N/A"},{"$error":"#N/A"},{"$error":"#N/A"},{"$error":"#N/A"},{"$error":"#N/A"},{"$error":"#N/A"}]
[{"$f":"données!W82","v":{"$error":"#N/A"}},{"$f":"données!X82","v":{"$error":"#N/A"}},{"$f":"données!Y82","v":{"$error":"#N/A"}},{"$f":"données!AH82","v":3},{"$error":"#N/A"},{"$error":"#N/A"},null,null,null,null,null,null,null,null,null,null,null,null,null,null,null,null,null,{"$error":"#N/A"},{"$error":"#N/A"},{"$error":"#N/A"},{"$error":"#N/A"},{"$error":"#N/A"},{"$error":"#N/A"},{"$error":"#N/A"},{"$error":"#N/A"},{"$error":"#N/A"},{"$error":"#N/A"},{"$error":"#N/A"},{"$error":"#N/A"},{"$error":"#N/A"},{"$error":"#N/A"}]
[{"$f":"données!W83","v":{"$error":"#N/A"}},{"$f":"données!X83","v":{"$error":"#N/A"}},{"$f":"données!Y83","v":{"$error":"#N/A"}},{"$f":"données!AH83","v":3},{"$error":"#N/A"},{"$error":"#N/A"},null,null,null,null,null,null,null,null,null,null,null,null,null,null,null,null,null,{"$error":"#N/A"},{"$error":"#N/A"},{"$error":"#N/A"},{"$error":"#N/A"},{"$error":"#N/A"},{"$error":"#N/A"},{"$error":"#N/A"},{"$error":"#N/A"},{"$f":"IF($D81=AF$1,$E81,#N/A)","v":{"$error":"#N/A"}},{"$f":"IF($D81=AG$1,$F81,#N/A)","v":{"$error":"#N/A"}},{"$error":"#N/A"},{"$error":"#N/A"},{"$error":"#N/A"},{"$error":"#N/A"}]
[{"$f":"données!W84","v":{"$error":"#N/A"}},{"$f":"données!X84","v":{"$error":"#N/A"}},{"$f":"données!Y84","v":{"$error":"#N/A"}},{"$f":"données!AH84","v":3},{"$error":"#N/A"},{"$error":"#N/A"},null,null,null,null,null,null,null,null,null,null,null,null,null,null,null,null,null,{"$error":"#N/A"},{"$error":"#N/A"},{"$error":"#N/A"},{"$error":"#N/A"},{"$error":"#N/A"},{"$error":"#N/A"},{"$f":"IF($D82=AD$1,$E82,#N/A)","v":{"$error":"#N/A"}},{"$f":"IF($D82=AE$1,$F82,#N/A)","v":{"$error":"#N/A"}},{"$error":"#N/A"},{"$error":"#N/A"},{"$error":"#N/A"},{"$error":"#N/A"},{"$error":"#N/A"},{"$error":"#N/A"}]
[{"$f":"données!W85","v":{"$error":"#N/A"}},{"$f":"données!X85","v":{"$error":"#N/A"}},{"$f":"données!Y85","v":{"$error":"#N/A"}},{"$f":"données!AH85","v":3},{"$error":"#N/A"},{"$error":"#N/A"},null,null,null,null,null,null,null,null,null,null,null,null,null,null,null,null,null,{"$error":"#N/A"},{"$error":"#N/A"},{"$error":"#N/A"},{"$error":"#N/A"},{"$error":"#N/A"},{"$error":"#N/A"},{"$f":"IF($D83=AD$1,$E83,#N/A)","v":{"$error":"#N/A"}},{"$f":"IF($D83=AE$1,$F83,#N/A)","v":{"$error":"#N/A"}},{"$error":"#N/A"},{"$error":"#N/A"},{"$error":"#N/A"},{"$error":"#N/A"},{"$error":"#N/A"},{"$error":"#N/A"}]
[{"$f":"données!W86","v":{"$error":"#N/A"}},{"$f":"données!X86","v":{"$error":"#N/A"}},{"$f":"données!Y86","v":{"$error":"#N/A"}},{"$f":"données!AH86","v":3},{"$error":"#N/A"},{"$error":"#N/A"},null,null,null,null,null,null,null,null,null,null,null,null,null,null,null,null,null,{"$error":"#N/A"},{"$error":"#N/A"},{"$error":"#N/A"},{"$error":"#N/A"},{"$error":"#N/A"},{"$error":"#N/A"},{"$f":"IF($D84=AD$1,$E84,#N/A)","v":{"$error":"#N/A"}},{"$f":"IF($D84=AE$1,$F84,#N/A)","v":{"$error":"#N/A"}},{"$error":"#N/A"},{"$error":"#N/A"},{"$error":"#N/A"},{"$error":"#N/A"},{"$error":"#N/A"},{"$error":"#N/A"}]
[{"$f":"données!W87","v":{"$error":"#N/A"}},{"$f":"données!X87","v":{"$error":"#N/A"}},{"$f":"données!Y87","v":{"$error":"#N/A"}},{"$f":"données!AH87","v":3},{"$error":"#N/A"},{"$error":"#N/A"},null,null,null,null,null,null,null,null,null,null,null,null,null,null,null,null,null,{"$error":"#N/A"},{"$error":"#N/A"},{"$error":"#N/A"},{"$error":"#N/A"},{"$error":"#N/A"},{"$error":"#N/A"},{"$f":"IF($D85=AD$1,$E85,#N/A)","v":{"$error":"#N/A"}},{"$f":"IF($D85=AE$1,$F85,#N/A)","v":{"$error":"#N/A"}},{"$error":"#N/A"},{"$error":"#N/A"},{"$error":"#N/A"},{"$error":"#N/A"},{"$error":"#N/A"},{"$error":"#N/A"}]
[{"$f":"données!W88","v":{"$error":"#N/A"}},{"$f":"données!X88","v":{"$error":"#N/A"}},{"$f":"données!Y88","v":{"$error":"#N/A"}},{"$f":"données!AH88","v":3},{"$error":"#N/A"},{"$error":"#N/A"},null,null,null,null,null,null,null,null,null,null,null,null,null,null,null,null,null,{"$error":"#N/A"},{"$error":"#N/A"},{"$error":"#N/A"},{"$error":"#N/A"},{"$error":"#N/A"},{"$error":"#N/A"},{"$f":"IF($D86=AD$1,$E86,#N/A)","v":{"$error":"#N/A"}},{"$f":"IF($D86=AE$1,$F86,#N/A)","v":{"$error":"#N/A"}},{"$error":"#N/A"},{"$error":"#N/A"},{"$error":"#N/A"},{"$error":"#N/A"},{"$error":"#N/A"},{"$error":"#N/A"}]
[{"$f":"données!W89","v":{"$error":"#N/A"}},{"$f":"données!X89","v":{"$error":"#N/A"}},{"$f":"données!Y89","v":{"$error":"#N/A"}},{"$f":"données!AH89","v":3},{"$error":"#N/A"},{"$error":"#N/A"},null,null,null,null,null,null,null,null,null,null,null,null,null,null,null,null,null,{"$error":"#N/A"},{"$error":"#N/A"},{"$error":"#N/A"},{"$error":"#N/A"},{"$error":"#N/A"},{"$error":"#N/A"},{"$error":"#N/A"},{"$error":"#N/A"},{"$error":"#N/A"},{"$error":"#N/A"},{"$f":"IF($D87=AH$1,$E87,#N/A)","v":{"$error":"#N/A"}},{"$f":"IF($D87=AI$1,$F87,#N/A)","v":{"$error":"#N/A"}},{"$error":"#N/A"},{"$error":"#N/A"}]
[{"$f":"données!W90","v":{"$error":"#N/A"}},{"$f":"données!X90","v":{"$error":"#N/A"}},{"$f":"données!Y90","v":{"$error":"#N/A"}},{"$f":"données!AH90","v":3},{"$error":"#N/A"},{"$error":"#N/A"},null,null,null,null,null,null,null,null,null,null,null,null,null,null,null,null,null,{"$error":"#N/A"},{"$error":"#N/A"},{"$error":"#N/A"},{"$error":"#N/A"},{"$error":"#N/A"},{"$error":"#N/A"},{"$f":"IF($D88=AD$1,$E88,#N/A)","v":{"$error":"#N/A"}},{"$f":"IF($D88=AE$1,$F88,#N/A)","v":{"$error":"#N/A"}},{"$error":"#N/A"},{"$error":"#N/A"},{"$error":"#N/A"},{"$error":"#N/A"},{"$error":"#N/A"},{"$error":"#N/A"}]
[{"$f":"données!W91","v":{"$error":"#N/A"}},{"$f":"données!X91","v":{"$error":"#N/A"}},{"$f":"données!Y91","v":{"$error":"#N/A"}},{"$f":"données!AH91","v":3},{"$error":"#N/A"},{"$error":"#N/A"},null,null,null,null,null,null,null,null,null,null,null,null,null,null,null,null,null,{"$error":"#N/A"},{"$error":"#N/A"},{"$error":"#N/A"},{"$error":"#N/A"},{"$error":"#N/A"},{"$error":"#N/A"},{"$error":"#N/A"},{"$error":"#N/A"},{"$error":"#N/A"},{"$error":"#N/A"},{"$error":"#N/A"},{"$error":"#N/A"},{"$error":"#N/A"},{"$error":"#N/A"}]
[{"$f":"données!W92","v":{"$error":"#N/A"}},{"$f":"données!X92","v":{"$error":"#N/A"}},{"$f":"données!Y92","v":{"$error":"#N/A"}},{"$f":"données!AH92","v":3},{"$error":"#N/A"},{"$error":"#N/A"},null,null,null,null,null,null,null,null,null,null,null,null,null,null,null,null,null,{"$error":"#N/A"},{"$error":"#N/A"},{"$error":"#N/A"},{"$error":"#N/A"},{"$error":"#N/A"},{"$error":"#N/A"},{"$error":"#N/A"},{"$error":"#N/A"},{"$error":"#N/A"},{"$error":"#N/A"},{"$error":"#N/A"},{"$error":"#N/A"},{"$error":"#N/A"},{"$error":"#N/A"}]
[{"$f":"données!W93","v":{"$error":"#N/A"}},{"$f":"données!X93","v":{"$error":"#N/A"}},{"$f":"données!Y93","v":{"$error":"#N/A"}},{"$f":"données!AH93","v":3},{"$error":"#N/A"},{"$error":"#N/A"},null,null,null,null,null,null,null,null,null,null,null,null,null,null,null,null,null,{"$error":"#N/A"},{"$error":"#N/A"},{"$error":"#N/A"},{"$error":"#N/A"},{"$error":"#N/A"},{"$error":"#N/A"},{"$error":"#N/A"},{"$error":"#N/A"},{"$error":"#N/A"},{"$error":"#N/A"},{"$error":"#N/A"},{"$error":"#N/A"},{"$error":"#N/A"},{"$error":"#N/A"}]
[{"$f":"données!W94","v":{"$error":"#N/A"}},{"$f":"données!X94","v":{"$error":"#N/A"}},{"$f":"données!Y94","v":{"$error":"#N/A"}},{"$f":"données!AH94","v":3},{"$error":"#N/A"},{"$error":"#N/A"},null,null,null,null,null,null,null,null,null,null,null,null,null,null,null,null,null,{"$error":"#N/A"},{"$error":"#N/A"},{"$error":"#N/A"},{"$error":"#N/A"},{"$error":"#N/A"},{"$error":"#N/A"},{"$error":"#N/A"},{"$error":"#N/A"},{"$error":"#N/A"},{"$error":"#N/A"},{"$error":"#N/A"},{"$error":"#N/A"},{"$error":"#N/A"},{"$error":"#N/A"}]
[{"$f":"données!W95","v":{"$error":"#N/A"}},{"$f":"données!X95","v":{"$error":"#N/A"}},{"$f":"données!Y95","v":{"$error":"#N/A"}},{"$f":"données!AH95","v":3},{"$error":"#N/A"},{"$error":"#N/A"},null,null,null,null,null,null,null,null,null,null,null,null,null,null,null,null,null,{"$error":"#N/A"},{"$error":"#N/A"},{"$error":"#N/A"},{"$error":"#N/A"},{"$error":"#N/A"},{"$error":"#N/A"},{"$error":"#N/A"},{"$error":"#N/A"},{"$error":"#N/A"},{"$error":"#N/A"},{"$error":"#N/A"},{"$error":"#N/A"},{"$error":"#N/A"},{"$error":"#N/A"}]
[{"$f":"données!W96","v":{"$error":"#N/A"}},{"$f":"données!X96","v":{"$error":"#N/A"}},{"$f":"données!Y96","v":{"$error":"#N/A"}},{"$f":"données!AH96","v":3},{"$error":"#N/A"},{"$error":"#N/A"},null,null,null,null,null,null,null,null,null,null,null,null,null,null,null,null,null,{"$error":"#N/A"},{"$error":"#N/A"},{"$error":"#N/A"},{"$error":"#N/A"},{"$error":"#N/A"},{"$error":"#N/A"},{"$error":"#N/A"},{"$error":"#N/A"},{"$error":"#N/A"},{"$error":"#N/A"},{"$f":"IF($D94=AH$1,$E94,#N/A)","v":{"$error":"#N/A"}},{"$f":"IF($D94=AI$1,$F94,#N/A)","v":{"$error":"#N/A"}},{"$error":"#N/A"},{"$error":"#N/A"}]
[{"$f":"données!W97","v":{"$error":"#N/A"}},{"$f":"données!X97","v":{"$error":"#N/A"}},{"$f":"données!Y97","v":{"$error":"#N/A"}},{"$f":"données!AH97","v":3},{"$error":"#N/A"},{"$error":"#N/A"},null,null,null,null,null,null,null,null,null,null,null,null,null,null,null,null,null,{"$error":"#N/A"},{"$error":"#N/A"},{"$error":"#N/A"},{"$error":"#N/A"},{"$error":"#N/A"},{"$error":"#N/A"},{"$error":"#N/A"},{"$error":"#N/A"},{"$error":"#N/A"},{"$error":"#N/A"},{"$f":"IF($D95=AH$1,$E95,#N/A)","v":{"$error":"#N/A"}},{"$f":"IF($D95=AI$1,$F95,#N/A)","v":{"$error":"#N/A"}},{"$error":"#N/A"},{"$error":"#N/A"}]
[{"$f":"données!W98","v":{"$error":"#N/A"}},{"$f":"données!X98","v":{"$error":"#N/A"}},{"$f":"données!Y98","v":{"$error":"#N/A"}},{"$f":"données!AH98","v":3},{"$error":"#N/A"},{"$error":"#N/A"},null,null,null,null,null,null,null,null,null,null,null,null,null,null,null,null,null,{"$error":"#N/A"},{"$error":"#N/A"},{"$error":"#N/A"},{"$error":"#N/A"},{"$error":"#N/A"},{"$error":"#N/A"},{"$error":"#N/A"},{"$error":"#N/A"},{"$error":"#N/A"},{"$error":"#N/A"},{"$f":"IF($D96=AH$1,$E96,#N/A)","v":{"$error":"#N/A"}},{"$f":"IF($D96=AI$1,$F96,#N/A)","v":{"$error":"#N/A"}},{"$error":"#N/A"},{"$error":"#N/A"}]
[{"$f":"données!W99","v":{"$error":"#N/A"}},{"$f":"données!X99","v":{"$error":"#N/A"}},{"$f":"données!Y99","v":{"$error":"#N/A"}},{"$f":"données!AH99","v":3},{"$error":"#N/A"},{"$error":"#N/A"},null,null,null,null,null,null,null,null,null,null,null,null,null,null,null,null,null,{"$error":"#N/A"},{"$error":"#N/A"},{"$error":"#N/A"},{"$error":"#N/A"},{"$error":"#N/A"},{"$error":"#N/A"},{"$error":"#N/A"},{"$error":"#N/A"},{"$f":"IF($D97=AF$1,$E97,#N/A)","v":{"$error":"#N/A"}},{"$f":"IF($D97=AG$1,$F97,#N/A)","v":{"$error":"#N/A"}},{"$error":"#N/A"},{"$error":"#N/A"},{"$error":"#N/A"},{"$error":"#N/A"}]
[{"$f":"données!W100","v":{"$error":"#N/A"}},{"$f":"données!X100","v":{"$error":"#N/A"}},{"$f":"données!Y100","v":{"$error":"#N/A"}},{"$f":"données!AH100","v":3},{"$error":"#N/A"},{"$error":"#N/A"},null,null,null,null,null,null,null,null,null,null,null,null,null,null,null,null,null,{"$error":"#N/A"},{"$error":"#N/A"},{"$error":"#N/A"},{"$error":"#N/A"},{"$error":"#N/A"},{"$error":"#N/A"},{"$error":"#N/A"},{"$error":"#N/A"},{"$f":"IF($D98=AF$1,$E98,#N/A)","v":{"$error":"#N/A"}},{"$f":"IF($D98=AG$1,$F98,#N/A)","v":{"$error":"#N/A"}},{"$error":"#N/A"},{"$error":"#N/A"},{"$error":"#N/A"},{"$error":"#N/A"}]
[{"$f":"données!W101","v":{"$error":"#N/A"}},{"$f":"données!X101","v":{"$error":"#N/A"}},{"$f":"données!Y101","v":{"$error":"#N/A"}},{"$f":"données!AH101","v":3},{"$error":"#N/A"},{"$error":"#N/A"},null,null,null,null,null,null,null,null,null,null,null,null,null,null,null,null,null,{"$error":"#N/A"},{"$error":"#N/A"},{"$error":"#N/A"},{"$error":"#N/A"},{"$error":"#N/A"},{"$error":"#N/A"},{"$f":"IF($D99=AD$1,$E99,#N/A)","v":{"$error":"#N/A"}},{"$f":"IF($D99=AE$1,$F99,#N/A)","v":{"$error":"#N/A"}},{"$error":"#N/A"},{"$error":"#N/A"},{"$error":"#N/A"},{"$error":"#N/A"},{"$error":"#N/A"},{"$error":"#N/A"}]
[{"$f":"données!W102","v":{"$error":"#N/A"}},{"$f":"données!X102","v":{"$error":"#N/A"}},{"$f":"données!Y102","v":{"$error":"#N/A"}},{"$f":"données!AH102","v":3},{"$error":"#N/A"},{"$error":"#N/A"},null,null,null,null,null,null,null,null,null,null,null,null,null,null,null,null,null,{"$error":"#N/A"},{"$error":"#N/A"},{"$error":"#N/A"},{"$error":"#N/A"},{"$error":"#N/A"},{"$error":"#N/A"},{"$f":"IF($D100=AD$1,$E100,#N/A)","v":{"$error":"#N/A"}},{"$f":"IF($D100=AE$1,$F100,#N/A)","v":{"$error":"#N/A"}},{"$error":"#N/A"},{"$error":"#N/A"},{"$error":"#N/A"},{"$error":"#N/A"},{"$error":"#N/A"},{"$error":"#N/A"}]
[{"$f":"données!W103","v":{"$error":"#N/A"}},{"$f":"données!X103","v":{"$error":"#N/A"}},{"$f":"données!Y103","v":{"$error":"#N/A"}},{"$f":"données!AH103","v":3},{"$error":"#N/A"},{"$error":"#N/A"},null,null,null,null,null,null,null,null,null,null,null,null,null,null,null,null,null,{"$error":"#N/A"},{"$error":"#N/A"},{"$error":"#N/A"},{"$error":"#N/A"},{"$error":"#N/A"},{"$error":"#N/A"},{"$f":"IF($D101=AD$1,$E101,#N/A)","v":{"$error":"#N/A"}},{"$f":"IF($D101=AE$1,$F101,#N/A)","v":{"$error":"#N/A"}},{"$error":"#N/A"},{"$error":"#N/A"},{"$error":"#N/A"},{"$error":"#N/A"},{"$error":"#N/A"},{"$error":"#N/A"}]
[{"$f":"données!W104","v":{"$error":"#N/A"}},{"$f":"données!X104","v":{"$error":"#N/A"}},{"$f":"données!Y104","v":{"$error":"#N/A"}},{"$f":"données!AH104","v":3},{"$error":"#N/A"},{"$error":"#N/A"},null,null,null,null,null,null,null,null,null,null,null,null,null,null,null,null,null,{"$error":"#N/A"},{"$error":"#N/A"},{"$error":"#N/A"},{"$error":"#N/A"},{"$error":"#N/A"},{"$error":"#N/A"},{"$f":"IF($D102=AD$1,$E102,#N/A)","v":{"$error":"#N/A"}},{"$f":"IF($D102=AE$1,$F102,#N/A)","v":{"$error":"#N/A"}},{"$error":"#N/A"},{"$error":"#N/A"},{"$error":"#N/A"},{"$error":"#N/A"},{"$error":"#N/A"},{"$error":"#N/A"}]
[{"$f":"données!W105","v":{"$error":"#N/A"}},{"$f":"données!X105","v":{"$error":"#N/A"}},{"$f":"données!Y105","v":{"$error":"#N/A"}},{"$f":"données!AH105","v":3},{"$error":"#N/A"},{"$error":"#N/A"},null,null,null,null,null,null,null,null,null,null,null,null,null,null,null,null,null,{"$error":"#N/A"},{"$error":"#N/A"},{"$error":"#N/A"},{"$error":"#N/A"},{"$error":"#N/A"},{"$error":"#N/A"},{"$error":"#N/A"},{"$error":"#N/A"},{"$error":"#N/A"},{"$error":"#N/A"},{"$f":"IF($D103=AH$1,$E103,#N/A)","v":{"$error":"#N/A"}},{"$f":"IF($D103=AI$1,$F103,#N/A)","v":{"$error":"#N/A"}},{"$error":"#N/A"},{"$error":"#N/A"}]
[{"$f":"données!W106","v":{"$error":"#N/A"}},{"$f":"données!X106","v":{"$error":"#N/A"}},{"$f":"données!Y106","v":{"$error":"#N/A"}},{"$f":"données!AH106","v":3},{"$error":"#N/A"},{"$error":"#N/A"},null,null,null,null,null,null,null,null,null,null,null,null,null,null,null,null,null,{"$error":"#N/A"},{"$error":"#N/A"},{"$error":"#N/A"},{"$error":"#N/A"},{"$error":"#N/A"},{"$error":"#N/A"},{"$error":"#N/A"},{"$error":"#N/A"},{"$error":"#N/A"},{"$error":"#N/A"},{"$f":"IF($D104=AH$1,$E104,#N/A)","v":{"$error":"#N/A"}},{"$f":"IF($D104=AI$1,$F104,#N/A)","v":{"$error":"#N/A"}},{"$error":"#N/A"},{"$error":"#N/A"}]
[{"$f":"données!W107","v":{"$error":"#N/A"}},{"$f":"données!X107","v":{"$error":"#N/A"}},{"$f":"données!Y107","v":{"$error":"#N/A"}},{"$f":"données!AH107","v":3},{"$error":"#N/A"},{"$error":"#N/A"},null,null,null,null,null,null,null,null,null,null,null,null,null,null,null,null,null,{"$error":"#N/A"},{"$error":"#N/A"},{"$error":"#N/A"},{"$error":"#N/A"},{"$error":"#N/A"},{"$error":"#N/A"},{"$error":"#N/A"},{"$error":"#N/A"},{"$error":"#N/A"},{"$error":"#N/A"},{"$f":"IF($D105=AH$1,$E105,#N/A)","v":{"$error":"#N/A"}},{"$f":"IF($D105=AI$1,$F105,#N/A)","v":{"$error":"#N/A"}},{"$error":"#N/A"},{"$error":"#N/A"}]
[{"$f":"données!W108","v":{"$error":"#N/A"}},{"$f":"données!X108","v":{"$error":"#N/A"}},{"$f":"données!Y108","v":{"$error":"#N/A"}},{"$f":"données!AH108","v":3},{"$error":"#N/A"},{"$error":"#N/A"},null,null,null,null,null,null,null,null,null,null,null,null,null,null,null,null,null,{"$error":"#N/A"},{"$error":"#N/A"},{"$error":"#N/A"},{"$error":"#N/A"},{"$error":"#N/A"},{"$error":"#N/A"},{"$error":"#N/A"},{"$error":"#N/A"},{"$error":"#N/A"},{"$error":"#N/A"},{"$error":"#N/A"},{"$error":"#N/A"},{"$f":"IF($D106=AJ$1,$E106,#N/A)","v":{"$error":"#N/A"}},{"$f":"IF($D106=AK$1,$F106,#N/A)","v":{"$error":"#N/A"}}]
[{"$f":"données!W109","v":{"$error":"#N/A"}},{"$f":"données!X109","v":{"$error":"#N/A"}},{"$f":"données!Y109","v":{"$error":"#N/A"}},{"$f":"données!AH109","v":3},{"$error":"#N/A"},{"$error":"#N/A"},null,null,null,null,null,null,null,null,null,null,null,null,null,null,null,null,null,{"$error":"#N/A"},{"$error":"#N/A"},{"$error":"#N/A"},{"$error":"#N/A"},{"$error":"#N/A"},{"$error":"#N/A"},{"$error":"#N/A"},{"$error":"#N/A"},{"$error":"#N/A"},{"$error":"#N/A"},{"$error":"#N/A"},{"$error":"#N/A"},{"$error":"#N/A"},{"$error":"#N/A"}]
[{"$f":"données!W110","v":{"$error":"#N/A"}},{"$f":"données!X110","v":{"$error":"#N/A"}},{"$f":"données!Y110","v":{"$error":"#N/A"}},{"$f":"données!AH110","v":3},{"$error":"#N/A"},{"$error":"#N/A"},null,null,null,null,null,null,null,null,null,null,null,null,null,null,null,null,null,{"$error":"#N/A"},{"$error":"#N/A"},{"$error":"#N/A"},{"$error":"#N/A"},{"$error":"#N/A"},{"$error":"#N/A"},{"$error":"#N/A"},{"$error":"#N/A"},{"$error":"#N/A"},{"$error":"#N/A"},{"$error":"#N/A"},{"$error":"#N/A"},{"$error":"#N/A"},{"$error":"#N/A"}]
[{"$f":"données!W111","v":{"$error":"#N/A"}},{"$f":"données!X111","v":{"$error":"#N/A"}},{"$f":"données!Y111","v":{"$error":"#N/A"}},{"$f":"données!AH111","v":3},{"$error":"#N/A"},{"$error":"#N/A"},null,null,null,null,null,null,null,null,null,null,null,null,null,null,null,null,null,{"$error":"#N/A"},{"$error":"#N/A"},{"$error":"#N/A"},{"$error":"#N/A"},{"$error":"#N/A"},{"$error":"#N/A"},{"$error":"#N/A"},{"$error":"#N/A"},{"$error":"#N/A"},{"$error":"#N/A"},{"$error":"#N/A"},{"$error":"#N/A"},{"$error":"#N/A"},{"$error":"#N/A"}]
[{"$f":"données!W112","v":{"$error":"#N/A"}},{"$f":"données!X112","v":{"$error":"#N/A"}},{"$f":"données!Y112","v":{"$error":"#N/A"}},{"$f":"données!AH112","v":3},{"$error":"#N/A"},{"$error":"#N/A"},null,null,null,null,null,null,null,null,null,null,null,null,null,null,null,null,null,{"$error":"#N/A"},{"$error":"#N/A"},{"$error":"#N/A"},{"$error":"#N/A"},{"$error":"#N/A"},{"$error":"#N/A"},{"$error":"#N/A"},{"$error":"#N/A"},{"$error":"#N/A"},{"$error":"#N/A"},{"$error":"#N/A"},{"$error":"#N/A"},{"$error":"#N/A"},{"$error":"#N/A"}]
[{"$f":"données!W113","v":{"$error":"#N/A"}},{"$f":"données!X113","v":{"$error":"#N/A"}},{"$f":"données!Y113","v":{"$error":"#N/A"}},{"$f":"données!AH113","v":3},{"$error":"#N/A"},{"$error":"#N/A"},null,null,null,null,null,null,null,null,null,null,null,null,null,null,null,null,null,{"$error":"#N/A"},{"$error":"#N/A"},{"$error":"#N/A"},{"$error":"#N/A"},{"$error":"#N/A"},{"$error":"#N/A"},{"$error":"#N/A"},{"$error":"#N/A"},{"$error":"#N/A"},{"$error":"#N/A"},{"$error":"#N/A"},{"$error":"#N/A"},{"$error":"#N/A"},{"$error":"#N/A"}]
[{"$f":"données!W114","v":{"$error":"#N/A"}},{"$f":"données!X114","v":{"$error":"#N/A"}},{"$f":"données!Y114","v":{"$error":"#N/A"}},{"$f":"données!AH114","v":3},{"$error":"#N/A"},{"$error":"#N/A"},null,null,null,null,null,null,null,null,null,null,null,null,null,null,null,null,null,{"$error":"#N/A"},{"$error":"#N/A"},{"$error":"#N/A"},{"$error":"#N/A"},{"$error":"#N/A"},{"$error":"#N/A"},{"$error":"#N/A"},{"$error":"#N/A"},{"$error":"#N/A"},{"$error":"#N/A"},{"$error":"#N/A"},{"$error":"#N/A"},{"$error":"#N/A"},{"$error":"#N/A"}]
[{"$f":"données!W115","v":{"$error":"#N/A"}},{"$f":"données!X115","v":{"$error":"#N/A"}},{"$f":"données!Y115","v":{"$error":"#N/A"}},{"$f":"données!AH115","v":3},{"$error":"#N/A"},{"$error":"#N/A"},null,null,null,null,null,null,null,null,null,null,null,null,null,null,null,null,null,{"$error":"#N/A"},{"$error":"#N/A"},{"$error":"#N/A"},{"$error":"#N/A"},{"$error":"#N/A"},{"$error":"#N/A"},{"$error":"#N/A"},{"$error":"#N/A"},{"$error":"#N/A"},{"$error":"#N/A"},{"$error":"#N/A"},{"$error":"#N/A"},{"$error":"#N/A"},{"$error":"#N/A"}]
[{"$f":"données!W116","v":{"$error":"#N/A"}},{"$f":"données!X116","v":{"$error":"#N/A"}},{"$f":"données!Y116","v":{"$error":"#N/A"}},{"$f":"données!AH116","v":3},{"$error":"#N/A"},{"$error":"#N/A"},null,null,null,null,null,null,null,null,null,null,null,null,null,null,null,null,null,{"$error":"#N/A"},{"$error":"#N/A"},{"$error":"#N/A"},{"$error":"#N/A"},{"$error":"#N/A"},{"$error":"#N/A"},{"$error":"#N/A"},{"$error":"#N/A"},{"$error":"#N/A"},{"$error":"#N/A"},{"$error":"#N/A"},{"$error":"#N/A"},{"$error":"#N/A"},{"$error":"#N/A"}]
[{"$f":"données!W117","v":{"$error":"#N/A"}},{"$f":"données!X117","v":{"$error":"#N/A"}},{"$f":"données!Y117","v":{"$error":"#N/A"}},{"$f":"données!AH117","v":3},{"$error":"#N/A"},{"$error":"#N/A"},null,null,null,null,null,null,null,null,null,null,null,null,null,null,null,null,null,{"$error":"#N/A"},{"$error":"#N/A"},{"$error":"#N/A"},{"$error":"#N/A"},{"$error":"#N/A"},{"$error":"#N/A"},{"$error":"#N/A"},{"$error":"#N/A"},{"$error":"#N/A"},{"$error":"#N/A"},{"$error":"#N/A"},{"$error":"#N/A"},{"$error":"#N/A"},{"$error":"#N/A"}]
[{"$f":"données!W118","v":{"$error":"#N/A"}},{"$f":"données!X118","v":{"$error":"#N/A"}},{"$f":"données!Y118","v":{"$error":"#N/A"}},{"$f":"données!AH118","v":3},{"$error":"#N/A"},{"$error":"#N/A"},null,null,null,null,null,null,null,null,null,null,null,null,null,null,null,null,null,{"$error":"#N/A"},{"$error":"#N/A"},{"$error":"#N/A"},{"$error":"#N/A"},{"$error":"#N/A"},{"$error":"#N/A"},{"$error":"#N/A"},{"$error":"#N/A"},{"$error":"#N/A"},{"$error":"#N/A"},{"$error":"#N/A"},{"$error":"#N/A"},{"$error":"#N/A"},{"$error":"#N/A"}]
[{"$f":"données!W119","v":{"$error":"#N/A"}},{"$f":"données!X119","v":{"$error":"#N/A"}},{"$f":"données!Y119","v":{"$error":"#N/A"}},{"$f":"données!AH119","v":3},{"$error":"#N/A"},{"$error":"#N/A"},null,null,null,null,null,null,null,null,null,null,null,null,null,null,null,null,null,{"$error":"#N/A"},{"$error":"#N/A"},{"$error":"#N/A"},{"$error":"#N/A"},{"$error":"#N/A"},{"$error":"#N/A"},{"$error":"#N/A"},{"$error":"#N/A"},{"$error":"#N/A"},{"$error":"#N/A"},{"$error":"#N/A"},{"$error":"#N/A"},{"$error":"#N/A"},{"$error":"#N/A"}]
[{"$f":"données!W120","v":{"$error":"#N/A"}},{"$f":"données!X120","v":{"$error":"#N/A"}},{"$f":"données!Y120","v":{"$error":"#N/A"}},{"$f":"données!AH120","v":3},{"$error":"#N/A"},{"$error":"#N/A"},null,null,null,null,null,null,null,null,null,null,null,null,null,null,null,null,null,{"$error":"#N/A"},{"$error":"#N/A"},{"$error":"#N/A"},{"$error":"#N/A"},{"$error":"#N/A"},{"$error":"#N/A"},{"$error":"#N/A"},{"$error":"#N/A"},{"$error":"#N/A"},{"$error":"#N/A"},{"$error":"#N/A"},{"$error":"#N/A"},{"$error":"#N/A"},{"$error":"#N/A"}]
[{"$f":"données!W121","v":{"$error":"#N/A"}},{"$f":"données!X121","v":{"$error":"#N/A"}},{"$f":"données!Y121","v":{"$error":"#N/A"}},{"$f":"données!AH121","v":3},{"$error":"#N/A"},{"$error":"#N/A"},null,null,null,null,null,null,null,null,null,null,null,null,null,null,null,null,null,{"$error":"#N/A"},{"$error":"#N/A"},{"$error":"#N/A"},{"$error":"#N/A"},{"$error":"#N/A"},{"$error":"#N/A"},{"$error":"#N/A"},{"$error":"#N/A"},{"$error":"#N/A"},{"$error":"#N/A"},{"$error":"#N/A"},{"$error":"#N/A"},{"$error":"#N/A"},{"$error":"#N/A"}]
[{"$f":"données!W122","v":{"$error":"#N/A"}},{"$f":"données!X122","v":{"$error":"#N/A"}},{"$f":"données!Y122","v":{"$error":"#N/A"}},{"$f":"données!AH122","v":2},{"$error":"#N/A"},{"$error":"#N/A"},null,null,null,null,null,null,null,null,null,null,null,null,null,null,null,null,null,{"$f":"IF($D120=X$1,$E120,#N/A)","v":{"$error":"#N/A"}},{"$f":"IF($D120=Y$1,$F120,#N/A)","v":{"$error":"#N/A"}},{"$error":"#N/A"},{"$error":"#N/A"},{"$error":"#N/A"},{"$error":"#N/A"},{"$error":"#N/A"},{"$error":"#N/A"},{"$error":"#N/A"},{"$error":"#N/A"},{"$error":"#N/A"},{"$error":"#N/A"},{"$error":"#N/A"},{"$error":"#N/A"}]
[{"$f":"données!W123","v":{"$error":"#N/A"}},{"$f":"données!X123","v":{"$error":"#N/A"}},{"$f":"données!Y123","v":{"$error":"#N/A"}},{"$f":"données!AH123","v":3},{"$error":"#N/A"},{"$error":"#N/A"},null,null,null,null,null,null,null,null,null,null,null,null,null,null,null,null,null,{"$error":"#N/A"},{"$error":"#N/A"},{"$error":"#N/A"},{"$error":"#N/A"},{"$error":"#N/A"},{"$error":"#N/A"},{"$error":"#N/A"},{"$error":"#N/A"},{"$error":"#N/A"},{"$error":"#N/A"},{"$error":"#N/A"},{"$error":"#N/A"},{"$error":"#N/A"},{"$error":"#N/A"}]
[{"$f":"données!W124","v":{"$error":"#N/A"}},{"$f":"données!X124","v":{"$error":"#N/A"}},{"$f":"données!Y124","v":{"$error":"#N/A"}},{"$f":"données!AH124","v":1},{"$error":"#N/A"},{"$error":"#N/A"},null,null,null,null,null,null,null,null,null,null,null,null,null,null,null,null,null,{"$error":"#N/A"},{"$error":"#N/A"},{"$error":"#N/A"},{"$error":"#N/A"},{"$error":"#N/A"},{"$error":"#N/A"},{"$error":"#N/A"},{"$error":"#N/A"},{"$error":"#N/A"},{"$error":"#N/A"},{"$error":"#N/A"},{"$error":"#N/A"},{"$error":"#N/A"},{"$error":"#N/A"}]
[{"$f":"données!W125","v":{"$error":"#N/A"}},{"$f":"données!X125","v":{"$error":"#N/A"}},{"$f":"données!Y125","v":{"$error":"#N/A"}},{"$f":"données!AH125","v":1},{"$error":"#N/A"},{"$error":"#N/A"},null,null,null,null,null,null,null,null,null,null,null,null,null,null,null,null,null,{"$error":"#N/A"},{"$error":"#N/A"},{"$error":"#N/A"},{"$error":"#N/A"},{"$error":"#N/A"},{"$error":"#N/A"},{"$error":"#N/A"},{"$error":"#N/A"},{"$error":"#N/A"},{"$error":"#N/A"},{"$error":"#N/A"},{"$error":"#N/A"},{"$error":"#N/A"},{"$error":"#N/A"}]
[{"$f":"données!W126","v":{"$error":"#N/A"}},{"$f":"données!X126","v":{"$error":"#N/A"}},{"$f":"données!Y126","v":{"$error":"#N/A"}},{"$f":"données!AH126","v":4},{"$error":"#N/A"},{"$error":"#N/A"},null,null,null,null,null,null,null,null,null,null,null,null,null,null,null,null,null,{"$error":"#N/A"},{"$error":"#N/A"},{"$error":"#N/A"},{"$error":"#N/A"},{"$error":"#N/A"},{"$error":"#N/A"},{"$error":"#N/A"},{"$error":"#N/A"},{"$error":"#N/A"},{"$error":"#N/A"},{"$error":"#N/A"},{"$error":"#N/A"},{"$error":"#N/A"},{"$error":"#N/A"}]
[{"$f":"données!W127","v":{"$error":"#N/A"}},{"$f":"données!X127","v":{"$error":"#N/A"}},{"$f":"données!Y127","v":{"$error":"#N/A"}},{"$f":"données!AH127","v":5},{"$error":"#N/A"},{"$error":"#N/A"},null,null,null,null,null,null,null,null,null,null,null,null,null,null,null,null,null,{"$error":"#N/A"},{"$error":"#N/A"},{"$error":"#N/A"},{"$error":"#N/A"},{"$error":"#N/A"},{"$error":"#N/A"},{"$error":"#N/A"},{"$error":"#N/A"},{"$error":"#N/A"},{"$error":"#N/A"},{"$error":"#N/A"},{"$error":"#N/A"},{"$error":"#N/A"},{"$error":"#N/A"}]
[{"$f":"données!W128","v":{"$error":"#N/A"}},{"$f":"données!X128","v":{"$error":"#N/A"}},{"$f":"données!Y128","v":{"$error":"#N/A"}},{"$f":"données!AH128","v":5},{"$error":"#N/A"},{"$error":"#N/A"},null,null,null,null,null,null,null,null,null,null,null,null,null,null,null,null,null,{"$error":"#N/A"},{"$error":"#N/A"},{"$error":"#N/A"},{"$error":"#N/A"},{"$error":"#N/A"},{"$error":"#N/A"},{"$error":"#N/A"},{"$error":"#N/A"},{"$error":"#N/A"},{"$error":"#N/A"},{"$error":"#N/A"},{"$error":"#N/A"},{"$error":"#N/A"},{"$error":"#N/A"}]
[{"$f":"données!W129","v":{"$error":"#N/A"}},{"$f":"données!X129","v":{"$error":"#N/A"}},{"$f":"données!Y129","v":{"$error":"#N/A"}},{"$f":"données!AH129","v":2},{"$error":"#N/A"},{"$error":"#N/A"},null,null,null,null,null,null,null,null,null,null,null,null,null,null,null,null,null,{"$error":"#N/A"},{"$error":"#N/A"},{"$error":"#N/A"},{"$error":"#N/A"},{"$error":"#N/A"},{"$error":"#N/A"},{"$error":"#N/A"},{"$error":"#N/A"},{"$error":"#N/A"},{"$error":"#N/A"},{"$error":"#N/A"},{"$error":"#N/A"},{"$error":"#N/A"},{"$error":"#N/A"}]
[{"$f":"données!W130","v":{"$error":"#N/A"}},{"$f":"données!X130","v":{"$error":"#N/A"}},{"$f":"données!Y130","v":{"$error":"#N/A"}},{"$f":"données!AH130","v":5},{"$error":"#N/A"},{"$error":"#N/A"},null,null,null,null,null,null,null,null,null,null,null,null,null,null,null,null,null,{"$error":"#N/A"},{"$error":"#N/A"},{"$error":"#N/A"},{"$error":"#N/A"},{"$error":"#N/A"},{"$error":"#N/A"},{"$error":"#N/A"},{"$error":"#N/A"},{"$error":"#N/A"},{"$error":"#N/A"},{"$error":"#N/A"},{"$error":"#N/A"},{"$error":"#N/A"},{"$error":"#N/A"}]
[{"$f":"données!W131","v":{"$error":"#N/A"}},{"$f":"données!X131","v":{"$error":"#N/A"}},{"$f":"données!Y131","v":{"$error":"#N/A"}},{"$f":"données!AH131","v":3},{"$error":"#N/A"},{"$error":"#N/A"},null,null,null,null,null,null,null,null,null,null,null,null,null,null,null,null,null,{"$error":"#N/A"},{"$error":"#N/A"},{"$error":"#N/A"},{"$error":"#N/A"},{"$error":"#N/A"},{"$error":"#N/A"},{"$error":"#N/A"},{"$error":"#N/A"},{"$error":"#N/A"},{"$error":"#N/A"},{"$error":"#N/A"},{"$error":"#N/A"},{"$error":"#N/A"},{"$error":"#N/A"}]
[{"$f":"données!W132","v":{"$error":"#N/A"}},{"$f":"données!X132","v":{"$error":"#N/A"}},{"$f":"données!Y132","v":{"$error":"#N/A"}},{"$f":"données!AH132","v":3},{"$f":"A130+B130*$I$2","v":{"$error":"#N/A"}},{"$f":"C130+B130*$I$3","v":{"$error":"#N/A"}},null,null,null,null,null,null,null,null,null,null,null,null,null,null,null,null,null,{"$error":"#N/A"},{"$error":"#N/A"},{"$f":"IF($D130=Z$1,$E130,#N/A)","v":{"$error":"#N/A"}},{"$f":"IF($D130=AA$1,$F130,#N/A)","v":{"$error":"#N/A"}},{"$f":"IF($D130=AB$1,$E130,#N/A)","v":{"$error":"#N/A"}},{"$f":"IF($D130=AC$1,$F130,#N/A)","v":{"$error":"#N/A"}},{"$f":"IF($D130=AD$1,$E130,#N/A)","v":{"$error":"#N/A"}},{"$f":"IF($D130=AE$1,$F130,#N/A)","v":{"$error":"#N/A"}},{"$f":"IF($D130=AF$1,$E130,#N/A)","v":{"$error":"#N/A"}},{"$f":"IF($D130=AG$1,$F130,#N/A)","v":{"$error":"#N/A"}},{"$f":"IF($D130=AH$1,$E130,#N/A)","v":{"$error":"#N/A"}},{"$f":"IF($D130=AI$1,$F130,#N/A)","v":{"$error":"#N/A"}},{"$f":"IF($D130=AJ$1,$E130,#N/A)","v":{"$error":"#N/A"}},{"$f":"IF($D130=AK$1,$F130,#N/A)","v":{"$error":"#N/A"}}]
[{"$f":"données!W133","v":{"$error":"#N/A"}},{"$f":"données!X133","v":{"$error":"#N/A"}},{"$f":"données!Y133","v":{"$error":"#N/A"}},{"$f":"données!AH133","v":6},{"$error":"#N/A"},{"$error":"#N/A"},null,null,null,null,null,null,null,null,null,null,null,null,null,null,null,null,null,{"$error":"#N/A"},{"$error":"#N/A"},{"$error":"#N/A"},{"$error":"#N/A"},{"$error":"#N/A"},{"$error":"#N/A"},{"$error":"#N/A"},{"$error":"#N/A"},{"$error":"#N/A"},{"$error":"#N/A"},{"$error":"#N/A"},{"$error":"#N/A"},{"$error":"#N/A"},{"$error":"#N/A"}]
[{"$f":"données!W134","v":{"$error":"#N/A"}},{"$f":"données!X134","v":{"$error":"#N/A"}},{"$f":"données!Y134","v":{"$error":"#N/A"}},{"$f":"données!AH134","v":4},{"$error":"#N/A"},{"$error":"#N/A"},null,null,null,null,null,null,null,null,null,null,null,null,null,null,null,null,null,{"$error":"#N/A"},{"$error":"#N/A"},{"$error":"#N/A"},{"$error":"#N/A"},{"$error":"#N/A"},{"$error":"#N/A"},{"$error":"#N/A"},{"$error":"#N/A"},{"$error":"#N/A"},{"$error":"#N/A"},{"$error":"#N/A"},{"$error":"#N/A"},{"$error":"#N/A"},{"$error":"#N/A"}]
[{"$f":"données!W135","v":{"$error":"#N/A"}},{"$f":"données!X135","v":{"$error":"#N/A"}},{"$f":"données!Y135","v":{"$error":"#N/A"}},{"$f":"données!AH135","v":5},{"$error":"#N/A"},{"$error":"#N/A"},null,null,null,null,null,null,null,null,null,null,null,null,null,null,null,null,null,{"$error":"#N/A"},{"$error":"#N/A"},{"$error":"#N/A"},{"$error":"#N/A"},{"$error":"#N/A"},{"$error":"#N/A"},{"$error":"#N/A"},{"$error":"#N/A"},{"$error":"#N/A"},{"$error":"#N/A"},{"$error":"#N/A"},{"$error":"#N/A"},{"$error":"#N/A"},{"$error":"#N/A"}]
[{"$f":"données!W136","v":{"$error":"#N/A"}},{"$f":"données!X136","v":{"$error":"#N/A"}},{"$f":"données!Y136","v":{"$error":"#N/A"}},{"$f":"données!AH136","v":5},{"$error":"#N/A"},{"$error":"#N/A"},null,null,null,null,null,null,null,null,null,null,null,null,null,null,null,null,null,{"$error":"#N/A"},{"$error":"#N/A"},{"$error":"#N/A"},{"$error":"#N/A"},{"$error":"#N/A"},{"$error":"#N/A"},{"$error":"#N/A"},{"$error":"#N/A"},{"$error":"#N/A"},{"$error":"#N/A"},{"$error":"#N/A"},{"$error":"#N/A"},{"$error":"#N/A"},{"$error":"#N/A"}]
[{"$f":"données!W137","v":{"$error":"#N/A"}},{"$f":"données!X137","v":{"$error":"#N/A"}},{"$f":"données!Y137","v":{"$error":"#N/A"}},{"$f":"données!AH137","v":5},{"$error":"#N/A"},{"$error":"#N/A"},null,null,null,null,null,null,null,null,null,null,null,null,null,null,null,null,null,{"$error":"#N/A"},{"$error":"#N/A"},{"$error":"#N/A"},{"$error":"#N/A"},{"$error":"#N/A"},{"$error":"#N/A"},{"$error":"#N/A"},{"$error":"#N/A"},{"$error":"#N/A"},{"$error":"#N/A"},{"$error":"#N/A"},{"$error":"#N/A"},{"$error":"#N/A"},{"$error":"#N/A"}]
[{"$f":"données!W138","v":{"$error":"#N/A"}},{"$f":"données!X138","v":{"$error":"#N/A"}},{"$f":"données!Y138","v":{"$error":"#N/A"}},{"$f":"données!AH138","v":3},{"$error":"#N/A"},{"$error":"#N/A"},null,null,null,null,null,null,null,null,null,null,null,null,null,null,null,null,null,{"$error":"#N/A"},{"$error":"#N/A"},{"$error":"#N/A"},{"$error":"#N/A"},{"$error":"#N/A"},{"$error":"#N/A"},{"$error":"#N/A"},{"$error":"#N/A"},{"$error":"#N/A"},{"$error":"#N/A"},{"$error":"#N/A"},{"$error":"#N/A"},{"$error":"#N/A"},{"$error":"#N/A"}]
[{"$f":"données!W139","v":{"$error":"#N/A"}},{"$f":"données!X139","v":{"$error":"#N/A"}},{"$f":"données!Y139","v":{"$error":"#N/A"}},{"$f":"données!AH139","v":4},{"$error":"#N/A"},{"$error":"#N/A"},null,null,null,null,null,null,null,null,null,null,null,null,null,null,null,null,null,{"$error":"#N/A"},{"$error":"#N/A"},{"$error":"#N/A"},{"$error":"#N/A"},{"$error":"#N/A"},{"$error":"#N/A"},{"$error":"#N/A"},{"$error":"#N/A"},{"$error":"#N/A"},{"$error":"#N/A"},{"$error":"#N/A"},{"$error":"#N/A"},{"$error":"#N/A"},{"$error":"#N/A"}]
[{"$f":"données!W140","v":{"$error":"#N/A"}},{"$f":"données!X140","v":{"$error":"#N/A"}},{"$f":"données!Y140","v":{"$error":"#N/A"}},{"$f":"données!AH140","v":3},{"$error":"#N/A"},{"$error":"#N/A"},null,null,null,null,null,null,null,null,null,null,null,null,null,null,null,null,null,{"$error":"#N/A"},{"$error":"#N/A"},{"$error":"#N/A"},{"$error":"#N/A"},{"$error":"#N/A"},{"$error":"#N/A"},{"$error":"#N/A"},{"$error":"#N/A"},{"$error":"#N/A"},{"$error":"#N/A"},{"$error":"#N/A"},{"$error":"#N/A"},{"$error":"#N/A"},{"$error":"#N/A"}]
[{"$f":"données!W141","v":{"$error":"#N/A"}},{"$f":"données!X141","v":{"$error":"#N/A"}},{"$f":"données!Y141","v":{"$error":"#N/A"}},{"$f":"données!AH141","v":4},{"$error":"#N/A"},{"$error":"#N/A"},null,null,null,null,null,null,null,null,null,null,null,null,null,null,null,null,null,{"$error":"#N/A"},{"$error":"#N/A"},{"$error":"#N/A"},{"$error":"#N/A"},{"$error":"#N/A"},{"$error":"#N/A"},{"$error":"#N/A"},{"$error":"#N/A"},{"$error":"#N/A"},{"$error":"#N/A"},{"$error":"#N/A"},{"$error":"#N/A"},{"$error":"#N/A"},{"$error":"#N/A"}]
[{"$f":"données!W142","v":{"$error":"#N/A"}},{"$f":"données!X142","v":{"$error":"#N/A"}},{"$f":"données!Y142","v":{"$error":"#N/A"}},{"$f":"données!AH142","v":1},{"$error":"#N/A"},{"$error":"#N/A"},null,null,null,null,null,null,null,null,null,null,null,null,null,null,null,null,null,{"$error":"#N/A"},{"$error":"#N/A"},{"$error":"#N/A"},{"$error":"#N/A"},{"$error":"#N/A"},{"$error":"#N/A"},{"$error":"#N/A"},{"$error":"#N/A"},{"$error":"#N/A"},{"$error":"#N/A"},{"$error":"#N/A"},{"$error":"#N/A"},{"$error":"#N/A"},{"$error":"#N/A"}]
[{"$f":"données!W143","v":{"$error":"#N/A"}},{"$f":"données!X143","v":{"$error":"#N/A"}},{"$f":"données!Y143","v":{"$error":"#N/A"}},{"$f":"données!AH143","v":1},{"$error":"#N/A"},{"$error":"#N/A"},null,null,null,null,null,null,null,null,null,null,null,null,null,null,null,null,null,{"$error":"#N/A"},{"$error":"#N/A"},{"$error":"#N/A"},{"$error":"#N/A"},{"$error":"#N/A"},{"$error":"#N/A"},{"$error":"#N/A"},{"$error":"#N/A"},{"$error":"#N/A"},{"$error":"#N/A"},{"$error":"#N/A"},{"$error":"#N/A"},{"$error":"#N/A"},{"$error":"#N/A"}]
[{"$f":"données!W144","v":{"$error":"#N/A"}},{"$f":"données!X144","v":{"$error":"#N/A"}},{"$f":"données!Y144","v":{"$error":"#N/A"}},{"$f":"données!AH144","v":3},{"$error":"#N/A"},{"$error":"#N/A"},null,null,null,null,null,null,null,null,null,null,null,null,null,null,null,null,null,{"$error":"#N/A"},{"$error":"#N/A"},{"$error":"#N/A"},{"$error":"#N/A"},{"$error":"#N/A"},{"$error":"#N/A"},{"$error":"#N/A"},{"$error":"#N/A"},{"$error":"#N/A"},{"$error":"#N/A"},{"$error":"#N/A"},{"$error":"#N/A"},{"$error":"#N/A"},{"$error":"#N/A"}]
[{"$f":"données!W145","v":{"$error":"#N/A"}},{"$f":"données!X145","v":{"$error":"#N/A"}},{"$f":"données!Y145","v":{"$error":"#N/A"}},{"$f":"données!AH145","v":7},{"$error":"#N/A"},{"$error":"#N/A"},null,null,null,null,null,null,null,null,null,null,null,null,null,null,null,null,null,{"$error":"#N/A"},{"$error":"#N/A"},{"$error":"#N/A"},{"$error":"#N/A"},{"$error":"#N/A"},{"$error":"#N/A"},{"$error":"#N/A"},{"$error":"#N/A"},{"$error":"#N/A"},{"$error":"#N/A"},{"$error":"#N/A"},{"$error":"#N/A"},{"$error":"#N/A"},{"$error":"#N/A"}]
[{"$f":"données!W146","v":{"$error":"#N/A"}},{"$f":"données!X146","v":{"$error":"#N/A"}},{"$f":"données!Y146","v":{"$error":"#N/A"}},{"$f":"données!AH146","v":4},{"$error":"#N/A"},{"$error":"#N/A"},null,null,null,null,null,null,null,null,null,null,null,null,null,null,null,null,null,{"$error":"#N/A"},{"$error":"#N/A"},{"$error":"#N/A"},{"$error":"#N/A"},{"$error":"#N/A"},{"$error":"#N/A"},{"$error":"#N/A"},{"$error":"#N/A"},{"$error":"#N/A"},{"$error":"#N/A"},{"$error":"#N/A"},{"$error":"#N/A"},{"$error":"#N/A"},{"$error":"#N/A"}]
[{"$f":"données!W147","v":{"$error":"#N/A"}},{"$f":"données!X147","v":{"$error":"#N/A"}},{"$f":"données!Y147","v":{"$error":"#N/A"}},{"$f":"données!AH147","v":3},{"$error":"#N/A"},{"$error":"#N/A"},null,null,null,null,null,null,null,null,null,null,null,null,null,null,null,null,null,{"$error":"#N/A"},{"$error":"#N/A"},{"$error":"#N/A"},{"$error":"#N/A"},{"$error":"#N/A"},{"$error":"#N/A"},{"$error":"#N/A"},{"$error":"#N/A"},{"$error":"#N/A"},{"$error":"#N/A"},{"$error":"#N/A"},{"$error":"#N/A"},{"$error":"#N/A"},{"$error":"#N/A"}]
[{"$f":"données!W148","v":{"$error":"#N/A"}},{"$f":"données!X148","v":{"$error":"#N/A"}},{"$f":"données!Y148","v":{"$error":"#N/A"}},{"$f":"données!AH148","v":3},{"$error":"#N/A"},{"$error":"#N/A"},null,null,null,null,null,null,null,null,null,null,null,null,null,null,null,null,null,{"$error":"#N/A"},{"$error":"#N/A"},{"$error":"#N/A"},{"$error":"#N/A"},{"$error":"#N/A"},{"$error":"#N/A"},{"$error":"#N/A"},{"$error":"#N/A"},{"$error":"#N/A"},{"$error":"#N/A"},{"$error":"#N/A"},{"$error":"#N/A"},{"$error":"#N/A"},{"$error":"#N/A"}]
[{"$f":"données!W149","v":{"$error":"#N/A"}},{"$f":"données!X149","v":{"$error":"#N/A"}},{"$f":"données!Y149","v":{"$error":"#N/A"}},{"$f":"données!AH149","v":1},{"$error":"#N/A"},{"$error":"#N/A"},null,null,null,null,null,null,null,null,null,null,null,null,null,null,null,null,null,{"$error":"#N/A"},{"$error":"#N/A"},{"$error":"#N/A"},{"$error":"#N/A"},{"$error":"#N/A"},{"$error":"#N/A"},{"$error":"#N/A"},{"$error":"#N/A"},{"$error":"#N/A"},{"$error":"#N/A"},{"$error":"#N/A"},{"$error":"#N/A"},{"$error":"#N/A"},{"$error":"#N/A"}]
[{"$f":"données!W150","v":{"$error":"#N/A"}},{"$f":"données!X150","v":{"$error":"#N/A"}},{"$f":"données!Y150","v":{"$error":"#N/A"}},{"$f":"données!AH150","v":6},{"$error":"#N/A"},{"$error":"#N/A"},null,null,null,null,null,null,null,null,null,null,null,null,null,null,null,null,null,{"$error":"#N/A"},{"$error":"#N/A"},{"$error":"#N/A"},{"$error":"#N/A"},{"$error":"#N/A"},{"$error":"#N/A"},{"$error":"#N/A"},{"$error":"#N/A"},{"$error":"#N/A"},{"$error":"#N/A"},{"$error":"#N/A"},{"$error":"#N/A"},{"$error":"#N/A"},{"$error":"#N/A"}]
[{"$f":"données!W151","v":{"$error":"#N/A"}},{"$f":"données!X151","v":{"$error":"#N/A"}},{"$f":"données!Y151","v":{"$error":"#N/A"}},{"$f":"données!AH151","v":2},{"$error":"#N/A"},{"$error":"#N/A"},null,null,null,null,null,null,null,null,null,null,null,null,null,null,null,null,null,{"$error":"#N/A"},{"$error":"#N/A"},{"$error":"#N/A"},{"$error":"#N/A"},{"$error":"#N/A"},{"$error":"#N/A"},{"$error":"#N/A"},{"$error":"#N/A"},{"$error":"#N/A"},{"$error":"#N/A"},{"$error":"#N/A"},{"$error":"#N/A"},{"$error":"#N/A"},{"$error":"#N/A"}]
[{"$f":"données!W152","v":{"$error":"#N/A"}},{"$f":"données!X152","v":{"$error":"#N/A"}},{"$f":"données!Y152","v":{"$error":"#N/A"}},{"$f":"données!AH152","v":2},{"$error":"#N/A"},{"$error":"#N/A"},null,null,null,null,null,null,null,null,null,null,null,null,null,null,null,null,null,{"$error":"#N/A"},{"$error":"#N/A"},{"$error":"#N/A"},{"$error":"#N/A"},{"$error":"#N/A"},{"$error":"#N/A"},{"$error":"#N/A"},{"$error":"#N/A"},{"$error":"#N/A"},{"$error":"#N/A"},{"$error":"#N/A"},{"$error":"#N/A"},{"$error":"#N/A"},{"$error":"#N/A"}]
[{"$f":"données!W153","v":{"$error":"#N/A"}},{"$f":"données!X153","v":{"$error":"#N/A"}},{"$f":"données!Y153","v":{"$error":"#N/A"}},{"$f":"données!AH153","v":6},{"$error":"#N/A"},{"$error":"#N/A"},null,null,null,null,null,null,null,null,null,null,null,null,null,null,null,null,null,{"$error":"#N/A"},{"$error":"#N/A"},{"$error":"#N/A"},{"$error":"#N/A"},{"$error":"#N/A"},{"$error":"#N/A"},{"$error":"#N/A"},{"$error":"#N/A"},{"$error":"#N/A"},{"$error":"#N/A"},{"$error":"#N/A"},{"$error":"#N/A"},{"$error":"#N/A"},{"$error":"#N/A"}]
[{"$f":"données!W154","v":{"$error":"#N/A"}},{"$f":"données!X154","v":{"$error":"#N/A"}},{"$f":"données!Y154","v":{"$error":"#N/A"}},{"$f":"données!AH154","v":2},{"$error":"#N/A"},{"$error":"#N/A"},null,null,null,null,null,null,null,null,null,null,null,null,null,null,null,null,null,{"$error":"#N/A"},{"$error":"#N/A"},{"$error":"#N/A"},{"$error":"#N/A"},{"$error":"#N/A"},{"$error":"#N/A"},{"$error":"#N/A"},{"$error":"#N/A"},{"$error":"#N/A"},{"$error":"#N/A"},{"$error":"#N/A"},{"$error":"#N/A"},{"$error":"#N/A"},{"$error":"#N/A"}]
[{"$f":"données!W155","v":{"$error":"#N/A"}},{"$f":"données!X155","v":{"$error":"#N/A"}},{"$f":"données!Y155","v":{"$error":"#N/A"}},{"$f":"données!AH155","v":4},{"$error":"#N/A"},{"$error":"#N/A"},null,null,null,null,null,null,null,null,null,null,null,null,null,null,null,null,null,{"$error":"#N/A"},{"$error":"#N/A"},{"$error":"#N/A"},{"$error":"#N/A"},{"$error":"#N/A"},{"$error":"#N/A"},{"$error":"#N/A"},{"$error":"#N/A"},{"$error":"#N/A"},{"$error":"#N/A"},{"$error":"#N/A"},{"$error":"#N/A"},{"$error":"#N/A"},{"$error":"#N/A"}]
[{"$f":"données!W156","v":{"$error":"#N/A"}},{"$f":"données!X156","v":{"$error":"#N/A"}},{"$f":"données!Y156","v":{"$error":"#N/A"}},{"$f":"données!AH156","v":5},{"$error":"#N/A"},{"$error":"#N/A"},null,null,null,null,null,null,null,null,null,null,null,null,null,null,null,null,null,{"$error":"#N/A"},{"$error":"#N/A"},{"$error":"#N/A"},{"$error":"#N/A"},{"$error":"#N/A"},{"$error":"#N/A"},{"$error":"#N/A"},{"$error":"#N/A"},{"$error":"#N/A"},{"$error":"#N/A"},{"$error":"#N/A"},{"$error":"#N/A"},{"$error":"#N/A"},{"$error":"#N/A"}]
[{"$f":"données!W157","v":{"$error":"#N/A"}},{"$f":"données!X157","v":{"$error":"#N/A"}},{"$f":"données!Y157","v":{"$error":"#N/A"}},{"$f":"données!AH157","v":3},{"$error":"#N/A"},{"$error":"#N/A"},null,null,null,null,null,null,null,null,null,null,null,null,null,null,null,null,null,{"$error":"#N/A"},{"$error":"#N/A"},{"$error":"#N/A"},{"$error":"#N/A"},{"$error":"#N/A"},{"$error":"#N/A"},{"$error":"#N/A"},{"$error":"#N/A"},{"$error":"#N/A"},{"$error":"#N/A"},{"$error":"#N/A"},{"$error":"#N/A"},{"$error":"#N/A"},{"$error":"#N/A"}]
[{"$f":"données!W158","v":{"$error":"#N/A"}},{"$f":"données!X158","v":{"$error":"#N/A"}},{"$f":"données!Y158","v":{"$error":"#N/A"}},{"$f":"données!AH158","v":3},{"$error":"#N/A"},{"$error":"#N/A"},null,null,null,null,null,null,null,null,null,null,null,null,null,null,null,null,null,{"$error":"#N/A"},{"$error":"#N/A"},{"$error":"#N/A"},{"$error":"#N/A"},{"$error":"#N/A"},{"$error":"#N/A"},{"$error":"#N/A"},{"$error":"#N/A"},{"$error":"#N/A"},{"$error":"#N/A"},{"$error":"#N/A"},{"$error":"#N/A"},{"$error":"#N/A"},{"$error":"#N/A"}]
[{"$f":"données!W159","v":{"$error":"#N/A"}},{"$f":"données!X159","v":{"$error":"#N/A"}},{"$f":"données!Y159","v":{"$error":"#N/A"}},{"$f":"données!AH159","v":7},{"$error":"#N/A"},{"$error":"#N/A"},null,null,null,null,null,null,null,null,null,null,null,null,null,null,null,null,null,{"$error":"#N/A"},{"$error":"#N/A"},{"$error":"#N/A"},{"$error":"#N/A"},{"$error":"#N/A"},{"$error":"#N/A"},{"$error":"#N/A"},{"$error":"#N/A"},{"$error":"#N/A"},{"$error":"#N/A"},{"$error":"#N/A"},{"$error":"#N/A"},{"$error":"#N/A"},{"$error":"#N/A"}]
[{"$f":"données!W160","v":{"$error":"#N/A"}},{"$f":"données!X160","v":{"$error":"#N/A"}},{"$f":"données!Y160","v":{"$error":"#N/A"}},{"$f":"données!AH160","v":4},{"$error":"#N/A"},{"$error":"#N/A"},null,null,null,null,null,null,null,null,null,null,null,null,null,null,null,null,null,{"$error":"#N/A"},{"$error":"#N/A"},{"$error":"#N/A"},{"$error":"#N/A"},{"$error":"#N/A"},{"$error":"#N/A"},{"$error":"#N/A"},{"$error":"#N/A"},{"$error":"#N/A"},{"$error":"#N/A"},{"$error":"#N/A"},{"$error":"#N/A"},{"$error":"#N/A"},{"$error":"#N/A"}]
[{"$f":"données!W161","v":{"$error":"#N/A"}},{"$f":"données!X161","v":{"$error":"#N/A"}},{"$f":"données!Y161","v":{"$error":"#N/A"}},{"$f":"données!AH161","v":4},{"$error":"#N/A"},{"$error":"#N/A"},null,null,null,null,null,null,null,null,null,null,null,null,null,null,null,null,null,{"$error":"#N/A"},{"$error":"#N/A"},{"$error":"#N/A"},{"$error":"#N/A"},{"$error":"#N/A"},{"$error":"#N/A"},{"$error":"#N/A"},{"$error":"#N/A"},{"$error":"#N/A"},{"$error":"#N/A"},{"$error":"#N/A"},{"$error":"#N/A"},{"$error":"#N/A"},{"$error":"#N/A"}]
[{"$f":"données!W162","v":{"$error":"#N/A"}},{"$f":"données!X162","v":{"$error":"#N/A"}},{"$f":"données!Y162","v":{"$error":"#N/A"}},{"$f":"données!AH162","v":2},{"$error":"#N/A"},{"$error":"#N/A"},null,null,null,null,null,null,null,null,null,null,null,null,null,null,null,null,null,{"$error":"#N/A"},{"$error":"#N/A"},{"$error":"#N/A"},{"$error":"#N/A"},{"$error":"#N/A"},{"$error":"#N/A"},{"$error":"#N/A"},{"$error":"#N/A"},{"$error":"#N/A"},{"$error":"#N/A"},{"$error":"#N/A"},{"$error":"#N/A"},{"$error":"#N/A"},{"$error":"#N/A"}]
[{"$f":"données!W163","v":{"$error":"#N/A"}},{"$f":"données!X163","v":{"$error":"#N/A"}},{"$f":"données!Y163","v":{"$error":"#N/A"}},{"$f":"données!AH163","v":5},{"$error":"#N/A"},{"$error":"#N/A"},null,null,null,null,null,null,null,null,null,null,null,null,null,null,null,null,null,{"$error":"#N/A"},{"$error":"#N/A"},{"$error":"#N/A"},{"$error":"#N/A"},{"$error":"#N/A"},{"$error":"#N/A"},{"$error":"#N/A"},{"$error":"#N/A"},{"$error":"#N/A"},{"$error":"#N/A"},{"$error":"#N/A"},{"$error":"#N/A"},{"$error":"#N/A"},{"$error":"#N/A"}]
[{"$f":"données!W164","v":{"$error":"#N/A"}},{"$f":"données!X164","v":{"$error":"#N/A"}},{"$f":"données!Y164","v":{"$error":"#N/A"}},{"$f":"données!AH164","v":5},{"$error":"#N/A"},{"$error":"#N/A"},null,null,null,null,null,null,null,null,null,null,null,null,null,null,null,null,null,{"$error":"#N/A"},{"$error":"#N/A"},{"$error":"#N/A"},{"$error":"#N/A"},{"$error":"#N/A"},{"$error":"#N/A"},{"$error":"#N/A"},{"$error":"#N/A"},{"$error":"#N/A"},{"$error":"#N/A"},{"$error":"#N/A"},{"$error":"#N/A"},{"$error":"#N/A"},{"$error":"#N/A"}]
[{"$f":"données!W165","v":{"$error":"#N/A"}},{"$f":"données!X165","v":{"$error":"#N/A"}},{"$f":"données!Y165","v":{"$error":"#N/A"}},{"$f":"données!AH165","v":4},{"$error":"#N/A"},{"$error":"#N/A"},null,null,null,null,null,null,null,null,null,null,null,null,null,null,null,null,null,{"$error":"#N/A"},{"$error":"#N/A"},{"$error":"#N/A"},{"$error":"#N/A"},{"$error":"#N/A"},{"$error":"#N/A"},{"$error":"#N/A"},{"$error":"#N/A"},{"$error":"#N/A"},{"$error":"#N/A"},{"$error":"#N/A"},{"$error":"#N/A"},{"$error":"#N/A"},{"$error":"#N/A"}]
[{"$f":"données!W166","v":{"$error":"#N/A"}},{"$f":"données!X166","v":{"$error":"#N/A"}},{"$f":"données!Y166","v":{"$error":"#N/A"}},{"$f":"données!AH166","v":6},{"$error":"#N/A"},{"$error":"#N/A"},null,null,null,null,null,null,null,null,null,null,null,null,null,null,null,null,null,{"$error":"#N/A"},{"$error":"#N/A"},{"$error":"#N/A"},{"$error":"#N/A"},{"$error":"#N/A"},{"$error":"#N/A"},{"$error":"#N/A"},{"$error":"#N/A"},{"$error":"#N/A"},{"$error":"#N/A"},{"$error":"#N/A"},{"$error":"#N/A"},{"$error":"#N/A"},{"$error":"#N/A"}]
[{"$f":"données!W167","v":{"$error":"#N/A"}},{"$f":"données!X167","v":{"$error":"#N/A"}},{"$f":"données!Y167","v":{"$error":"#N/A"}},{"$f":"données!AH167","v":3},{"$error":"#N/A"},{"$error":"#N/A"},null,null,null,null,null,null,null,null,null,null,null,null,null,null,null,null,null,{"$error":"#N/A"},{"$error":"#N/A"},{"$error":"#N/A"},{"$error":"#N/A"},{"$error":"#N/A"},{"$error":"#N/A"},{"$error":"#N/A"},{"$error":"#N/A"},{"$error":"#N/A"},{"$error":"#N/A"},{"$error":"#N/A"},{"$error":"#N/A"},{"$error":"#N/A"},{"$error":"#N/A"}]
[{"$f":"données!W168","v":{"$error":"#N/A"}},{"$f":"données!X168","v":{"$error":"#N/A"}},{"$f":"données!Y168","v":{"$error":"#N/A"}},{"$f":"données!AH168","v":7},{"$error":"#N/A"},{"$error":"#N/A"},null,null,null,null,null,null,null,null,null,null,null,null,null,null,null,null,null,{"$error":"#N/A"},{"$error":"#N/A"},{"$error":"#N/A"},{"$error":"#N/A"},{"$error":"#N/A"},{"$error":"#N/A"},{"$error":"#N/A"},{"$error":"#N/A"},{"$error":"#N/A"},{"$error":"#N/A"},{"$error":"#N/A"},{"$error":"#N/A"},{"$error":"#N/A"},{"$error":"#N/A"}]
[{"$f":"données!W169","v":{"$error":"#N/A"}},{"$f":"données!X169","v":{"$error":"#N/A"}},{"$f":"données!Y169","v":{"$error":"#N/A"}},{"$f":"données!AH169","v":5},{"$error":"#N/A"},{"$error":"#N/A"},null,null,null,null,null,null,null,null,null,null,null,null,null,null,null,null,null,{"$error":"#N/A"},{"$error":"#N/A"},{"$error":"#N/A"},{"$error":"#N/A"},{"$error":"#N/A"},{"$error":"#N/A"},{"$error":"#N/A"},{"$error":"#N/A"},{"$error":"#N/A"},{"$error":"#N/A"},{"$error":"#N/A"},{"$error":"#N/A"},{"$error":"#N/A"},{"$error":"#N/A"}]
[{"$f":"données!W170","v":{"$error":"#N/A"}},{"$f":"données!X170","v":{"$error":"#N/A"}},{"$f":"données!Y170","v":{"$error":"#N/A"}},{"$f":"données!AH170","v":5},{"$error":"#N/A"},{"$error":"#N/A"},null,null,null,null,null,null,null,null,null,null,null,null,null,null,null,null,null,{"$error":"#N/A"},{"$error":"#N/A"},{"$error":"#N/A"},{"$error":"#N/A"},{"$error":"#N/A"},{"$error":"#N/A"},{"$error":"#N/A"},{"$error":"#N/A"},{"$error":"#N/A"},{"$error":"#N/A"},{"$error":"#N/A"},{"$error":"#N/A"},{"$error":"#N/A"},{"$error":"#N/A"}]
[{"$f":"données!W171","v":{"$error":"#N/A"}},{"$f":"données!X171","v":{"$error":"#N/A"}},{"$f":"données!Y171","v":{"$error":"#N/A"}},{"$f":"données!AH171","v":4},{"$error":"#N/A"},{"$error":"#N/A"},null,null,null,null,null,null,null,null,null,null,null,null,null,null,null,null,null,{"$error":"#N/A"},{"$error":"#N/A"},{"$error":"#N/A"},{"$error":"#N/A"},{"$error":"#N/A"},{"$error":"#N/A"},{"$error":"#N/A"},{"$error":"#N/A"},{"$error":"#N/A"},{"$error":"#N/A"},{"$error":"#N/A"},{"$error":"#N/A"},{"$error":"#N/A"},{"$error":"#N/A"}]
[{"$f":"données!W172","v":{"$error":"#N/A"}},{"$f":"données!X172","v":{"$error":"#N/A"}},{"$f":"données!Y172","v":{"$error":"#N/A"}},{"$f":"données!AH172","v":5},{"$error":"#N/A"},{"$error":"#N/A"},null,null,null,null,null,null,null,null,null,null,null,null,null,null,null,null,null,{"$error":"#N/A"},{"$error":"#N/A"},{"$error":"#N/A"},{"$error":"#N/A"},{"$error":"#N/A"},{"$error":"#N/A"},{"$error":"#N/A"},{"$error":"#N/A"},{"$error":"#N/A"},{"$error":"#N/A"},{"$error":"#N/A"},{"$error":"#N/A"},{"$error":"#N/A"},{"$error":"#N/A"}]
[{"$f":"données!W173","v":{"$error":"#N/A"}},{"$f":"données!X173","v":{"$error":"#N/A"}},{"$f":"données!Y173","v":{"$error":"#N/A"}},{"$f":"données!AH173","v":4},{"$error":"#N/A"},{"$error":"#N/A"},null,null,null,null,null,null,null,null,null,null,null,null,null,null,null,null,null,{"$error":"#N/A"},{"$error":"#N/A"},{"$error":"#N/A"},{"$error":"#N/A"},{"$error":"#N/A"},{"$error":"#N/A"},{"$error":"#N/A"},{"$error":"#N/A"},{"$error":"#N/A"},{"$error":"#N/A"},{"$error":"#N/A"},{"$error":"#N/A"},{"$error":"#N/A"},{"$error":"#N/A"}]
[{"$f":"données!W174","v":{"$error":"#N/A"}},{"$f":"données!X174","v":{"$error":"#N/A"}},{"$f":"données!Y174","v":{"$error":"#N/A"}},{"$f":"données!AH174","v":5},{"$error":"#N/A"},{"$error":"#N/A"},null,null,null,null,null,null,null,null,null,null,null,null,null,null,null,null,null,{"$error":"#N/A"},{"$error":"#N/A"},{"$error":"#N/A"},{"$error":"#N/A"},{"$error":"#N/A"},{"$error":"#N/A"},{"$error":"#N/A"},{"$error":"#N/A"},{"$error":"#N/A"},{"$error":"#N/A"},{"$error":"#N/A"},{"$error":"#N/A"},{"$error":"#N/A"},{"$error":"#N/A"}]
[{"$f":"données!W175","v":{"$error":"#N/A"}},{"$f":"données!X175","v":{"$error":"#N/A"}},{"$f":"données!Y175","v":{"$error":"#N/A"}},{"$f":"données!AH175","v":5},{"$error":"#N/A"},{"$error":"#N/A"},null,null,null,null,null,null,null,null,null,null,null,null,null,null,null,null,null,{"$error":"#N/A"},{"$error":"#N/A"},{"$error":"#N/A"},{"$error":"#N/A"},{"$error":"#N/A"},{"$error":"#N/A"},{"$error":"#N/A"},{"$error":"#N/A"},{"$error":"#N/A"},{"$error":"#N/A"},{"$error":"#N/A"},{"$error":"#N/A"},{"$error":"#N/A"},{"$error":"#N/A"}]
[{"$f":"données!W176","v":{"$error":"#N/A"}},{"$f":"données!X176","v":{"$error":"#N/A"}},{"$f":"données!Y176","v":{"$error":"#N/A"}},{"$f":"données!AH176","v":5},{"$error":"#N/A"},{"$error":"#N/A"},null,null,null,null,null,null,null,null,null,null,null,null,null,null,null,null,null,{"$error":"#N/A"},{"$error":"#N/A"},{"$error":"#N/A"},{"$error":"#N/A"},{"$error":"#N/A"},{"$error":"#N/A"},{"$error":"#N/A"},{"$error":"#N/A"},{"$error":"#N/A"},{"$error":"#N/A"},{"$error":"#N/A"},{"$error":"#N/A"},{"$error":"#N/A"},{"$error":"#N/A"}]
[{"$f":"données!W177","v":{"$error":"#N/A"}},{"$f":"données!X177","v":{"$error":"#N/A"}},{"$f":"données!Y177","v":{"$error":"#N/A"}},{"$f":"données!AH177","v":4},{"$error":"#N/A"},{"$error":"#N/A"},null,null,null,null,null,null,null,null,null,null,null,null,null,null,null,null,null,{"$error":"#N/A"},{"$error":"#N/A"},{"$error":"#N/A"},{"$error":"#N/A"},{"$error":"#N/A"},{"$error":"#N/A"},{"$error":"#N/A"},{"$error":"#N/A"},{"$error":"#N/A"},{"$error":"#N/A"},{"$error":"#N/A"},{"$error":"#N/A"},{"$error":"#N/A"},{"$error":"#N/A"}]
[{"$f":"données!W178","v":{"$error":"#N/A"}},{"$f":"données!X178","v":{"$error":"#N/A"}},{"$f":"données!Y178","v":{"$error":"#N/A"}},{"$f":"données!AH178","v":3},{"$error":"#N/A"},{"$error":"#N/A"},null,null,null,null,null,null,null,null,null,null,null,null,null,null,null,null,null,{"$error":"#N/A"},{"$error":"#N/A"},{"$error":"#N/A"},{"$error":"#N/A"},{"$error":"#N/A"},{"$error":"#N/A"},{"$error":"#N/A"},{"$error":"#N/A"},{"$error":"#N/A"},{"$error":"#N/A"},{"$error":"#N/A"},{"$error":"#N/A"},{"$error":"#N/A"},{"$error":"#N/A"}]
[{"$f":"données!W179","v":{"$error":"#N/A"}},{"$f":"données!X179","v":{"$error":"#N/A"}},{"$f":"données!Y179","v":{"$error":"#N/A"}},{"$f":"données!AH179","v":3},{"$error":"#N/A"},{"$error":"#N/A"},null,null,null,null,null,null,null,null,null,null,null,null,null,null,null,null,null,{"$error":"#N/A"},{"$error":"#N/A"},{"$error":"#N/A"},{"$error":"#N/A"},{"$error":"#N/A"},{"$error":"#N/A"},{"$error":"#N/A"},{"$error":"#N/A"},{"$error":"#N/A"},{"$error":"#N/A"},{"$error":"#N/A"},{"$error":"#N/A"},{"$error":"#N/A"},{"$error":"#N/A"}]
[{"$f":"données!W180","v":{"$error":"#N/A"}},{"$f":"données!X180","v":{"$error":"#N/A"}},{"$f":"données!Y180","v":{"$error":"#N/A"}},{"$f":"données!AH180","v":7},{"$error":"#N/A"},{"$error":"#N/A"},null,null,null,null,null,null,null,null,null,null,null,null,null,null,null,null,null,{"$error":"#N/A"},{"$error":"#N/A"},{"$error":"#N/A"},{"$error":"#N/A"},{"$error":"#N/A"},{"$error":"#N/A"},{"$error":"#N/A"},{"$error":"#N/A"},{"$error":"#N/A"},{"$error":"#N/A"},{"$error":"#N/A"},{"$error":"#N/A"},{"$error":"#N/A"},{"$error":"#N/A"}]
[{"$f":"données!W181","v":{"$error":"#N/A"}},{"$f":"données!X181","v":{"$error":"#N/A"}},{"$f":"données!Y181","v":{"$error":"#N/A"}},{"$f":"données!AH181","v":6},{"$error":"#N/A"},{"$error":"#N/A"},null,null,null,null,null,null,null,null,null,null,null,null,null,null,null,null,null,{"$error":"#N/A"},{"$error":"#N/A"},{"$error":"#N/A"},{"$error":"#N/A"},{"$error":"#N/A"},{"$error":"#N/A"},{"$error":"#N/A"},{"$error":"#N/A"},{"$error":"#N/A"},{"$error":"#N/A"},{"$error":"#N/A"},{"$error":"#N/A"},{"$error":"#N/A"},{"$error":"#N/A"}]
[{"$f":"données!W182","v":{"$error":"#N/A"}},{"$f":"données!X182","v":{"$error":"#N/A"}},{"$f":"données!Y182","v":{"$error":"#N/A"}},{"$f":"données!AH182","v":7},{"$error":"#N/A"},{"$error":"#N/A"},null,null,null,null,null,null,null,null,null,null,null,null,null,null,null,null,null,{"$error":"#N/A"},{"$error":"#N/A"},{"$error":"#N/A"},{"$error":"#N/A"},{"$error":"#N/A"},{"$error":"#N/A"},{"$error":"#N/A"},{"$error":"#N/A"},{"$error":"#N/A"},{"$error":"#N/A"},{"$error":"#N/A"},{"$error":"#N/A"},{"$error":"#N/A"},{"$error":"#N/A"}]
[{"$f":"données!W183","v":{"$error":"#N/A"}},{"$f":"données!X183","v":{"$error":"#N/A"}},{"$f":"données!Y183","v":{"$error":"#N/A"}},{"$f":"données!AH183","v":7},{"$error":"#N/A"},{"$error":"#N/A"},null,null,null,null,null,null,null,null,null,null,null,null,null,null,null,null,null,{"$error":"#N/A"},{"$error":"#N/A"},{"$error":"#N/A"},{"$error":"#N/A"},{"$error":"#N/A"},{"$error":"#N/A"},{"$error":"#N/A"},{"$error":"#N/A"},{"$error":"#N/A"},{"$error":"#N/A"},{"$error":"#N/A"},{"$error":"#N/A"},{"$error":"#N/A"},{"$error":"#N/A"}]
[{"$f":"données!W184","v":{"$error":"#N/A"}},{"$f":"données!X184","v":{"$error":"#N/A"}},{"$f":"données!Y184","v":{"$error":"#N/A"}},{"$f":"données!AH184","v":5},{"$error":"#N/A"},{"$error":"#N/A"},null,null,null,null,null,null,null,null,null,null,null,null,null,null,null,null,null,{"$error":"#N/A"},{"$error":"#N/A"},{"$error":"#N/A"},{"$error":"#N/A"},{"$error":"#N/A"},{"$error":"#N/A"},{"$error":"#N/A"},{"$error":"#N/A"},{"$error":"#N/A"},{"$error":"#N/A"},{"$error":"#N/A"},{"$error":"#N/A"},{"$error":"#N/A"},{"$error":"#N/A"}]
[{"$f":"données!W185","v":{"$error":"#N/A"}},{"$f":"données!X185","v":{"$error":"#N/A"}},{"$f":"données!Y185","v":{"$error":"#N/A"}},{"$f":"données!AH185","v":2},{"$error":"#N/A"},{"$error":"#N/A"},null,null,null,null,null,null,null,null,null,null,null,null,null,null,null,null,null,{"$error":"#N/A"},{"$error":"#N/A"},{"$error":"#N/A"},{"$error":"#N/A"},{"$error":"#N/A"},{"$error":"#N/A"},{"$error":"#N/A"},{"$error":"#N/A"},{"$error":"#N/A"},{"$error":"#N/A"},{"$error":"#N/A"},{"$error":"#N/A"},{"$error":"#N/A"},{"$error":"#N/A"}]
[{"$f":"données!W186","v":{"$error":"#N/A"}},{"$f":"données!X186","v":{"$error":"#N/A"}},{"$f":"données!Y186","v":{"$error":"#N/A"}},{"$f":"données!AH186","v":3},{"$error":"#N/A"},{"$error":"#N/A"},null,null,null,null,null,null,null,null,null,null,null,null,null,null,null,null,null,{"$f":"IF($D184=X$1,$E184,#N/A)","v":{"$error":"#N/A"}},{"$f":"IF($D184=Y$1,$F184,#N/A)","v":{"$error":"#N/A"}},{"$error":"#N/A"},{"$error":"#N/A"},{"$error":"#N/A"},{"$error":"#N/A"},{"$error":"#N/A"},{"$error":"#N/A"},{"$error":"#N/A"},{"$error":"#N/A"},{"$error":"#N/A"},{"$error":"#N/A"},{"$error":"#N/A"},{"$error":"#N/A"}]
[{"$f":"données!W187","v":{"$error":"#N/A"}},{"$f":"données!X187","v":{"$error":"#N/A"}},{"$f":"données!Y187","v":{"$error":"#N/A"}},{"$f":"données!AH187","v":2},{"$error":"#N/A"},{"$error":"#N/A"},null,null,null,null,null,null,null,null,null,null,null,null,null,null,null,null,null,{"$error":"#N/A"},{"$error":"#N/A"},{"$error":"#N/A"},{"$error":"#N/A"},{"$error":"#N/A"},{"$error":"#N/A"},{"$error":"#N/A"},{"$error":"#N/A"},{"$error":"#N/A"},{"$error":"#N/A"},{"$error":"#N/A"},{"$error":"#N/A"},{"$error":"#N/A"},{"$error":"#N/A"}]
[{"$f":"données!W188","v":{"$error":"#N/A"}},{"$f":"données!X188","v":{"$error":"#N/A"}},{"$f":"données!Y188","v":{"$error":"#N/A"}},{"$f":"données!AH188","v":6},{"$error":"#N/A"},{"$error":"#N/A"},null,null,null,null,null,null,null,null,null,null,null,null,null,null,null,null,null,{"$error":"#N/A"},{"$error":"#N/A"},{"$error":"#N/A"},{"$error":"#N/A"},{"$error":"#N/A"},{"$error":"#N/A"},{"$error":"#N/A"},{"$error":"#N/A"},{"$error":"#N/A"},{"$error":"#N/A"},{"$error":"#N/A"},{"$error":"#N/A"},{"$error":"#N/A"},{"$error":"#N/A"}]
[{"$f":"données!W189","v":{"$error":"#N/A"}},{"$f":"données!X189","v":{"$error":"#N/A"}},{"$f":"données!Y189","v":{"$error":"#N/A"}},{"$f":"données!AH189","v":3},{"$error":"#N/A"},{"$error":"#N/A"},null,null,null,null,null,null,null,null,null,null,null,null,null,null,null,null,null,{"$error":"#N/A"},{"$error":"#N/A"},{"$error":"#N/A"},{"$error":"#N/A"},{"$error":"#N/A"},{"$error":"#N/A"},{"$error":"#N/A"},{"$error":"#N/A"},{"$error":"#N/A"},{"$error":"#N/A"},{"$error":"#N/A"},{"$error":"#N/A"},{"$error":"#N/A"},{"$error":"#N/A"}]
[{"$f":"données!W190","v":{"$error":"#N/A"}},{"$f":"données!X190","v":{"$error":"#N/A"}},{"$f":"données!Y190","v":{"$error":"#N/A"}},{"$f":"données!AH190","v":3},{"$error":"#N/A"},{"$error":"#N/A"},null,null,null,null,null,null,null,null,null,null,null,null,null,null,null,null,null,{"$error":"#N/A"},{"$error":"#N/A"},{"$error":"#N/A"},{"$error":"#N/A"},{"$error":"#N/A"},{"$error":"#N/A"},{"$error":"#N/A"},{"$error":"#N/A"},{"$error":"#N/A"},{"$error":"#N/A"},{"$error":"#N/A"},{"$error":"#N/A"},{"$error":"#N/A"},{"$error":"#N/A"}]
[{"$f":"données!W191","v":{"$error":"#N/A"}},{"$f":"données!X191","v":{"$error":"#N/A"}},{"$f":"données!Y191","v":{"$error":"#N/A"}},{"$f":"données!AH191","v":1},{"$error":"#N/A"},{"$error":"#N/A"},null,null,null,null,null,null,null,null,null,null,null,null,null,null,null,null,null,{"$error":"#N/A"},{"$error":"#N/A"},{"$error":"#N/A"},{"$error":"#N/A"},{"$error":"#N/A"},{"$error":"#N/A"},{"$error":"#N/A"},{"$error":"#N/A"},{"$error":"#N/A"},{"$error":"#N/A"},{"$error":"#N/A"},{"$error":"#N/A"},{"$error":"#N/A"},{"$error":"#N/A"}]
[{"$f":"données!W192","v":{"$error":"#N/A"}},{"$f":"données!X192","v":{"$error":"#N/A"}},{"$f":"données!Y192","v":{"$error":"#N/A"}},{"$f":"données!AH192","v":1},{"$error":"#N/A"},{"$error":"#N/A"},null,null,null,null,null,null,null,null,null,null,null,null,null,null,null,null,null,{"$error":"#N/A"},{"$error":"#N/A"},{"$error":"#N/A"},{"$error":"#N/A"},{"$error":"#N/A"},{"$error":"#N/A"},{"$error":"#N/A"},{"$error":"#N/A"},{"$error":"#N/A"},{"$error":"#N/A"},{"$error":"#N/A"},{"$error":"#N/A"},{"$error":"#N/A"},{"$error":"#N/A"}]
[{"$f":"données!W193","v":{"$error":"#N/A"}},{"$f":"données!X193","v":{"$error":"#N/A"}},{"$f":"données!Y193","v":{"$error":"#N/A"}},{"$f":"données!AH193","v":1},{"$error":"#N/A"},{"$error":"#N/A"},null,null,null,null,null,null,null,null,null,null,null,null,null,null,null,null,null,{"$error":"#N/A"},{"$error":"#N/A"},{"$error":"#N/A"},{"$error":"#N/A"},{"$error":"#N/A"},{"$error":"#N/A"},{"$error":"#N/A"},{"$error":"#N/A"},{"$error":"#N/A"},{"$error":"#N/A"},{"$error":"#N/A"},{"$error":"#N/A"},{"$error":"#N/A"},{"$error":"#N/A"}]
[{"$f":"données!W194","v":{"$error":"#N/A"}},{"$f":"données!X194","v":{"$error":"#N/A"}},{"$f":"données!Y194","v":{"$error":"#N/A"}},{"$f":"données!AH194","v":4},{"$error":"#N/A"},{"$error":"#N/A"},null,null,null,null,null,null,null,null,null,null,null,null,null,null,null,null,null,{"$error":"#N/A"},{"$error":"#N/A"},{"$error":"#N/A"},{"$error":"#N/A"},{"$error":"#N/A"},{"$error":"#N/A"},{"$error":"#N/A"},{"$error":"#N/A"},{"$error":"#N/A"},{"$error":"#N/A"},{"$error":"#N/A"},{"$error":"#N/A"},{"$error":"#N/A"},{"$error":"#N/A"}]
[{"$f":"données!W195","v":{"$error":"#N/A"}},{"$f":"données!X195","v":{"$error":"#N/A"}},{"$f":"données!Y195","v":{"$error":"#N/A"}},{"$f":"données!AH195","v":5},{"$error":"#N/A"},{"$error":"#N/A"},null,null,null,null,null,null,null,null,null,null,null,null,null,null,null,null,null,{"$error":"#N/A"},{"$error":"#N/A"},{"$error":"#N/A"},{"$error":"#N/A"},{"$error":"#N/A"},{"$error":"#N/A"},{"$error":"#N/A"},{"$error":"#N/A"},{"$error":"#N/A"},{"$error":"#N/A"},{"$error":"#N/A"},{"$error":"#N/A"},{"$error":"#N/A"},{"$error":"#N/A"}]
[{"$f":"données!W196","v":{"$error":"#N/A"}},{"$f":"données!X196","v":{"$error":"#N/A"}},{"$f":"données!Y196","v":{"$error":"#N/A"}},{"$f":"données!AH196","v":1},{"$f":"A194+B194*$I$2","v":{"$error":"#N/A"}},{"$f":"C194+B194*$I$3","v":{"$error":"#N/A"}},null,null,null,null,null,null,null,null,null,null,null,null,null,null,null,null,null,{"$error":"#N/A"},{"$error":"#N/A"},{"$f":"IF($D194=Z$1,$E194,#N/A)","v":{"$error":"#N/A"}},{"$f":"IF($D194=AA$1,$F194,#N/A)","v":{"$error":"#N/A"}},{"$f":"IF($D194=AB$1,$E194,#N/A)","v":{"$error":"#N/A"}},{"$f":"IF($D194=AC$1,$F194,#N/A)","v":{"$error":"#N/A"}},{"$f":"IF($D194=AD$1,$E194,#N/A)","v":{"$error":"#N/A"}},{"$f":"IF($D194=AE$1,$F194,#N/A)","v":{"$error":"#N/A"}},{"$f":"IF($D194=AF$1,$E194,#N/A)","v":{"$error":"#N/A"}},{"$f":"IF($D194=AG$1,$F194,#N/A)","v":{"$error":"#N/A"}},{"$f":"IF($D194=AH$1,$E194,#N/A)","v":{"$error":"#N/A"}},{"$f":"IF($D194=AI$1,$F194,#N/A)","v":{"$error":"#N/A"}},{"$f":"IF($D194=AJ$1,$E194,#N/A)","v":{"$error":"#N/A"}},{"$f":"IF($D194=AK$1,$F194,#N/A)","v":{"$error":"#N/A"}}]
[{"$f":"données!W197","v":{"$error":"#N/A"}},{"$f":"données!X197","v":{"$error":"#N/A"}},{"$f":"données!Y197","v":{"$error":"#N/A"}},{"$f":"données!AH197","v":7},{"$error":"#N/A"},{"$error":"#N/A"},null,null,null,null,null,null,null,null,null,null,null,null,null,null,null,null,null,{"$error":"#N/A"},{"$error":"#N/A"},{"$error":"#N/A"},{"$error":"#N/A"},{"$error":"#N/A"},{"$error":"#N/A"},{"$error":"#N/A"},{"$error":"#N/A"},{"$error":"#N/A"},{"$error":"#N/A"},{"$error":"#N/A"},{"$error":"#N/A"},{"$error":"#N/A"},{"$error":"#N/A"}]
[{"$f":"données!W198","v":{"$error":"#N/A"}},{"$f":"données!X198","v":{"$error":"#N/A"}},{"$f":"données!Y198","v":{"$error":"#N/A"}},{"$f":"données!AH198","v":4},{"$error":"#N/A"},{"$error":"#N/A"},null,null,null,null,null,null,null,null,null,null,null,null,null,null,null,null,null,{"$error":"#N/A"},{"$error":"#N/A"},{"$error":"#N/A"},{"$error":"#N/A"},{"$error":"#N/A"},{"$error":"#N/A"},{"$error":"#N/A"},{"$error":"#N/A"},{"$error":"#N/A"},{"$error":"#N/A"},{"$error":"#N/A"},{"$error":"#N/A"},{"$error":"#N/A"},{"$error":"#N/A"}]
[{"$f":"données!W199","v":{"$error":"#N/A"}},{"$f":"données!X199","v":{"$error":"#N/A"}},{"$f":"données!Y199","v":{"$error":"#N/A"}},{"$f":"données!AH199","v":3},{"$error":"#N/A"},{"$error":"#N/A"},null,null,null,null,null,null,null,null,null,null,null,null,null,null,null,null,null,{"$error":"#N/A"},{"$error":"#N/A"},{"$error":"#N/A"},{"$error":"#N/A"},{"$error":"#N/A"},{"$error":"#N/A"},{"$error":"#N/A"},{"$error":"#N/A"},{"$error":"#N/A"},{"$error":"#N/A"},{"$error":"#N/A"},{"$error":"#N/A"},{"$error":"#N/A"},{"$error":"#N/A"}]
[{"$f":"données!W200","v":{"$error":"#N/A"}},{"$f":"données!X200","v":{"$error":"#N/A"}},{"$f":"données!Y200","v":{"$error":"#N/A"}},{"$f":"données!AH200","v":7},{"$error":"#N/A"},{"$error":"#N/A"},null,null,null,null,null,null,null,null,null,null,null,null,null,null,null,null,null,{"$error":"#N/A"},{"$error":"#N/A"},{"$error":"#N/A"},{"$error":"#N/A"},{"$error":"#N/A"},{"$error":"#N/A"},{"$error":"#N/A"},{"$error":"#N/A"},{"$error":"#N/A"},{"$error":"#N/A"},{"$error":"#N/A"},{"$error":"#N/A"},{"$error":"#N/A"},{"$error":"#N/A"}]
[{"$f":"données!W201","v":{"$error":"#N/A"}},{"$f":"données!X201","v":{"$error":"#N/A"}},{"$f":"données!Y201","v":{"$error":"#N/A"}},{"$f":"données!AH201","v":3},{"$error":"#N/A"},{"$error":"#N/A"},null,null,null,null,null,null,null,null,null,null,null,null,null,null,null,null,null,{"$error":"#N/A"},{"$error":"#N/A"},{"$error":"#N/A"},{"$error":"#N/A"},{"$error":"#N/A"},{"$error":"#N/A"},{"$error":"#N/A"},{"$error":"#N/A"},{"$error":"#N/A"},{"$error":"#N/A"},{"$error":"#N/A"},{"$error":"#N/A"},{"$error":"#N/A"},{"$error":"#N/A"}]
[{"$f":"données!W202","v":{"$error":"#N/A"}},{"$f":"données!X202","v":{"$error":"#N/A"}},{"$f":"données!Y202","v":{"$error":"#N/A"}},{"$f":"données!AH202","v":4},{"$error":"#N/A"},{"$error":"#N/A"},null,null,null,null,null,null,null,null,null,null,null,null,null,null,null,null,null,{"$error":"#N/A"},{"$error":"#N/A"},{"$error":"#N/A"},{"$error":"#N/A"},{"$error":"#N/A"},{"$error":"#N/A"},{"$error":"#N/A"},{"$error":"#N/A"},{"$error":"#N/A"},{"$error":"#N/A"},{"$error":"#N/A"},{"$error":"#N/A"},{"$error":"#N/A"},{"$error":"#N/A"}]
[{"$f":"données!W203","v":{"$error":"#N/A"}},{"$f":"données!X203","v":{"$error":"#N/A"}},{"$f":"données!Y203","v":{"$error":"#N/A"}},{"$f":"données!AH203","v":1},{"$error":"#N/A"},{"$error":"#N/A"},null,null,null,null,null,null,null,null,null,null,null,null,null,null,null,null,null,{"$error":"#N/A"},{"$error":"#N/A"},{"$error":"#N/A"},{"$error":"#N/A"},{"$error":"#N/A"},{"$error":"#N/A"},{"$error":"#N/A"},{"$error":"#N/A"},{"$error":"#N/A"},{"$error":"#N/A"},{"$error":"#N/A"},{"$error":"#N/A"},{"$error":"#N/A"},{"$error":"#N/A"}]
[{"$f":"données!W204","v":{"$error":"#N/A"}},{"$f":"données!X204","v":{"$error":"#N/A"}},{"$f":"données!Y204","v":{"$error":"#N/A"}},{"$f":"données!AH204","v":3},{"$error":"#N/A"},{"$error":"#N/A"},null,null,null,null,null,null,null,null,null,null,null,null,null,null,null,null,null,{"$error":"#N/A"},{"$error":"#N/A"},{"$error":"#N/A"},{"$error":"#N/A"},{"$error":"#N/A"},{"$error":"#N/A"},{"$error":"#N/A"},{"$error":"#N/A"},{"$error":"#N/A"},{"$error":"#N/A"},{"$error":"#N/A"},{"$error":"#N/A"},{"$error":"#N/A"},{"$error":"#N/A"}]
[{"$f":"données!W205","v":{"$error":"#N/A"}},{"$f":"données!X205","v":{"$error":"#N/A"}},{"$f":"données!Y205","v":{"$error":"#N/A"}},{"$f":"données!AH205","v":3},{"$error":"#N/A"},{"$error":"#N/A"},null,null,null,null,null,null,null,null,null,null,null,null,null,null,null,null,null,{"$error":"#N/A"},{"$error":"#N/A"},{"$error":"#N/A"},{"$error":"#N/A"},{"$error":"#N/A"},{"$error":"#N/A"},{"$error":"#N/A"},{"$error":"#N/A"},{"$error":"#N/A"},{"$error":"#N/A"},{"$error":"#N/A"},{"$error":"#N/A"},{"$error":"#N/A"},{"$error":"#N/A"}]
[{"$f":"données!W206","v":{"$error":"#N/A"}},{"$f":"données!X206","v":{"$error":"#N/A"}},{"$f":"données!Y206","v":{"$error":"#N/A"}},{"$f":"données!AH206","v":7},{"$error":"#N/A"},{"$error":"#N/A"},null,null,null,null,null,null,null,null,null,null,null,null,null,null,null,null,null,{"$error":"#N/A"},{"$error":"#N/A"},{"$error":"#N/A"},{"$error":"#N/A"},{"$error":"#N/A"},{"$error":"#N/A"},{"$error":"#N/A"},{"$error":"#N/A"},{"$error":"#N/A"},{"$error":"#N/A"},{"$error":"#N/A"},{"$error":"#N/A"},{"$error":"#N/A"},{"$error":"#N/A"}]
[{"$f":"données!W207","v":{"$error":"#N/A"}},{"$f":"données!X207","v":{"$error":"#N/A"}},{"$f":"données!Y207","v":{"$error":"#N/A"}},{"$f":"données!AH207","v":3},{"$error":"#N/A"},{"$error":"#N/A"},null,null,null,null,null,null,null,null,null,null,null,null,null,null,null,null,null,{"$error":"#N/A"},{"$error":"#N/A"},{"$error":"#N/A"},{"$error":"#N/A"},{"$error":"#N/A"},{"$error":"#N/A"},{"$error":"#N/A"},{"$error":"#N/A"},{"$error":"#N/A"},{"$error":"#N/A"},{"$error":"#N/A"},{"$error":"#N/A"},{"$error":"#N/A"},{"$error":"#N/A"}]
[{"$f":"données!W208","v":{"$error":"#N/A"}},{"$f":"données!X208","v":{"$error":"#N/A"}},{"$f":"données!Y208","v":{"$error":"#N/A"}},{"$f":"données!AH208","v":4},{"$error":"#N/A"},{"$error":"#N/A"},null,null,null,null,null,null,null,null,null,null,null,null,null,null,null,null,null,{"$error":"#N/A"},{"$error":"#N/A"},{"$error":"#N/A"},{"$error":"#N/A"},{"$error":"#N/A"},{"$error":"#N/A"},{"$error":"#N/A"},{"$error":"#N/A"},{"$error":"#N/A"},{"$error":"#N/A"},{"$error":"#N/A"},{"$error":"#N/A"},{"$error":"#N/A"},{"$error":"#N/A"}]
[{"$f":"données!W209","v":{"$error":"#N/A"}},{"$f":"données!X209","v":{"$error":"#N/A"}},{"$f":"données!Y209","v":{"$error":"#N/A"}},{"$f":"données!AH209","v":6},{"$error":"#N/A"},{"$error":"#N/A"},null,null,null,null,null,null,null,null,null,null,null,null,null,null,null,null,null,{"$error":"#N/A"},{"$error":"#N/A"},{"$error":"#N/A"},{"$error":"#N/A"},{"$error":"#N/A"},{"$error":"#N/A"},{"$error":"#N/A"},{"$error":"#N/A"},{"$error":"#N/A"},{"$error":"#N/A"},{"$error":"#N/A"},{"$error":"#N/A"},{"$error":"#N/A"},{"$error":"#N/A"}]
[{"$f":"données!W210","v":{"$error":"#N/A"}},{"$f":"données!X210","v":{"$error":"#N/A"}},{"$f":"données!Y210","v":{"$error":"#N/A"}},{"$f":"données!AH210","v":7},{"$error":"#N/A"},{"$error":"#N/A"},null,null,null,null,null,null,null,null,null,null,null,null,null,null,null,null,null,{"$error":"#N/A"},{"$error":"#N/A"},{"$error":"#N/A"},{"$error":"#N/A"},{"$error":"#N/A"},{"$error":"#N/A"},{"$error":"#N/A"},{"$error":"#N/A"},{"$error":"#N/A"},{"$error":"#N/A"},{"$error":"#N/A"},{"$error":"#N/A"},{"$error":"#N/A"},{"$error":"#N/A"}]
[{"$f":"données!W211","v":{"$error":"#N/A"}},{"$f":"données!X211","v":{"$error":"#N/A"}},{"$f":"données!Y211","v":{"$error":"#N/A"}},{"$f":"données!AH211","v":4},{"$error":"#N/A"},{"$error":"#N/A"},null,null,null,null,null,null,null,null,null,null,null,null,null,null,null,null,null,{"$error":"#N/A"},{"$error":"#N/A"},{"$error":"#N/A"},{"$error":"#N/A"},{"$error":"#N/A"},{"$error":"#N/A"},{"$error":"#N/A"},{"$error":"#N/A"},{"$error":"#N/A"},{"$error":"#N/A"},{"$error":"#N/A"},{"$error":"#N/A"},{"$error":"#N/A"},{"$error":"#N/A"}]
[{"$f":"données!W212","v":{"$error":"#N/A"}},{"$f":"données!X212","v":{"$error":"#N/A"}},{"$f":"données!Y212","v":{"$error":"#N/A"}},{"$f":"données!AH212","v":6},{"$error":"#N/A"},{"$error":"#N/A"},null,null,null,null,null,null,null,null,null,null,null,null,null,null,null,null,null,{"$error":"#N/A"},{"$error":"#N/A"},{"$error":"#N/A"},{"$error":"#N/A"},{"$error":"#N/A"},{"$error":"#N/A"},{"$error":"#N/A"},{"$error":"#N/A"},{"$error":"#N/A"},{"$error":"#N/A"},{"$error":"#N/A"},{"$error":"#N/A"},{"$error":"#N/A"},{"$error":"#N/A"}]
[{"$f":"données!W213","v":{"$error":"#N/A"}},{"$f":"données!X213","v":{"$error":"#N/A"}},{"$f":"données!Y213","v":{"$error":"#N/A"}},{"$f":"données!AH213","v":3},{"$error":"#N/A"},{"$error":"#N/A"},null,null,null,null,null,null,null,null,null,null,null,null,null,null,null,null,null,{"$error":"#N/A"},{"$error":"#N/A"},{"$error":"#N/A"},{"$error":"#N/A"},{"$error":"#N/A"},{"$error":"#N/A"},{"$error":"#N/A"},{"$error":"#N/A"},{"$error":"#N/A"},{"$error":"#N/A"},{"$error":"#N/A"},{"$error":"#N/A"},{"$error":"#N/A"},{"$error":"#N/A"}]
[{"$f":"données!W214","v":{"$error":"#N/A"}},{"$f":"données!X214","v":{"$error":"#N/A"}},{"$f":"données!Y214","v":{"$error":"#N/A"}},{"$f":"données!AH214","v":4},{"$error":"#N/A"},{"$error":"#N/A"},null,null,null,null,null,null,null,null,null,null,null,null,null,null,null,null,null,{"$error":"#N/A"},{"$error":"#N/A"},{"$error":"#N/A"},{"$error":"#N/A"},{"$error":"#N/A"},{"$error":"#N/A"},{"$error":"#N/A"},{"$error":"#N/A"},{"$error":"#N/A"},{"$error":"#N/A"},{"$error":"#N/A"},{"$error":"#N/A"},{"$error":"#N/A"},{"$error":"#N/A"}]
[{"$f":"données!W215","v":{"$error":"#N/A"}},{"$f":"données!X215","v":{"$error":"#N/A"}},{"$f":"données!Y215","v":{"$error":"#N/A"}},{"$f":"données!AH215","v":4},{"$error":"#N/A"},{"$error":"#N/A"},null,null,null,null,null,null,null,null,null,null,null,null,null,null,null,null,null,{"$error":"#N/A"},{"$error":"#N/A"},{"$error":"#N/A"},{"$error":"#N/A"},{"$error":"#N/A"},{"$error":"#N/A"},{"$error":"#N/A"},{"$error":"#N/A"},{"$error":"#N/A"},{"$error":"#N/A"},{"$error":"#N/A"},{"$error":"#N/A"},{"$error":"#N/A"},{"$error":"#N/A"}]
[{"$f":"données!W216","v":{"$error":"#N/A"}},{"$f":"données!X216","v":{"$error":"#N/A"}},{"$f":"données!Y216","v":{"$error":"#N/A"}},{"$f":"données!AH216","v":3},{"$error":"#N/A"},{"$error":"#N/A"},null,null,null,null,null,null,null,null,null,null,null,null,null,null,null,null,null,{"$error":"#N/A"},{"$error":"#N/A"},{"$error":"#N/A"},{"$error":"#N/A"},{"$error":"#N/A"},{"$error":"#N/A"},{"$error":"#N/A"},{"$error":"#N/A"},{"$error":"#N/A"},{"$error":"#N/A"},{"$error":"#N/A"},{"$error":"#N/A"},{"$error":"#N/A"},{"$error":"#N/A"}]
[{"$f":"données!W217","v":{"$error":"#N/A"}},{"$f":"données!X217","v":{"$error":"#N/A"}},{"$f":"données!Y217","v":{"$error":"#N/A"}},{"$f":"données!AH217","v":6},{"$error":"#N/A"},{"$error":"#N/A"},null,null,null,null,null,null,null,null,null,null,null,null,null,null,null,null,null,{"$error":"#N/A"},{"$error":"#N/A"},{"$error":"#N/A"},{"$error":"#N/A"},{"$error":"#N/A"},{"$error":"#N/A"},{"$error":"#N/A"},{"$error":"#N/A"},{"$error":"#N/A"},{"$error":"#N/A"},{"$error":"#N/A"},{"$error":"#N/A"},{"$error":"#N/A"},{"$error":"#N/A"}]
[{"$f":"données!W218","v":{"$error":"#N/A"}},{"$f":"données!X218","v":{"$error":"#N/A"}},{"$f":"données!Y218","v":{"$error":"#N/A"}},{"$f":"données!AH218","v":7},{"$error":"#N/A"},{"$error":"#N/A"},null,null,null,null,null,null,null,null,null,null,null,null,null,null,null,null,null,{"$error":"#N/A"},{"$error":"#N/A"},{"$error":"#N/A"},{"$error":"#N/A"},{"$error":"#N/A"},{"$error":"#N/A"},{"$error":"#N/A"},{"$error":"#N/A"},{"$error":"#N/A"},{"$error":"#N/A"},{"$error":"#N/A"},{"$error":"#N/A"},{"$error":"#N/A"},{"$error":"#N/A"}]
[{"$f":"données!W219","v":{"$error":"#N/A"}},{"$f":"données!X219","v":{"$error":"#N/A"}},{"$f":"données!Y219","v":{"$error":"#N/A"}},{"$f":"données!AH219","v":3},{"$error":"#N/A"},{"$error":"#N/A"},null,null,null,null,null,null,null,null,null,null,null,null,null,null,null,null,null,{"$error":"#N/A"},{"$error":"#N/A"},{"$error":"#N/A"},{"$error":"#N/A"},{"$error":"#N/A"},{"$error":"#N/A"},{"$error":"#N/A"},{"$error":"#N/A"},{"$error":"#N/A"},{"$error":"#N/A"},{"$error":"#N/A"},{"$error":"#N/A"},{"$error":"#N/A"},{"$error":"#N/A"}]
[{"$f":"données!W220","v":{"$error":"#N/A"}},{"$f":"données!X220","v":{"$error":"#N/A"}},{"$f":"données!Y220","v":{"$error":"#N/A"}},{"$f":"données!AH220","v":4},{"$error":"#N/A"},{"$error":"#N/A"},null,null,null,null,null,null,null,null,null,null,null,null,null,null,null,null,null,{"$error":"#N/A"},{"$error":"#N/A"},{"$error":"#N/A"},{"$error":"#N/A"},{"$error":"#N/A"},{"$error":"#N/A"},{"$error":"#N/A"},{"$error":"#N/A"},{"$error":"#N/A"},{"$error":"#N/A"},{"$error":"#N/A"},{"$error":"#N/A"},{"$error":"#N/A"},{"$error":"#N/A"}]
[{"$f":"données!W221","v":{"$error":"#N/A"}},{"$f":"données!X221","v":{"$error":"#N/A"}},{"$f":"données!Y221","v":{"$error":"#N/A"}},{"$f":"données!AH221","v":1},{"$error":"#N/A"},{"$error":"#N/A"},null,null,null,null,null,null,null,null,null,null,null,null,null,null,null,null,null,{"$error":"#N/A"},{"$error":"#N/A"},{"$error":"#N/A"},{"$error":"#N/A"},{"$error":"#N/A"},{"$error":"#N/A"},{"$error":"#N/A"},{"$error":"#N/A"},{"$error":"#N/A"},{"$error":"#N/A"},{"$error":"#N/A"},{"$error":"#N/A"},{"$error":"#N/A"},{"$error":"#N/A"}]
[{"$f":"données!W222","v":{"$error":"#N/A"}},{"$f":"données!X222","v":{"$error":"#N/A"}},{"$f":"données!Y222","v":{"$error":"#N/A"}},{"$f":"données!AH222","v":6},{"$error":"#N/A"},{"$error":"#N/A"},null,null,null,null,null,null,null,null,null,null,null,null,null,null,null,null,null,{"$error":"#N/A"},{"$error":"#N/A"},{"$error":"#N/A"},{"$error":"#N/A"},{"$error":"#N/A"},{"$error":"#N/A"},{"$error":"#N/A"},{"$error":"#N/A"},{"$error":"#N/A"},{"$error":"#N/A"},{"$error":"#N/A"},{"$error":"#N/A"},{"$error":"#N/A"},{"$error":"#N/A"}]
[{"$f":"données!W223","v":{"$error":"#N/A"}},{"$f":"données!X223","v":{"$error":"#N/A"}},{"$f":"données!Y223","v":{"$error":"#N/A"}},{"$f":"données!AH223","v":2},{"$error":"#N/A"},{"$error":"#N/A"},null,null,null,null,null,null,null,null,null,null,null,null,null,null,null,null,null,{"$error":"#N/A"},{"$error":"#N/A"},{"$error":"#N/A"},{"$error":"#N/A"},{"$error":"#N/A"},{"$error":"#N/A"},{"$error":"#N/A"},{"$error":"#N/A"},{"$error":"#N/A"},{"$error":"#N/A"},{"$error":"#N/A"},{"$error":"#N/A"},{"$error":"#N/A"},{"$error":"#N/A"}]
[{"$f":"données!W224","v":{"$error":"#N/A"}},{"$f":"données!X224","v":{"$error":"#N/A"}},{"$f":"données!Y224","v":{"$error":"#N/A"}},{"$f":"données!AH224","v":7},{"$error":"#N/A"},{"$error":"#N/A"},null,null,null,null,null,null,null,null,null,null,null,null,null,null,null,null,null,{"$error":"#N/A"},{"$error":"#N/A"},{"$error":"#N/A"},{"$error":"#N/A"},{"$error":"#N/A"},{"$error":"#N/A"},{"$error":"#N/A"},{"$error":"#N/A"},{"$error":"#N/A"},{"$error":"#N/A"},{"$error":"#N/A"},{"$error":"#N/A"},{"$error":"#N/A"},{"$error":"#N/A"}]
[{"$f":"données!W225","v":{"$error":"#N/A"}},{"$f":"données!X225","v":{"$error":"#N/A"}},{"$f":"données!Y225","v":{"$error":"#N/A"}},{"$f":"données!AH225","v":1},{"$error":"#N/A"},{"$error":"#N/A"},null,null,null,null,null,null,null,null,null,null,null,null,null,null,null,null,null,{"$error":"#N/A"},{"$error":"#N/A"},{"$error":"#N/A"},{"$error":"#N/A"},{"$error":"#N/A"},{"$error":"#N/A"},{"$error":"#N/A"},{"$error":"#N/A"},{"$error":"#N/A"},{"$error":"#N/A"},{"$error":"#N/A"},{"$error":"#N/A"},{"$error":"#N/A"},{"$error":"#N/A"}]
[{"$f":"données!W226","v":{"$error":"#N/A"}},{"$f":"données!X226","v":{"$error":"#N/A"}},{"$f":"données!Y226","v":{"$error":"#N/A"}},{"$f":"données!AH226","v":5},{"$error":"#N/A"},{"$error":"#N/A"},null,null,null,null,null,null,null,null,null,null,null,null,null,null,null,null,null,{"$error":"#N/A"},{"$error":"#N/A"},{"$error":"#N/A"},{"$error":"#N/A"},{"$error":"#N/A"},{"$error":"#N/A"},{"$error":"#N/A"},{"$error":"#N/A"},{"$error":"#N/A"},{"$error":"#N/A"},{"$error":"#N/A"},{"$error":"#N/A"},{"$error":"#N/A"},{"$error":"#N/A"}]
[{"$f":"données!W227","v":{"$error":"#N/A"}},{"$f":"données!X227","v":{"$error":"#N/A"}},{"$f":"données!Y227","v":{"$error":"#N/A"}},{"$f":"données!AH227","v":7},{"$error":"#N/A"},{"$error":"#N/A"},null,null,null,null,null,null,null,null,null,null,null,null,null,null,null,null,null,{"$error":"#N/A"},{"$error":"#N/A"},{"$error":"#N/A"},{"$error":"#N/A"},{"$error":"#N/A"},{"$error":"#N/A"},{"$error":"#N/A"},{"$error":"#N/A"},{"$error":"#N/A"},{"$error":"#N/A"},{"$error":"#N/A"},{"$error":"#N/A"},{"$error":"#N/A"},{"$error":"#N/A"}]
[{"$f":"données!W228","v":{"$error":"#N/A"}},{"$f":"données!X228","v":{"$error":"#N/A"}},{"$f":"données!Y228","v":{"$error":"#N/A"}},{"$f":"données!AH228","v":4},{"$error":"#N/A"},{"$error":"#N/A"},null,null,null,null,null,null,null,null,null,null,null,null,null,null,null,null,null,{"$error":"#N/A"},{"$error":"#N/A"},{"$error":"#N/A"},{"$error":"#N/A"},{"$error":"#N/A"},{"$error":"#N/A"},{"$error":"#N/A"},{"$error":"#N/A"},{"$error":"#N/A"},{"$error":"#N/A"},{"$error":"#N/A"},{"$error":"#N/A"},{"$error":"#N/A"},{"$error":"#N/A"}]
[{"$f":"données!W229","v":{"$error":"#N/A"}},{"$f":"données!X229","v":{"$error":"#N/A"}},{"$f":"données!Y229","v":{"$error":"#N/A"}},{"$f":"données!AH229","v":2},{"$error":"#N/A"},{"$error":"#N/A"},null,null,null,null,null,null,null,null,null,null,null,null,null,null,null,null,null,{"$error":"#N/A"},{"$error":"#N/A"},{"$error":"#N/A"},{"$error":"#N/A"},{"$error":"#N/A"},{"$error":"#N/A"},{"$error":"#N/A"},{"$error":"#N/A"},{"$error":"#N/A"},{"$error":"#N/A"},{"$error":"#N/A"},{"$error":"#N/A"},{"$error":"#N/A"},{"$error":"#N/A"}]
[{"$f":"données!W230","v":{"$error":"#N/A"}},{"$f":"données!X230","v":{"$error":"#N/A"}},{"$f":"données!Y230","v":{"$error":"#N/A"}},{"$f":"données!AH230","v":6},{"$error":"#N/A"},{"$error":"#N/A"},null,null,null,null,null,null,null,null,null,null,null,null,null,null,null,null,null,{"$error":"#N/A"},{"$error":"#N/A"},{"$error":"#N/A"},{"$error":"#N/A"},{"$error":"#N/A"},{"$error":"#N/A"},{"$error":"#N/A"},{"$error":"#N/A"},{"$error":"#N/A"},{"$error":"#N/A"},{"$error":"#N/A"},{"$error":"#N/A"},{"$error":"#N/A"},{"$error":"#N/A"}]
[{"$f":"données!W231","v":{"$error":"#N/A"}},{"$f":"données!X231","v":{"$error":"#N/A"}},{"$f":"données!Y231","v":{"$error":"#N/A"}},{"$f":"données!AH231","v":3},{"$error":"#N/A"},{"$error":"#N/A"},null,null,null,null,null,null,null,null,null,null,null,null,null,null,null,null,null,{"$error":"#N/A"},{"$error":"#N/A"},{"$error":"#N/A"},{"$error":"#N/A"},{"$error":"#N/A"},{"$error":"#N/A"},{"$error":"#N/A"},{"$error":"#N/A"},{"$error":"#N/A"},{"$error":"#N/A"},{"$error":"#N/A"},{"$error":"#N/A"},{"$error":"#N/A"},{"$error":"#N/A"}]
[{"$f":"données!W232","v":{"$error":"#N/A"}},{"$f":"données!X232","v":{"$error":"#N/A"}},{"$f":"données!Y232","v":{"$error":"#N/A"}},{"$f":"données!AH232","v":4},{"$error":"#N/A"},{"$error":"#N/A"},null,null,null,null,null,null,null,null,null,null,null,null,null,null,null,null,null,{"$error":"#N/A"},{"$error":"#N/A"},{"$error":"#N/A"},{"$error":"#N/A"},{"$error":"#N/A"},{"$error":"#N/A"},{"$error":"#N/A"},{"$error":"#N/A"},{"$error":"#N/A"},{"$error":"#N/A"},{"$error":"#N/A"},{"$error":"#N/A"},{"$error":"#N/A"},{"$error":"#N/A"}]
[{"$f":"données!W233","v":{"$error":"#N/A"}},{"$f":"données!X233","v":{"$error":"#N/A"}},{"$f":"données!Y233","v":{"$error":"#N/A"}},{"$f":"données!AH233","v":7},{"$error":"#N/A"},{"$error":"#N/A"},null,null,null,null,null,null,null,null,null,null,null,null,null,null,null,null,null,{"$error":"#N/A"},{"$error":"#N/A"},{"$error":"#N/A"},{"$error":"#N/A"},{"$error":"#N/A"},{"$error":"#N/A"},{"$error":"#N/A"},{"$error":"#N/A"},{"$error":"#N/A"},{"$error":"#N/A"},{"$error":"#N/A"},{"$error":"#N/A"},{"$error":"#N/A"},{"$error":"#N/A"}]
[{"$f":"données!W234","v":{"$error":"#N/A"}},{"$f":"données!X234","v":{"$error":"#N/A"}},{"$f":"données!Y234","v":{"$error":"#N/A"}},{"$f":"données!AH234","v":6},{"$error":"#N/A"},{"$error":"#N/A"},null,null,null,null,null,null,null,null,null,null,null,null,null,null,null,null,null,{"$error":"#N/A"},{"$error":"#N/A"},{"$error":"#N/A"},{"$error":"#N/A"},{"$error":"#N/A"},{"$error":"#N/A"},{"$error":"#N/A"},{"$error":"#N/A"},{"$error":"#N/A"},{"$error":"#N/A"},{"$error":"#N/A"},{"$error":"#N/A"},{"$error":"#N/A"},{"$error":"#N/A"}]
[{"$f":"données!W235","v":{"$error":"#N/A"}},{"$f":"données!X235","v":{"$error":"#N/A"}},{"$f":"données!Y235","v":{"$error":"#N/A"}},{"$f":"données!AH235","v":6},{"$error":"#N/A"},{"$error":"#N/A"},null,null,null,null,null,null,null,null,null,null,null,null,null,null,null,null,null,{"$error":"#N/A"},{"$error":"#N/A"},{"$error":"#N/A"},{"$error":"#N/A"},{"$error":"#N/A"},{"$error":"#N/A"},{"$error":"#N/A"},{"$error":"#N/A"},{"$error":"#N/A"},{"$error":"#N/A"},{"$error":"#N/A"},{"$error":"#N/A"},{"$error":"#N/A"},{"$error":"#N/A"}]
[{"$f":"données!W236","v":{"$error":"#N/A"}},{"$f":"données!X236","v":{"$error":"#N/A"}},{"$f":"données!Y236","v":{"$error":"#N/A"}},{"$f":"données!AH236","v":3},{"$error":"#N/A"},{"$error":"#N/A"},null,null,null,null,null,null,null,null,null,null,null,null,null,null,null,null,null,{"$error":"#N/A"},{"$error":"#N/A"},{"$error":"#N/A"},{"$error":"#N/A"},{"$error":"#N/A"},{"$error":"#N/A"},{"$error":"#N/A"},{"$error":"#N/A"},{"$error":"#N/A"},{"$error":"#N/A"},{"$error":"#N/A"},{"$error":"#N/A"},{"$error":"#N/A"},{"$error":"#N/A"}]
[{"$f":"données!W237","v":{"$error":"#N/A"}},{"$f":"données!X237","v":{"$error":"#N/A"}},{"$f":"données!Y237","v":{"$error":"#N/A"}},{"$f":"données!AH237","v":6},{"$error":"#N/A"},{"$error":"#N/A"},null,null,null,null,null,null,null,null,null,null,null,null,null,null,null,null,null,{"$error":"#N/A"},{"$error":"#N/A"},{"$error":"#N/A"},{"$error":"#N/A"},{"$error":"#N/A"},{"$error":"#N/A"},{"$error":"#N/A"},{"$error":"#N/A"},{"$error":"#N/A"},{"$error":"#N/A"},{"$error":"#N/A"},{"$error":"#N/A"},{"$error":"#N/A"},{"$error":"#N/A"}]
[{"$f":"données!W238","v":{"$error":"#N/A"}},{"$f":"données!X238","v":{"$error":"#N/A"}},{"$f":"données!Y238","v":{"$error":"#N/A"}},{"$f":"données!AH238","v":4},{"$error":"#N/A"},{"$error":"#N/A"},null,null,null,null,null,null,null,null,null,null,null,null,null,null,null,null,null,{"$error":"#N/A"},{"$error":"#N/A"},{"$error":"#N/A"},{"$error":"#N/A"},{"$error":"#N/A"},{"$error":"#N/A"},{"$error":"#N/A"},{"$error":"#N/A"},{"$error":"#N/A"},{"$error":"#N/A"},{"$error":"#N/A"},{"$error":"#N/A"},{"$error":"#N/A"},{"$error":"#N/A"}]
[{"$f":"données!W239","v":{"$error":"#N/A"}},{"$f":"données!X239","v":{"$error":"#N/A"}},{"$f":"données!Y239","v":{"$error":"#N/A"}},{"$f":"données!AH239","v":3},{"$error":"#N/A"},{"$error":"#N/A"},null,null,null,null,null,null,null,null,null,null,null,null,null,null,null,null,null,{"$error":"#N/A"},{"$error":"#N/A"},{"$error":"#N/A"},{"$error":"#N/A"},{"$error":"#N/A"},{"$error":"#N/A"},{"$error":"#N/A"},{"$error":"#N/A"},{"$error":"#N/A"},{"$error":"#N/A"},{"$error":"#N/A"},{"$error":"#N/A"},{"$error":"#N/A"},{"$error":"#N/A"}]
[{"$f":"données!W240","v":{"$error":"#N/A"}},{"$f":"données!X240","v":{"$error":"#N/A"}},{"$f":"données!Y240","v":{"$error":"#N/A"}},{"$f":"données!AH240","v":2},{"$error":"#N/A"},{"$error":"#N/A"},null,null,null,null,null,null,null,null,null,null,null,null,null,null,null,null,null,{"$error":"#N/A"},{"$error":"#N/A"},{"$error":"#N/A"},{"$error":"#N/A"},{"$error":"#N/A"},{"$error":"#N/A"},{"$error":"#N/A"},{"$error":"#N/A"},{"$error":"#N/A"},{"$error":"#N/A"},{"$error":"#N/A"},{"$error":"#N/A"},{"$error":"#N/A"},{"$error":"#N/A"}]
[{"$f":"données!W241","v":{"$error":"#N/A"}},{"$f":"données!X241","v":{"$error":"#N/A"}},{"$f":"données!Y241","v":{"$error":"#N/A"}},{"$f":"données!AH241","v":1},{"$error":"#N/A"},{"$error":"#N/A"},null,null,null,null,null,null,null,null,null,null,null,null,null,null,null,null,null,{"$error":"#N/A"},{"$error":"#N/A"},{"$error":"#N/A"},{"$error":"#N/A"},{"$error":"#N/A"},{"$error":"#N/A"},{"$error":"#N/A"},{"$error":"#N/A"},{"$error":"#N/A"},{"$error":"#N/A"},{"$error":"#N/A"},{"$error":"#N/A"},{"$error":"#N/A"},{"$error":"#N/A"}]
[{"$f":"données!W242","v":{"$error":"#N/A"}},{"$f":"données!X242","v":{"$error":"#N/A"}},{"$f":"données!Y242","v":{"$error":"#N/A"}},{"$f":"données!AH242","v":4},{"$error":"#N/A"},{"$error":"#N/A"},null,null,null,null,null,null,null,null,null,null,null,null,null,null,null,null,null,{"$error":"#N/A"},{"$error":"#N/A"},{"$error":"#N/A"},{"$error":"#N/A"},{"$error":"#N/A"},{"$error":"#N/A"},{"$error":"#N/A"},{"$error":"#N/A"},{"$error":"#N/A"},{"$error":"#N/A"},{"$error":"#N/A"},{"$error":"#N/A"},{"$error":"#N/A"},{"$error":"#N/A"}]
[{"$f":"données!W243","v":{"$error":"#N/A"}},{"$f":"données!X243","v":{"$error":"#N/A"}},{"$f":"données!Y243","v":{"$error":"#N/A"}},{"$f":"données!AH243","v":4},{"$error":"#N/A"},{"$error":"#N/A"},null,null,null,null,null,null,null,null,null,null,null,null,null,null,null,null,null,{"$error":"#N/A"},{"$error":"#N/A"},{"$error":"#N/A"},{"$error":"#N/A"},{"$error":"#N/A"},{"$error":"#N/A"},{"$error":"#N/A"},{"$error":"#N/A"},{"$error":"#N/A"},{"$error":"#N/A"},{"$error":"#N/A"},{"$error":"#N/A"},{"$error":"#N/A"},{"$error":"#N/A"}]
[{"$f":"données!W244","v":{"$error":"#N/A"}},{"$f":"données!X244","v":{"$error":"#N/A"}},{"$f":"données!Y244","v":{"$error":"#N/A"}},{"$f":"données!AH244","v":4},{"$error":"#N/A"},{"$error":"#N/A"},null,null,null,null,null,null,null,null,null,null,null,null,null,null,null,null,null,{"$error":"#N/A"},{"$error":"#N/A"},{"$error":"#N/A"},{"$error":"#N/A"},{"$error":"#N/A"},{"$error":"#N/A"},{"$error":"#N/A"},{"$error":"#N/A"},{"$error":"#N/A"},{"$error":"#N/A"},{"$error":"#N/A"},{"$error":"#N/A"},{"$error":"#N/A"},{"$error":"#N/A"}]
[{"$f":"données!W245","v":{"$error":"#N/A"}},{"$f":"données!X245","v":{"$error":"#N/A"}},{"$f":"données!Y245","v":{"$error":"#N/A"}},{"$f":"données!AH245","v":7},{"$error":"#N/A"},{"$error":"#N/A"},null,null,null,null,null,null,null,null,null,null,null,null,null,null,null,null,null,{"$error":"#N/A"},{"$error":"#N/A"},{"$error":"#N/A"},{"$error":"#N/A"},{"$error":"#N/A"},{"$error":"#N/A"},{"$error":"#N/A"},{"$error":"#N/A"},{"$error":"#N/A"},{"$error":"#N/A"},{"$error":"#N/A"},{"$error":"#N/A"},{"$error":"#N/A"},{"$error":"#N/A"}]
[{"$f":"données!W246","v":{"$error":"#N/A"}},{"$f":"données!X246","v":{"$error":"#N/A"}},{"$f":"données!Y246","v":{"$error":"#N/A"}},{"$f":"données!AH246","v":1},{"$error":"#N/A"},{"$error":"#N/A"},null,null,null,null,null,null,null,null,null,null,null,null,null,null,null,null,null,{"$error":"#N/A"},{"$error":"#N/A"},{"$error":"#N/A"},{"$error":"#N/A"},{"$error":"#N/A"},{"$error":"#N/A"},{"$error":"#N/A"},{"$error":"#N/A"},{"$error":"#N/A"},{"$error":"#N/A"},{"$error":"#N/A"},{"$error":"#N/A"},{"$error":"#N/A"},{"$error":"#N/A"}]
[{"$f":"données!W247","v":{"$error":"#N/A"}},{"$f":"données!X247","v":{"$error":"#N/A"}},{"$f":"données!Y247","v":{"$error":"#N/A"}},{"$f":"données!AH247","v":2},{"$error":"#N/A"},{"$error":"#N/A"},null,null,null,null,null,null,null,null,null,null,null,null,null,null,null,null,null,{"$error":"#N/A"},{"$error":"#N/A"},{"$error":"#N/A"},{"$error":"#N/A"},{"$error":"#N/A"},{"$error":"#N/A"},{"$error":"#N/A"},{"$error":"#N/A"},{"$error":"#N/A"},{"$error":"#N/A"},{"$error":"#N/A"},{"$error":"#N/A"},{"$error":"#N/A"},{"$error":"#N/A"}]
[{"$f":"données!W248","v":{"$error":"#N/A"}},{"$f":"données!X248","v":{"$error":"#N/A"}},{"$f":"données!Y248","v":{"$error":"#N/A"}},{"$f":"données!AH248","v":4},{"$error":"#N/A"},{"$error":"#N/A"},null,null,null,null,null,null,null,null,null,null,null,null,null,null,null,null,null,{"$error":"#N/A"},{"$error":"#N/A"},{"$error":"#N/A"},{"$error":"#N/A"},{"$error":"#N/A"},{"$error":"#N/A"},{"$error":"#N/A"},{"$error":"#N/A"},{"$error":"#N/A"},{"$error":"#N/A"},{"$error":"#N/A"},{"$error":"#N/A"},{"$error":"#N/A"},{"$error":"#N/A"}]
[{"$f":"données!W249","v":{"$error":"#N/A"}},{"$f":"données!X249","v":{"$error":"#N/A"}},{"$f":"données!Y249","v":{"$error":"#N/A"}},{"$f":"données!AH249","v":7},{"$error":"#N/A"},{"$error":"#N/A"},null,null,null,null,null,null,null,null,null,null,null,null,null,null,null,null,null,{"$error":"#N/A"},{"$error":"#N/A"},{"$error":"#N/A"},{"$error":"#N/A"},{"$error":"#N/A"},{"$error":"#N/A"},{"$error":"#N/A"},{"$error":"#N/A"},{"$error":"#N/A"},{"$error":"#N/A"},{"$error":"#N/A"},{"$error":"#N/A"},{"$error":"#N/A"},{"$error":"#N/A"}]
[{"$f":"données!W250","v":{"$error":"#N/A"}},{"$f":"données!X250","v":{"$error":"#N/A"}},{"$f":"données!Y250","v":{"$error":"#N/A"}},{"$f":"données!AH250","v":2},{"$error":"#N/A"},{"$error":"#N/A"},null,null,null,null,null,null,null,null,null,null,null,null,null,null,null,null,null,{"$f":"IF($D248=X$1,$E248,#N/A)","v":{"$error":"#N/A"}},{"$f":"IF($D248=Y$1,$F248,#N/A)","v":{"$error":"#N/A"}},{"$error":"#N/A"},{"$error":"#N/A"},{"$error":"#N/A"},{"$error":"#N/A"},{"$error":"#N/A"},{"$error":"#N/A"},{"$error":"#N/A"},{"$error":"#N/A"},{"$error":"#N/A"},{"$error":"#N/A"},{"$error":"#N/A"},{"$error":"#N/A"}]
[{"$f":"données!W251","v":{"$error":"#N/A"}},{"$f":"données!X251","v":{"$error":"#N/A"}},{"$f":"données!Y251","v":{"$error":"#N/A"}},{"$f":"données!AH251","v":7},{"$error":"#N/A"},{"$error":"#N/A"},null,null,null,null,null,null,null,null,null,null,null,null,null,null,null,null,null,{"$error":"#N/A"},{"$error":"#N/A"},{"$error":"#N/A"},{"$error":"#N/A"},{"$error":"#N/A"},{"$error":"#N/A"},{"$error":"#N/A"},{"$error":"#N/A"},{"$error":"#N/A"},{"$error":"#N/A"},{"$error":"#N/A"},{"$error":"#N/A"},{"$error":"#N/A"},{"$error":"#N/A"}]
[{"$f":"données!W252","v":{"$error":"#N/A"}},{"$f":"données!X252","v":{"$error":"#N/A"}},{"$f":"données!Y252","v":{"$error":"#N/A"}},{"$f":"données!AH252","v":2},{"$error":"#N/A"},{"$error":"#N/A"},null,null,null,null,null,null,null,null,null,null,null,null,null,null,null,null,null,{"$error":"#N/A"},{"$error":"#N/A"},{"$error":"#N/A"},{"$error":"#N/A"},{"$error":"#N/A"},{"$error":"#N/A"},{"$error":"#N/A"},{"$error":"#N/A"},{"$error":"#N/A"},{"$error":"#N/A"},{"$error":"#N/A"},{"$error":"#N/A"},{"$error":"#N/A"},{"$error":"#N/A"}]
[{"$f":"données!W253","v":{"$error":"#N/A"}},{"$f":"données!X253","v":{"$error":"#N/A"}},{"$f":"données!Y253","v":{"$error":"#N/A"}},{"$f":"données!AH253","v":7},{"$error":"#N/A"},{"$error":"#N/A"},null,null,null,null,null,null,null,null,null,null,null,null,null,null,null,null,null,{"$error":"#N/A"},{"$error":"#N/A"},{"$error":"#N/A"},{"$error":"#N/A"},{"$error":"#N/A"},{"$error":"#N/A"},{"$error":"#N/A"},{"$error":"#N/A"},{"$error":"#N/A"},{"$error":"#N/A"},{"$error":"#N/A"},{"$error":"#N/A"},{"$error":"#N/A"},{"$error":"#N/A"}]
[{"$f":"données!W254","v":{"$error":"#N/A"}},{"$f":"données!X254","v":{"$error":"#N/A"}},{"$f":"données!Y254","v":{"$error":"#N/A"}},{"$f":"données!AH254","v":3},{"$error":"#N/A"},{"$error":"#N/A"},null,null,null,null,null,null,null,null,null,null,null,null,null,null,null,null,null,{"$error":"#N/A"},{"$error":"#N/A"},{"$error":"#N/A"},{"$error":"#N/A"},{"$error":"#N/A"},{"$error":"#N/A"},{"$error":"#N/A"},{"$error":"#N/A"},{"$error":"#N/A"},{"$error":"#N/A"},{"$error":"#N/A"},{"$error":"#N/A"},{"$error":"#N/A"},{"$error":"#N/A"}]
[{"$f":"données!W255","v":{"$error":"#N/A"}},{"$f":"données!X255","v":{"$error":"#N/A"}},{"$f":"données!Y255","v":{"$error":"#N/A"}},{"$f":"données!AH255","v":2},{"$error":"#N/A"},{"$error":"#N/A"},null,null,null,null,null,null,null,null,null,null,null,null,null,null,null,null,null,{"$error":"#N/A"},{"$error":"#N/A"},{"$error":"#N/A"},{"$error":"#N/A"},{"$error":"#N/A"},{"$error":"#N/A"},{"$error":"#N/A"},{"$error":"#N/A"},{"$error":"#N/A"},{"$error":"#N/A"},{"$error":"#N/A"},{"$error":"#N/A"},{"$error":"#N/A"},{"$error":"#N/A"}]
[{"$f":"données!W256","v":{"$error":"#N/A"}},{"$f":"données!X256","v":{"$error":"#N/A"}},{"$f":"données!Y256","v":{"$error":"#N/A"}},{"$f":"données!AH256","v":2},{"$error":"#N/A"},{"$error":"#N/A"},null,null,null,null,null,null,null,null,null,null,null,null,null,null,null,null,null,{"$error":"#N/A"},{"$error":"#N/A"},{"$error":"#N/A"},{"$error":"#N/A"},{"$error":"#N/A"},{"$error":"#N/A"},{"$error":"#N/A"},{"$error":"#N/A"},{"$error":"#N/A"},{"$error":"#N/A"},{"$error":"#N/A"},{"$error":"#N/A"},{"$error":"#N/A"},{"$error":"#N/A"}]
[{"$f":"données!W257","v":{"$error":"#N/A"}},{"$f":"données!X257","v":{"$error":"#N/A"}},{"$f":"données!Y257","v":{"$error":"#N/A"}},{"$f":"données!AH257","v":3},{"$error":"#N/A"},{"$error":"#N/A"},null,null,null,null,null,null,null,null,null,null,null,null,null,null,null,null,null,{"$error":"#N/A"},{"$error":"#N/A"},{"$error":"#N/A"},{"$error":"#N/A"},{"$error":"#N/A"},{"$error":"#N/A"},{"$error":"#N/A"},{"$error":"#N/A"},{"$error":"#N/A"},{"$error":"#N/A"},{"$error":"#N/A"},{"$error":"#N/A"},{"$error":"#N/A"},{"$error":"#N/A"}]
[{"$f":"données!W258","v":{"$error":"#N/A"}},{"$f":"données!X258","v":{"$error":"#N/A"}},{"$f":"données!Y258","v":{"$error":"#N/A"}},{"$f":"données!AH258","v":5},{"$error":"#N/A"},{"$error":"#N/A"},null,null,null,null,null,null,null,null,null,null,null,null,null,null,null,null,null,{"$error":"#N/A"},{"$error":"#N/A"},{"$error":"#N/A"},{"$error":"#N/A"},{"$error":"#N/A"},{"$error":"#N/A"},{"$error":"#N/A"},{"$error":"#N/A"},{"$error":"#N/A"},{"$error":"#N/A"},{"$error":"#N/A"},{"$error":"#N/A"},{"$error":"#N/A"},{"$error":"#N/A"}]
[{"$f":"données!W259","v":{"$error":"#N/A"}},{"$f":"données!X259","v":{"$error":"#N/A"}},{"$f":"données!Y259","v":{"$error":"#N/A"}},{"$f":"données!AH259","v":5},{"$error":"#N/A"},{"$error":"#N/A"},null,null,null,null,null,null,null,null,null,null,null,null,null,null,null,null,null,{"$error":"#N/A"},{"$error":"#N/A"},{"$error":"#N/A"},{"$error":"#N/A"},{"$error":"#N/A"},{"$error":"#N/A"},{"$error":"#N/A"},{"$error":"#N/A"},{"$error":"#N/A"},{"$error":"#N/A"},{"$error":"#N/A"},{"$error":"#N/A"},{"$error":"#N/A"},{"$error":"#N/A"}]
[{"$f":"données!W260","v":{"$error":"#N/A"}},{"$f":"données!X260","v":{"$error":"#N/A"}},{"$f":"données!Y260","v":{"$error":"#N/A"}},{"$f":"données!AH260","v":5},{"$f":"A258+B258*$I$2","v":{"$error":"#N/A"}},{"$f":"C258+B258*$I$3","v":{"$error":"#N/A"}},null,null,null,null,null,null,null,null,null,null,null,null,null,null,null,null,null,{"$error":"#N/A"},{"$error":"#N/A"},{"$f":"IF($D258=Z$1,$E258,#N/A)","v":{"$error":"#N/A"}},{"$f":"IF($D258=AA$1,$F258,#N/A)","v":{"$error":"#N/A"}},{"$f":"IF($D258=AB$1,$E258,#N/A)","v":{"$error":"#N/A"}},{"$f":"IF($D258=AC$1,$F258,#N/A)","v":{"$error":"#N/A"}},{"$f":"IF($D258=AD$1,$E258,#N/A)","v":{"$error":"#N/A"}},{"$f":"IF($D258=AE$1,$F258,#N/A)","v":{"$error":"#N/A"}},{"$f":"IF($D258=AF$1,$E258,#N/A)","v":{"$error":"#N/A"}},{"$f":"IF($D258=AG$1,$F258,#N/A)","v":{"$error":"#N/A"}},{"$f":"IF($D258=AH$1,$E258,#N/A)","v":{"$error":"#N/A"}},{"$f":"IF($D258=AI$1,$F258,#N/A)","v":{"$error":"#N/A"}},{"$f":"IF($D258=AJ$1,$E258,#N/A)","v":{"$error":"#N/A"}},{"$f":"IF($D258=AK$1,$F258,#N/A)","v":{"$error":"#N/A"}}]
[{"$f":"données!W261","v":{"$error":"#N/A"}},{"$f":"données!X261","v":{"$error":"#N/A"}},{"$f":"données!Y261","v":{"$error":"#N/A"}},{"$f":"données!AH261","v":7},{"$error":"#N/A"},{"$error":"#N/A"},null,null,null,null,null,null,null,null,null,null,null,null,null,null,null,null,null,{"$error":"#N/A"},{"$error":"#N/A"},{"$error":"#N/A"},{"$error":"#N/A"},{"$error":"#N/A"},{"$error":"#N/A"},{"$error":"#N/A"},{"$error":"#N/A"},{"$error":"#N/A"},{"$error":"#N/A"},{"$error":"#N/A"},{"$error":"#N/A"},{"$error":"#N/A"},{"$error":"#N/A"}]
[{"$f":"données!W262","v":{"$error":"#N/A"}},{"$f":"données!X262","v":{"$error":"#N/A"}},{"$f":"données!Y262","v":{"$error":"#N/A"}},{"$f":"données!AH262","v":6},{"$error":"#N/A"},{"$error":"#N/A"},null,null,null,null,null,null,null,null,null,null,null,null,null,null,null,null,null,{"$error":"#N/A"},{"$error":"#N/A"},{"$error":"#N/A"},{"$error":"#N/A"},{"$error":"#N/A"},{"$error":"#N/A"},{"$error":"#N/A"},{"$error":"#N/A"},{"$error":"#N/A"},{"$error":"#N/A"},{"$error":"#N/A"},{"$error":"#N/A"},{"$error":"#N/A"},{"$error":"#N/A"}]
[{"$f":"données!W263","v":{"$error":"#N/A"}},{"$f":"données!X263","v":{"$error":"#N/A"}},{"$f":"données!Y263","v":{"$error":"#N/A"}},{"$f":"données!AH263","v":6},{"$error":"#N/A"},{"$error":"#N/A"},null,null,null,null,null,null,null,null,null,null,null,null,null,null,null,null,null,{"$error":"#N/A"},{"$error":"#N/A"},{"$error":"#N/A"},{"$error":"#N/A"},{"$error":"#N/A"},{"$error":"#N/A"},{"$error":"#N/A"},{"$error":"#N/A"},{"$error":"#N/A"},{"$error":"#N/A"},{"$error":"#N/A"},{"$error":"#N/A"},{"$error":"#N/A"},{"$error":"#N/A"}]
[{"$f":"données!W264","v":{"$error":"#N/A"}},{"$f":"données!X264","v":{"$error":"#N/A"}},{"$f":"données!Y264","v":{"$error":"#N/A"}},{"$f":"données!AH264","v":3},{"$error":"#N/A"},{"$error":"#N/A"},null,null,null,null,null,null,null,null,null,null,null,null,null,null,null,null,null,{"$error":"#N/A"},{"$error":"#N/A"},{"$error":"#N/A"},{"$error":"#N/A"},{"$error":"#N/A"},{"$error":"#N/A"},{"$error":"#N/A"},{"$error":"#N/A"},{"$error":"#N/A"},{"$error":"#N/A"},{"$error":"#N/A"},{"$error":"#N/A"},{"$error":"#N/A"},{"$error":"#N/A"}]
[{"$f":"données!W265","v":{"$error":"#N/A"}},{"$f":"données!X265","v":{"$error":"#N/A"}},{"$f":"données!Y265","v":{"$error":"#N/A"}},{"$f":"données!AH265","v":7},{"$error":"#N/A"},{"$error":"#N/A"},null,null,null,null,null,null,null,null,null,null,null,null,null,null,null,null,null,{"$error":"#N/A"},{"$error":"#N/A"},{"$error":"#N/A"},{"$error":"#N/A"},{"$error":"#N/A"},{"$error":"#N/A"},{"$error":"#N/A"},{"$error":"#N/A"},{"$error":"#N/A"},{"$error":"#N/A"},{"$error":"#N/A"},{"$error":"#N/A"},{"$error":"#N/A"},{"$error":"#N/A"}]
[{"$f":"données!W266","v":{"$error":"#N/A"}},{"$f":"données!X266","v":{"$error":"#N/A"}},{"$f":"données!Y266","v":{"$error":"#N/A"}},{"$f":"données!AH266","v":2},{"$error":"#N/A"},{"$error":"#N/A"},null,null,null,null,null,null,null,null,null,null,null,null,null,null,null,null,null,{"$error":"#N/A"},{"$error":"#N/A"},{"$error":"#N/A"},{"$error":"#N/A"},{"$error":"#N/A"},{"$error":"#N/A"},{"$error":"#N/A"},{"$error":"#N/A"},{"$error":"#N/A"},{"$error":"#N/A"},{"$error":"#N/A"},{"$error":"#N/A"},{"$error":"#N/A"},{"$error":"#N/A"}]
[{"$f":"données!W267","v":{"$error":"#N/A"}},{"$f":"données!X267","v":{"$error":"#N/A"}},{"$f":"données!Y267","v":{"$error":"#N/A"}},{"$f":"données!AH267","v":1},{"$error":"#N/A"},{"$error":"#N/A"},null,null,null,null,null,null,null,null,null,null,null,null,null,null,null,null,null,{"$error":"#N/A"},{"$error":"#N/A"},{"$error":"#N/A"},{"$error":"#N/A"},{"$error":"#N/A"},{"$error":"#N/A"},{"$error":"#N/A"},{"$error":"#N/A"},{"$error":"#N/A"},{"$error":"#N/A"},{"$error":"#N/A"},{"$error":"#N/A"},{"$error":"#N/A"},{"$error":"#N/A"}]
[{"$f":"données!W268","v":{"$error":"#N/A"}},{"$f":"données!X268","v":{"$error":"#N/A"}},{"$f":"données!Y268","v":{"$error":"#N/A"}},{"$f":"données!AH268","v":2},{"$error":"#N/A"},{"$error":"#N/A"},null,null,null,null,null,null,null,null,null,null,null,null,null,null,null,null,null,{"$error":"#N/A"},{"$error":"#N/A"},{"$error":"#N/A"},{"$error":"#N/A"},{"$error":"#N/A"},{"$error":"#N/A"},{"$error":"#N/A"},{"$error":"#N/A"},{"$error":"#N/A"},{"$error":"#N/A"},{"$error":"#N/A"},{"$error":"#N/A"},{"$error":"#N/A"},{"$error":"#N/A"}]
[{"$f":"données!W269","v":{"$error":"#N/A"}},{"$f":"données!X269","v":{"$error":"#N/A"}},{"$f":"données!Y269","v":{"$error":"#N/A"}},{"$f":"données!AH269","v":3},{"$error":"#N/A"},{"$error":"#N/A"},null,null,null,null,null,null,null,null,null,null,null,null,null,null,null,null,null,{"$error":"#N/A"},{"$error":"#N/A"},{"$error":"#N/A"},{"$error":"#N/A"},{"$error":"#N/A"},{"$error":"#N/A"},{"$error":"#N/A"},{"$error":"#N/A"},{"$error":"#N/A"},{"$error":"#N/A"},{"$error":"#N/A"},{"$error":"#N/A"},{"$error":"#N/A"},{"$error":"#N/A"}]
[{"$f":"données!W270","v":{"$error":"#N/A"}},{"$f":"données!X270","v":{"$error":"#N/A"}},{"$f":"données!Y270","v":{"$error":"#N/A"}},{"$f":"données!AH270","v":2},{"$error":"#N/A"},{"$error":"#N/A"},null,null,null,null,null,null,null,null,null,null,null,null,null,null,null,null,null,{"$error":"#N/A"},{"$error":"#N/A"},{"$error":"#N/A"},{"$error":"#N/A"},{"$error":"#N/A"},{"$error":"#N/A"},{"$error":"#N/A"},{"$error":"#N/A"},{"$error":"#N/A"},{"$error":"#N/A"},{"$error":"#N/A"},{"$error":"#N/A"},{"$error":"#N/A"},{"$error":"#N/A"}]
[{"$f":"données!W271","v":{"$error":"#N/A"}},{"$f":"données!X271","v":{"$error":"#N/A"}},{"$f":"données!Y271","v":{"$error":"#N/A"}},{"$f":"données!AH271","v":1},{"$error":"#N/A"},{"$error":"#N/A"},null,null,null,null,null,null,null,null,null,null,null,null,null,null,null,null,null,{"$error":"#N/A"},{"$error":"#N/A"},{"$error":"#N/A"},{"$error":"#N/A"},{"$error":"#N/A"},{"$error":"#N/A"},{"$error":"#N/A"},{"$error":"#N/A"},{"$error":"#N/A"},{"$error":"#N/A"},{"$error":"#N/A"},{"$error":"#N/A"},{"$error":"#N/A"},{"$error":"#N/A"}]
[{"$f":"données!W272","v":{"$error":"#N/A"}},{"$f":"données!X272","v":{"$error":"#N/A"}},{"$f":"données!Y272","v":{"$error":"#N/A"}},{"$f":"données!AH272","v":4},{"$error":"#N/A"},{"$error":"#N/A"},null,null,null,null,null,null,null,null,null,null,null,null,null,null,null,null,null,{"$error":"#N/A"},{"$error":"#N/A"},{"$error":"#N/A"},{"$error":"#N/A"},{"$error":"#N/A"},{"$error":"#N/A"},{"$error":"#N/A"},{"$error":"#N/A"},{"$error":"#N/A"},{"$error":"#N/A"},{"$error":"#N/A"},{"$error":"#N/A"},{"$error":"#N/A"},{"$error":"#N/A"}]
[{"$f":"données!W273","v":{"$error":"#N/A"}},{"$f":"données!X273","v":{"$error":"#N/A"}},{"$f":"données!Y273","v":{"$error":"#N/A"}},{"$f":"données!AH273","v":4},{"$error":"#N/A"},{"$error":"#N/A"},null,null,null,null,null,null,null,null,null,null,null,null,null,null,null,null,null,{"$error":"#N/A"},{"$error":"#N/A"},{"$error":"#N/A"},{"$error":"#N/A"},{"$error":"#N/A"},{"$error":"#N/A"},{"$error":"#N/A"},{"$error":"#N/A"},{"$error":"#N/A"},{"$error":"#N/A"},{"$error":"#N/A"},{"$error":"#N/A"},{"$error":"#N/A"},{"$error":"#N/A"}]
[{"$f":"données!W274","v":{"$error":"#N/A"}},{"$f":"données!X274","v":{"$error":"#N/A"}},{"$f":"données!Y274","v":{"$error":"#N/A"}},{"$f":"données!AH274","v":4},{"$error":"#N/A"},{"$error":"#N/A"},null,null,null,null,null,null,null,null,null,null,null,null,null,null,null,null,null,{"$error":"#N/A"},{"$error":"#N/A"},{"$error":"#N/A"},{"$error":"#N/A"},{"$error":"#N/A"},{"$error":"#N/A"},{"$error":"#N/A"},{"$error":"#N/A"},{"$error":"#N/A"},{"$error":"#N/A"},{"$error":"#N/A"},{"$error":"#N/A"},{"$error":"#N/A"},{"$error":"#N/A"}]
[{"$f":"données!W275","v":{"$error":"#N/A"}},{"$f":"données!X275","v":{"$error":"#N/A"}},{"$f":"données!Y275","v":{"$error":"#N/A"}},{"$f":"données!AH275","v":2},{"$error":"#N/A"},{"$error":"#N/A"},null,null,null,null,null,null,null,null,null,null,null,null,null,null,null,null,null,{"$error":"#N/A"},{"$error":"#N/A"},{"$error":"#N/A"},{"$error":"#N/A"},{"$error":"#N/A"},{"$error":"#N/A"},{"$error":"#N/A"},{"$error":"#N/A"},{"$error":"#N/A"},{"$error":"#N/A"},{"$error":"#N/A"},{"$error":"#N/A"},{"$error":"#N/A"},{"$error":"#N/A"}]
[{"$f":"données!W276","v":{"$error":"#N/A"}},{"$f":"données!X276","v":{"$error":"#N/A"}},{"$f":"données!Y276","v":{"$error":"#N/A"}},{"$f":"données!AH276","v":3},{"$error":"#N/A"},{"$error":"#N/A"},null,null,null,null,null,null,null,null,null,null,null,null,null,null,null,null,null,{"$error":"#N/A"},{"$error":"#N/A"},{"$error":"#N/A"},{"$error":"#N/A"},{"$error":"#N/A"},{"$error":"#N/A"},{"$error":"#N/A"},{"$error":"#N/A"},{"$error":"#N/A"},{"$error":"#N/A"},{"$error":"#N/A"},{"$error":"#N/A"},{"$error":"#N/A"},{"$error":"#N/A"}]
[{"$f":"données!W277","v":{"$error":"#N/A"}},{"$f":"données!X277","v":{"$error":"#N/A"}},{"$f":"données!Y277","v":{"$error":"#N/A"}},{"$f":"données!AH277","v":5},{"$error":"#N/A"},{"$error":"#N/A"},null,null,null,null,null,null,null,null,null,null,null,null,null,null,null,null,null,{"$error":"#N/A"},{"$error":"#N/A"},{"$error":"#N/A"},{"$error":"#N/A"},{"$error":"#N/A"},{"$error":"#N/A"},{"$error":"#N/A"},{"$error":"#N/A"},{"$error":"#N/A"},{"$error":"#N/A"},{"$error":"#N/A"},{"$error":"#N/A"},{"$error":"#N/A"},{"$error":"#N/A"}]
[{"$f":"données!W278","v":{"$error":"#N/A"}},{"$f":"données!X278","v":{"$error":"#N/A"}},{"$f":"données!Y278","v":{"$error":"#N/A"}},{"$f":"données!AH278","v":4},{"$error":"#N/A"},{"$error":"#N/A"},null,null,null,null,null,null,null,null,null,null,null,null,null,null,null,null,null,{"$error":"#N/A"},{"$error":"#N/A"},{"$error":"#N/A"},{"$error":"#N/A"},{"$error":"#N/A"},{"$error":"#N/A"},{"$error":"#N/A"},{"$error":"#N/A"},{"$error":"#N/A"},{"$error":"#N/A"},{"$error":"#N/A"},{"$error":"#N/A"},{"$error":"#N/A"},{"$error":"#N/A"}]
[{"$f":"données!W279","v":{"$error":"#N/A"}},{"$f":"données!X279","v":{"$error":"#N/A"}},{"$f":"données!Y279","v":{"$error":"#N/A"}},{"$f":"données!AH279","v":5},{"$error":"#N/A"},{"$error":"#N/A"},null,null,null,null,null,null,null,null,null,null,null,null,null,null,null,null,null,{"$error":"#N/A"},{"$error":"#N/A"},{"$error":"#N/A"},{"$error":"#N/A"},{"$error":"#N/A"},{"$error":"#N/A"},{"$error":"#N/A"},{"$error":"#N/A"},{"$error":"#N/A"},{"$error":"#N/A"},{"$error":"#N/A"},{"$error":"#N/A"},{"$error":"#N/A"},{"$error":"#N/A"}]
[{"$f":"données!W280","v":{"$error":"#N/A"}},{"$f":"données!X280","v":{"$error":"#N/A"}},{"$f":"données!Y280","v":{"$error":"#N/A"}},{"$f":"données!AH280","v":4},{"$error":"#N/A"},{"$error":"#N/A"},null,null,null,null,null,null,null,null,null,null,null,null,null,null,null,null,null,{"$error":"#N/A"},{"$error":"#N/A"},{"$error":"#N/A"},{"$error":"#N/A"},{"$error":"#N/A"},{"$error":"#N/A"},{"$error":"#N/A"},{"$error":"#N/A"},{"$error":"#N/A"},{"$error":"#N/A"},{"$error":"#N/A"},{"$error":"#N/A"},{"$error":"#N/A"},{"$error":"#N/A"}]
[{"$f":"données!W281","v":{"$error":"#N/A"}},{"$f":"données!X281","v":{"$error":"#N/A"}},{"$f":"données!Y281","v":{"$error":"#N/A"}},{"$f":"données!AH281","v":6},{"$error":"#N/A"},{"$error":"#N/A"},null,null,null,null,null,null,null,null,null,null,null,null,null,null,null,null,null,{"$error":"#N/A"},{"$error":"#N/A"},{"$error":"#N/A"},{"$error":"#N/A"},{"$error":"#N/A"},{"$error":"#N/A"},{"$error":"#N/A"},{"$error":"#N/A"},{"$error":"#N/A"},{"$error":"#N/A"},{"$error":"#N/A"},{"$error":"#N/A"},{"$error":"#N/A"},{"$error":"#N/A"}]
[{"$f":"données!W282","v":{"$error":"#N/A"}},{"$f":"données!X282","v":{"$error":"#N/A"}},{"$f":"données!Y282","v":{"$error":"#N/A"}},{"$f":"données!AH282","v":2},{"$error":"#N/A"},{"$error":"#N/A"},null,null,null,null,null,null,null,null,null,null,null,null,null,null,null,null,null,{"$error":"#N/A"},{"$error":"#N/A"},{"$error":"#N/A"},{"$error":"#N/A"},{"$error":"#N/A"},{"$error":"#N/A"},{"$error":"#N/A"},{"$error":"#N/A"},{"$error":"#N/A"},{"$error":"#N/A"},{"$error":"#N/A"},{"$error":"#N/A"},{"$error":"#N/A"},{"$error":"#N/A"}]
[{"$f":"données!W283","v":{"$error":"#N/A"}},{"$f":"données!X283","v":{"$error":"#N/A"}},{"$f":"données!Y283","v":{"$error":"#N/A"}},{"$f":"données!AH283","v":6},{"$error":"#N/A"},{"$error":"#N/A"},null,null,null,null,null,null,null,null,null,null,null,null,null,null,null,null,null,{"$error":"#N/A"},{"$error":"#N/A"},{"$error":"#N/A"},{"$error":"#N/A"},{"$error":"#N/A"},{"$error":"#N/A"},{"$error":"#N/A"},{"$error":"#N/A"},{"$error":"#N/A"},{"$error":"#N/A"},{"$error":"#N/A"},{"$error":"#N/A"},{"$error":"#N/A"},{"$error":"#N/A"}]
[{"$f":"données!W284","v":{"$error":"#N/A"}},{"$f":"données!X284","v":{"$error":"#N/A"}},{"$f":"données!Y284","v":{"$error":"#N/A"}},{"$f":"données!AH284","v":1},{"$error":"#N/A"},{"$error":"#N/A"},null,null,null,null,null,null,null,null,null,null,null,null,null,null,null,null,null,{"$error":"#N/A"},{"$error":"#N/A"},{"$error":"#N/A"},{"$error":"#N/A"},{"$error":"#N/A"},{"$error":"#N/A"},{"$error":"#N/A"},{"$error":"#N/A"},{"$error":"#N/A"},{"$error":"#N/A"},{"$error":"#N/A"},{"$error":"#N/A"},{"$error":"#N/A"},{"$error":"#N/A"}]
[{"$f":"données!W285","v":{"$error":"#N/A"}},{"$f":"données!X285","v":{"$error":"#N/A"}},{"$f":"données!Y285","v":{"$error":"#N/A"}},{"$f":"données!AH285","v":6},{"$error":"#N/A"},{"$error":"#N/A"},null,null,null,null,null,null,null,null,null,null,null,null,null,null,null,null,null,{"$error":"#N/A"},{"$error":"#N/A"},{"$error":"#N/A"},{"$error":"#N/A"},{"$error":"#N/A"},{"$error":"#N/A"},{"$error":"#N/A"},{"$error":"#N/A"},{"$error":"#N/A"},{"$error":"#N/A"},{"$error":"#N/A"},{"$error":"#N/A"},{"$error":"#N/A"},{"$error":"#N/A"}]
[{"$f":"données!W286","v":{"$error":"#N/A"}},{"$f":"données!X286","v":{"$error":"#N/A"}},{"$f":"données!Y286","v":{"$error":"#N/A"}},{"$f":"données!AH286","v":3},{"$error":"#N/A"},{"$error":"#N/A"},null,null,null,null,null,null,null,null,null,null,null,null,null,null,null,null,null,{"$error":"#N/A"},{"$error":"#N/A"},{"$error":"#N/A"},{"$error":"#N/A"},{"$error":"#N/A"},{"$error":"#N/A"},{"$error":"#N/A"},{"$error":"#N/A"},{"$error":"#N/A"},{"$error":"#N/A"},{"$error":"#N/A"},{"$error":"#N/A"},{"$error":"#N/A"},{"$error":"#N/A"}]
[{"$f":"données!W287","v":{"$error":"#N/A"}},{"$f":"données!X287","v":{"$error":"#N/A"}},{"$f":"données!Y287","v":{"$error":"#N/A"}},{"$f":"données!AH287","v":4},{"$error":"#N/A"},{"$error":"#N/A"},null,null,null,null,null,null,null,null,null,null,null,null,null,null,null,null,null,{"$error":"#N/A"},{"$error":"#N/A"},{"$error":"#N/A"},{"$error":"#N/A"},{"$error":"#N/A"},{"$error":"#N/A"},{"$error":"#N/A"},{"$error":"#N/A"},{"$error":"#N/A"},{"$error":"#N/A"},{"$error":"#N/A"},{"$error":"#N/A"},{"$error":"#N/A"},{"$error":"#N/A"}]
[{"$f":"données!W288","v":{"$error":"#N/A"}},{"$f":"données!X288","v":{"$error":"#N/A"}},{"$f":"données!Y288","v":{"$error":"#N/A"}},{"$f":"données!AH288","v":7},{"$error":"#N/A"},{"$error":"#N/A"},null,null,null,null,null,null,null,null,null,null,null,null,null,null,null,null,null,{"$error":"#N/A"},{"$error":"#N/A"},{"$error":"#N/A"},{"$error":"#N/A"},{"$error":"#N/A"},{"$error":"#N/A"},{"$error":"#N/A"},{"$error":"#N/A"},{"$error":"#N/A"},{"$error":"#N/A"},{"$error":"#N/A"},{"$error":"#N/A"},{"$error":"#N/A"},{"$error":"#N/A"}]
[{"$f":"données!W289","v":{"$error":"#N/A"}},{"$f":"données!X289","v":{"$error":"#N/A"}},{"$f":"données!Y289","v":{"$error":"#N/A"}},{"$f":"données!AH289","v":7},{"$error":"#N/A"},{"$error":"#N/A"},null,null,null,null,null,null,null,null,null,null,null,null,null,null,null,null,null,{"$error":"#N/A"},{"$error":"#N/A"},{"$error":"#N/A"},{"$error":"#N/A"},{"$error":"#N/A"},{"$error":"#N/A"},{"$error":"#N/A"},{"$error":"#N/A"},{"$error":"#N/A"},{"$error":"#N/A"},{"$error":"#N/A"},{"$error":"#N/A"},{"$error":"#N/A"},{"$error":"#N/A"}]
[{"$f":"données!W290","v":{"$error":"#N/A"}},{"$f":"données!X290","v":{"$error":"#N/A"}},{"$f":"données!Y290","v":{"$error":"#N/A"}},{"$f":"données!AH290","v":4},{"$error":"#N/A"},{"$error":"#N/A"},null,null,null,null,null,null,null,null,null,null,null,null,null,null,null,null,null,{"$error":"#N/A"},{"$error":"#N/A"},{"$error":"#N/A"},{"$error":"#N/A"},{"$error":"#N/A"},{"$error":"#N/A"},{"$error":"#N/A"},{"$error":"#N/A"},{"$error":"#N/A"},{"$error":"#N/A"},{"$error":"#N/A"},{"$error":"#N/A"},{"$error":"#N/A"},{"$error":"#N/A"}]
[{"$f":"données!W291","v":{"$error":"#N/A"}},{"$f":"données!X291","v":{"$error":"#N/A"}},{"$f":"données!Y291","v":{"$error":"#N/A"}},{"$f":"données!AH291","v":4},{"$error":"#N/A"},{"$error":"#N/A"},null,null,null,null,null,null,null,null,null,null,null,null,null,null,null,null,null,{"$error":"#N/A"},{"$error":"#N/A"},{"$error":"#N/A"},{"$error":"#N/A"},{"$error":"#N/A"},{"$error":"#N/A"},{"$error":"#N/A"},{"$error":"#N/A"},{"$error":"#N/A"},{"$error":"#N/A"},{"$error":"#N/A"},{"$error":"#N/A"},{"$error":"#N/A"},{"$error":"#N/A"}]
[{"$f":"données!W292","v":{"$error":"#N/A"}},{"$f":"données!X292","v":{"$error":"#N/A"}},{"$f":"données!Y292","v":{"$error":"#N/A"}},{"$f":"données!AH292","v":7},{"$error":"#N/A"},{"$error":"#N/A"},null,null,null,null,null,null,null,null,null,null,null,null,null,null,null,null,null,{"$error":"#N/A"},{"$error":"#N/A"},{"$error":"#N/A"},{"$error":"#N/A"},{"$error":"#N/A"},{"$error":"#N/A"},{"$error":"#N/A"},{"$error":"#N/A"},{"$error":"#N/A"},{"$error":"#N/A"},{"$error":"#N/A"},{"$error":"#N/A"},{"$error":"#N/A"},{"$error":"#N/A"}]
[{"$f":"données!W293","v":{"$error":"#N/A"}},{"$f":"données!X293","v":{"$error":"#N/A"}},{"$f":"données!Y293","v":{"$error":"#N/A"}},{"$f":"données!AH293","v":4},{"$error":"#N/A"},{"$error":"#N/A"},null,null,null,null,null,null,null,null,null,null,null,null,null,null,null,null,null,{"$error":"#N/A"},{"$error":"#N/A"},{"$error":"#N/A"},{"$error":"#N/A"},{"$error":"#N/A"},{"$error":"#N/A"},{"$error":"#N/A"},{"$error":"#N/A"},{"$error":"#N/A"},{"$error":"#N/A"},{"$error":"#N/A"},{"$error":"#N/A"},{"$error":"#N/A"},{"$error":"#N/A"}]
[{"$f":"données!W294","v":{"$error":"#N/A"}},{"$f":"données!X294","v":{"$error":"#N/A"}},{"$f":"données!Y294","v":{"$error":"#N/A"}},{"$f":"données!AH294","v":3},{"$error":"#N/A"},{"$error":"#N/A"},null,null,null,null,null,null,null,null,null,null,null,null,null,null,null,null,null,{"$error":"#N/A"},{"$error":"#N/A"},{"$error":"#N/A"},{"$error":"#N/A"},{"$error":"#N/A"},{"$error":"#N/A"},{"$error":"#N/A"},{"$error":"#N/A"},{"$error":"#N/A"},{"$error":"#N/A"},{"$error":"#N/A"},{"$error":"#N/A"},{"$error":"#N/A"},{"$error":"#N/A"}]
[{"$f":"données!W295","v":{"$error":"#N/A"}},{"$f":"données!X295","v":{"$error":"#N/A"}},{"$f":"données!Y295","v":{"$error":"#N/A"}},{"$f":"données!AH295","v":2},{"$error":"#N/A"},{"$error":"#N/A"},null,null,null,null,null,null,null,null,null,null,null,null,null,null,null,null,null,{"$error":"#N/A"},{"$error":"#N/A"},{"$error":"#N/A"},{"$error":"#N/A"},{"$error":"#N/A"},{"$error":"#N/A"},{"$error":"#N/A"},{"$error":"#N/A"},{"$error":"#N/A"},{"$error":"#N/A"},{"$error":"#N/A"},{"$error":"#N/A"},{"$error":"#N/A"},{"$error":"#N/A"}]
[{"$f":"données!W296","v":{"$error":"#N/A"}},{"$f":"données!X296","v":{"$error":"#N/A"}},{"$f":"données!Y296","v":{"$error":"#N/A"}},{"$f":"données!AH296","v":1},{"$error":"#N/A"},{"$error":"#N/A"},null,null,null,null,null,null,null,null,null,null,null,null,null,null,null,null,null,{"$error":"#N/A"},{"$error":"#N/A"},{"$error":"#N/A"},{"$error":"#N/A"},{"$error":"#N/A"},{"$error":"#N/A"},{"$error":"#N/A"},{"$error":"#N/A"},{"$error":"#N/A"},{"$error":"#N/A"},{"$error":"#N/A"},{"$error":"#N/A"},{"$error":"#N/A"},{"$error":"#N/A"}]
[{"$f":"données!W297","v":{"$error":"#N/A"}},{"$f":"données!X297","v":{"$error":"#N/A"}},{"$f":"données!Y297","v":{"$error":"#N/A"}},{"$f":"données!AH297","v":1},{"$error":"#N/A"},{"$error":"#N/A"},null,null,null,null,null,null,null,null,null,null,null,null,null,null,null,null,null,{"$error":"#N/A"},{"$error":"#N/A"},{"$error":"#N/A"},{"$error":"#N/A"},{"$error":"#N/A"},{"$error":"#N/A"},{"$error":"#N/A"},{"$error":"#N/A"},{"$error":"#N/A"},{"$error":"#N/A"},{"$error":"#N/A"},{"$error":"#N/A"},{"$error":"#N/A"},{"$error":"#N/A"}]
[{"$f":"données!W298","v":{"$error":"#N/A"}},{"$f":"données!X298","v":{"$error":"#N/A"}},{"$f":"données!Y298","v":{"$error":"#N/A"}},{"$f":"données!AH298","v":1},{"$error":"#N/A"},{"$error":"#N/A"},null,null,null,null,null,null,null,null,null,null,null,null,null,null,null,null,null,{"$error":"#N/A"},{"$error":"#N/A"},{"$error":"#N/A"},{"$error":"#N/A"},{"$error":"#N/A"},{"$error":"#N/A"},{"$error":"#N/A"},{"$error":"#N/A"},{"$error":"#N/A"},{"$error":"#N/A"},{"$error":"#N/A"},{"$error":"#N/A"},{"$error":"#N/A"},{"$error":"#N/A"}]
[{"$f":"données!W299","v":{"$error":"#N/A"}},{"$f":"données!X299","v":{"$error":"#N/A"}},{"$f":"données!Y299","v":{"$error":"#N/A"}},{"$f":"données!AH299","v":4},{"$error":"#N/A"},{"$error":"#N/A"},null,null,null,null,null,null,null,null,null,null,null,null,null,null,null,null,null,{"$error":"#N/A"},{"$error":"#N/A"},{"$error":"#N/A"},{"$error":"#N/A"},{"$error":"#N/A"},{"$error":"#N/A"},{"$error":"#N/A"},{"$error":"#N/A"},{"$error":"#N/A"},{"$error":"#N/A"},{"$error":"#N/A"},{"$error":"#N/A"},{"$error":"#N/A"},{"$error":"#N/A"}]
[{"$f":"données!W300","v":{"$error":"#N/A"}},{"$f":"données!X300","v":{"$error":"#N/A"}},{"$f":"données!Y300","v":{"$error":"#N/A"}},{"$f":"données!AH300","v":7},{"$error":"#N/A"},{"$error":"#N/A"},null,null,null,null,null,null,null,null,null,null,null,null,null,null,null,null,null,{"$error":"#N/A"},{"$error":"#N/A"},{"$error":"#N/A"},{"$error":"#N/A"},{"$error":"#N/A"},{"$error":"#N/A"},{"$error":"#N/A"},{"$error":"#N/A"},{"$error":"#N/A"},{"$error":"#N/A"},{"$error":"#N/A"},{"$error":"#N/A"},{"$error":"#N/A"},{"$error":"#N/A"}]
[{"$f":"données!W301","v":{"$error":"#N/A"}},{"$f":"données!X301","v":{"$error":"#N/A"}},{"$f":"données!Y301","v":{"$error":"#N/A"}},{"$f":"données!AH301","v":5},{"$error":"#N/A"},{"$error":"#N/A"},null,null,null,null,null,null,null,null,null,null,null,null,null,null,null,null,null,{"$error":"#N/A"},{"$error":"#N/A"},{"$error":"#N/A"},{"$error":"#N/A"},{"$error":"#N/A"},{"$error":"#N/A"},{"$error":"#N/A"},{"$error":"#N/A"},{"$error":"#N/A"},{"$error":"#N/A"},{"$error":"#N/A"},{"$error":"#N/A"},{"$error":"#N/A"},{"$error":"#N/A"}]
[{"$f":"données!W302","v":{"$error":"#N/A"}},{"$f":"données!X302","v":{"$error":"#N/A"}},{"$f":"données!Y302","v":{"$error":"#N/A"}},{"$f":"données!AH302","v":5},{"$error":"#N/A"},{"$error":"#N/A"},null,null,null,null,null,null,null,null,null,null,null,null,null,null,null,null,null,{"$error":"#N/A"},{"$error":"#N/A"},{"$error":"#N/A"},{"$error":"#N/A"},{"$error":"#N/A"},{"$error":"#N/A"},{"$error":"#N/A"},{"$error":"#N/A"},{"$error":"#N/A"},{"$error":"#N/A"},{"$error":"#N/A"},{"$error":"#N/A"},{"$error":"#N/A"},{"$error":"#N/A"}]
[{"$f":"données!W303","v":{"$error":"#N/A"}},{"$f":"données!X303","v":{"$error":"#N/A"}},{"$f":"données!Y303","v":{"$error":"#N/A"}},{"$f":"données!AH303","v":2},{"$error":"#N/A"},{"$error":"#N/A"},null,null,null,null,null,null,null,null,null,null,null,null,null,null,null,null,null,{"$error":"#N/A"},{"$error":"#N/A"},{"$error":"#N/A"},{"$error":"#N/A"},{"$error":"#N/A"},{"$error":"#N/A"},{"$error":"#N/A"},{"$error":"#N/A"},{"$error":"#N/A"},{"$error":"#N/A"},{"$error":"#N/A"},{"$error":"#N/A"},{"$error":"#N/A"},{"$error":"#N/A"}]
[{"$f":"données!W304","v":{"$error":"#N/A"}},{"$f":"données!X304","v":{"$error":"#N/A"}},{"$f":"données!Y304","v":{"$error":"#N/A"}},{"$f":"données!AH304","v":5},{"$error":"#N/A"},{"$error":"#N/A"},null,null,null,null,null,null,null,null,null,null,null,null,null,null,null,null,null,{"$error":"#N/A"},{"$error":"#N/A"},{"$error":"#N/A"},{"$error":"#N/A"},{"$error":"#N/A"},{"$error":"#N/A"},{"$error":"#N/A"},{"$error":"#N/A"},{"$error":"#N/A"},{"$error":"#N/A"},{"$error":"#N/A"},{"$error":"#N/A"},{"$error":"#N/A"},{"$error":"#N/A"}]
[{"$f":"données!W305","v":{"$error":"#N/A"}},{"$f":"données!X305","v":{"$error":"#N/A"}},{"$f":"données!Y305","v":{"$error":"#N/A"}},{"$f":"données!AH305","v":3},{"$error":"#N/A"},{"$error":"#N/A"},null,null,null,null,null,null,null,null,null,null,null,null,null,null,null,null,null,{"$error":"#N/A"},{"$error":"#N/A"},{"$error":"#N/A"},{"$error":"#N/A"},{"$error":"#N/A"},{"$error":"#N/A"},{"$error":"#N/A"},{"$error":"#N/A"},{"$error":"#N/A"},{"$error":"#N/A"},{"$error":"#N/A"},{"$error":"#N/A"},{"$error":"#N/A"},{"$error":"#N/A"}]
[{"$f":"données!W306","v":{"$error":"#N/A"}},{"$f":"données!X306","v":{"$error":"#N/A"}},{"$f":"données!Y306","v":{"$error":"#N/A"}},{"$f":"données!AH306","v":6},{"$error":"#N/A"},{"$error":"#N/A"},null,null,null,null,null,null,null,null,null,null,null,null,null,null,null,null,null,{"$error":"#N/A"},{"$error":"#N/A"},{"$error":"#N/A"},{"$error":"#N/A"},{"$error":"#N/A"},{"$error":"#N/A"},{"$error":"#N/A"},{"$error":"#N/A"},{"$error":"#N/A"},{"$error":"#N/A"},{"$error":"#N/A"},{"$error":"#N/A"},{"$error":"#N/A"},{"$error":"#N/A"}]
[{"$f":"données!W307","v":{"$error":"#N/A"}},{"$f":"données!X307","v":{"$error":"#N/A"}},{"$f":"données!Y307","v":{"$error":"#N/A"}},{"$f":"données!AH307","v":5},{"$error":"#N/A"},{"$error":"#N/A"},null,null,null,null,null,null,null,null,null,null,null,null,null,null,null,null,null,{"$error":"#N/A"},{"$error":"#N/A"},{"$error":"#N/A"},{"$error":"#N/A"},{"$error":"#N/A"},{"$error":"#N/A"},{"$error":"#N/A"},{"$error":"#N/A"},{"$error":"#N/A"},{"$error":"#N/A"},{"$error":"#N/A"},{"$error":"#N/A"},{"$error":"#N/A"},{"$error":"#N/A"}]
[{"$f":"données!W308","v":{"$error":"#N/A"}},{"$f":"données!X308","v":{"$error":"#N/A"}},{"$f":"données!Y308","v":{"$error":"#N/A"}},{"$f":"données!AH308","v":2},{"$error":"#N/A"},{"$error":"#N/A"},null,null,null,null,null,null,null,null,null,null,null,null,null,null,null,null,null,{"$error":"#N/A"},{"$error":"#N/A"},{"$error":"#N/A"},{"$error":"#N/A"},{"$error":"#N/A"},{"$error":"#N/A"},{"$error":"#N/A"},{"$error":"#N/A"},{"$error":"#N/A"},{"$error":"#N/A"},{"$error":"#N/A"},{"$error":"#N/A"},{"$error":"#N/A"},{"$error":"#N/A"}]
[{"$f":"données!W309","v":{"$error":"#N/A"}},{"$f":"données!X309","v":{"$error":"#N/A"}},{"$f":"données!Y309","v":{"$error":"#N/A"}},{"$f":"données!AH309","v":5},{"$error":"#N/A"},{"$error":"#N/A"},null,null,null,null,null,null,null,null,null,null,null,null,null,null,null,null,null,{"$error":"#N/A"},{"$error":"#N/A"},{"$error":"#N/A"},{"$error":"#N/A"},{"$error":"#N/A"},{"$error":"#N/A"},{"$error":"#N/A"},{"$error":"#N/A"},{"$error":"#N/A"},{"$error":"#N/A"},{"$error":"#N/A"},{"$error":"#N/A"},{"$error":"#N/A"},{"$error":"#N/A"}]
[{"$f":"données!W310","v":{"$error":"#N/A"}},{"$f":"données!X310","v":{"$error":"#N/A"}},{"$f":"données!Y310","v":{"$error":"#N/A"}},{"$f":"données!AH310","v":2},{"$error":"#N/A"},{"$error":"#N/A"},null,null,null,null,null,null,null,null,null,null,null,null,null,null,null,null,null,{"$error":"#N/A"},{"$error":"#N/A"},{"$error":"#N/A"},{"$error":"#N/A"},{"$error":"#N/A"},{"$error":"#N/A"},{"$error":"#N/A"},{"$error":"#N/A"},{"$error":"#N/A"},{"$error":"#N/A"},{"$error":"#N/A"},{"$error":"#N/A"},{"$error":"#N/A"},{"$error":"#N/A"}]
[{"$f":"données!W311","v":{"$error":"#N/A"}},{"$f":"données!X311","v":{"$error":"#N/A"}},{"$f":"données!Y311","v":{"$error":"#N/A"}},{"$f":"données!AH311","v":4},{"$error":"#N/A"},{"$error":"#N/A"},null,null,null,null,null,null,null,null,null,null,null,null,null,null,null,null,null,{"$error":"#N/A"},{"$error":"#N/A"},{"$error":"#N/A"},{"$error":"#N/A"},{"$error":"#N/A"},{"$error":"#N/A"},{"$error":"#N/A"},{"$error":"#N/A"},{"$error":"#N/A"},{"$error":"#N/A"},{"$error":"#N/A"},{"$error":"#N/A"},{"$error":"#N/A"},{"$error":"#N/A"}]
[{"$f":"données!W312","v":{"$error":"#N/A"}},{"$f":"données!X312","v":{"$error":"#N/A"}},{"$f":"données!Y312","v":{"$error":"#N/A"}},{"$f":"données!AH312","v":5},{"$error":"#N/A"},{"$error":"#N/A"},null,null,null,null,null,null,null,null,null,null,null,null,null,null,null,null,null,{"$error":"#N/A"},{"$error":"#N/A"},{"$error":"#N/A"},{"$error":"#N/A"},{"$error":"#N/A"},{"$error":"#N/A"},{"$error":"#N/A"},{"$error":"#N/A"},{"$error":"#N/A"},{"$error":"#N/A"},{"$error":"#N/A"},{"$error":"#N/A"},{"$error":"#N/A"},{"$error":"#N/A"}]
[{"$f":"données!W313","v":{"$error":"#N/A"}},{"$f":"données!X313","v":{"$error":"#N/A"}},{"$f":"données!Y313","v":{"$error":"#N/A"}},{"$f":"données!AH313","v":2},{"$error":"#N/A"},{"$error":"#N/A"},null,null,null,null,null,null,null,null,null,null,null,null,null,null,null,null,null,{"$error":"#N/A"},{"$error":"#N/A"},{"$error":"#N/A"},{"$error":"#N/A"},{"$error":"#N/A"},{"$error":"#N/A"},{"$error":"#N/A"},{"$error":"#N/A"},{"$error":"#N/A"},{"$error":"#N/A"},{"$error":"#N/A"},{"$error":"#N/A"},{"$error":"#N/A"},{"$error":"#N/A"}]
[{"$f":"données!W314","v":{"$error":"#N/A"}},{"$f":"données!X314","v":{"$error":"#N/A"}},{"$f":"données!Y314","v":{"$error":"#N/A"}},{"$f":"données!AH314","v":1},{"$error":"#N/A"},{"$error":"#N/A"},null,null,null,null,null,null,null,null,null,null,null,null,null,null,null,null,null,{"$f":"IF($D312=X$1,$E312,#N/A)","v":{"$error":"#N/A"}},{"$f":"IF($D312=Y$1,$F312,#N/A)","v":{"$error":"#N/A"}},{"$error":"#N/A"},{"$error":"#N/A"},{"$error":"#N/A"},{"$error":"#N/A"},{"$error":"#N/A"},{"$error":"#N/A"},{"$error":"#N/A"},{"$error":"#N/A"},{"$error":"#N/A"},{"$error":"#N/A"},{"$error":"#N/A"},{"$error":"#N/A"}]
[{"$f":"données!W315","v":{"$error":"#N/A"}},{"$f":"données!X315","v":{"$error":"#N/A"}},{"$f":"données!Y315","v":{"$error":"#N/A"}},{"$f":"données!AH315","v":4},{"$error":"#N/A"},{"$error":"#N/A"},null,null,null,null,null,null,null,null,null,null,null,null,null,null,null,null,null,{"$error":"#N/A"},{"$error":"#N/A"},{"$error":"#N/A"},{"$error":"#N/A"},{"$error":"#N/A"},{"$error":"#N/A"},{"$error":"#N/A"},{"$error":"#N/A"},{"$error":"#N/A"},{"$error":"#N/A"},{"$error":"#N/A"},{"$error":"#N/A"},{"$error":"#N/A"},{"$error":"#N/A"}]
[{"$f":"données!W316","v":{"$error":"#N/A"}},{"$f":"données!X316","v":{"$error":"#N/A"}},{"$f":"données!Y316","v":{"$error":"#N/A"}},{"$f":"données!AH316","v":1},{"$error":"#N/A"},{"$error":"#N/A"},null,null,null,null,null,null,null,null,null,null,null,null,null,null,null,null,null,{"$error":"#N/A"},{"$error":"#N/A"},{"$error":"#N/A"},{"$error":"#N/A"},{"$error":"#N/A"},{"$error":"#N/A"},{"$error":"#N/A"},{"$error":"#N/A"},{"$error":"#N/A"},{"$error":"#N/A"},{"$error":"#N/A"},{"$error":"#N/A"},{"$error":"#N/A"},{"$error":"#N/A"}]
[{"$f":"données!W317","v":{"$error":"#N/A"}},{"$f":"données!X317","v":{"$error":"#N/A"}},{"$f":"données!Y317","v":{"$error":"#N/A"}},{"$f":"données!AH317","v":4},{"$error":"#N/A"},{"$error":"#N/A"},null,null,null,null,null,null,null,null,null,null,null,null,null,null,null,null,null,{"$error":"#N/A"},{"$error":"#N/A"},{"$error":"#N/A"},{"$error":"#N/A"},{"$error":"#N/A"},{"$error":"#N/A"},{"$error":"#N/A"},{"$error":"#N/A"},{"$error":"#N/A"},{"$error":"#N/A"},{"$error":"#N/A"},{"$error":"#N/A"},{"$error":"#N/A"},{"$error":"#N/A"}]
[{"$f":"données!W318","v":{"$error":"#N/A"}},{"$f":"données!X318","v":{"$error":"#N/A"}},{"$f":"données!Y318","v":{"$error":"#N/A"}},{"$f":"données!AH318","v":1},{"$error":"#N/A"},{"$error":"#N/A"},null,null,null,null,null,null,null,null,null,null,null,null,null,null,null,null,null,{"$error":"#N/A"},{"$error":"#N/A"},{"$error":"#N/A"},{"$error":"#N/A"},{"$error":"#N/A"},{"$error":"#N/A"},{"$error":"#N/A"},{"$error":"#N/A"},{"$error":"#N/A"},{"$error":"#N/A"},{"$error":"#N/A"},{"$error":"#N/A"},{"$error":"#N/A"},{"$error":"#N/A"}]
[{"$f":"données!W319","v":{"$error":"#N/A"}},{"$f":"données!X319","v":{"$error":"#N/A"}},{"$f":"données!Y319","v":{"$error":"#N/A"}},{"$f":"données!AH319","v":7},{"$error":"#N/A"},{"$error":"#N/A"},null,null,null,null,null,null,null,null,null,null,null,null,null,null,null,null,null,{"$error":"#N/A"},{"$error":"#N/A"},{"$error":"#N/A"},{"$error":"#N/A"},{"$error":"#N/A"},{"$error":"#N/A"},{"$error":"#N/A"},{"$error":"#N/A"},{"$error":"#N/A"},{"$error":"#N/A"},{"$error":"#N/A"},{"$error":"#N/A"},{"$error":"#N/A"},{"$error":"#N/A"}]
[{"$f":"données!W320","v":{"$error":"#N/A"}},{"$f":"données!X320","v":{"$error":"#N/A"}},{"$f":"données!Y320","v":{"$error":"#N/A"}},{"$f":"données!AH320","v":6},{"$error":"#N/A"},{"$error":"#N/A"},null,null,null,null,null,null,null,null,null,null,null,null,null,null,null,null,null,{"$error":"#N/A"},{"$error":"#N/A"},{"$error":"#N/A"},{"$error":"#N/A"},{"$error":"#N/A"},{"$error":"#N/A"},{"$error":"#N/A"},{"$error":"#N/A"},{"$error":"#N/A"},{"$error":"#N/A"},{"$error":"#N/A"},{"$error":"#N/A"},{"$error":"#N/A"},{"$error":"#N/A"}]
[{"$f":"données!W321","v":{"$error":"#N/A"}},{"$f":"données!X321","v":{"$error":"#N/A"}},{"$f":"données!Y321","v":{"$error":"#N/A"}},{"$f":"données!AH321","v":3},{"$error":"#N/A"},{"$error":"#N/A"},null,null,null,null,null,null,null,null,null,null,null,null,null,null,null,null,null,{"$error":"#N/A"},{"$error":"#N/A"},{"$error":"#N/A"},{"$error":"#N/A"},{"$error":"#N/A"},{"$error":"#N/A"},{"$error":"#N/A"},{"$error":"#N/A"},{"$error":"#N/A"},{"$error":"#N/A"},{"$error":"#N/A"},{"$error":"#N/A"},{"$error":"#N/A"},{"$error":"#N/A"}]
[{"$f":"données!W322","v":{"$error":"#N/A"}},{"$f":"données!X322","v":{"$error":"#N/A"}},{"$f":"données!Y322","v":{"$error":"#N/A"}},{"$f":"données!AH322","v":7},{"$error":"#N/A"},{"$error":"#N/A"},null,null,null,null,null,null,null,null,null,null,null,null,null,null,null,null,null,{"$error":"#N/A"},{"$error":"#N/A"},{"$error":"#N/A"},{"$error":"#N/A"},{"$error":"#N/A"},{"$error":"#N/A"},{"$error":"#N/A"},{"$error":"#N/A"},{"$error":"#N/A"},{"$error":"#N/A"},{"$error":"#N/A"},{"$error":"#N/A"},{"$error":"#N/A"},{"$error":"#N/A"}]
[{"$f":"données!W323","v":{"$error":"#N/A"}},{"$f":"données!X323","v":{"$error":"#N/A"}},{"$f":"données!Y323","v":{"$error":"#N/A"}},{"$f":"données!AH323","v":5},{"$error":"#N/A"},{"$error":"#N/A"},null,null,null,null,null,null,null,null,null,null,null,null,null,null,null,null,null,{"$error":"#N/A"},{"$error":"#N/A"},{"$error":"#N/A"},{"$error":"#N/A"},{"$error":"#N/A"},{"$error":"#N/A"},{"$error":"#N/A"},{"$error":"#N/A"},{"$error":"#N/A"},{"$error":"#N/A"},{"$error":"#N/A"},{"$error":"#N/A"},{"$error":"#N/A"},{"$error":"#N/A"}]
[{"$f":"données!W324","v":{"$error":"#N/A"}},{"$f":"données!X324","v":{"$error":"#N/A"}},{"$f":"données!Y324","v":{"$error":"#N/A"}},{"$f":"données!AH324","v":4},{"$f":"A322+B322*$I$2","v":{"$error":"#N/A"}},{"$f":"C322+B322*$I$3","v":{"$error":"#N/A"}},null,null,null,null,null,null,null,null,null,null,null,null,null,null,null,null,null,{"$error":"#N/A"},{"$error":"#N/A"},{"$f":"IF($D322=Z$1,$E322,#N/A)","v":{"$error":"#N/A"}},{"$f":"IF($D322=AA$1,$F322,#N/A)","v":{"$error":"#N/A"}},{"$f":"IF($D322=AB$1,$E322,#N/A)","v":{"$error":"#N/A"}},{"$f":"IF($D322=AC$1,$F322,#N/A)","v":{"$error":"#N/A"}},{"$f":"IF($D322=AD$1,$E322,#N/A)","v":{"$error":"#N/A"}},{"$f":"IF($D322=AE$1,$F322,#N/A)","v":{"$error":"#N/A"}},{"$f":"IF($D322=AF$1,$E322,#N/A)","v":{"$error":"#N/A"}},{"$f":"IF($D322=AG$1,$F322,#N/A)","v":{"$error":"#N/A"}},{"$f":"IF($D322=AH$1,$E322,#N/A)","v":{"$error":"#N/A"}},{"$f":"IF($D322=AI$1,$F322,#N/A)","v":{"$error":"#N/A"}},{"$f":"IF($D322=AJ$1,$E322,#N/A)","v":{"$error":"#N/A"}},{"$f":"IF($D322=AK$1,$F322,#N/A)","v":{"$error":"#N/A"}}]
[{"$f":"données!W325","v":{"$error":"#N/A"}},{"$f":"données!X325","v":{"$error":"#N/A"}},{"$f":"données!Y325","v":{"$error":"#N/A"}},{"$f":"données!AH325","v":3},{"$error":"#N/A"},{"$error":"#N/A"},null,null,null,null,null,null,null,null,null,null,null,null,null,null,null,null,null,{"$error":"#N/A"},{"$error":"#N/A"},{"$error":"#N/A"},{"$error":"#N/A"},{"$error":"#N/A"},{"$error":"#N/A"},{"$error":"#N/A"},{"$error":"#N/A"},{"$error":"#N/A"},{"$error":"#N/A"},{"$error":"#N/A"},{"$error":"#N/A"},{"$error":"#N/A"},{"$error":"#N/A"}]
[{"$f":"données!W326","v":{"$error":"#N/A"}},{"$f":"données!X326","v":{"$error":"#N/A"}},{"$f":"données!Y326","v":{"$error":"#N/A"}},{"$f":"données!AH326","v":3},{"$error":"#N/A"},{"$error":"#N/A"},null,null,null,null,null,null,null,null,null,null,null,null,null,null,null,null,null,{"$error":"#N/A"},{"$error":"#N/A"},{"$error":"#N/A"},{"$error":"#N/A"},{"$error":"#N/A"},{"$error":"#N/A"},{"$error":"#N/A"},{"$error":"#N/A"},{"$error":"#N/A"},{"$error":"#N/A"},{"$error":"#N/A"},{"$error":"#N/A"},{"$error":"#N/A"},{"$error":"#N/A"}]
[{"$f":"données!W327","v":{"$error":"#N/A"}},{"$f":"données!X327","v":{"$error":"#N/A"}},{"$f":"données!Y327","v":{"$error":"#N/A"}},{"$f":"données!AH327","v":2},{"$error":"#N/A"},{"$error":"#N/A"},null,null,null,null,null,null,null,null,null,null,null,null,null,null,null,null,null,{"$error":"#N/A"},{"$error":"#N/A"},{"$error":"#N/A"},{"$error":"#N/A"},{"$error":"#N/A"},{"$error":"#N/A"},{"$error":"#N/A"},{"$error":"#N/A"},{"$error":"#N/A"},{"$error":"#N/A"},{"$error":"#N/A"},{"$error":"#N/A"},{"$error":"#N/A"},{"$error":"#N/A"}]
[{"$f":"données!W328","v":{"$error":"#N/A"}},{"$f":"données!X328","v":{"$error":"#N/A"}},{"$f":"données!Y328","v":{"$error":"#N/A"}},{"$f":"données!AH328","v":4},{"$error":"#N/A"},{"$error":"#N/A"},null,null,null,null,null,null,null,null,null,null,null,null,null,null,null,null,null,{"$error":"#N/A"},{"$error":"#N/A"},{"$error":"#N/A"},{"$error":"#N/A"},{"$error":"#N/A"},{"$error":"#N/A"},{"$error":"#N/A"},{"$error":"#N/A"},{"$error":"#N/A"},{"$error":"#N/A"},{"$error":"#N/A"},{"$error":"#N/A"},{"$error":"#N/A"},{"$error":"#N/A"}]
[{"$f":"données!W329","v":{"$error":"#N/A"}},{"$f":"données!X329","v":{"$error":"#N/A"}},{"$f":"données!Y329","v":{"$error":"#N/A"}},{"$f":"données!AH329","v":5},{"$error":"#N/A"},{"$error":"#N/A"},null,null,null,null,null,null,null,null,null,null,null,null,null,null,null,null,null,{"$error":"#N/A"},{"$error":"#N/A"},{"$error":"#N/A"},{"$error":"#N/A"},{"$error":"#N/A"},{"$error":"#N/A"},{"$error":"#N/A"},{"$error":"#N/A"},{"$error":"#N/A"},{"$error":"#N/A"},{"$error":"#N/A"},{"$error":"#N/A"},{"$error":"#N/A"},{"$error":"#N/A"}]
[{"$f":"données!W330","v":{"$error":"#N/A"}},{"$f":"données!X330","v":{"$error":"#N/A"}},{"$f":"données!Y330","v":{"$error":"#N/A"}},{"$f":"données!AH330","v":2},{"$error":"#N/A"},{"$error":"#N/A"},null,null,null,null,null,null,null,null,null,null,null,null,null,null,null,null,null,{"$error":"#N/A"},{"$error":"#N/A"},{"$error":"#N/A"},{"$error":"#N/A"},{"$error":"#N/A"},{"$error":"#N/A"},{"$error":"#N/A"},{"$error":"#N/A"},{"$error":"#N/A"},{"$error":"#N/A"},{"$error":"#N/A"},{"$error":"#N/A"},{"$error":"#N/A"},{"$error":"#N/A"}]
[{"$f":"données!W331","v":{"$error":"#N/A"}},{"$f":"données!X331","v":{"$error":"#N/A"}},{"$f":"données!Y331","v":{"$error":"#N/A"}},{"$f":"données!AH331","v":4},{"$error":"#N/A"},{"$error":"#N/A"},null,null,null,null,null,null,null,null,null,null,null,null,null,null,null,null,null,{"$error":"#N/A"},{"$error":"#N/A"},{"$error":"#N/A"},{"$error":"#N/A"},{"$error":"#N/A"},{"$error":"#N/A"},{"$error":"#N/A"},{"$error":"#N/A"},{"$error":"#N/A"},{"$error":"#N/A"},{"$error":"#N/A"},{"$error":"#N/A"},{"$error":"#N/A"},{"$error":"#N/A"}]
[{"$f":"données!W332","v":{"$error":"#N/A"}},{"$f":"données!X332","v":{"$error":"#N/A"}},{"$f":"données!Y332","v":{"$error":"#N/A"}},{"$f":"données!AH332","v":5},{"$error":"#N/A"},{"$error":"#N/A"},null,null,null,null,null,null,null,null,null,null,null,null,null,null,null,null,null,{"$error":"#N/A"},{"$error":"#N/A"},{"$error":"#N/A"},{"$error":"#N/A"},{"$error":"#N/A"},{"$error":"#N/A"},{"$error":"#N/A"},{"$error":"#N/A"},{"$error":"#N/A"},{"$error":"#N/A"},{"$error":"#N/A"},{"$error":"#N/A"},{"$error":"#N/A"},{"$error":"#N/A"}]
[{"$f":"données!W333","v":{"$error":"#N/A"}},{"$f":"données!X333","v":{"$error":"#N/A"}},{"$f":"données!Y333","v":{"$error":"#N/A"}},{"$f":"données!AH333","v":5},{"$error":"#N/A"},{"$error":"#N/A"},null,null,null,null,null,null,null,null,null,null,null,null,null,null,null,null,null,{"$error":"#N/A"},{"$error":"#N/A"},{"$error":"#N/A"},{"$error":"#N/A"},{"$error":"#N/A"},{"$error":"#N/A"},{"$error":"#N/A"},{"$error":"#N/A"},{"$error":"#N/A"},{"$error":"#N/A"},{"$error":"#N/A"},{"$error":"#N/A"},{"$error":"#N/A"},{"$error":"#N/A"}]
[{"$f":"données!W334","v":{"$error":"#N/A"}},{"$f":"données!X334","v":{"$error":"#N/A"}},{"$f":"données!Y334","v":{"$error":"#N/A"}},{"$f":"données!AH334","v":4},{"$error":"#N/A"},{"$error":"#N/A"},null,null,null,null,null,null,null,null,null,null,null,null,null,null,null,null,null,{"$error":"#N/A"},{"$error":"#N/A"},{"$error":"#N/A"},{"$error":"#N/A"},{"$error":"#N/A"},{"$error":"#N/A"},{"$error":"#N/A"},{"$error":"#N/A"},{"$error":"#N/A"},{"$error":"#N/A"},{"$error":"#N/A"},{"$error":"#N/A"},{"$error":"#N/A"},{"$error":"#N/A"}]
[{"$f":"données!W335","v":{"$error":"#N/A"}},{"$f":"données!X335","v":{"$error":"#N/A"}},{"$f":"données!Y335","v":{"$error":"#N/A"}},{"$f":"données!AH335","v":7},{"$error":"#N/A"},{"$error":"#N/A"},null,null,null,null,null,null,null,null,null,null,null,null,null,null,null,null,null,{"$error":"#N/A"},{"$error":"#N/A"},{"$error":"#N/A"},{"$error":"#N/A"},{"$error":"#N/A"},{"$error":"#N/A"},{"$error":"#N/A"},{"$error":"#N/A"},{"$error":"#N/A"},{"$error":"#N/A"},{"$error":"#N/A"},{"$error":"#N/A"},{"$error":"#N/A"},{"$error":"#N/A"}]
[{"$f":"données!W336","v":{"$error":"#N/A"}},{"$f":"données!X336","v":{"$error":"#N/A"}},{"$f":"données!Y336","v":{"$error":"#N/A"}},{"$f":"données!AH336","v":4},{"$error":"#N/A"},{"$error":"#N/A"},null,null,null,null,null,null,null,null,null,null,null,null,null,null,null,null,null,{"$error":"#N/A"},{"$error":"#N/A"},{"$error":"#N/A"},{"$error":"#N/A"},{"$error":"#N/A"},{"$error":"#N/A"},{"$error":"#N/A"},{"$error":"#N/A"},{"$error":"#N/A"},{"$error":"#N/A"},{"$error":"#N/A"},{"$error":"#N/A"},{"$error":"#N/A"},{"$error":"#N/A"}]
[{"$f":"données!W337","v":{"$error":"#N/A"}},{"$f":"données!X337","v":{"$error":"#N/A"}},{"$f":"données!Y337","v":{"$error":"#N/A"}},{"$f":"données!AH337","v":5},{"$error":"#N/A"},{"$error":"#N/A"},null,null,null,null,null,null,null,null,null,null,null,null,null,null,null,null,null,{"$error":"#N/A"},{"$error":"#N/A"},{"$error":"#N/A"},{"$error":"#N/A"},{"$error":"#N/A"},{"$error":"#N/A"},{"$error":"#N/A"},{"$error":"#N/A"},{"$error":"#N/A"},{"$error":"#N/A"},{"$error":"#N/A"},{"$error":"#N/A"},{"$error":"#N/A"},{"$error":"#N/A"}]
[{"$f":"données!W338","v":{"$error":"#N/A"}},{"$f":"données!X338","v":{"$error":"#N/A"}},{"$f":"données!Y338","v":{"$error":"#N/A"}},{"$f":"données!AH338","v":5},{"$error":"#N/A"},{"$error":"#N/A"},null,null,null,null,null,null,null,null,null,null,null,null,null,null,null,null,null,{"$error":"#N/A"},{"$error":"#N/A"},{"$error":"#N/A"},{"$error":"#N/A"},{"$error":"#N/A"},{"$error":"#N/A"},{"$error":"#N/A"},{"$error":"#N/A"},{"$error":"#N/A"},{"$error":"#N/A"},{"$error":"#N/A"},{"$error":"#N/A"},{"$error":"#N/A"},{"$error":"#N/A"}]
[{"$f":"données!W339","v":{"$error":"#N/A"}},{"$f":"données!X339","v":{"$error":"#N/A"}},{"$f":"données!Y339","v":{"$error":"#N/A"}},{"$f":"données!AH339","v":7},{"$error":"#N/A"},{"$error":"#N/A"},null,null,null,null,null,null,null,null,null,null,null,null,null,null,null,null,null,{"$error":"#N/A"},{"$error":"#N/A"},{"$error":"#N/A"},{"$error":"#N/A"},{"$error":"#N/A"},{"$error":"#N/A"},{"$error":"#N/A"},{"$error":"#N/A"},{"$error":"#N/A"},{"$error":"#N/A"},{"$error":"#N/A"},{"$error":"#N/A"},{"$error":"#N/A"},{"$error":"#N/A"}]
[{"$f":"données!W340","v":{"$error":"#N/A"}},{"$f":"données!X340","v":{"$error":"#N/A"}},{"$f":"données!Y340","v":{"$error":"#N/A"}},{"$f":"données!AH340","v":7},{"$error":"#N/A"},{"$error":"#N/A"},null,null,null,null,null,null,null,null,null,null,null,null,null,null,null,null,null,{"$error":"#N/A"},{"$error":"#N/A"},{"$error":"#N/A"},{"$error":"#N/A"},{"$error":"#N/A"},{"$error":"#N/A"},{"$error":"#N/A"},{"$error":"#N/A"},{"$error":"#N/A"},{"$error":"#N/A"},{"$error":"#N/A"},{"$error":"#N/A"},{"$error":"#N/A"},{"$error":"#N/A"}]
[{"$f":"données!W341","v":{"$error":"#N/A"}},{"$f":"données!X341","v":{"$error":"#N/A"}},{"$f":"données!Y341","v":{"$error":"#N/A"}},{"$f":"données!AH341","v":6},{"$error":"#N/A"},{"$error":"#N/A"},null,null,null,null,null,null,null,null,null,null,null,null,null,null,null,null,null,{"$error":"#N/A"},{"$error":"#N/A"},{"$error":"#N/A"},{"$error":"#N/A"},{"$error":"#N/A"},{"$error":"#N/A"},{"$error":"#N/A"},{"$error":"#N/A"},{"$error":"#N/A"},{"$error":"#N/A"},{"$error":"#N/A"},{"$error":"#N/A"},{"$error":"#N/A"},{"$error":"#N/A"}]
[{"$f":"données!W342","v":{"$error":"#N/A"}},{"$f":"données!X342","v":{"$error":"#N/A"}},{"$f":"données!Y342","v":{"$error":"#N/A"}},{"$f":"données!AH342","v":5},{"$error":"#N/A"},{"$error":"#N/A"},null,null,null,null,null,null,null,null,null,null,null,null,null,null,null,null,null,{"$error":"#N/A"},{"$error":"#N/A"},{"$error":"#N/A"},{"$error":"#N/A"},{"$error":"#N/A"},{"$error":"#N/A"},{"$error":"#N/A"},{"$error":"#N/A"},{"$error":"#N/A"},{"$error":"#N/A"},{"$error":"#N/A"},{"$error":"#N/A"},{"$error":"#N/A"},{"$error":"#N/A"}]
[{"$f":"données!W343","v":{"$error":"#N/A"}},{"$f":"données!X343","v":{"$error":"#N/A"}},{"$f":"données!Y343","v":{"$error":"#N/A"}},{"$f":"données!AH343","v":7},{"$error":"#N/A"},{"$error":"#N/A"},null,null,null,null,null,null,null,null,null,null,null,null,null,null,null,null,null,{"$error":"#N/A"},{"$error":"#N/A"},{"$error":"#N/A"},{"$error":"#N/A"},{"$error":"#N/A"},{"$error":"#N/A"},{"$error":"#N/A"},{"$error":"#N/A"},{"$error":"#N/A"},{"$error":"#N/A"},{"$error":"#N/A"},{"$error":"#N/A"},{"$error":"#N/A"},{"$error":"#N/A"}]
[{"$f":"données!W344","v":{"$error":"#N/A"}},{"$f":"données!X344","v":{"$error":"#N/A"}},{"$f":"données!Y344","v":{"$error":"#N/A"}},{"$f":"données!AH344","v":3},{"$error":"#N/A"},{"$error":"#N/A"},null,null,null,null,null,null,null,null,null,null,null,null,null,null,null,null,null,{"$error":"#N/A"},{"$error":"#N/A"},{"$error":"#N/A"},{"$error":"#N/A"},{"$error":"#N/A"},{"$error":"#N/A"},{"$error":"#N/A"},{"$error":"#N/A"},{"$error":"#N/A"},{"$error":"#N/A"},{"$error":"#N/A"},{"$error":"#N/A"},{"$error":"#N/A"},{"$error":"#N/A"}]
[{"$f":"données!W345","v":{"$error":"#N/A"}},{"$f":"données!X345","v":{"$error":"#N/A"}},{"$f":"données!Y345","v":{"$error":"#N/A"}},{"$f":"données!AH345","v":4},{"$error":"#N/A"},{"$error":"#N/A"},null,null,null,null,null,null,null,null,null,null,null,null,null,null,null,null,null,{"$error":"#N/A"},{"$error":"#N/A"},{"$error":"#N/A"},{"$error":"#N/A"},{"$error":"#N/A"},{"$error":"#N/A"},{"$error":"#N/A"},{"$error":"#N/A"},{"$error":"#N/A"},{"$error":"#N/A"},{"$error":"#N/A"},{"$error":"#N/A"},{"$error":"#N/A"},{"$error":"#N/A"}]
[{"$f":"données!W346","v":{"$error":"#N/A"}},{"$f":"données!X346","v":{"$error":"#N/A"}},{"$f":"données!Y346","v":{"$error":"#N/A"}},{"$f":"données!AH346","v":4},{"$error":"#N/A"},{"$error":"#N/A"},null,null,null,null,null,null,null,null,null,null,null,null,null,null,null,null,null,{"$error":"#N/A"},{"$error":"#N/A"},{"$error":"#N/A"},{"$error":"#N/A"},{"$error":"#N/A"},{"$error":"#N/A"},{"$error":"#N/A"},{"$error":"#N/A"},{"$error":"#N/A"},{"$error":"#N/A"},{"$error":"#N/A"},{"$error":"#N/A"},{"$error":"#N/A"},{"$error":"#N/A"}]
[{"$f":"données!W347","v":{"$error":"#N/A"}},{"$f":"données!X347","v":{"$error":"#N/A"}},{"$f":"données!Y347","v":{"$error":"#N/A"}},{"$f":"données!AH347","v":1},{"$error":"#N/A"},{"$error":"#N/A"},null,null,null,null,null,null,null,null,null,null,null,null,null,null,null,null,null,{"$error":"#N/A"},{"$error":"#N/A"},{"$error":"#N/A"},{"$error":"#N/A"},{"$error":"#N/A"},{"$error":"#N/A"},{"$error":"#N/A"},{"$error":"#N/A"},{"$error":"#N/A"},{"$error":"#N/A"},{"$error":"#N/A"},{"$error":"#N/A"},{"$error":"#N/A"},{"$error":"#N/A"}]
[{"$f":"données!W348","v":{"$error":"#N/A"}},{"$f":"données!X348","v":{"$error":"#N/A"}},{"$f":"données!Y348","v":{"$error":"#N/A"}},{"$f":"données!AH348","v":2},{"$error":"#N/A"},{"$error":"#N/A"},null,null,null,null,null,null,null,null,null,null,null,null,null,null,null,null,null,{"$error":"#N/A"},{"$error":"#N/A"},{"$error":"#N/A"},{"$error":"#N/A"},{"$error":"#N/A"},{"$error":"#N/A"},{"$error":"#N/A"},{"$error":"#N/A"},{"$error":"#N/A"},{"$error":"#N/A"},{"$error":"#N/A"},{"$error":"#N/A"},{"$error":"#N/A"},{"$error":"#N/A"}]
[{"$f":"données!W349","v":{"$error":"#N/A"}},{"$f":"données!X349","v":{"$error":"#N/A"}},{"$f":"données!Y349","v":{"$error":"#N/A"}},{"$f":"données!AH349","v":3},{"$error":"#N/A"},{"$error":"#N/A"},null,null,null,null,null,null,null,null,null,null,null,null,null,null,null,null,null,{"$error":"#N/A"},{"$error":"#N/A"},{"$error":"#N/A"},{"$error":"#N/A"},{"$error":"#N/A"},{"$error":"#N/A"},{"$error":"#N/A"},{"$error":"#N/A"},{"$error":"#N/A"},{"$error":"#N/A"},{"$error":"#N/A"},{"$error":"#N/A"},{"$error":"#N/A"},{"$error":"#N/A"}]
[{"$f":"données!W350","v":{"$error":"#N/A"}},{"$f":"données!X350","v":{"$error":"#N/A"}},{"$f":"données!Y350","v":{"$error":"#N/A"}},{"$f":"données!AH350","v":5},{"$error":"#N/A"},{"$error":"#N/A"},null,null,null,null,null,null,null,null,null,null,null,null,null,null,null,null,null,{"$error":"#N/A"},{"$error":"#N/A"},{"$error":"#N/A"},{"$error":"#N/A"},{"$error":"#N/A"},{"$error":"#N/A"},{"$error":"#N/A"},{"$error":"#N/A"},{"$error":"#N/A"},{"$error":"#N/A"},{"$error":"#N/A"},{"$error":"#N/A"},{"$error":"#N/A"},{"$error":"#N/A"}]
[{"$f":"données!W351","v":{"$error":"#N/A"}},{"$f":"données!X351","v":{"$error":"#N/A"}},{"$f":"données!Y351","v":{"$error":"#N/A"}},{"$f":"données!AH351","v":5},{"$error":"#N/A"},{"$error":"#N/A"},null,null,null,null,null,null,null,null,null,null,null,null,null,null,null,null,null,{"$error":"#N/A"},{"$error":"#N/A"},{"$error":"#N/A"},{"$error":"#N/A"},{"$error":"#N/A"},{"$error":"#N/A"},{"$error":"#N/A"},{"$error":"#N/A"},{"$error":"#N/A"},{"$error":"#N/A"},{"$error":"#N/A"},{"$error":"#N/A"},{"$error":"#N/A"},{"$error":"#N/A"}]
[{"$f":"données!W352","v":{"$error":"#N/A"}},{"$f":"données!X352","v":{"$error":"#N/A"}},{"$f":"données!Y352","v":{"$error":"#N/A"}},{"$f":"données!AH352","v":7},{"$error":"#N/A"},{"$error":"#N/A"},null,null,null,null,null,null,null,null,null,null,null,null,null,null,null,null,null,{"$error":"#N/A"},{"$error":"#N/A"},{"$error":"#N/A"},{"$error":"#N/A"},{"$error":"#N/A"},{"$error":"#N/A"},{"$error":"#N/A"},{"$error":"#N/A"},{"$error":"#N/A"},{"$error":"#N/A"},{"$error":"#N/A"},{"$error":"#N/A"},{"$error":"#N/A"},{"$error":"#N/A"}]
[{"$f":"données!W353","v":{"$error":"#N/A"}},{"$f":"données!X353","v":{"$error":"#N/A"}},{"$f":"données!Y353","v":{"$error":"#N/A"}},{"$f":"données!AH353","v":1},{"$error":"#N/A"},{"$error":"#N/A"},null,null,null,null,null,null,null,null,null,null,null,null,null,null,null,null,null,{"$error":"#N/A"},{"$error":"#N/A"},{"$error":"#N/A"},{"$error":"#N/A"},{"$error":"#N/A"},{"$error":"#N/A"},{"$error":"#N/A"},{"$error":"#N/A"},{"$error":"#N/A"},{"$error":"#N/A"},{"$error":"#N/A"},{"$error":"#N/A"},{"$error":"#N/A"},{"$error":"#N/A"}]
[{"$f":"données!W354","v":{"$error":"#N/A"}},{"$f":"données!X354","v":{"$error":"#N/A"}},{"$f":"données!Y354","v":{"$error":"#N/A"}},{"$f":"données!AH354","v":1},{"$error":"#N/A"},{"$error":"#N/A"},null,null,null,null,null,null,null,null,null,null,null,null,null,null,null,null,null,{"$error":"#N/A"},{"$error":"#N/A"},{"$error":"#N/A"},{"$error":"#N/A"},{"$error":"#N/A"},{"$error":"#N/A"},{"$error":"#N/A"},{"$error":"#N/A"},{"$error":"#N/A"},{"$error":"#N/A"},{"$error":"#N/A"},{"$error":"#N/A"},{"$error":"#N/A"},{"$error":"#N/A"}]
[{"$f":"données!W355","v":{"$error":"#N/A"}},{"$f":"données!X355","v":{"$error":"#N/A"}},{"$f":"données!Y355","v":{"$error":"#N/A"}},{"$f":"données!AH355","v":7},{"$error":"#N/A"},{"$error":"#N/A"},null,null,null,null,null,null,null,null,null,null,null,null,null,null,null,null,null,{"$error":"#N/A"},{"$error":"#N/A"},{"$error":"#N/A"},{"$error":"#N/A"},{"$error":"#N/A"},{"$error":"#N/A"},{"$error":"#N/A"},{"$error":"#N/A"},{"$error":"#N/A"},{"$error":"#N/A"},{"$error":"#N/A"},{"$error":"#N/A"},{"$error":"#N/A"},{"$error":"#N/A"}]
[{"$f":"données!W356","v":{"$error":"#N/A"}},{"$f":"données!X356","v":{"$error":"#N/A"}},{"$f":"données!Y356","v":{"$error":"#N/A"}},{"$f":"données!AH356","v":3},{"$error":"#N/A"},{"$error":"#N/A"},null,null,null,null,null,null,null,null,null,null,null,null,null,null,null,null,null,{"$error":"#N/A"},{"$error":"#N/A"},{"$error":"#N/A"},{"$error":"#N/A"},{"$error":"#N/A"},{"$error":"#N/A"},{"$error":"#N/A"},{"$error":"#N/A"},{"$error":"#N/A"},{"$error":"#N/A"},{"$error":"#N/A"},{"$error":"#N/A"},{"$error":"#N/A"},{"$error":"#N/A"}]
[{"$f":"données!W357","v":{"$error":"#N/A"}},{"$f":"données!X357","v":{"$error":"#N/A"}},{"$f":"données!Y357","v":{"$error":"#N/A"}},{"$f":"données!AH357","v":1},{"$error":"#N/A"},{"$error":"#N/A"},null,null,null,null,null,null,null,null,null,null,null,null,null,null,null,null,null,{"$error":"#N/A"},{"$error":"#N/A"},{"$error":"#N/A"},{"$error":"#N/A"},{"$error":"#N/A"},{"$error":"#N/A"},{"$error":"#N/A"},{"$error":"#N/A"},{"$error":"#N/A"},{"$error":"#N/A"},{"$error":"#N/A"},{"$error":"#N/A"},{"$error":"#N/A"},{"$error":"#N/A"}]
[{"$f":"données!W358","v":{"$error":"#N/A"}},{"$f":"données!X358","v":{"$error":"#N/A"}},{"$f":"données!Y358","v":{"$error":"#N/A"}},{"$f":"données!AH358","v":4},{"$error":"#N/A"},{"$error":"#N/A"},null,null,null,null,null,null,null,null,null,null,null,null,null,null,null,null,null,{"$error":"#N/A"},{"$error":"#N/A"},{"$error":"#N/A"},{"$error":"#N/A"},{"$error":"#N/A"},{"$error":"#N/A"},{"$error":"#N/A"},{"$error":"#N/A"},{"$error":"#N/A"},{"$error":"#N/A"},{"$error":"#N/A"},{"$error":"#N/A"},{"$error":"#N/A"},{"$error":"#N/A"}]
[{"$f":"données!W359","v":{"$error":"#N/A"}},{"$f":"données!X359","v":{"$error":"#N/A"}},{"$f":"données!Y359","v":{"$error":"#N/A"}},{"$f":"données!AH359","v":3},{"$error":"#N/A"},{"$error":"#N/A"},null,null,null,null,null,null,null,null,null,null,null,null,null,null,null,null,null,{"$error":"#N/A"},{"$error":"#N/A"},{"$error":"#N/A"},{"$error":"#N/A"},{"$error":"#N/A"},{"$error":"#N/A"},{"$error":"#N/A"},{"$error":"#N/A"},{"$error":"#N/A"},{"$error":"#N/A"},{"$error":"#N/A"},{"$error":"#N/A"},{"$error":"#N/A"},{"$error":"#N/A"}]
[{"$f":"données!W360","v":{"$error":"#N/A"}},{"$f":"données!X360","v":{"$error":"#N/A"}},{"$f":"données!Y360","v":{"$error":"#N/A"}},{"$f":"données!AH360","v":4},{"$error":"#N/A"},{"$error":"#N/A"},null,null,null,null,null,null,null,null,null,null,null,null,null,null,null,null,null,{"$error":"#N/A"},{"$error":"#N/A"},{"$error":"#N/A"},{"$error":"#N/A"},{"$error":"#N/A"},{"$error":"#N/A"},{"$error":"#N/A"},{"$error":"#N/A"},{"$error":"#N/A"},{"$error":"#N/A"},{"$error":"#N/A"},{"$error":"#N/A"},{"$error":"#N/A"},{"$error":"#N/A"}]
[{"$f":"données!W361","v":{"$error":"#N/A"}},{"$f":"données!X361","v":{"$error":"#N/A"}},{"$f":"données!Y361","v":{"$error":"#N/A"}},{"$f":"données!AH361","v":4},{"$error":"#N/A"},{"$error":"#N/A"},null,null,null,null,null,null,null,null,null,null,null,null,null,null,null,null,null,{"$error":"#N/A"},{"$error":"#N/A"},{"$error":"#N/A"},{"$error":"#N/A"},{"$error":"#N/A"},{"$error":"#N/A"},{"$error":"#N/A"},{"$error":"#N/A"},{"$error":"#N/A"},{"$error":"#N/A"},{"$error":"#N/A"},{"$error":"#N/A"},{"$error":"#N/A"},{"$error":"#N/A"}]
[{"$f":"données!W362","v":{"$error":"#N/A"}},{"$f":"données!X362","v":{"$error":"#N/A"}},{"$f":"données!Y362","v":{"$error":"#N/A"}},{"$f":"données!AH362","v":3},{"$error":"#N/A"},{"$error":"#N/A"},null,null,null,null,null,null,null,null,null,null,null,null,null,null,null,null,null,{"$error":"#N/A"},{"$error":"#N/A"},{"$error":"#N/A"},{"$error":"#N/A"},{"$error":"#N/A"},{"$error":"#N/A"},{"$error":"#N/A"},{"$error":"#N/A"},{"$error":"#N/A"},{"$error":"#N/A"},{"$error":"#N/A"},{"$error":"#N/A"},{"$error":"#N/A"},{"$error":"#N/A"}]
[{"$f":"données!W363","v":{"$error":"#N/A"}},{"$f":"données!X363","v":{"$error":"#N/A"}},{"$f":"données!Y363","v":{"$error":"#N/A"}},{"$f":"données!AH363","v":1},{"$error":"#N/A"},{"$error":"#N/A"},null,null,null,null,null,null,null,null,null,null,null,null,null,null,null,null,null,{"$error":"#N/A"},{"$error":"#N/A"},{"$error":"#N/A"},{"$error":"#N/A"},{"$error":"#N/A"},{"$error":"#N/A"},{"$error":"#N/A"},{"$error":"#N/A"},{"$error":"#N/A"},{"$error":"#N/A"},{"$error":"#N/A"},{"$error":"#N/A"},{"$error":"#N/A"},{"$error":"#N/A"}]
[{"$f":"données!W364","v":{"$error":"#N/A"}},{"$f":"données!X364","v":{"$error":"#N/A"}},{"$f":"données!Y364","v":{"$error":"#N/A"}},{"$f":"données!AH364","v":7},{"$error":"#N/A"},{"$error":"#N/A"},null,null,null,null,null,null,null,null,null,null,null,null,null,null,null,null,null,{"$error":"#N/A"},{"$error":"#N/A"},{"$error":"#N/A"},{"$error":"#N/A"},{"$error":"#N/A"},{"$error":"#N/A"},{"$error":"#N/A"},{"$error":"#N/A"},{"$error":"#N/A"},{"$error":"#N/A"},{"$error":"#N/A"},{"$error":"#N/A"},{"$error":"#N/A"},{"$error":"#N/A"}]
[{"$f":"données!W365","v":{"$error":"#N/A"}},{"$f":"données!X365","v":{"$error":"#N/A"}},{"$f":"données!Y365","v":{"$error":"#N/A"}},{"$f":"données!AH365","v":2},{"$error":"#N/A"},{"$error":"#N/A"},null,null,null,null,null,null,null,null,null,null,null,null,null,null,null,null,null,{"$error":"#N/A"},{"$error":"#N/A"},{"$error":"#N/A"},{"$error":"#N/A"},{"$error":"#N/A"},{"$error":"#N/A"},{"$error":"#N/A"},{"$error":"#N/A"},{"$error":"#N/A"},{"$error":"#N/A"},{"$error":"#N/A"},{"$error":"#N/A"},{"$error":"#N/A"},{"$error":"#N/A"}]
[{"$f":"données!W366","v":{"$error":"#N/A"}},{"$f":"données!X366","v":{"$error":"#N/A"}},{"$f":"données!Y366","v":{"$error":"#N/A"}},{"$f":"données!AH366","v":2},{"$error":"#N/A"},{"$error":"#N/A"},null,null,null,null,null,null,null,null,null,null,null,null,null,null,null,null,null,{"$error":"#N/A"},{"$error":"#N/A"},{"$error":"#N/A"},{"$error":"#N/A"},{"$error":"#N/A"},{"$error":"#N/A"},{"$error":"#N/A"},{"$error":"#N/A"},{"$error":"#N/A"},{"$error":"#N/A"},{"$error":"#N/A"},{"$error":"#N/A"},{"$error":"#N/A"},{"$error":"#N/A"}]
[{"$f":"données!W367","v":{"$error":"#N/A"}},{"$f":"données!X367","v":{"$error":"#N/A"}},{"$f":"données!Y367","v":{"$error":"#N/A"}},{"$f":"données!AH367","v":7},{"$error":"#N/A"},{"$error":"#N/A"},null,null,null,null,null,null,null,null,null,null,null,null,null,null,null,null,null,{"$error":"#N/A"},{"$error":"#N/A"},{"$error":"#N/A"},{"$error":"#N/A"},{"$error":"#N/A"},{"$error":"#N/A"},{"$error":"#N/A"},{"$error":"#N/A"},{"$error":"#N/A"},{"$error":"#N/A"},{"$error":"#N/A"},{"$error":"#N/A"},{"$error":"#N/A"},{"$error":"#N/A"}]
[{"$f":"données!W368","v":{"$error":"#N/A"}},{"$f":"données!X368","v":{"$error":"#N/A"}},{"$f":"données!Y368","v":{"$error":"#N/A"}},{"$f":"données!AH368","v":1},{"$error":"#N/A"},{"$error":"#N/A"},null,null,null,null,null,null,null,null,null,null,null,null,null,null,null,null,null,{"$error":"#N/A"},{"$error":"#N/A"},{"$error":"#N/A"},{"$error":"#N/A"},{"$error":"#N/A"},{"$error":"#N/A"},{"$error":"#N/A"},{"$error":"#N/A"},{"$error":"#N/A"},{"$error":"#N/A"},{"$error":"#N/A"},{"$error":"#N/A"},{"$error":"#N/A"},{"$error":"#N/A"}]
[{"$f":"données!W369","v":{"$error":"#N/A"}},{"$f":"données!X369","v":{"$error":"#N/A"}},{"$f":"données!Y369","v":{"$error":"#N/A"}},{"$f":"données!AH369","v":1},{"$error":"#N/A"},{"$error":"#N/A"},null,null,null,null,null,null,null,null,null,null,null,null,null,null,null,null,null,{"$error":"#N/A"},{"$error":"#N/A"},{"$error":"#N/A"},{"$error":"#N/A"},{"$error":"#N/A"},{"$error":"#N/A"},{"$error":"#N/A"},{"$error":"#N/A"},{"$error":"#N/A"},{"$error":"#N/A"},{"$error":"#N/A"},{"$error":"#N/A"},{"$error":"#N/A"},{"$error":"#N/A"}]
[{"$f":"données!W370","v":{"$error":"#N/A"}},{"$f":"données!X370","v":{"$error":"#N/A"}},{"$f":"données!Y370","v":{"$error":"#N/A"}},{"$f":"données!AH370","v":4},{"$error":"#N/A"},{"$error":"#N/A"},null,null,null,null,null,null,null,null,null,null,null,null,null,null,null,null,null,{"$error":"#N/A"},{"$error":"#N/A"},{"$error":"#N/A"},{"$error":"#N/A"},{"$error":"#N/A"},{"$error":"#N/A"},{"$error":"#N/A"},{"$error":"#N/A"},{"$error":"#N/A"},{"$error":"#N/A"},{"$error":"#N/A"},{"$error":"#N/A"},{"$error":"#N/A"},{"$error":"#N/A"}]
[{"$f":"données!W371","v":{"$error":"#N/A"}},{"$f":"données!X371","v":{"$error":"#N/A"}},{"$f":"données!Y371","v":{"$error":"#N/A"}},{"$f":"données!AH371","v":6},{"$error":"#N/A"},{"$error":"#N/A"},null,null,null,null,null,null,null,null,null,null,null,null,null,null,null,null,null,{"$error":"#N/A"},{"$error":"#N/A"},{"$error":"#N/A"},{"$error":"#N/A"},{"$error":"#N/A"},{"$error":"#N/A"},{"$error":"#N/A"},{"$error":"#N/A"},{"$error":"#N/A"},{"$error":"#N/A"},{"$error":"#N/A"},{"$error":"#N/A"},{"$error":"#N/A"},{"$error":"#N/A"}]
[{"$f":"données!W372","v":{"$error":"#N/A"}},{"$f":"données!X372","v":{"$error":"#N/A"}},{"$f":"données!Y372","v":{"$error":"#N/A"}},{"$f":"données!AH372","v":5},{"$error":"#N/A"},{"$error":"#N/A"},null,null,null,null,null,null,null,null,null,null,null,null,null,null,null,null,null,{"$error":"#N/A"},{"$error":"#N/A"},{"$error":"#N/A"},{"$error":"#N/A"},{"$error":"#N/A"},{"$error":"#N/A"},{"$error":"#N/A"},{"$error":"#N/A"},{"$error":"#N/A"},{"$error":"#N/A"},{"$error":"#N/A"},{"$error":"#N/A"},{"$error":"#N/A"},{"$error":"#N/A"}]
[{"$f":"données!W373","v":{"$error":"#N/A"}},{"$f":"données!X373","v":{"$error":"#N/A"}},{"$f":"données!Y373","v":{"$error":"#N/A"}},{"$f":"données!AH373","v":5},{"$error":"#N/A"},{"$error":"#N/A"},null,null,null,null,null,null,null,null,null,null,null,null,null,null,null,null,null,{"$error":"#N/A"},{"$error":"#N/A"},{"$error":"#N/A"},{"$error":"#N/A"},{"$error":"#N/A"},{"$error":"#N/A"},{"$error":"#N/A"},{"$error":"#N/A"},{"$error":"#N/A"},{"$error":"#N/A"},{"$error":"#N/A"},{"$error":"#N/A"},{"$error":"#N/A"},{"$error":"#N/A"}]
[{"$f":"données!W374","v":{"$error":"#N/A"}},{"$f":"données!X374","v":{"$error":"#N/A"}},{"$f":"données!Y374","v":{"$error":"#N/A"}},{"$f":"données!AH374","v":4},{"$error":"#N/A"},{"$error":"#N/A"},null,null,null,null,null,null,null,null,null,null,null,null,null,null,null,null,null,{"$error":"#N/A"},{"$error":"#N/A"},{"$error":"#N/A"},{"$error":"#N/A"},{"$error":"#N/A"},{"$error":"#N/A"},{"$error":"#N/A"},{"$error":"#N/A"},{"$error":"#N/A"},{"$error":"#N/A"},{"$error":"#N/A"},{"$error":"#N/A"},{"$error":"#N/A"},{"$error":"#N/A"}]
[{"$f":"données!W375","v":{"$error":"#N/A"}},{"$f":"données!X375","v":{"$error":"#N/A"}},{"$f":"données!Y375","v":{"$error":"#N/A"}},{"$f":"données!AH375","v":2},{"$error":"#N/A"},{"$error":"#N/A"},null,null,null,null,null,null,null,null,null,null,null,null,null,null,null,null,null,{"$error":"#N/A"},{"$error":"#N/A"},{"$error":"#N/A"},{"$error":"#N/A"},{"$error":"#N/A"},{"$error":"#N/A"},{"$error":"#N/A"},{"$error":"#N/A"},{"$error":"#N/A"},{"$error":"#N/A"},{"$error":"#N/A"},{"$error":"#N/A"},{"$error":"#N/A"},{"$error":"#N/A"}]
[{"$f":"données!W376","v":{"$error":"#N/A"}},{"$f":"données!X376","v":{"$error":"#N/A"}},{"$f":"données!Y376","v":{"$error":"#N/A"}},{"$f":"données!AH376","v":5},{"$error":"#N/A"},{"$error":"#N/A"},null,null,null,null,null,null,null,null,null,null,null,null,null,null,null,null,null,{"$error":"#N/A"},{"$error":"#N/A"},{"$error":"#N/A"},{"$error":"#N/A"},{"$error":"#N/A"},{"$error":"#N/A"},{"$error":"#N/A"},{"$error":"#N/A"},{"$error":"#N/A"},{"$error":"#N/A"},{"$error":"#N/A"},{"$error":"#N/A"},{"$error":"#N/A"},{"$error":"#N/A"}]
[{"$f":"données!W377","v":{"$error":"#N/A"}},{"$f":"données!X377","v":{"$error":"#N/A"}},{"$f":"données!Y377","v":{"$error":"#N/A"}},{"$f":"données!AH377","v":3},{"$error":"#N/A"},{"$error":"#N/A"},null,null,null,null,null,null,null,null,null,null,null,null,null,null,null,null,null,{"$error":"#N/A"},{"$error":"#N/A"},{"$error":"#N/A"},{"$error":"#N/A"},{"$error":"#N/A"},{"$error":"#N/A"},{"$error":"#N/A"},{"$error":"#N/A"},{"$error":"#N/A"},{"$error":"#N/A"},{"$error":"#N/A"},{"$error":"#N/A"},{"$error":"#N/A"},{"$error":"#N/A"}]
[{"$f":"données!W378","v":{"$error":"#N/A"}},{"$f":"données!X378","v":{"$error":"#N/A"}},{"$f":"données!Y378","v":{"$error":"#N/A"}},{"$f":"données!AH378","v":7},{"$error":"#N/A"},{"$error":"#N/A"},null,null,null,null,null,null,null,null,null,null,null,null,null,null,null,null,null,{"$f":"IF($D376=X$1,$E376,#N/A)","v":{"$error":"#N/A"}},{"$f":"IF($D376=Y$1,$F376,#N/A)","v":{"$error":"#N/A"}},{"$error":"#N/A"},{"$error":"#N/A"},{"$error":"#N/A"},{"$error":"#N/A"},{"$error":"#N/A"},{"$error":"#N/A"},{"$error":"#N/A"},{"$error":"#N/A"},{"$error":"#N/A"},{"$error":"#N/A"},{"$error":"#N/A"},{"$error":"#N/A"}]
[{"$f":"données!W379","v":{"$error":"#N/A"}},{"$f":"données!X379","v":{"$error":"#N/A"}},{"$f":"données!Y379","v":{"$error":"#N/A"}},{"$f":"données!AH379","v":6},{"$error":"#N/A"},{"$error":"#N/A"},null,null,null,null,null,null,null,null,null,null,null,null,null,null,null,null,null,{"$error":"#N/A"},{"$error":"#N/A"},{"$error":"#N/A"},{"$error":"#N/A"},{"$error":"#N/A"},{"$error":"#N/A"},{"$error":"#N/A"},{"$error":"#N/A"},{"$error":"#N/A"},{"$error":"#N/A"},{"$error":"#N/A"},{"$error":"#N/A"},{"$error":"#N/A"},{"$error":"#N/A"}]
[{"$f":"données!W380","v":{"$error":"#N/A"}},{"$f":"données!X380","v":{"$error":"#N/A"}},{"$f":"données!Y380","v":{"$error":"#N/A"}},{"$f":"données!AH380","v":3},{"$error":"#N/A"},{"$error":"#N/A"},null,null,null,null,null,null,null,null,null,null,null,null,null,null,null,null,null,{"$error":"#N/A"},{"$error":"#N/A"},{"$error":"#N/A"},{"$error":"#N/A"},{"$error":"#N/A"},{"$error":"#N/A"},{"$error":"#N/A"},{"$error":"#N/A"},{"$error":"#N/A"},{"$error":"#N/A"},{"$error":"#N/A"},{"$error":"#N/A"},{"$error":"#N/A"},{"$error":"#N/A"}]
[{"$f":"données!W381","v":{"$error":"#N/A"}},{"$f":"données!X381","v":{"$error":"#N/A"}},{"$f":"données!Y381","v":{"$error":"#N/A"}},{"$f":"données!AH381","v":2},{"$error":"#N/A"},{"$error":"#N/A"},null,null,null,null,null,null,null,null,null,null,null,null,null,null,null,null,null,{"$error":"#N/A"},{"$error":"#N/A"},{"$error":"#N/A"},{"$error":"#N/A"},{"$error":"#N/A"},{"$error":"#N/A"},{"$error":"#N/A"},{"$error":"#N/A"},{"$error":"#N/A"},{"$error":"#N/A"},{"$error":"#N/A"},{"$error":"#N/A"},{"$error":"#N/A"},{"$error":"#N/A"}]
[{"$f":"données!W382","v":{"$error":"#N/A"}},{"$f":"données!X382","v":{"$error":"#N/A"}},{"$f":"données!Y382","v":{"$error":"#N/A"}},{"$f":"données!AH382","v":2},{"$error":"#N/A"},{"$error":"#N/A"},null,null,null,null,null,null,null,null,null,null,null,null,null,null,null,null,null,{"$error":"#N/A"},{"$error":"#N/A"},{"$error":"#N/A"},{"$error":"#N/A"},{"$error":"#N/A"},{"$error":"#N/A"},{"$error":"#N/A"},{"$error":"#N/A"},{"$error":"#N/A"},{"$error":"#N/A"},{"$error":"#N/A"},{"$error":"#N/A"},{"$error":"#N/A"},{"$error":"#N/A"}]
[{"$f":"données!W383","v":{"$error":"#N/A"}},{"$f":"données!X383","v":{"$error":"#N/A"}},{"$f":"données!Y383","v":{"$error":"#N/A"}},{"$f":"données!AH383","v":3},{"$error":"#N/A"},{"$error":"#N/A"},null,null,null,null,null,null,null,null,null,null,null,null,null,null,null,null,null,{"$error":"#N/A"},{"$error":"#N/A"},{"$error":"#N/A"},{"$error":"#N/A"},{"$error":"#N/A"},{"$error":"#N/A"},{"$error":"#N/A"},{"$error":"#N/A"},{"$error":"#N/A"},{"$error":"#N/A"},{"$error":"#N/A"},{"$error":"#N/A"},{"$error":"#N/A"},{"$error":"#N/A"}]
[{"$f":"données!W384","v":{"$error":"#N/A"}},{"$f":"données!X384","v":{"$error":"#N/A"}},{"$f":"données!Y384","v":{"$error":"#N/A"}},{"$f":"données!AH384","v":4},{"$error":"#N/A"},{"$error":"#N/A"},null,null,null,null,null,null,null,null,null,null,null,null,null,null,null,null,null,{"$error":"#N/A"},{"$error":"#N/A"},{"$error":"#N/A"},{"$error":"#N/A"},{"$error":"#N/A"},{"$error":"#N/A"},{"$error":"#N/A"},{"$error":"#N/A"},{"$error":"#N/A"},{"$error":"#N/A"},{"$error":"#N/A"},{"$error":"#N/A"},{"$error":"#N/A"},{"$error":"#N/A"}]
[{"$f":"données!W385","v":{"$error":"#N/A"}},{"$f":"données!X385","v":{"$error":"#N/A"}},{"$f":"données!Y385","v":{"$error":"#N/A"}},{"$f":"données!AH385","v":2},{"$error":"#N/A"},{"$error":"#N/A"},null,null,null,null,null,null,null,null,null,null,null,null,null,null,null,null,null,{"$error":"#N/A"},{"$error":"#N/A"},{"$error":"#N/A"},{"$error":"#N/A"},{"$error":"#N/A"},{"$error":"#N/A"},{"$error":"#N/A"},{"$error":"#N/A"},{"$error":"#N/A"},{"$error":"#N/A"},{"$error":"#N/A"},{"$error":"#N/A"},{"$error":"#N/A"},{"$error":"#N/A"}]
[{"$f":"données!W386","v":{"$error":"#N/A"}},{"$f":"données!X386","v":{"$error":"#N/A"}},{"$f":"données!Y386","v":{"$error":"#N/A"}},{"$f":"données!AH386","v":3},{"$error":"#N/A"},{"$error":"#N/A"},null,null,null,null,null,null,null,null,null,null,null,null,null,null,null,null,null,{"$error":"#N/A"},{"$error":"#N/A"},{"$error":"#N/A"},{"$error":"#N/A"},{"$error":"#N/A"},{"$error":"#N/A"},{"$error":"#N/A"},{"$error":"#N/A"},{"$error":"#N/A"},{"$error":"#N/A"},{"$error":"#N/A"},{"$error":"#N/A"},{"$error":"#N/A"},{"$error":"#N/A"}]
[{"$f":"données!W387","v":{"$error":"#N/A"}},{"$f":"données!X387","v":{"$error":"#N/A"}},{"$f":"données!Y387","v":{"$error":"#N/A"}},{"$f":"données!AH387","v":6},{"$error":"#N/A"},{"$error":"#N/A"},null,null,null,null,null,null,null,null,null,null,null,null,null,null,null,null,null,{"$error":"#N/A"},{"$error":"#N/A"},{"$error":"#N/A"},{"$error":"#N/A"},{"$error":"#N/A"},{"$error":"#N/A"},{"$error":"#N/A"},{"$error":"#N/A"},{"$error":"#N/A"},{"$error":"#N/A"},{"$error":"#N/A"},{"$error":"#N/A"},{"$error":"#N/A"},{"$error":"#N/A"}]
[{"$f":"données!W388","v":{"$error":"#N/A"}},{"$f":"données!X388","v":{"$error":"#N/A"}},{"$f":"données!Y388","v":{"$error":"#N/A"}},{"$f":"données!AH388","v":2},{"$f":"A386+B386*$I$2","v":{"$error":"#N/A"}},{"$f":"C386+B386*$I$3","v":{"$error":"#N/A"}},null,null,null,null,null,null,null,null,null,null,null,null,null,null,null,null,null,{"$error":"#N/A"},{"$error":"#N/A"},{"$f":"IF($D386=Z$1,$E386,#N/A)","v":{"$error":"#N/A"}},{"$f":"IF($D386=AA$1,$F386,#N/A)","v":{"$error":"#N/A"}},{"$f":"IF($D386=AB$1,$E386,#N/A)","v":{"$error":"#N/A"}},{"$f":"IF($D386=AC$1,$F386,#N/A)","v":{"$error":"#N/A"}},{"$f":"IF($D386=AD$1,$E386,#N/A)","v":{"$error":"#N/A"}},{"$f":"IF($D386=AE$1,$F386,#N/A)","v":{"$error":"#N/A"}},{"$f":"IF($D386=AF$1,$E386,#N/A)","v":{"$error":"#N/A"}},{"$f":"IF($D386=AG$1,$F386,#N/A)","v":{"$error":"#N/A"}},{"$f":"IF($D386=AH$1,$E386,#N/A)","v":{"$error":"#N/A"}},{"$f":"IF($D386=AI$1,$F386,#N/A)","v":{"$error":"#N/A"}},{"$f":"IF($D386=AJ$1,$E386,#N/A)","v":{"$error":"#N/A"}},{"$f":"IF($D386=AK$1,$F386,#N/A)","v":{"$error":"#N/A"}}]
[{"$f":"données!W389","v":{"$error":"#N/A"}},{"$f":"données!X389","v":{"$error":"#N/A"}},{"$f":"données!Y389","v":{"$error":"#N/A"}},{"$f":"données!AH389","v":5},{"$error":"#N/A"},{"$error":"#N/A"},null,null,null,null,null,null,null,null,null,null,null,null,null,null,null,null,null,{"$error":"#N/A"},{"$error":"#N/A"},{"$error":"#N/A"},{"$error":"#N/A"},{"$error":"#N/A"},{"$error":"#N/A"},{"$error":"#N/A"},{"$error":"#N/A"},{"$error":"#N/A"},{"$error":"#N/A"},{"$error":"#N/A"},{"$error":"#N/A"},{"$error":"#N/A"},{"$error":"#N/A"}]
[{"$f":"données!W390","v":{"$error":"#N/A"}},{"$f":"données!X390","v":{"$error":"#N/A"}},{"$f":"données!Y390","v":{"$error":"#N/A"}},{"$f":"données!AH390","v":7},{"$error":"#N/A"},{"$error":"#N/A"},null,null,null,null,null,null,null,null,null,null,null,null,null,null,null,null,null,{"$error":"#N/A"},{"$error":"#N/A"},{"$error":"#N/A"},{"$error":"#N/A"},{"$error":"#N/A"},{"$error":"#N/A"},{"$error":"#N/A"},{"$error":"#N/A"},{"$error":"#N/A"},{"$error":"#N/A"},{"$error":"#N/A"},{"$error":"#N/A"},{"$error":"#N/A"},{"$error":"#N/A"}]
[{"$f":"données!W391","v":{"$error":"#N/A"}},{"$f":"données!X391","v":{"$error":"#N/A"}},{"$f":"données!Y391","v":{"$error":"#N/A"}},{"$f":"données!AH391","v":4},{"$error":"#N/A"},{"$error":"#N/A"},null,null,null,null,null,null,null,null,null,null,null,null,null,null,null,null,null,{"$error":"#N/A"},{"$error":"#N/A"},{"$error":"#N/A"},{"$error":"#N/A"},{"$error":"#N/A"},{"$error":"#N/A"},{"$error":"#N/A"},{"$error":"#N/A"},{"$error":"#N/A"},{"$error":"#N/A"},{"$error":"#N/A"},{"$error":"#N/A"},{"$error":"#N/A"},{"$error":"#N/A"}]
[{"$f":"données!W392","v":{"$error":"#N/A"}},{"$f":"données!X392","v":{"$error":"#N/A"}},{"$f":"données!Y392","v":{"$error":"#N/A"}},{"$f":"données!AH392","v":6},{"$error":"#N/A"},{"$error":"#N/A"},null,null,null,null,null,null,null,null,null,null,null,null,null,null,null,null,null,{"$error":"#N/A"},{"$error":"#N/A"},{"$error":"#N/A"},{"$error":"#N/A"},{"$error":"#N/A"},{"$error":"#N/A"},{"$error":"#N/A"},{"$error":"#N/A"},{"$error":"#N/A"},{"$error":"#N/A"},{"$error":"#N/A"},{"$error":"#N/A"},{"$error":"#N/A"},{"$error":"#N/A"}]
[{"$f":"données!W393","v":{"$error":"#N/A"}},{"$f":"données!X393","v":{"$error":"#N/A"}},{"$f":"données!Y393","v":{"$error":"#N/A"}},{"$f":"données!AH393","v":7},{"$error":"#N/A"},{"$error":"#N/A"},null,null,null,null,null,null,null,null,null,null,null,null,null,null,null,null,null,{"$error":"#N/A"},{"$error":"#N/A"},{"$error":"#N/A"},{"$error":"#N/A"},{"$error":"#N/A"},{"$error":"#N/A"},{"$error":"#N/A"},{"$error":"#N/A"},{"$error":"#N/A"},{"$error":"#N/A"},{"$error":"#N/A"},{"$error":"#N/A"},{"$error":"#N/A"},{"$error":"#N/A"}]
[{"$f":"données!W394","v":{"$error":"#N/A"}},{"$f":"données!X394","v":{"$error":"#N/A"}},{"$f":"données!Y394","v":{"$error":"#N/A"}},{"$f":"données!AH394","v":6},{"$error":"#N/A"},{"$error":"#N/A"},null,null,null,null,null,null,null,null,null,null,null,null,null,null,null,null,null,{"$error":"#N/A"},{"$error":"#N/A"},{"$error":"#N/A"},{"$error":"#N/A"},{"$error":"#N/A"},{"$error":"#N/A"},{"$error":"#N/A"},{"$error":"#N/A"},{"$error":"#N/A"},{"$error":"#N/A"},{"$error":"#N/A"},{"$error":"#N/A"},{"$error":"#N/A"},{"$error":"#N/A"}]
[{"$f":"données!W395","v":{"$error":"#N/A"}},{"$f":"données!X395","v":{"$error":"#N/A"}},{"$f":"données!Y395","v":{"$error":"#N/A"}},{"$f":"données!AH395","v":1},{"$error":"#N/A"},{"$error":"#N/A"},null,null,null,null,null,null,null,null,null,null,null,null,null,null,null,null,null,{"$error":"#N/A"},{"$error":"#N/A"},{"$error":"#N/A"},{"$error":"#N/A"},{"$error":"#N/A"},{"$error":"#N/A"},{"$error":"#N/A"},{"$error":"#N/A"},{"$error":"#N/A"},{"$error":"#N/A"},{"$error":"#N/A"},{"$error":"#N/A"},{"$error":"#N/A"},{"$error":"#N/A"}]
[{"$f":"données!W396","v":{"$error":"#N/A"}},{"$f":"données!X396","v":{"$error":"#N/A"}},{"$f":"données!Y396","v":{"$error":"#N/A"}},{"$f":"données!AH396","v":1},{"$error":"#N/A"},{"$error":"#N/A"},null,null,null,null,null,null,null,null,null,null,null,null,null,null,null,null,null,{"$error":"#N/A"},{"$error":"#N/A"},{"$error":"#N/A"},{"$error":"#N/A"},{"$error":"#N/A"},{"$error":"#N/A"},{"$error":"#N/A"},{"$error":"#N/A"},{"$error":"#N/A"},{"$error":"#N/A"},{"$error":"#N/A"},{"$error":"#N/A"},{"$error":"#N/A"},{"$error":"#N/A"}]
[{"$f":"données!W397","v":{"$error":"#N/A"}},{"$f":"données!X397","v":{"$error":"#N/A"}},{"$f":"données!Y397","v":{"$error":"#N/A"}},{"$f":"données!AH397","v":3},{"$error":"#N/A"},{"$error":"#N/A"},null,null,null,null,null,null,null,null,null,null,null,null,null,null,null,null,null,{"$error":"#N/A"},{"$error":"#N/A"},{"$error":"#N/A"},{"$error":"#N/A"},{"$error":"#N/A"},{"$error":"#N/A"},{"$error":"#N/A"},{"$error":"#N/A"},{"$error":"#N/A"},{"$error":"#N/A"},{"$error":"#N/A"},{"$error":"#N/A"},{"$error":"#N/A"},{"$error":"#N/A"}]
[{"$f":"données!W398","v":{"$error":"#N/A"}},{"$f":"données!X398","v":{"$error":"#N/A"}},{"$f":"données!Y398","v":{"$error":"#N/A"}},{"$f":"données!AH398","v":6},{"$error":"#N/A"},{"$error":"#N/A"},null,null,null,null,null,null,null,null,null,null,null,null,null,null,null,null,null,{"$error":"#N/A"},{"$error":"#N/A"},{"$error":"#N/A"},{"$error":"#N/A"},{"$error":"#N/A"},{"$error":"#N/A"},{"$error":"#N/A"},{"$error":"#N/A"},{"$error":"#N/A"},{"$error":"#N/A"},{"$error":"#N/A"},{"$error":"#N/A"},{"$error":"#N/A"},{"$error":"#N/A"}]
[{"$f":"données!W399","v":{"$error":"#N/A"}},{"$f":"données!X399","v":{"$error":"#N/A"}},{"$f":"données!Y399","v":{"$error":"#N/A"}},{"$f":"données!AH399","v":7},{"$error":"#N/A"},{"$error":"#N/A"},null,null,null,null,null,null,null,null,null,null,null,null,null,null,null,null,null,{"$error":"#N/A"},{"$error":"#N/A"},{"$error":"#N/A"},{"$error":"#N/A"},{"$error":"#N/A"},{"$error":"#N/A"},{"$error":"#N/A"},{"$error":"#N/A"},{"$error":"#N/A"},{"$error":"#N/A"},{"$error":"#N/A"},{"$error":"#N/A"},{"$error":"#N/A"},{"$error":"#N/A"}]
[{"$f":"données!W400","v":{"$error":"#N/A"}},{"$f":"données!X400","v":{"$error":"#N/A"}},{"$f":"données!Y400","v":{"$error":"#N/A"}},{"$f":"données!AH400","v":3},{"$error":"#N/A"},{"$error":"#N/A"},null,null,null,null,null,null,null,null,null,null,null,null,null,null,null,null,null,{"$error":"#N/A"},{"$error":"#N/A"},{"$error":"#N/A"},{"$error":"#N/A"},{"$error":"#N/A"},{"$error":"#N/A"},{"$error":"#N/A"},{"$error":"#N/A"},{"$error":"#N/A"},{"$error":"#N/A"},{"$error":"#N/A"},{"$error":"#N/A"},{"$error":"#N/A"},{"$error":"#N/A"}]
[{"$f":"données!W401","v":{"$error":"#N/A"}},{"$f":"données!X401","v":{"$error":"#N/A"}},{"$f":"données!Y401","v":{"$error":"#N/A"}},{"$f":"données!AH401","v":6},{"$error":"#N/A"},{"$error":"#N/A"},null,null,null,null,null,null,null,null,null,null,null,null,null,null,null,null,null,{"$error":"#N/A"},{"$error":"#N/A"},{"$error":"#N/A"},{"$error":"#N/A"},{"$error":"#N/A"},{"$error":"#N/A"},{"$error":"#N/A"},{"$error":"#N/A"},{"$error":"#N/A"},{"$error":"#N/A"},{"$error":"#N/A"},{"$error":"#N/A"},{"$error":"#N/A"},{"$error":"#N/A"}]
[{"$f":"données!W402","v":{"$error":"#N/A"}},{"$f":"données!X402","v":{"$error":"#N/A"}},{"$f":"données!Y402","v":{"$error":"#N/A"}},{"$f":"données!AH402","v":7},{"$error":"#N/A"},{"$error":"#N/A"},null,null,null,null,null,null,null,null,null,null,null,null,null,null,null,null,null,{"$error":"#N/A"},{"$error":"#N/A"},{"$error":"#N/A"},{"$error":"#N/A"},{"$error":"#N/A"},{"$error":"#N/A"},{"$error":"#N/A"},{"$error":"#N/A"},{"$error":"#N/A"},{"$error":"#N/A"},{"$error":"#N/A"},{"$error":"#N/A"},{"$error":"#N/A"},{"$error":"#N/A"}]
[{"$f":"données!W403","v":{"$error":"#N/A"}},{"$f":"données!X403","v":{"$error":"#N/A"}},{"$f":"données!Y403","v":{"$error":"#N/A"}},{"$f":"données!AH403","v":2},{"$error":"#N/A"},{"$error":"#N/A"},null,null,null,null,null,null,null,null,null,null,null,null,null,null,null,null,null,{"$error":"#N/A"},{"$error":"#N/A"},{"$error":"#N/A"},{"$error":"#N/A"},{"$error":"#N/A"},{"$error":"#N/A"},{"$error":"#N/A"},{"$error":"#N/A"},{"$error":"#N/A"},{"$error":"#N/A"},{"$error":"#N/A"},{"$error":"#N/A"},{"$error":"#N/A"},{"$error":"#N/A"}]
[{"$f":"données!W404","v":{"$error":"#N/A"}},{"$f":"données!X404","v":{"$error":"#N/A"}},{"$f":"données!Y404","v":{"$error":"#N/A"}},{"$f":"données!AH404","v":5},{"$error":"#N/A"},{"$error":"#N/A"},null,null,null,null,null,null,null,null,null,null,null,null,null,null,null,null,null,{"$error":"#N/A"},{"$error":"#N/A"},{"$error":"#N/A"},{"$error":"#N/A"},{"$error":"#N/A"},{"$error":"#N/A"},{"$error":"#N/A"},{"$error":"#N/A"},{"$error":"#N/A"},{"$error":"#N/A"},{"$error":"#N/A"},{"$error":"#N/A"},{"$error":"#N/A"},{"$error":"#N/A"}]
[{"$f":"données!W405","v":{"$error":"#N/A"}},{"$f":"données!X405","v":{"$error":"#N/A"}},{"$f":"données!Y405","v":{"$error":"#N/A"}},{"$f":"données!AH405","v":7},{"$error":"#N/A"},{"$error":"#N/A"},null,null,null,null,null,null,null,null,null,null,null,null,null,null,null,null,null,{"$error":"#N/A"},{"$error":"#N/A"},{"$error":"#N/A"},{"$error":"#N/A"},{"$error":"#N/A"},{"$error":"#N/A"},{"$error":"#N/A"},{"$error":"#N/A"},{"$error":"#N/A"},{"$error":"#N/A"},{"$error":"#N/A"},{"$error":"#N/A"},{"$error":"#N/A"},{"$error":"#N/A"}]
[{"$f":"données!W406","v":{"$error":"#N/A"}},{"$f":"données!X406","v":{"$error":"#N/A"}},{"$f":"données!Y406","v":{"$error":"#N/A"}},{"$f":"données!AH406","v":1},{"$error":"#N/A"},{"$error":"#N/A"},null,null,null,null,null,null,null,null,null,null,null,null,null,null,null,null,null,{"$error":"#N/A"},{"$error":"#N/A"},{"$error":"#N/A"},{"$error":"#N/A"},{"$error":"#N/A"},{"$error":"#N/A"},{"$error":"#N/A"},{"$error":"#N/A"},{"$error":"#N/A"},{"$error":"#N/A"},{"$error":"#N/A"},{"$error":"#N/A"},{"$error":"#N/A"},{"$error":"#N/A"}]
[{"$f":"données!W407","v":{"$error":"#N/A"}},{"$f":"données!X407","v":{"$error":"#N/A"}},{"$f":"données!Y407","v":{"$error":"#N/A"}},{"$f":"données!AH407","v":4},{"$error":"#N/A"},{"$error":"#N/A"},null,null,null,null,null,null,null,null,null,null,null,null,null,null,null,null,null,{"$error":"#N/A"},{"$error":"#N/A"},{"$error":"#N/A"},{"$error":"#N/A"},{"$error":"#N/A"},{"$error":"#N/A"},{"$error":"#N/A"},{"$error":"#N/A"},{"$error":"#N/A"},{"$error":"#N/A"},{"$error":"#N/A"},{"$error":"#N/A"},{"$error":"#N/A"},{"$error":"#N/A"}]
[{"$f":"données!W408","v":{"$error":"#N/A"}},{"$f":"données!X408","v":{"$error":"#N/A"}},{"$f":"données!Y408","v":{"$error":"#N/A"}},{"$f":"données!AH408","v":7},{"$error":"#N/A"},{"$error":"#N/A"},null,null,null,null,null,null,null,null,null,null,null,null,null,null,null,null,null,{"$error":"#N/A"},{"$error":"#N/A"},{"$error":"#N/A"},{"$error":"#N/A"},{"$error":"#N/A"},{"$error":"#N/A"},{"$error":"#N/A"},{"$error":"#N/A"},{"$error":"#N/A"},{"$error":"#N/A"},{"$error":"#N/A"},{"$error":"#N/A"},{"$error":"#N/A"},{"$error":"#N/A"}]
[{"$f":"données!W409","v":{"$error":"#N/A"}},{"$f":"données!X409","v":{"$error":"#N/A"}},{"$f":"données!Y409","v":{"$error":"#N/A"}},{"$f":"données!AH409","v":5},{"$error":"#N/A"},{"$error":"#N/A"},null,null,null,null,null,null,null,null,null,null,null,null,null,null,null,null,null,{"$error":"#N/A"},{"$error":"#N/A"},{"$error":"#N/A"},{"$error":"#N/A"},{"$error":"#N/A"},{"$error":"#N/A"},{"$error":"#N/A"},{"$error":"#N/A"},{"$error":"#N/A"},{"$error":"#N/A"},{"$error":"#N/A"},{"$error":"#N/A"},{"$error":"#N/A"},{"$error":"#N/A"}]
[{"$f":"données!W410","v":{"$error":"#N/A"}},{"$f":"données!X410","v":{"$error":"#N/A"}},{"$f":"données!Y410","v":{"$error":"#N/A"}},{"$f":"données!AH410","v":7},{"$error":"#N/A"},{"$error":"#N/A"},null,null,null,null,null,null,null,null,null,null,null,null,null,null,null,null,null,{"$error":"#N/A"},{"$error":"#N/A"},{"$error":"#N/A"},{"$error":"#N/A"},{"$error":"#N/A"},{"$error":"#N/A"},{"$error":"#N/A"},{"$error":"#N/A"},{"$error":"#N/A"},{"$error":"#N/A"},{"$error":"#N/A"},{"$error":"#N/A"},{"$error":"#N/A"},{"$error":"#N/A"}]
[{"$f":"données!W411","v":{"$error":"#N/A"}},{"$f":"données!X411","v":{"$error":"#N/A"}},{"$f":"données!Y411","v":{"$error":"#N/A"}},{"$f":"données!AH411","v":6},{"$error":"#N/A"},{"$error":"#N/A"},null,null,null,null,null,null,null,null,null,null,null,null,null,null,null,null,null,{"$error":"#N/A"},{"$error":"#N/A"},{"$error":"#N/A"},{"$error":"#N/A"},{"$error":"#N/A"},{"$error":"#N/A"},{"$error":"#N/A"},{"$error":"#N/A"},{"$error":"#N/A"},{"$error":"#N/A"},{"$error":"#N/A"},{"$error":"#N/A"},{"$error":"#N/A"},{"$error":"#N/A"}]
[{"$f":"données!W412","v":{"$error":"#N/A"}},{"$f":"données!X412","v":{"$error":"#N/A"}},{"$f":"données!Y412","v":{"$error":"#N/A"}},{"$f":"données!AH412","v":7},{"$error":"#N/A"},{"$error":"#N/A"},null,null,null,null,null,null,null,null,null,null,null,null,null,null,null,null,null,{"$error":"#N/A"},{"$error":"#N/A"},{"$error":"#N/A"},{"$error":"#N/A"},{"$error":"#N/A"},{"$error":"#N/A"},{"$error":"#N/A"},{"$error":"#N/A"},{"$error":"#N/A"},{"$error":"#N/A"},{"$error":"#N/A"},{"$error":"#N/A"},{"$error":"#N/A"},{"$error":"#N/A"}]
[{"$f":"données!W413","v":{"$error":"#N/A"}},{"$f":"données!X413","v":{"$error":"#N/A"}},{"$f":"données!Y413","v":{"$error":"#N/A"}},{"$f":"données!AH413","v":7},{"$error":"#N/A"},{"$error":"#N/A"},null,null,null,null,null,null,null,null,null,null,null,null,null,null,null,null,null,{"$error":"#N/A"},{"$error":"#N/A"},{"$error":"#N/A"},{"$error":"#N/A"},{"$error":"#N/A"},{"$error":"#N/A"},{"$error":"#N/A"},{"$error":"#N/A"},{"$error":"#N/A"},{"$error":"#N/A"},{"$error":"#N/A"},{"$error":"#N/A"},{"$error":"#N/A"},{"$error":"#N/A"}]
[{"$f":"données!W414","v":{"$error":"#N/A"}},{"$f":"données!X414","v":{"$error":"#N/A"}},{"$f":"données!Y414","v":{"$error":"#N/A"}},{"$f":"données!AH414","v":6},{"$error":"#N/A"},{"$error":"#N/A"},null,null,null,null,null,null,null,null,null,null,null,null,null,null,null,null,null,{"$error":"#N/A"},{"$error":"#N/A"},{"$error":"#N/A"},{"$error":"#N/A"},{"$error":"#N/A"},{"$error":"#N/A"},{"$error":"#N/A"},{"$error":"#N/A"},{"$error":"#N/A"},{"$error":"#N/A"},{"$error":"#N/A"},{"$error":"#N/A"},{"$error":"#N/A"},{"$error":"#N/A"}]
[{"$f":"données!W415","v":{"$error":"#N/A"}},{"$f":"données!X415","v":{"$error":"#N/A"}},{"$f":"données!Y415","v":{"$error":"#N/A"}},{"$f":"données!AH415","v":2},{"$error":"#N/A"},{"$error":"#N/A"},null,null,null,null,null,null,null,null,null,null,null,null,null,null,null,null,null,{"$error":"#N/A"},{"$error":"#N/A"},{"$error":"#N/A"},{"$error":"#N/A"},{"$error":"#N/A"},{"$error":"#N/A"},{"$error":"#N/A"},{"$error":"#N/A"},{"$error":"#N/A"},{"$error":"#N/A"},{"$error":"#N/A"},{"$error":"#N/A"},{"$error":"#N/A"},{"$error":"#N/A"}]
[{"$f":"données!W416","v":{"$error":"#N/A"}},{"$f":"données!X416","v":{"$error":"#N/A"}},{"$f":"données!Y416","v":{"$error":"#N/A"}},{"$f":"données!AH416","v":7},{"$error":"#N/A"},{"$error":"#N/A"},null,null,null,null,null,null,null,null,null,null,null,null,null,null,null,null,null,{"$error":"#N/A"},{"$error":"#N/A"},{"$error":"#N/A"},{"$error":"#N/A"},{"$error":"#N/A"},{"$error":"#N/A"},{"$error":"#N/A"},{"$error":"#N/A"},{"$error":"#N/A"},{"$error":"#N/A"},{"$error":"#N/A"},{"$error":"#N/A"},{"$error":"#N/A"},{"$error":"#N/A"}]
[{"$f":"données!W417","v":{"$error":"#N/A"}},{"$f":"données!X417","v":{"$error":"#N/A"}},{"$f":"données!Y417","v":{"$error":"#N/A"}},{"$f":"données!AH417","v":5},{"$error":"#N/A"},{"$error":"#N/A"},null,null,null,null,null,null,null,null,null,null,null,null,null,null,null,null,null,{"$error":"#N/A"},{"$error":"#N/A"},{"$error":"#N/A"},{"$error":"#N/A"},{"$error":"#N/A"},{"$error":"#N/A"},{"$error":"#N/A"},{"$error":"#N/A"},{"$error":"#N/A"},{"$error":"#N/A"},{"$error":"#N/A"},{"$error":"#N/A"},{"$error":"#N/A"},{"$error":"#N/A"}]
[{"$f":"données!W418","v":{"$error":"#N/A"}},{"$f":"données!X418","v":{"$error":"#N/A"}},{"$f":"données!Y418","v":{"$error":"#N/A"}},{"$f":"données!AH418","v":5},{"$error":"#N/A"},{"$error":"#N/A"},null,null,null,null,null,null,null,null,null,null,null,null,null,null,null,null,null,{"$error":"#N/A"},{"$error":"#N/A"},{"$error":"#N/A"},{"$error":"#N/A"},{"$error":"#N/A"},{"$error":"#N/A"},{"$error":"#N/A"},{"$error":"#N/A"},{"$error":"#N/A"},{"$error":"#N/A"},{"$error":"#N/A"},{"$error":"#N/A"},{"$error":"#N/A"},{"$error":"#N/A"}]
[{"$f":"données!W419","v":{"$error":"#N/A"}},{"$f":"données!X419","v":{"$error":"#N/A"}},{"$f":"données!Y419","v":{"$error":"#N/A"}},{"$f":"données!AH419","v":2},{"$error":"#N/A"},{"$error":"#N/A"},null,null,null,null,null,null,null,null,null,null,null,null,null,null,null,null,null,{"$error":"#N/A"},{"$error":"#N/A"},{"$error":"#N/A"},{"$error":"#N/A"},{"$error":"#N/A"},{"$error":"#N/A"},{"$error":"#N/A"},{"$error":"#N/A"},{"$error":"#N/A"},{"$error":"#N/A"},{"$error":"#N/A"},{"$error":"#N/A"},{"$error":"#N/A"},{"$error":"#N/A"}]
[{"$f":"données!W420","v":{"$error":"#N/A"}},{"$f":"données!X420","v":{"$error":"#N/A"}},{"$f":"données!Y420","v":{"$error":"#N/A"}},{"$f":"données!AH420","v":4},{"$error":"#N/A"},{"$error":"#N/A"},null,null,null,null,null,null,null,null,null,null,null,null,null,null,null,null,null,{"$error":"#N/A"},{"$error":"#N/A"},{"$error":"#N/A"},{"$error":"#N/A"},{"$error":"#N/A"},{"$error":"#N/A"},{"$error":"#N/A"},{"$error":"#N/A"},{"$error":"#N/A"},{"$error":"#N/A"},{"$error":"#N/A"},{"$error":"#N/A"},{"$error":"#N/A"},{"$error":"#N/A"}]
[{"$f":"données!W421","v":{"$error":"#N/A"}},{"$f":"données!X421","v":{"$error":"#N/A"}},{"$f":"données!Y421","v":{"$error":"#N/A"}},{"$f":"données!AH421","v":2},{"$error":"#N/A"},{"$error":"#N/A"},null,null,null,null,null,null,null,null,null,null,null,null,null,null,null,null,null,{"$error":"#N/A"},{"$error":"#N/A"},{"$error":"#N/A"},{"$error":"#N/A"},{"$error":"#N/A"},{"$error":"#N/A"},{"$error":"#N/A"},{"$error":"#N/A"},{"$error":"#N/A"},{"$error":"#N/A"},{"$error":"#N/A"},{"$error":"#N/A"},{"$error":"#N/A"},{"$error":"#N/A"}]
[{"$f":"données!W422","v":{"$error":"#N/A"}},{"$f":"données!X422","v":{"$error":"#N/A"}},{"$f":"données!Y422","v":{"$error":"#N/A"}},{"$f":"données!AH422","v":2},{"$error":"#N/A"},{"$error":"#N/A"},null,null,null,null,null,null,null,null,null,null,null,null,null,null,null,null,null,{"$error":"#N/A"},{"$error":"#N/A"},{"$error":"#N/A"},{"$error":"#N/A"},{"$error":"#N/A"},{"$error":"#N/A"},{"$error":"#N/A"},{"$error":"#N/A"},{"$error":"#N/A"},{"$error":"#N/A"},{"$error":"#N/A"},{"$error":"#N/A"},{"$error":"#N/A"},{"$error":"#N/A"}]
[{"$f":"données!W423","v":{"$error":"#N/A"}},{"$f":"données!X423","v":{"$error":"#N/A"}},{"$f":"données!Y423","v":{"$error":"#N/A"}},{"$f":"données!AH423","v":2},{"$error":"#N/A"},{"$error":"#N/A"},null,null,null,null,null,null,null,null,null,null,null,null,null,null,null,null,null,{"$error":"#N/A"},{"$error":"#N/A"},{"$error":"#N/A"},{"$error":"#N/A"},{"$error":"#N/A"},{"$error":"#N/A"},{"$error":"#N/A"},{"$error":"#N/A"},{"$error":"#N/A"},{"$error":"#N/A"},{"$error":"#N/A"},{"$error":"#N/A"},{"$error":"#N/A"},{"$error":"#N/A"}]
[{"$f":"données!W424","v":{"$error":"#N/A"}},{"$f":"données!X424","v":{"$error":"#N/A"}},{"$f":"données!Y424","v":{"$error":"#N/A"}},{"$f":"données!AH424","v":5},{"$error":"#N/A"},{"$error":"#N/A"},null,null,null,null,null,null,null,null,null,null,null,null,null,null,null,null,null,{"$error":"#N/A"},{"$error":"#N/A"},{"$error":"#N/A"},{"$error":"#N/A"},{"$error":"#N/A"},{"$error":"#N/A"},{"$error":"#N/A"},{"$error":"#N/A"},{"$error":"#N/A"},{"$error":"#N/A"},{"$error":"#N/A"},{"$error":"#N/A"},{"$error":"#N/A"},{"$error":"#N/A"}]
[{"$f":"données!W425","v":{"$error":"#N/A"}},{"$f":"données!X425","v":{"$error":"#N/A"}},{"$f":"données!Y425","v":{"$error":"#N/A"}},{"$f":"données!AH425","v":3},{"$error":"#N/A"},{"$error":"#N/A"},null,null,null,null,null,null,null,null,null,null,null,null,null,null,null,null,null,{"$error":"#N/A"},{"$error":"#N/A"},{"$error":"#N/A"},{"$error":"#N/A"},{"$error":"#N/A"},{"$error":"#N/A"},{"$error":"#N/A"},{"$error":"#N/A"},{"$error":"#N/A"},{"$error":"#N/A"},{"$error":"#N/A"},{"$error":"#N/A"},{"$error":"#N/A"},{"$error":"#N/A"}]
[{"$f":"données!W426","v":{"$error":"#N/A"}},{"$f":"données!X426","v":{"$error":"#N/A"}},{"$f":"données!Y426","v":{"$error":"#N/A"}},{"$f":"données!AH426","v":4},{"$error":"#N/A"},{"$error":"#N/A"},null,null,null,null,null,null,null,null,null,null,null,null,null,null,null,null,null,{"$error":"#N/A"},{"$error":"#N/A"},{"$error":"#N/A"},{"$error":"#N/A"},{"$error":"#N/A"},{"$error":"#N/A"},{"$error":"#N/A"},{"$error":"#N/A"},{"$error":"#N/A"},{"$error":"#N/A"},{"$error":"#N/A"},{"$error":"#N/A"},{"$error":"#N/A"},{"$error":"#N/A"}]
[{"$f":"données!W427","v":{"$error":"#N/A"}},{"$f":"données!X427","v":{"$error":"#N/A"}},{"$f":"données!Y427","v":{"$error":"#N/A"}},{"$f":"données!AH427","v":5},{"$error":"#N/A"},{"$error":"#N/A"},null,null,null,null,null,null,null,null,null,null,null,null,null,null,null,null,null,{"$error":"#N/A"},{"$error":"#N/A"},{"$error":"#N/A"},{"$error":"#N/A"},{"$error":"#N/A"},{"$error":"#N/A"},{"$error":"#N/A"},{"$error":"#N/A"},{"$error":"#N/A"},{"$error":"#N/A"},{"$error":"#N/A"},{"$error":"#N/A"},{"$error":"#N/A"},{"$error":"#N/A"}]
[{"$f":"données!W428","v":{"$error":"#N/A"}},{"$f":"données!X428","v":{"$error":"#N/A"}},{"$f":"données!Y428","v":{"$error":"#N/A"}},{"$f":"données!AH428","v":7},{"$error":"#N/A"},{"$error":"#N/A"},null,null,null,null,null,null,null,null,null,null,null,null,null,null,null,null,null,{"$error":"#N/A"},{"$error":"#N/A"},{"$error":"#N/A"},{"$error":"#N/A"},{"$error":"#N/A"},{"$error":"#N/A"},{"$error":"#N/A"},{"$error":"#N/A"},{"$error":"#N/A"},{"$error":"#N/A"},{"$error":"#N/A"},{"$error":"#N/A"},{"$error":"#N/A"},{"$error":"#N/A"}]
[{"$f":"données!W429","v":{"$error":"#N/A"}},{"$f":"données!X429","v":{"$error":"#N/A"}},{"$f":"données!Y429","v":{"$error":"#N/A"}},{"$f":"données!AH429","v":2},{"$error":"#N/A"},{"$error":"#N/A"},null,null,null,null,null,null,null,null,null,null,null,null,null,null,null,null,null,{"$error":"#N/A"},{"$error":"#N/A"},{"$error":"#N/A"},{"$error":"#N/A"},{"$error":"#N/A"},{"$error":"#N/A"},{"$error":"#N/A"},{"$error":"#N/A"},{"$error":"#N/A"},{"$error":"#N/A"},{"$error":"#N/A"},{"$error":"#N/A"},{"$error":"#N/A"},{"$error":"#N/A"}]
[{"$f":"données!W430","v":{"$error":"#N/A"}},{"$f":"données!X430","v":{"$error":"#N/A"}},{"$f":"données!Y430","v":{"$error":"#N/A"}},{"$f":"données!AH430","v":4},{"$error":"#N/A"},{"$error":"#N/A"},null,null,null,null,null,null,null,null,null,null,null,null,null,null,null,null,null,{"$error":"#N/A"},{"$error":"#N/A"},{"$error":"#N/A"},{"$error":"#N/A"},{"$error":"#N/A"},{"$error":"#N/A"},{"$error":"#N/A"},{"$error":"#N/A"},{"$error":"#N/A"},{"$error":"#N/A"},{"$error":"#N/A"},{"$error":"#N/A"},{"$error":"#N/A"},{"$error":"#N/A"}]
[{"$f":"données!W431","v":{"$error":"#N/A"}},{"$f":"données!X431","v":{"$error":"#N/A"}},{"$f":"données!Y431","v":{"$error":"#N/A"}},{"$f":"données!AH431","v":1},{"$error":"#N/A"},{"$error":"#N/A"},null,null,null,null,null,null,null,null,null,null,null,null,null,null,null,null,null,{"$error":"#N/A"},{"$error":"#N/A"},{"$error":"#N/A"},{"$error":"#N/A"},{"$error":"#N/A"},{"$error":"#N/A"},{"$error":"#N/A"},{"$error":"#N/A"},{"$error":"#N/A"},{"$error":"#N/A"},{"$error":"#N/A"},{"$error":"#N/A"},{"$error":"#N/A"},{"$error":"#N/A"}]
[{"$f":"données!W432","v":{"$error":"#N/A"}},{"$f":"données!X432","v":{"$error":"#N/A"}},{"$f":"données!Y432","v":{"$error":"#N/A"}},{"$f":"données!AH432","v":3},{"$error":"#N/A"},{"$error":"#N/A"},null,null,null,null,null,null,null,null,null,null,null,null,null,null,null,null,null,{"$error":"#N/A"},{"$error":"#N/A"},{"$error":"#N/A"},{"$error":"#N/A"},{"$error":"#N/A"},{"$error":"#N/A"},{"$error":"#N/A"},{"$error":"#N/A"},{"$error":"#N/A"},{"$error":"#N/A"},{"$error":"#N/A"},{"$error":"#N/A"},{"$error":"#N/A"},{"$error":"#N/A"}]
[{"$f":"données!W433","v":{"$error":"#N/A"}},{"$f":"données!X433","v":{"$error":"#N/A"}},{"$f":"données!Y433","v":{"$error":"#N/A"}},{"$f":"données!AH433","v":4},{"$error":"#N/A"},{"$error":"#N/A"},null,null,null,null,null,null,null,null,null,null,null,null,null,null,null,null,null,{"$error":"#N/A"},{"$error":"#N/A"},{"$error":"#N/A"},{"$error":"#N/A"},{"$error":"#N/A"},{"$error":"#N/A"},{"$error":"#N/A"},{"$error":"#N/A"},{"$error":"#N/A"},{"$error":"#N/A"},{"$error":"#N/A"},{"$error":"#N/A"},{"$error":"#N/A"},{"$error":"#N/A"}]
[{"$f":"données!W434","v":{"$error":"#N/A"}},{"$f":"données!X434","v":{"$error":"#N/A"}},{"$f":"données!Y434","v":{"$error":"#N/A"}},{"$f":"données!AH434","v":5},{"$error":"#N/A"},{"$error":"#N/A"},null,null,null,null,null,null,null,null,null,null,null,null,null,null,null,null,null,{"$error":"#N/A"},{"$error":"#N/A"},{"$error":"#N/A"},{"$error":"#N/A"},{"$error":"#N/A"},{"$error":"#N/A"},{"$error":"#N/A"},{"$error":"#N/A"},{"$error":"#N/A"},{"$error":"#N/A"},{"$error":"#N/A"},{"$error":"#N/A"},{"$error":"#N/A"},{"$error":"#N/A"}]
[{"$f":"données!W435","v":{"$error":"#N/A"}},{"$f":"données!X435","v":{"$error":"#N/A"}},{"$f":"données!Y435","v":{"$error":"#N/A"}},{"$f":"données!AH435","v":5},{"$error":"#N/A"},{"$error":"#N/A"},null,null,null,null,null,null,null,null,null,null,null,null,null,null,null,null,null,{"$error":"#N/A"},{"$error":"#N/A"},{"$error":"#N/A"},{"$error":"#N/A"},{"$error":"#N/A"},{"$error":"#N/A"},{"$error":"#N/A"},{"$error":"#N/A"},{"$error":"#N/A"},{"$error":"#N/A"},{"$error":"#N/A"},{"$error":"#N/A"},{"$error":"#N/A"},{"$error":"#N/A"}]
[{"$f":"données!W436","v":{"$error":"#N/A"}},{"$f":"données!X436","v":{"$error":"#N/A"}},{"$f":"données!Y436","v":{"$error":"#N/A"}},{"$f":"données!AH436","v":6},{"$error":"#N/A"},{"$error":"#N/A"},null,null,null,null,null,null,null,null,null,null,null,null,null,null,null,null,null,{"$error":"#N/A"},{"$error":"#N/A"},{"$error":"#N/A"},{"$error":"#N/A"},{"$error":"#N/A"},{"$error":"#N/A"},{"$error":"#N/A"},{"$error":"#N/A"},{"$error":"#N/A"},{"$error":"#N/A"},{"$error":"#N/A"},{"$error":"#N/A"},{"$error":"#N/A"},{"$error":"#N/A"}]
[{"$f":"données!W437","v":{"$error":"#N/A"}},{"$f":"données!X437","v":{"$error":"#N/A"}},{"$f":"données!Y437","v":{"$error":"#N/A"}},{"$f":"données!AH437","v":5},{"$error":"#N/A"},{"$error":"#N/A"},null,null,null,null,null,null,null,null,null,null,null,null,null,null,null,null,null,{"$error":"#N/A"},{"$error":"#N/A"},{"$error":"#N/A"},{"$error":"#N/A"},{"$error":"#N/A"},{"$error":"#N/A"},{"$error":"#N/A"},{"$error":"#N/A"},{"$error":"#N/A"},{"$error":"#N/A"},{"$error":"#N/A"},{"$error":"#N/A"},{"$error":"#N/A"},{"$error":"#N/A"}]
[{"$f":"données!W438","v":{"$error":"#N/A"}},{"$f":"données!X438","v":{"$error":"#N/A"}},{"$f":"données!Y438","v":{"$error":"#N/A"}},{"$f":"données!AH438","v":3},{"$error":"#N/A"},{"$error":"#N/A"},null,null,null,null,null,null,null,null,null,null,null,null,null,null,null,null,null,{"$error":"#N/A"},{"$error":"#N/A"},{"$error":"#N/A"},{"$error":"#N/A"},{"$error":"#N/A"},{"$error":"#N/A"},{"$error":"#N/A"},{"$error":"#N/A"},{"$error":"#N/A"},{"$error":"#N/A"},{"$error":"#N/A"},{"$error":"#N/A"},{"$error":"#N/A"},{"$error":"#N/A"}]
[{"$f":"données!W439","v":{"$error":"#N/A"}},{"$f":"données!X439","v":{"$error":"#N/A"}},{"$f":"données!Y439","v":{"$error":"#N/A"}},{"$f":"données!AH439","v":1},{"$error":"#N/A"},{"$error":"#N/A"},null,null,null,null,null,null,null,null,null,null,null,null,null,null,null,null,null,{"$error":"#N/A"},{"$error":"#N/A"},{"$error":"#N/A"},{"$error":"#N/A"},{"$error":"#N/A"},{"$error":"#N/A"},{"$error":"#N/A"},{"$error":"#N/A"},{"$error":"#N/A"},{"$error":"#N/A"},{"$error":"#N/A"},{"$error":"#N/A"},{"$error":"#N/A"},{"$error":"#N/A"}]
[{"$f":"données!W440","v":{"$error":"#N/A"}},{"$f":"données!X440","v":{"$error":"#N/A"}},{"$f":"données!Y440","v":{"$error":"#N/A"}},{"$f":"données!AH440","v":4},{"$error":"#N/A"},{"$error":"#N/A"},null,null,null,null,null,null,null,null,null,null,null,null,null,null,null,null,null,{"$error":"#N/A"},{"$error":"#N/A"},{"$error":"#N/A"},{"$error":"#N/A"},{"$error":"#N/A"},{"$error":"#N/A"},{"$error":"#N/A"},{"$error":"#N/A"},{"$error":"#N/A"},{"$error":"#N/A"},{"$error":"#N/A"},{"$error":"#N/A"},{"$error":"#N/A"},{"$error":"#N/A"}]
[{"$f":"données!W441","v":{"$error":"#N/A"}},{"$f":"données!X441","v":{"$error":"#N/A"}},{"$f":"données!Y441","v":{"$error":"#N/A"}},{"$f":"données!AH441","v":4},{"$error":"#N/A"},{"$error":"#N/A"},null,null,null,null,null,null,null,null,null,null,null,null,null,null,null,null,null,{"$error":"#N/A"},{"$error":"#N/A"},{"$error":"#N/A"},{"$error":"#N/A"},{"$error":"#N/A"},{"$error":"#N/A"},{"$error":"#N/A"},{"$error":"#N/A"},{"$error":"#N/A"},{"$error":"#N/A"},{"$error":"#N/A"},{"$error":"#N/A"},{"$error":"#N/A"},{"$error":"#N/A"}]
[{"$f":"données!W442","v":{"$error":"#N/A"}},{"$f":"données!X442","v":{"$error":"#N/A"}},{"$f":"données!Y442","v":{"$error":"#N/A"}},{"$f":"données!AH442","v":1},{"$error":"#N/A"},{"$error":"#N/A"},null,null,null,null,null,null,null,null,null,null,null,null,null,null,null,null,null,{"$f":"IF($D440=X$1,$E440,#N/A)","v":{"$error":"#N/A"}},{"$f":"IF($D440=Y$1,$F440,#N/A)","v":{"$error":"#N/A"}},{"$error":"#N/A"},{"$error":"#N/A"},{"$error":"#N/A"},{"$error":"#N/A"},{"$error":"#N/A"},{"$error":"#N/A"},{"$error":"#N/A"},{"$error":"#N/A"},{"$error":"#N/A"},{"$error":"#N/A"},{"$error":"#N/A"},{"$error":"#N/A"}]
[{"$f":"données!W443","v":{"$error":"#N/A"}},{"$f":"données!X443","v":{"$error":"#N/A"}},{"$f":"données!Y443","v":{"$error":"#N/A"}},{"$f":"données!AH443","v":3},{"$error":"#N/A"},{"$error":"#N/A"},null,null,null,null,null,null,null,null,null,null,null,null,null,null,null,null,null,{"$error":"#N/A"},{"$error":"#N/A"},{"$error":"#N/A"},{"$error":"#N/A"},{"$error":"#N/A"},{"$error":"#N/A"},{"$error":"#N/A"},{"$error":"#N/A"},{"$error":"#N/A"},{"$error":"#N/A"},{"$error":"#N/A"},{"$error":"#N/A"},{"$error":"#N/A"},{"$error":"#N/A"}]
[{"$f":"données!W444","v":{"$error":"#N/A"}},{"$f":"données!X444","v":{"$error":"#N/A"}},{"$f":"données!Y444","v":{"$error":"#N/A"}},{"$f":"données!AH444","v":3},{"$error":"#N/A"},{"$error":"#N/A"},null,null,null,null,null,null,null,null,null,null,null,null,null,null,null,null,null,{"$error":"#N/A"},{"$error":"#N/A"},{"$error":"#N/A"},{"$error":"#N/A"},{"$error":"#N/A"},{"$error":"#N/A"},{"$error":"#N/A"},{"$error":"#N/A"},{"$error":"#N/A"},{"$error":"#N/A"},{"$error":"#N/A"},{"$error":"#N/A"},{"$error":"#N/A"},{"$error":"#N/A"}]
[{"$f":"données!W445","v":{"$error":"#N/A"}},{"$f":"données!X445","v":{"$error":"#N/A"}},{"$f":"données!Y445","v":{"$error":"#N/A"}},{"$f":"données!AH445","v":5},{"$error":"#N/A"},{"$error":"#N/A"},null,null,null,null,null,null,null,null,null,null,null,null,null,null,null,null,null,{"$error":"#N/A"},{"$error":"#N/A"},{"$error":"#N/A"},{"$error":"#N/A"},{"$error":"#N/A"},{"$error":"#N/A"},{"$error":"#N/A"},{"$error":"#N/A"},{"$error":"#N/A"},{"$error":"#N/A"},{"$error":"#N/A"},{"$error":"#N/A"},{"$error":"#N/A"},{"$error":"#N/A"}]
[{"$f":"données!W446","v":{"$error":"#N/A"}},{"$f":"données!X446","v":{"$error":"#N/A"}},{"$f":"données!Y446","v":{"$error":"#N/A"}},{"$f":"données!AH446","v":5},{"$error":"#N/A"},{"$error":"#N/A"},null,null,null,null,null,null,null,null,null,null,null,null,null,null,null,null,null,{"$error":"#N/A"},{"$error":"#N/A"},{"$error":"#N/A"},{"$error":"#N/A"},{"$error":"#N/A"},{"$error":"#N/A"},{"$error":"#N/A"},{"$error":"#N/A"},{"$error":"#N/A"},{"$error":"#N/A"},{"$error":"#N/A"},{"$error":"#N/A"},{"$error":"#N/A"},{"$error":"#N/A"}]
[{"$f":"données!W447","v":{"$error":"#N/A"}},{"$f":"données!X447","v":{"$error":"#N/A"}},{"$f":"données!Y447","v":{"$error":"#N/A"}},{"$f":"données!AH447","v":4},{"$error":"#N/A"},{"$error":"#N/A"},null,null,null,null,null,null,null,null,null,null,null,null,null,null,null,null,null,{"$error":"#N/A"},{"$error":"#N/A"},{"$error":"#N/A"},{"$error":"#N/A"},{"$error":"#N/A"},{"$error":"#N/A"},{"$error":"#N/A"},{"$error":"#N/A"},{"$error":"#N/A"},{"$error":"#N/A"},{"$error":"#N/A"},{"$error":"#N/A"},{"$error":"#N/A"},{"$error":"#N/A"}]
[{"$f":"données!W448","v":{"$error":"#N/A"}},{"$f":"données!X448","v":{"$error":"#N/A"}},{"$f":"données!Y448","v":{"$error":"#N/A"}},{"$f":"données!AH448","v":3},{"$error":"#N/A"},{"$error":"#N/A"},null,null,null,null,null,null,null,null,null,null,null,null,null,null,null,null,null,{"$error":"#N/A"},{"$error":"#N/A"},{"$error":"#N/A"},{"$error":"#N/A"},{"$error":"#N/A"},{"$error":"#N/A"},{"$error":"#N/A"},{"$error":"#N/A"},{"$error":"#N/A"},{"$error":"#N/A"},{"$error":"#N/A"},{"$error":"#N/A"},{"$error":"#N/A"},{"$error":"#N/A"}]
[{"$f":"données!W449","v":{"$error":"#N/A"}},{"$f":"données!X449","v":{"$error":"#N/A"}},{"$f":"données!Y449","v":{"$error":"#N/A"}},{"$f":"données!AH449","v":1},{"$error":"#N/A"},{"$error":"#N/A"},null,null,null,null,null,null,null,null,null,null,null,null,null,null,null,null,null,{"$error":"#N/A"},{"$error":"#N/A"},{"$error":"#N/A"},{"$error":"#N/A"},{"$error":"#N/A"},{"$error":"#N/A"},{"$error":"#N/A"},{"$error":"#N/A"},{"$error":"#N/A"},{"$error":"#N/A"},{"$error":"#N/A"},{"$error":"#N/A"},{"$error":"#N/A"},{"$error":"#N/A"}]
[{"$f":"données!W450","v":{"$error":"#N/A"}},{"$f":"données!X450","v":{"$error":"#N/A"}},{"$f":"données!Y450","v":{"$error":"#N/A"}},{"$f":"données!AH450","v":6},{"$error":"#N/A"},{"$error":"#N/A"},null,null,null,null,null,null,null,null,null,null,null,null,null,null,null,null,null,{"$error":"#N/A"},{"$error":"#N/A"},{"$error":"#N/A"},{"$error":"#N/A"},{"$error":"#N/A"},{"$error":"#N/A"},{"$error":"#N/A"},{"$error":"#N/A"},{"$error":"#N/A"},{"$error":"#N/A"},{"$error":"#N/A"},{"$error":"#N/A"},{"$error":"#N/A"},{"$error":"#N/A"}]
[{"$f":"données!W451","v":{"$error":"#N/A"}},{"$f":"données!X451","v":{"$error":"#N/A"}},{"$f":"données!Y451","v":{"$error":"#N/A"}},{"$f":"données!AH451","v":7},{"$error":"#N/A"},{"$error":"#N/A"},null,null,null,null,null,null,null,null,null,null,null,null,null,null,null,null,null,{"$error":"#N/A"},{"$error":"#N/A"},{"$error":"#N/A"},{"$error":"#N/A"},{"$error":"#N/A"},{"$error":"#N/A"},{"$error":"#N/A"},{"$error":"#N/A"},{"$error":"#N/A"},{"$error":"#N/A"},{"$error":"#N/A"},{"$error":"#N/A"},{"$error":"#N/A"},{"$error":"#N/A"}]
[{"$f":"données!W452","v":{"$error":"#N/A"}},{"$f":"données!X452","v":{"$error":"#N/A"}},{"$f":"données!Y452","v":{"$error":"#N/A"}},{"$f":"données!AH452","v":4},{"$f":"A450+B450*$I$2","v":{"$error":"#N/A"}},{"$f":"C450+B450*$I$3","v":{"$error":"#N/A"}},null,null,null,null,null,null,null,null,null,null,null,null,null,null,null,null,null,{"$error":"#N/A"},{"$error":"#N/A"},{"$f":"IF($D450=Z$1,$E450,#N/A)","v":{"$error":"#N/A"}},{"$f":"IF($D450=AA$1,$F450,#N/A)","v":{"$error":"#N/A"}},{"$f":"IF($D450=AB$1,$E450,#N/A)","v":{"$error":"#N/A"}},{"$f":"IF($D450=AC$1,$F450,#N/A)","v":{"$error":"#N/A"}},{"$f":"IF($D450=AD$1,$E450,#N/A)","v":{"$error":"#N/A"}},{"$f":"IF($D450=AE$1,$F450,#N/A)","v":{"$error":"#N/A"}},{"$f":"IF($D450=AF$1,$E450,#N/A)","v":{"$error":"#N/A"}},{"$f":"IF($D450=AG$1,$F450,#N/A)","v":{"$error":"#N/A"}},{"$f":"IF($D450=AH$1,$E450,#N/A)","v":{"$error":"#N/A"}},{"$f":"IF($D450=AI$1,$F450,#N/A)","v":{"$error":"#N/A"}},{"$f":"IF($D450=AJ$1,$E450,#N/A)","v":{"$error":"#N/A"}},{"$f":"IF($D450=AK$1,$F450,#N/A)","v":{"$error":"#N/A"}}]
[{"$f":"données!W453","v":{"$error":"#N/A"}},{"$f":"données!X453","v":{"$error":"#N/A"}},{"$f":"données!Y453","v":{"$error":"#N/A"}},{"$f":"données!AH453","v":7},{"$error":"#N/A"},{"$error":"#N/A"},null,null,null,null,null,null,null,null,null,null,null,null,null,null,null,null,null,{"$error":"#N/A"},{"$error":"#N/A"},{"$error":"#N/A"},{"$error":"#N/A"},{"$error":"#N/A"},{"$error":"#N/A"},{"$error":"#N/A"},{"$error":"#N/A"},{"$error":"#N/A"},{"$error":"#N/A"},{"$error":"#N/A"},{"$error":"#N/A"},{"$error":"#N/A"},{"$error":"#N/A"}]
[{"$f":"données!W454","v":{"$error":"#N/A"}},{"$f":"données!X454","v":{"$error":"#N/A"}},{"$f":"données!Y454","v":{"$error":"#N/A"}},{"$f":"données!AH454","v":7},{"$error":"#N/A"},{"$error":"#N/A"},null,null,null,null,null,null,null,null,null,null,null,null,null,null,null,null,null,{"$error":"#N/A"},{"$error":"#N/A"},{"$error":"#N/A"},{"$error":"#N/A"},{"$error":"#N/A"},{"$error":"#N/A"},{"$error":"#N/A"},{"$error":"#N/A"},{"$error":"#N/A"},{"$error":"#N/A"},{"$error":"#N/A"},{"$error":"#N/A"},{"$error":"#N/A"},{"$error":"#N/A"}]
[{"$f":"données!W455","v":{"$error":"#N/A"}},{"$f":"données!X455","v":{"$error":"#N/A"}},{"$f":"données!Y455","v":{"$error":"#N/A"}},{"$f":"données!AH455","v":2},{"$error":"#N/A"},{"$error":"#N/A"},null,null,null,null,null,null,null,null,null,null,null,null,null,null,null,null,null,{"$error":"#N/A"},{"$error":"#N/A"},{"$error":"#N/A"},{"$error":"#N/A"},{"$error":"#N/A"},{"$error":"#N/A"},{"$error":"#N/A"},{"$error":"#N/A"},{"$error":"#N/A"},{"$error":"#N/A"},{"$error":"#N/A"},{"$error":"#N/A"},{"$error":"#N/A"},{"$error":"#N/A"}]
[{"$f":"données!W456","v":{"$error":"#N/A"}},{"$f":"données!X456","v":{"$error":"#N/A"}},{"$f":"données!Y456","v":{"$error":"#N/A"}},{"$f":"données!AH456","v":1},{"$error":"#N/A"},{"$error":"#N/A"},null,null,null,null,null,null,null,null,null,null,null,null,null,null,null,null,null,{"$error":"#N/A"},{"$error":"#N/A"},{"$error":"#N/A"},{"$error":"#N/A"},{"$error":"#N/A"},{"$error":"#N/A"},{"$error":"#N/A"},{"$error":"#N/A"},{"$error":"#N/A"},{"$error":"#N/A"},{"$error":"#N/A"},{"$error":"#N/A"},{"$error":"#N/A"},{"$error":"#N/A"}]
[{"$f":"données!W457","v":{"$error":"#N/A"}},{"$f":"données!X457","v":{"$error":"#N/A"}},{"$f":"données!Y457","v":{"$error":"#N/A"}},{"$f":"données!AH457","v":5},{"$error":"#N/A"},{"$error":"#N/A"},null,null,null,null,null,null,null,null,null,null,null,null,null,null,null,null,null,{"$error":"#N/A"},{"$error":"#N/A"},{"$error":"#N/A"},{"$error":"#N/A"},{"$error":"#N/A"},{"$error":"#N/A"},{"$error":"#N/A"},{"$error":"#N/A"},{"$error":"#N/A"},{"$error":"#N/A"},{"$error":"#N/A"},{"$error":"#N/A"},{"$error":"#N/A"},{"$error":"#N/A"}]
[{"$f":"données!W458","v":{"$error":"#N/A"}},{"$f":"données!X458","v":{"$error":"#N/A"}},{"$f":"données!Y458","v":{"$error":"#N/A"}},{"$f":"données!AH458","v":5},{"$error":"#N/A"},{"$error":"#N/A"},null,null,null,null,null,null,null,null,null,null,null,null,null,null,null,null,null,{"$error":"#N/A"},{"$error":"#N/A"},{"$error":"#N/A"},{"$error":"#N/A"},{"$error":"#N/A"},{"$error":"#N/A"},{"$error":"#N/A"},{"$error":"#N/A"},{"$error":"#N/A"},{"$error":"#N/A"},{"$error":"#N/A"},{"$error":"#N/A"},{"$error":"#N/A"},{"$error":"#N/A"}]
[{"$f":"données!W459","v":{"$error":"#N/A"}},{"$f":"données!X459","v":{"$error":"#N/A"}},{"$f":"données!Y459","v":{"$error":"#N/A"}},{"$f":"données!AH459","v":2},{"$error":"#N/A"},{"$error":"#N/A"},null,null,null,null,null,null,null,null,null,null,null,null,null,null,null,null,null,{"$error":"#N/A"},{"$error":"#N/A"},{"$error":"#N/A"},{"$error":"#N/A"},{"$error":"#N/A"},{"$error":"#N/A"},{"$error":"#N/A"},{"$error":"#N/A"},{"$error":"#N/A"},{"$error":"#N/A"},{"$error":"#N/A"},{"$error":"#N/A"},{"$error":"#N/A"},{"$error":"#N/A"}]
[{"$f":"données!W460","v":{"$error":"#N/A"}},{"$f":"données!X460","v":{"$error":"#N/A"}},{"$f":"données!Y460","v":{"$error":"#N/A"}},{"$f":"données!AH460","v":5},{"$error":"#N/A"},{"$error":"#N/A"},null,null,null,null,null,null,null,null,null,null,null,null,null,null,null,null,null,{"$error":"#N/A"},{"$error":"#N/A"},{"$error":"#N/A"},{"$error":"#N/A"},{"$error":"#N/A"},{"$error":"#N/A"},{"$error":"#N/A"},{"$error":"#N/A"},{"$error":"#N/A"},{"$error":"#N/A"},{"$error":"#N/A"},{"$error":"#N/A"},{"$error":"#N/A"},{"$error":"#N/A"}]
[{"$f":"données!W461","v":{"$error":"#N/A"}},{"$f":"données!X461","v":{"$error":"#N/A"}},{"$f":"données!Y461","v":{"$error":"#N/A"}},{"$f":"données!AH461","v":4},{"$error":"#N/A"},{"$error":"#N/A"},null,null,null,null,null,null,null,null,null,null,null,null,null,null,null,null,null,{"$error":"#N/A"},{"$error":"#N/A"},{"$error":"#N/A"},{"$error":"#N/A"},{"$error":"#N/A"},{"$error":"#N/A"},{"$error":"#N/A"},{"$error":"#N/A"},{"$error":"#N/A"},{"$error":"#N/A"},{"$error":"#N/A"},{"$error":"#N/A"},{"$error":"#N/A"},{"$error":"#N/A"}]
[{"$f":"données!W462","v":{"$error":"#N/A"}},{"$f":"données!X462","v":{"$error":"#N/A"}},{"$f":"données!Y462","v":{"$error":"#N/A"}},{"$f":"données!AH462","v":6},{"$error":"#N/A"},{"$error":"#N/A"},null,null,null,null,null,null,null,null,null,null,null,null,null,null,null,null,null,{"$error":"#N/A"},{"$error":"#N/A"},{"$error":"#N/A"},{"$error":"#N/A"},{"$error":"#N/A"},{"$error":"#N/A"},{"$error":"#N/A"},{"$error":"#N/A"},{"$error":"#N/A"},{"$error":"#N/A"},{"$error":"#N/A"},{"$error":"#N/A"},{"$error":"#N/A"},{"$error":"#N/A"}]
[{"$f":"données!W463","v":{"$error":"#N/A"}},{"$f":"données!X463","v":{"$error":"#N/A"}},{"$f":"données!Y463","v":{"$error":"#N/A"}},{"$f":"données!AH463","v":1},{"$error":"#N/A"},{"$error":"#N/A"},null,null,null,null,null,null,null,null,null,null,null,null,null,null,null,null,null,{"$error":"#N/A"},{"$error":"#N/A"},{"$error":"#N/A"},{"$error":"#N/A"},{"$error":"#N/A"},{"$error":"#N/A"},{"$error":"#N/A"},{"$error":"#N/A"},{"$error":"#N/A"},{"$error":"#N/A"},{"$error":"#N/A"},{"$error":"#N/A"},{"$error":"#N/A"},{"$error":"#N/A"}]
[{"$f":"données!W464","v":{"$error":"#N/A"}},{"$f":"données!X464","v":{"$error":"#N/A"}},{"$f":"données!Y464","v":{"$error":"#N/A"}},{"$f":"données!AH464","v":1},{"$error":"#N/A"},{"$error":"#N/A"},null,null,null,null,null,null,null,null,null,null,null,null,null,null,null,null,null,{"$error":"#N/A"},{"$error":"#N/A"},{"$error":"#N/A"},{"$error":"#N/A"},{"$error":"#N/A"},{"$error":"#N/A"},{"$error":"#N/A"},{"$error":"#N/A"},{"$error":"#N/A"},{"$error":"#N/A"},{"$error":"#N/A"},{"$error":"#N/A"},{"$error":"#N/A"},{"$error":"#N/A"}]
[{"$f":"données!W465","v":{"$error":"#N/A"}},{"$f":"données!X465","v":{"$error":"#N/A"}},{"$f":"données!Y465","v":{"$error":"#N/A"}},{"$f":"données!AH465","v":5},{"$error":"#N/A"},{"$error":"#N/A"},null,null,null,null,null,null,null,null,null,null,null,null,null,null,null,null,null,{"$error":"#N/A"},{"$error":"#N/A"},{"$error":"#N/A"},{"$error":"#N/A"},{"$error":"#N/A"},{"$error":"#N/A"},{"$error":"#N/A"},{"$error":"#N/A"},{"$error":"#N/A"},{"$error":"#N/A"},{"$error":"#N/A"},{"$error":"#N/A"},{"$error":"#N/A"},{"$error":"#N/A"}]
[{"$f":"données!W466","v":{"$error":"#N/A"}},{"$f":"données!X466","v":{"$error":"#N/A"}},{"$f":"données!Y466","v":{"$error":"#N/A"}},{"$f":"données!AH466","v":6},{"$error":"#N/A"},{"$error":"#N/A"},null,null,null,null,null,null,null,null,null,null,null,null,null,null,null,null,null,{"$error":"#N/A"},{"$error":"#N/A"},{"$error":"#N/A"},{"$error":"#N/A"},{"$error":"#N/A"},{"$error":"#N/A"},{"$error":"#N/A"},{"$error":"#N/A"},{"$error":"#N/A"},{"$error":"#N/A"},{"$error":"#N/A"},{"$error":"#N/A"},{"$error":"#N/A"},{"$error":"#N/A"}]
[{"$f":"données!W467","v":{"$error":"#N/A"}},{"$f":"données!X467","v":{"$error":"#N/A"}},{"$f":"données!Y467","v":{"$error":"#N/A"}},{"$f":"données!AH467","v":3},{"$error":"#N/A"},{"$error":"#N/A"},null,null,null,null,null,null,null,null,null,null,null,null,null,null,null,null,null,{"$error":"#N/A"},{"$error":"#N/A"},{"$error":"#N/A"},{"$error":"#N/A"},{"$error":"#N/A"},{"$error":"#N/A"},{"$error":"#N/A"},{"$error":"#N/A"},{"$error":"#N/A"},{"$error":"#N/A"},{"$error":"#N/A"},{"$error":"#N/A"},{"$error":"#N/A"},{"$error":"#N/A"}]
[{"$f":"données!W468","v":{"$error":"#N/A"}},{"$f":"données!X468","v":{"$error":"#N/A"}},{"$f":"données!Y468","v":{"$error":"#N/A"}},{"$f":"données!AH468","v":4},{"$error":"#N/A"},{"$error":"#N/A"},null,null,null,null,null,null,null,null,null,null,null,null,null,null,null,null,null,{"$error":"#N/A"},{"$error":"#N/A"},{"$error":"#N/A"},{"$error":"#N/A"},{"$error":"#N/A"},{"$error":"#N/A"},{"$error":"#N/A"},{"$error":"#N/A"},{"$error":"#N/A"},{"$error":"#N/A"},{"$error":"#N/A"},{"$error":"#N/A"},{"$error":"#N/A"},{"$error":"#N/A"}]
[{"$f":"données!W469","v":{"$error":"#N/A"}},{"$f":"données!X469","v":{"$error":"#N/A"}},{"$f":"données!Y469","v":{"$error":"#N/A"}},{"$f":"données!AH469","v":6},{"$error":"#N/A"},{"$error":"#N/A"},null,null,null,null,null,null,null,null,null,null,null,null,null,null,null,null,null,{"$error":"#N/A"},{"$error":"#N/A"},{"$error":"#N/A"},{"$error":"#N/A"},{"$error":"#N/A"},{"$error":"#N/A"},{"$error":"#N/A"},{"$error":"#N/A"},{"$error":"#N/A"},{"$error":"#N/A"},{"$error":"#N/A"},{"$error":"#N/A"},{"$error":"#N/A"},{"$error":"#N/A"}]
[{"$f":"données!W470","v":{"$error":"#N/A"}},{"$f":"données!X470","v":{"$error":"#N/A"}},{"$f":"données!Y470","v":{"$error":"#N/A"}},{"$f":"données!AH470","v":6},{"$error":"#N/A"},{"$error":"#N/A"},null,null,null,null,null,null,null,null,null,null,null,null,null,null,null,null,null,{"$error":"#N/A"},{"$error":"#N/A"},{"$error":"#N/A"},{"$error":"#N/A"},{"$error":"#N/A"},{"$error":"#N/A"},{"$error":"#N/A"},{"$error":"#N/A"},{"$error":"#N/A"},{"$error":"#N/A"},{"$error":"#N/A"},{"$error":"#N/A"},{"$error":"#N/A"},{"$error":"#N/A"}]
[{"$f":"données!W471","v":{"$error":"#N/A"}},{"$f":"données!X471","v":{"$error":"#N/A"}},{"$f":"données!Y471","v":{"$error":"#N/A"}},{"$f":"données!AH471","v":4},{"$error":"#N/A"},{"$error":"#N/A"},null,null,null,null,null,null,null,null,null,null,null,null,null,null,null,null,null,{"$error":"#N/A"},{"$error":"#N/A"},{"$error":"#N/A"},{"$error":"#N/A"},{"$error":"#N/A"},{"$error":"#N/A"},{"$error":"#N/A"},{"$error":"#N/A"},{"$error":"#N/A"},{"$error":"#N/A"},{"$error":"#N/A"},{"$error":"#N/A"},{"$error":"#N/A"},{"$error":"#N/A"}]
[{"$f":"données!W472","v":{"$error":"#N/A"}},{"$f":"données!X472","v":{"$error":"#N/A"}},{"$f":"données!Y472","v":{"$error":"#N/A"}},{"$f":"données!AH472","v":1},{"$error":"#N/A"},{"$error":"#N/A"},null,null,null,null,null,null,null,null,null,null,null,null,null,null,null,null,null,{"$error":"#N/A"},{"$error":"#N/A"},{"$error":"#N/A"},{"$error":"#N/A"},{"$error":"#N/A"},{"$error":"#N/A"},{"$error":"#N/A"},{"$error":"#N/A"},{"$error":"#N/A"},{"$error":"#N/A"},{"$error":"#N/A"},{"$error":"#N/A"},{"$error":"#N/A"},{"$error":"#N/A"}]
[{"$f":"données!W473","v":{"$error":"#N/A"}},{"$f":"données!X473","v":{"$error":"#N/A"}},{"$f":"données!Y473","v":{"$error":"#N/A"}},{"$f":"données!AH473","v":2},{"$error":"#N/A"},{"$error":"#N/A"},null,null,null,null,null,null,null,null,null,null,null,null,null,null,null,null,null,{"$error":"#N/A"},{"$error":"#N/A"},{"$error":"#N/A"},{"$error":"#N/A"},{"$error":"#N/A"},{"$error":"#N/A"},{"$error":"#N/A"},{"$error":"#N/A"},{"$error":"#N/A"},{"$error":"#N/A"},{"$error":"#N/A"},{"$error":"#N/A"},{"$error":"#N/A"},{"$error":"#N/A"}]
[{"$f":"données!W474","v":{"$error":"#N/A"}},{"$f":"données!X474","v":{"$error":"#N/A"}},{"$f":"données!Y474","v":{"$error":"#N/A"}},{"$f":"données!AH474","v":5},{"$error":"#N/A"},{"$error":"#N/A"},null,null,null,null,null,null,null,null,null,null,null,null,null,null,null,null,null,{"$error":"#N/A"},{"$error":"#N/A"},{"$error":"#N/A"},{"$error":"#N/A"},{"$error":"#N/A"},{"$error":"#N/A"},{"$error":"#N/A"},{"$error":"#N/A"},{"$error":"#N/A"},{"$error":"#N/A"},{"$error":"#N/A"},{"$error":"#N/A"},{"$error":"#N/A"},{"$error":"#N/A"}]
[{"$f":"données!W475","v":{"$error":"#N/A"}},{"$f":"données!X475","v":{"$error":"#N/A"}},{"$f":"données!Y475","v":{"$error":"#N/A"}},{"$f":"données!AH475","v":4},{"$error":"#N/A"},{"$error":"#N/A"},null,null,null,null,null,null,null,null,null,null,null,null,null,null,null,null,null,{"$error":"#N/A"},{"$error":"#N/A"},{"$error":"#N/A"},{"$error":"#N/A"},{"$error":"#N/A"},{"$error":"#N/A"},{"$error":"#N/A"},{"$error":"#N/A"},{"$error":"#N/A"},{"$error":"#N/A"},{"$error":"#N/A"},{"$error":"#N/A"},{"$error":"#N/A"},{"$error":"#N/A"}]
[{"$f":"données!W476","v":{"$error":"#N/A"}},{"$f":"données!X476","v":{"$error":"#N/A"}},{"$f":"données!Y476","v":{"$error":"#N/A"}},{"$f":"données!AH476","v":3},{"$error":"#N/A"},{"$error":"#N/A"},null,null,null,null,null,null,null,null,null,null,null,null,null,null,null,null,null,{"$error":"#N/A"},{"$error":"#N/A"},{"$error":"#N/A"},{"$error":"#N/A"},{"$error":"#N/A"},{"$error":"#N/A"},{"$error":"#N/A"},{"$error":"#N/A"},{"$error":"#N/A"},{"$error":"#N/A"},{"$error":"#N/A"},{"$error":"#N/A"},{"$error":"#N/A"},{"$error":"#N/A"}]
[{"$f":"données!W477","v":{"$error":"#N/A"}},{"$f":"données!X477","v":{"$error":"#N/A"}},{"$f":"données!Y477","v":{"$error":"#N/A"}},{"$f":"données!AH477","v":7},{"$error":"#N/A"},{"$error":"#N/A"},null,null,null,null,null,null,null,null,null,null,null,null,null,null,null,null,null,{"$error":"#N/A"},{"$error":"#N/A"},{"$error":"#N/A"},{"$error":"#N/A"},{"$error":"#N/A"},{"$error":"#N/A"},{"$error":"#N/A"},{"$error":"#N/A"},{"$error":"#N/A"},{"$error":"#N/A"},{"$error":"#N/A"},{"$error":"#N/A"},{"$error":"#N/A"},{"$error":"#N/A"}]
[{"$f":"données!W478","v":{"$error":"#N/A"}},{"$f":"données!X478","v":{"$error":"#N/A"}},{"$f":"données!Y478","v":{"$error":"#N/A"}},{"$f":"données!AH478","v":4},{"$error":"#N/A"},{"$error":"#N/A"},null,null,null,null,null,null,null,null,null,null,null,null,null,null,null,null,null,{"$error":"#N/A"},{"$error":"#N/A"},{"$error":"#N/A"},{"$error":"#N/A"},{"$error":"#N/A"},{"$error":"#N/A"},{"$error":"#N/A"},{"$error":"#N/A"},{"$error":"#N/A"},{"$error":"#N/A"},{"$error":"#N/A"},{"$error":"#N/A"},{"$error":"#N/A"},{"$error":"#N/A"}]
[{"$f":"données!W479","v":{"$error":"#N/A"}},{"$f":"données!X479","v":{"$error":"#N/A"}},{"$f":"données!Y479","v":{"$error":"#N/A"}},{"$f":"données!AH479","v":3},{"$error":"#N/A"},{"$error":"#N/A"},null,null,null,null,null,null,null,null,null,null,null,null,null,null,null,null,null,{"$error":"#N/A"},{"$error":"#N/A"},{"$error":"#N/A"},{"$error":"#N/A"},{"$error":"#N/A"},{"$error":"#N/A"},{"$error":"#N/A"},{"$error":"#N/A"},{"$error":"#N/A"},{"$error":"#N/A"},{"$error":"#N/A"},{"$error":"#N/A"},{"$error":"#N/A"},{"$error":"#N/A"}]
[{"$f":"données!W480","v":{"$error":"#N/A"}},{"$f":"données!X480","v":{"$error":"#N/A"}},{"$f":"données!Y480","v":{"$error":"#N/A"}},{"$f":"données!AH480","v":5},{"$error":"#N/A"},{"$error":"#N/A"},null,null,null,null,null,null,null,null,null,null,null,null,null,null,null,null,null,{"$error":"#N/A"},{"$error":"#N/A"},{"$error":"#N/A"},{"$error":"#N/A"},{"$error":"#N/A"},{"$error":"#N/A"},{"$error":"#N/A"},{"$error":"#N/A"},{"$error":"#N/A"},{"$error":"#N/A"},{"$error":"#N/A"},{"$error":"#N/A"},{"$error":"#N/A"},{"$error":"#N/A"}]
[{"$f":"données!W481","v":{"$error":"#N/A"}},{"$f":"données!X481","v":{"$error":"#N/A"}},{"$f":"données!Y481","v":{"$error":"#N/A"}},{"$f":"données!AH481","v":3},{"$error":"#N/A"},{"$error":"#N/A"},null,null,null,null,null,null,null,null,null,null,null,null,null,null,null,null,null,{"$error":"#N/A"},{"$error":"#N/A"},{"$error":"#N/A"},{"$error":"#N/A"},{"$error":"#N/A"},{"$error":"#N/A"},{"$error":"#N/A"},{"$error":"#N/A"},{"$error":"#N/A"},{"$error":"#N/A"},{"$error":"#N/A"},{"$error":"#N/A"},{"$error":"#N/A"},{"$error":"#N/A"}]
[{"$f":"données!W482","v":{"$error":"#N/A"}},{"$f":"données!X482","v":{"$error":"#N/A"}},{"$f":"données!Y482","v":{"$error":"#N/A"}},{"$f":"données!AH482","v":5},{"$error":"#N/A"},{"$error":"#N/A"},null,null,null,null,null,null,null,null,null,null,null,null,null,null,null,null,null,{"$error":"#N/A"},{"$error":"#N/A"},{"$error":"#N/A"},{"$error":"#N/A"},{"$error":"#N/A"},{"$error":"#N/A"},{"$error":"#N/A"},{"$error":"#N/A"},{"$error":"#N/A"},{"$error":"#N/A"},{"$error":"#N/A"},{"$error":"#N/A"},{"$error":"#N/A"},{"$error":"#N/A"}]
[{"$f":"données!W483","v":{"$error":"#N/A"}},{"$f":"données!X483","v":{"$error":"#N/A"}},{"$f":"données!Y483","v":{"$error":"#N/A"}},{"$f":"données!AH483","v":1},{"$error":"#N/A"},{"$error":"#N/A"},null,null,null,null,null,null,null,null,null,null,null,null,null,null,null,null,null,{"$error":"#N/A"},{"$error":"#N/A"},{"$error":"#N/A"},{"$error":"#N/A"},{"$error":"#N/A"},{"$error":"#N/A"},{"$error":"#N/A"},{"$error":"#N/A"},{"$error":"#N/A"},{"$error":"#N/A"},{"$error":"#N/A"},{"$error":"#N/A"},{"$error":"#N/A"},{"$error":"#N/A"}]
[{"$f":"données!W484","v":{"$error":"#N/A"}},{"$f":"données!X484","v":{"$error":"#N/A"}},{"$f":"données!Y484","v":{"$error":"#N/A"}},{"$f":"données!AH484","v":3},{"$error":"#N/A"},{"$error":"#N/A"},null,null,null,null,null,null,null,null,null,null,null,null,null,null,null,null,null,{"$error":"#N/A"},{"$error":"#N/A"},{"$error":"#N/A"},{"$error":"#N/A"},{"$error":"#N/A"},{"$error":"#N/A"},{"$error":"#N/A"},{"$error":"#N/A"},{"$error":"#N/A"},{"$error":"#N/A"},{"$error":"#N/A"},{"$error":"#N/A"},{"$error":"#N/A"},{"$error":"#N/A"}]
[{"$f":"données!W485","v":{"$error":"#N/A"}},{"$f":"données!X485","v":{"$error":"#N/A"}},{"$f":"données!Y485","v":{"$error":"#N/A"}},{"$f":"données!AH485","v":5},{"$error":"#N/A"},{"$error":"#N/A"},null,null,null,null,null,null,null,null,null,null,null,null,null,null,null,null,null,{"$error":"#N/A"},{"$error":"#N/A"},{"$error":"#N/A"},{"$error":"#N/A"},{"$error":"#N/A"},{"$error":"#N/A"},{"$error":"#N/A"},{"$error":"#N/A"},{"$error":"#N/A"},{"$error":"#N/A"},{"$error":"#N/A"},{"$error":"#N/A"},{"$error":"#N/A"},{"$error":"#N/A"}]
[{"$f":"données!W486","v":{"$error":"#N/A"}},{"$f":"données!X486","v":{"$error":"#N/A"}},{"$f":"données!Y486","v":{"$error":"#N/A"}},{"$f":"données!AH486","v":1},{"$error":"#N/A"},{"$error":"#N/A"},null,null,null,null,null,null,null,null,null,null,null,null,null,null,null,null,null,{"$error":"#N/A"},{"$error":"#N/A"},{"$error":"#N/A"},{"$error":"#N/A"},{"$error":"#N/A"},{"$error":"#N/A"},{"$error":"#N/A"},{"$error":"#N/A"},{"$error":"#N/A"},{"$error":"#N/A"},{"$error":"#N/A"},{"$error":"#N/A"},{"$error":"#N/A"},{"$error":"#N/A"}]
[{"$f":"données!W487","v":{"$error":"#N/A"}},{"$f":"données!X487","v":{"$error":"#N/A"}},{"$f":"données!Y487","v":{"$error":"#N/A"}},{"$f":"données!AH487","v":6},{"$error":"#N/A"},{"$error":"#N/A"},null,null,null,null,null,null,null,null,null,null,null,null,null,null,null,null,null,{"$error":"#N/A"},{"$error":"#N/A"},{"$error":"#N/A"},{"$error":"#N/A"},{"$error":"#N/A"},{"$error":"#N/A"},{"$error":"#N/A"},{"$error":"#N/A"},{"$error":"#N/A"},{"$error":"#N/A"},{"$error":"#N/A"},{"$error":"#N/A"},{"$error":"#N/A"},{"$error":"#N/A"}]
[{"$f":"données!W488","v":{"$error":"#N/A"}},{"$f":"données!X488","v":{"$error":"#N/A"}},{"$f":"données!Y488","v":{"$error":"#N/A"}},{"$f":"données!AH488","v":4},{"$error":"#N/A"},{"$error":"#N/A"},null,null,null,null,null,null,null,null,null,null,null,null,null,null,null,null,null,{"$error":"#N/A"},{"$error":"#N/A"},{"$error":"#N/A"},{"$error":"#N/A"},{"$error":"#N/A"},{"$error":"#N/A"},{"$error":"#N/A"},{"$error":"#N/A"},{"$error":"#N/A"},{"$error":"#N/A"},{"$error":"#N/A"},{"$error":"#N/A"},{"$error":"#N/A"},{"$error":"#N/A"}]
[{"$f":"données!W489","v":{"$error":"#N/A"}},{"$f":"données!X489","v":{"$error":"#N/A"}},{"$f":"données!Y489","v":{"$error":"#N/A"}},{"$f":"données!AH489","v":2},{"$error":"#N/A"},{"$error":"#N/A"},null,null,null,null,null,null,null,null,null,null,null,null,null,null,null,null,null,{"$error":"#N/A"},{"$error":"#N/A"},{"$error":"#N/A"},{"$error":"#N/A"},{"$error":"#N/A"},{"$error":"#N/A"},{"$error":"#N/A"},{"$error":"#N/A"},{"$error":"#N/A"},{"$error":"#N/A"},{"$error":"#N/A"},{"$error":"#N/A"},{"$error":"#N/A"},{"$error":"#N/A"}]
[{"$f":"données!W490","v":{"$error":"#N/A"}},{"$f":"données!X490","v":{"$error":"#N/A"}},{"$f":"données!Y490","v":{"$error":"#N/A"}},{"$f":"données!AH490","v":1},{"$error":"#N/A"},{"$error":"#N/A"},null,null,null,null,null,null,null,null,null,null,null,null,null,null,null,null,null,{"$error":"#N/A"},{"$error":"#N/A"},{"$error":"#N/A"},{"$error":"#N/A"},{"$error":"#N/A"},{"$error":"#N/A"},{"$error":"#N/A"},{"$error":"#N/A"},{"$error":"#N/A"},{"$error":"#N/A"},{"$error":"#N/A"},{"$error":"#N/A"},{"$error":"#N/A"},{"$error":"#N/A"}]
[{"$f":"données!W491","v":{"$error":"#N/A"}},{"$f":"données!X491","v":{"$error":"#N/A"}},{"$f":"données!Y491","v":{"$error":"#N/A"}},{"$f":"données!AH491","v":3},{"$error":"#N/A"},{"$error":"#N/A"},null,null,null,null,null,null,null,null,null,null,null,null,null,null,null,null,null,{"$error":"#N/A"},{"$error":"#N/A"},{"$error":"#N/A"},{"$error":"#N/A"},{"$error":"#N/A"},{"$error":"#N/A"},{"$error":"#N/A"},{"$error":"#N/A"},{"$error":"#N/A"},{"$error":"#N/A"},{"$error":"#N/A"},{"$error":"#N/A"},{"$error":"#N/A"},{"$error":"#N/A"}]
[{"$f":"données!W492","v":{"$error":"#N/A"}},{"$f":"données!X492","v":{"$error":"#N/A"}},{"$f":"données!Y492","v":{"$error":"#N/A"}},{"$f":"données!AH492","v":4},{"$error":"#N/A"},{"$error":"#N/A"},null,null,null,null,null,null,null,null,null,null,null,null,null,null,null,null,null,{"$error":"#N/A"},{"$error":"#N/A"},{"$error":"#N/A"},{"$error":"#N/A"},{"$error":"#N/A"},{"$error":"#N/A"},{"$error":"#N/A"},{"$error":"#N/A"},{"$error":"#N/A"},{"$error":"#N/A"},{"$error":"#N/A"},{"$error":"#N/A"},{"$error":"#N/A"},{"$error":"#N/A"}]
[{"$f":"données!W493","v":{"$error":"#N/A"}},{"$f":"données!X493","v":{"$error":"#N/A"}},{"$f":"données!Y493","v":{"$error":"#N/A"}},{"$f":"données!AH493","v":3},{"$error":"#N/A"},{"$error":"#N/A"},null,null,null,null,null,null,null,null,null,null,null,null,null,null,null,null,null,{"$error":"#N/A"},{"$error":"#N/A"},{"$error":"#N/A"},{"$error":"#N/A"},{"$error":"#N/A"},{"$error":"#N/A"},{"$error":"#N/A"},{"$error":"#N/A"},{"$error":"#N/A"},{"$error":"#N/A"},{"$error":"#N/A"},{"$error":"#N/A"},{"$error":"#N/A"},{"$error":"#N/A"}]
[{"$f":"données!W494","v":{"$error":"#N/A"}},{"$f":"données!X494","v":{"$error":"#N/A"}},{"$f":"données!Y494","v":{"$error":"#N/A"}},{"$f":"données!AH494","v":5},{"$error":"#N/A"},{"$error":"#N/A"},null,null,null,null,null,null,null,null,null,null,null,null,null,null,null,null,null,{"$error":"#N/A"},{"$error":"#N/A"},{"$error":"#N/A"},{"$error":"#N/A"},{"$error":"#N/A"},{"$error":"#N/A"},{"$error":"#N/A"},{"$error":"#N/A"},{"$error":"#N/A"},{"$error":"#N/A"},{"$error":"#N/A"},{"$error":"#N/A"},{"$error":"#N/A"},{"$error":"#N/A"}]
[{"$f":"données!W495","v":{"$error":"#N/A"}},{"$f":"données!X495","v":{"$error":"#N/A"}},{"$f":"données!Y495","v":{"$error":"#N/A"}},{"$f":"données!AH495","v":6},{"$error":"#N/A"},{"$error":"#N/A"},null,null,null,null,null,null,null,null,null,null,null,null,null,null,null,null,null,{"$error":"#N/A"},{"$error":"#N/A"},{"$error":"#N/A"},{"$error":"#N/A"},{"$error":"#N/A"},{"$error":"#N/A"},{"$error":"#N/A"},{"$error":"#N/A"},{"$error":"#N/A"},{"$error":"#N/A"},{"$error":"#N/A"},{"$error":"#N/A"},{"$error":"#N/A"},{"$error":"#N/A"}]
[{"$f":"données!W496","v":{"$error":"#N/A"}},{"$f":"données!X496","v":{"$error":"#N/A"}},{"$f":"données!Y496","v":{"$error":"#N/A"}},{"$f":"données!AH496","v":3},{"$error":"#N/A"},{"$error":"#N/A"},null,null,null,null,null,null,null,null,null,null,null,null,null,null,null,null,null,{"$error":"#N/A"},{"$error":"#N/A"},{"$error":"#N/A"},{"$error":"#N/A"},{"$error":"#N/A"},{"$error":"#N/A"},{"$error":"#N/A"},{"$error":"#N/A"},{"$error":"#N/A"},{"$error":"#N/A"},{"$error":"#N/A"},{"$error":"#N/A"},{"$error":"#N/A"},{"$error":"#N/A"}]
[{"$f":"données!W497","v":{"$error":"#N/A"}},{"$f":"données!X497","v":{"$error":"#N/A"}},{"$f":"données!Y497","v":{"$error":"#N/A"}},{"$f":"données!AH497","v":7},{"$error":"#N/A"},{"$error":"#N/A"},null,null,null,null,null,null,null,null,null,null,null,null,null,null,null,null,null,{"$error":"#N/A"},{"$error":"#N/A"},{"$error":"#N/A"},{"$error":"#N/A"},{"$error":"#N/A"},{"$error":"#N/A"},{"$error":"#N/A"},{"$error":"#N/A"},{"$error":"#N/A"},{"$error":"#N/A"},{"$error":"#N/A"},{"$error":"#N/A"},{"$error":"#N/A"},{"$error":"#N/A"}]
[{"$f":"données!W498","v":{"$error":"#N/A"}},{"$f":"données!X498","v":{"$error":"#N/A"}},{"$f":"données!Y498","v":{"$error":"#N/A"}},{"$f":"données!AH498","v":5},{"$error":"#N/A"},{"$error":"#N/A"},null,null,null,null,null,null,null,null,null,null,null,null,null,null,null,null,null,{"$error":"#N/A"},{"$error":"#N/A"},{"$error":"#N/A"},{"$error":"#N/A"},{"$error":"#N/A"},{"$error":"#N/A"},{"$error":"#N/A"},{"$error":"#N/A"},{"$error":"#N/A"},{"$error":"#N/A"},{"$error":"#N/A"},{"$error":"#N/A"},{"$error":"#N/A"},{"$error":"#N/A"}]
[{"$f":"données!W499","v":{"$error":"#N/A"}},{"$f":"données!X499","v":{"$error":"#N/A"}},{"$f":"données!Y499","v":{"$error":"#N/A"}},{"$f":"données!AH499","v":6},{"$error":"#N/A"},{"$error":"#N/A"},null,null,null,null,null,null,null,null,null,null,null,null,null,null,null,null,null,{"$error":"#N/A"},{"$error":"#N/A"},{"$error":"#N/A"},{"$error":"#N/A"},{"$error":"#N/A"},{"$error":"#N/A"},{"$error":"#N/A"},{"$error":"#N/A"},{"$error":"#N/A"},{"$error":"#N/A"},{"$error":"#N/A"},{"$error":"#N/A"},{"$error":"#N/A"},{"$error":"#N/A"}]
[{"$f":"données!W500","v":{"$error":"#N/A"}},{"$f":"données!X500","v":{"$error":"#N/A"}},{"$f":"données!Y500","v":{"$error":"#N/A"}},{"$f":"données!AH500","v":2},{"$error":"#N/A"},{"$error":"#N/A"},null,null,null,null,null,null,null,null,null,null,null,null,null,null,null,null,null,{"$error":"#N/A"},{"$error":"#N/A"},{"$error":"#N/A"},{"$error":"#N/A"},{"$error":"#N/A"},{"$error":"#N/A"},{"$error":"#N/A"},{"$error":"#N/A"},{"$error":"#N/A"},{"$error":"#N/A"},{"$error":"#N/A"},{"$error":"#N/A"},{"$error":"#N/A"},{"$error":"#N/A"}]
[{"$f":"données!W501","v":{"$error":"#N/A"}},{"$f":"données!X501","v":{"$error":"#N/A"}},{"$f":"données!Y501","v":{"$error":"#N/A"}},{"$f":"données!AH501","v":5},{"$error":"#N/A"},{"$error":"#N/A"},null,null,null,null,null,null,null,null,null,null,null,null,null,null,null,null,null,{"$error":"#N/A"},{"$error":"#N/A"},{"$error":"#N/A"},{"$error":"#N/A"},{"$error":"#N/A"},{"$error":"#N/A"},{"$error":"#N/A"},{"$error":"#N/A"},{"$error":"#N/A"},{"$error":"#N/A"},{"$error":"#N/A"},{"$error":"#N/A"},{"$error":"#N/A"},{"$error":"#N/A"}]
[{"$f":"données!W502","v":{"$error":"#N/A"}},{"$f":"données!X502","v":{"$error":"#N/A"}},{"$f":"données!Y502","v":{"$error":"#N/A"}},{"$f":"données!AH502","v":2},{"$error":"#N/A"},{"$error":"#N/A"},null,null,null,null,null,null,null,null,null,null,null,null,null,null,null,null,null,{"$error":"#N/A"},{"$error":"#N/A"},{"$error":"#N/A"},{"$error":"#N/A"},{"$error":"#N/A"},{"$error":"#N/A"},{"$error":"#N/A"},{"$error":"#N/A"},{"$error":"#N/A"},{"$error":"#N/A"},{"$error":"#N/A"},{"$error":"#N/A"},{"$error":"#N/A"},{"$error":"#N/A"}]
[{"$f":"données!W503","v":{"$error":"#N/A"}},{"$f":"données!X503","v":{"$error":"#N/A"}},{"$f":"données!Y503","v":{"$error":"#N/A"}},{"$f":"données!AH503","v":5},{"$error":"#N/A"},{"$error":"#N/A"},null,null,null,null,null,null,null,null,null,null,null,null,null,null,null,null,null,{"$error":"#N/A"},{"$error":"#N/A"},{"$error":"#N/A"},{"$error":"#N/A"},{"$error":"#N/A"},{"$error":"#N/A"},{"$error":"#N/A"},{"$error":"#N/A"},{"$error":"#N/A"},{"$error":"#N/A"},{"$error":"#N/A"},{"$error":"#N/A"},{"$error":"#N/A"},{"$error":"#N/A"}]
[{"$f":"données!W504","v":{"$error":"#N/A"}},{"$f":"données!X504","v":{"$error":"#N/A"}},{"$f":"données!Y504","v":{"$error":"#N/A"}},{"$f":"données!AH504","v":7},{"$error":"#N/A"},{"$error":"#N/A"},null,null,null,null,null,null,null,null,null,null,null,null,null,null,null,null,null,{"$error":"#N/A"},{"$error":"#N/A"},{"$error":"#N/A"},{"$error":"#N/A"},{"$error":"#N/A"},{"$error":"#N/A"},{"$error":"#N/A"},{"$error":"#N/A"},{"$error":"#N/A"},{"$error":"#N/A"},{"$error":"#N/A"},{"$error":"#N/A"},{"$error":"#N/A"},{"$error":"#N/A"}]
[{"$f":"données!W505","v":{"$error":"#N/A"}},{"$f":"données!X505","v":{"$error":"#N/A"}},{"$f":"données!Y505","v":{"$error":"#N/A"}},{"$f":"données!AH505","v":5},{"$error":"#N/A"},{"$error":"#N/A"},null,null,null,null,null,null,null,null,null,null,null,null,null,null,null,null,null,{"$error":"#N/A"},{"$error":"#N/A"},{"$error":"#N/A"},{"$error":"#N/A"},{"$error":"#N/A"},{"$error":"#N/A"},{"$error":"#N/A"},{"$error":"#N/A"},{"$error":"#N/A"},{"$error":"#N/A"},{"$error":"#N/A"},{"$error":"#N/A"},{"$error":"#N/A"},{"$error":"#N/A"}]
[{"$f":"données!W506","v":{"$error":"#N/A"}},{"$f":"données!X506","v":{"$error":"#N/A"}},{"$f":"données!Y506","v":{"$error":"#N/A"}},{"$f":"données!AH506","v":6},{"$error":"#N/A"},{"$error":"#N/A"},null,null,null,null,null,null,null,null,null,null,null,null,null,null,null,null,null,{"$f":"IF($D504=X$1,$E504,#N/A)","v":{"$error":"#N/A"}},{"$f":"IF($D504=Y$1,$F504,#N/A)","v":{"$error":"#N/A"}},{"$error":"#N/A"},{"$error":"#N/A"},{"$error":"#N/A"},{"$error":"#N/A"},{"$error":"#N/A"},{"$error":"#N/A"},{"$error":"#N/A"},{"$error":"#N/A"},{"$error":"#N/A"},{"$error":"#N/A"},{"$error":"#N/A"},{"$error":"#N/A"}]
[{"$f":"données!W507","v":{"$error":"#N/A"}},{"$f":"données!X507","v":{"$error":"#N/A"}},{"$f":"données!Y507","v":{"$error":"#N/A"}},{"$f":"données!AH507","v":4},{"$error":"#N/A"},{"$error":"#N/A"},null,null,null,null,null,null,null,null,null,null,null,null,null,null,null,null,null,{"$error":"#N/A"},{"$error":"#N/A"},{"$error":"#N/A"},{"$error":"#N/A"},{"$error":"#N/A"},{"$error":"#N/A"},{"$error":"#N/A"},{"$error":"#N/A"},{"$error":"#N/A"},{"$error":"#N/A"},{"$error":"#N/A"},{"$error":"#N/A"},{"$error":"#N/A"},{"$error":"#N/A"}]
[{"$f":"données!W508","v":{"$error":"#N/A"}},{"$f":"données!X508","v":{"$error":"#N/A"}},{"$f":"données!Y508","v":{"$error":"#N/A"}},{"$f":"données!AH508","v":2},{"$error":"#N/A"},{"$error":"#N/A"},null,null,null,null,null,null,null,null,null,null,null,null,null,null,null,null,null,{"$error":"#N/A"},{"$error":"#N/A"},{"$error":"#N/A"},{"$error":"#N/A"},{"$error":"#N/A"},{"$error":"#N/A"},{"$error":"#N/A"},{"$error":"#N/A"},{"$error":"#N/A"},{"$error":"#N/A"},{"$error":"#N/A"},{"$error":"#N/A"},{"$error":"#N/A"},{"$error":"#N/A"}]
[{"$f":"données!W509","v":{"$error":"#N/A"}},{"$f":"données!X509","v":{"$error":"#N/A"}},{"$f":"données!Y509","v":{"$error":"#N/A"}},{"$f":"données!AH509","v":1},{"$error":"#N/A"},{"$error":"#N/A"},null,null,null,null,null,null,null,null,null,null,null,null,null,null,null,null,null,{"$error":"#N/A"},{"$error":"#N/A"},{"$error":"#N/A"},{"$error":"#N/A"},{"$error":"#N/A"},{"$error":"#N/A"},{"$error":"#N/A"},{"$error":"#N/A"},{"$error":"#N/A"},{"$error":"#N/A"},{"$error":"#N/A"},{"$error":"#N/A"},{"$error":"#N/A"},{"$error":"#N/A"}]
[{"$f":"données!W510","v":{"$error":"#N/A"}},{"$f":"données!X510","v":{"$error":"#N/A"}},{"$f":"données!Y510","v":{"$error":"#N/A"}},{"$f":"données!AH510","v":3},{"$error":"#N/A"},{"$error":"#N/A"},null,null,null,null,null,null,null,null,null,null,null,null,null,null,null,null,null,{"$error":"#N/A"},{"$error":"#N/A"},{"$error":"#N/A"},{"$error":"#N/A"},{"$error":"#N/A"},{"$error":"#N/A"},{"$error":"#N/A"},{"$error":"#N/A"},{"$error":"#N/A"},{"$error":"#N/A"},{"$error":"#N/A"},{"$error":"#N/A"},{"$error":"#N/A"},{"$error":"#N/A"}]
[{"$f":"données!W511","v":{"$error":"#N/A"}},{"$f":"données!X511","v":{"$error":"#N/A"}},{"$f":"données!Y511","v":{"$error":"#N/A"}},{"$f":"données!AH511","v":7},{"$error":"#N/A"},{"$error":"#N/A"},null,null,null,null,null,null,null,null,null,null,null,null,null,null,null,null,null,{"$error":"#N/A"},{"$error":"#N/A"},{"$error":"#N/A"},{"$error":"#N/A"},{"$error":"#N/A"},{"$error":"#N/A"},{"$error":"#N/A"},{"$error":"#N/A"},{"$error":"#N/A"},{"$error":"#N/A"},{"$error":"#N/A"},{"$error":"#N/A"},{"$error":"#N/A"},{"$error":"#N/A"}]
[{"$f":"données!W512","v":{"$error":"#N/A"}},{"$f":"données!X512","v":{"$error":"#N/A"}},{"$f":"données!Y512","v":{"$error":"#N/A"}},{"$f":"données!AH512","v":2},{"$error":"#N/A"},{"$error":"#N/A"},null,null,null,null,null,null,null,null,null,null,null,null,null,null,null,null,null,{"$error":"#N/A"},{"$error":"#N/A"},{"$error":"#N/A"},{"$error":"#N/A"},{"$error":"#N/A"},{"$error":"#N/A"},{"$error":"#N/A"},{"$error":"#N/A"},{"$error":"#N/A"},{"$error":"#N/A"},{"$error":"#N/A"},{"$error":"#N/A"},{"$error":"#N/A"},{"$error":"#N/A"}]
[{"$f":"données!W513","v":{"$error":"#N/A"}},{"$f":"données!X513","v":{"$error":"#N/A"}},{"$f":"données!Y513","v":{"$error":"#N/A"}},{"$f":"données!AH513","v":5},{"$error":"#N/A"},{"$error":"#N/A"},null,null,null,null,null,null,null,null,null,null,null,null,null,null,null,null,null,{"$error":"#N/A"},{"$error":"#N/A"},{"$error":"#N/A"},{"$error":"#N/A"},{"$error":"#N/A"},{"$error":"#N/A"},{"$error":"#N/A"},{"$error":"#N/A"},{"$error":"#N/A"},{"$error":"#N/A"},{"$error":"#N/A"},{"$error":"#N/A"},{"$error":"#N/A"},{"$error":"#N/A"}]
[{"$f":"données!W514","v":{"$error":"#N/A"}},{"$f":"données!X514","v":{"$error":"#N/A"}},{"$f":"données!Y514","v":{"$error":"#N/A"}},{"$f":"données!AH514","v":5},{"$error":"#N/A"},{"$error":"#N/A"},null,null,null,null,null,null,null,null,null,null,null,null,null,null,null,null,null,{"$error":"#N/A"},{"$error":"#N/A"},{"$error":"#N/A"},{"$error":"#N/A"},{"$error":"#N/A"},{"$error":"#N/A"},{"$error":"#N/A"},{"$error":"#N/A"},{"$error":"#N/A"},{"$error":"#N/A"},{"$error":"#N/A"},{"$error":"#N/A"},{"$error":"#N/A"},{"$error":"#N/A"}]
[{"$f":"données!W515","v":{"$error":"#N/A"}},{"$f":"données!X515","v":{"$error":"#N/A"}},{"$f":"données!Y515","v":{"$error":"#N/A"}},{"$f":"données!AH515","v":2},{"$error":"#N/A"},{"$error":"#N/A"},null,null,null,null,null,null,null,null,null,null,null,null,null,null,null,null,null,{"$error":"#N/A"},{"$error":"#N/A"},{"$error":"#N/A"},{"$error":"#N/A"},{"$error":"#N/A"},{"$error":"#N/A"},{"$error":"#N/A"},{"$error":"#N/A"},{"$error":"#N/A"},{"$error":"#N/A"},{"$error":"#N/A"},{"$error":"#N/A"},{"$error":"#N/A"},{"$error":"#N/A"}]
[{"$f":"données!W516","v":{"$error":"#N/A"}},{"$f":"données!X516","v":{"$error":"#N/A"}},{"$f":"données!Y516","v":{"$error":"#N/A"}},{"$f":"données!AH516","v":4},{"$f":"A514+B514*$I$2","v":{"$error":"#N/A"}},{"$f":"C514+B514*$I$3","v":{"$error":"#N/A"}},null,null,null,null,null,null,null,null,null,null,null,null,null,null,null,null,null,{"$error":"#N/A"},{"$error":"#N/A"},{"$f":"IF($D514=Z$1,$E514,#N/A)","v":{"$error":"#N/A"}},{"$f":"IF($D514=AA$1,$F514,#N/A)","v":{"$error":"#N/A"}},{"$f":"IF($D514=AB$1,$E514,#N/A)","v":{"$error":"#N/A"}},{"$f":"IF($D514=AC$1,$F514,#N/A)","v":{"$error":"#N/A"}},{"$f":"IF($D514=AD$1,$E514,#N/A)","v":{"$error":"#N/A"}},{"$f":"IF($D514=AE$1,$F514,#N/A)","v":{"$error":"#N/A"}},{"$f":"IF($D514=AF$1,$E514,#N/A)","v":{"$error":"#N/A"}},{"$f":"IF($D514=AG$1,$F514,#N/A)","v":{"$error":"#N/A"}},{"$f":"IF($D514=AH$1,$E514,#N/A)","v":{"$error":"#N/A"}},{"$f":"IF($D514=AI$1,$F514,#N/A)","v":{"$error":"#N/A"}},{"$f":"IF($D514=AJ$1,$E514,#N/A)","v":{"$error":"#N/A"}},{"$f":"IF($D514=AK$1,$F514,#N/A)","v":{"$error":"#N/A"}}]
[{"$f":"données!W517","v":{"$error":"#N/A"}},{"$f":"données!X517","v":{"$error":"#N/A"}},{"$f":"données!Y517","v":{"$error":"#N/A"}},{"$f":"données!AH517","v":3},{"$error":"#N/A"},{"$error":"#N/A"},null,null,null,null,null,null,null,null,null,null,null,null,null,null,null,null,null,{"$error":"#N/A"},{"$error":"#N/A"},{"$error":"#N/A"},{"$error":"#N/A"},{"$error":"#N/A"},{"$error":"#N/A"},{"$error":"#N/A"},{"$error":"#N/A"},{"$error":"#N/A"},{"$error":"#N/A"},{"$error":"#N/A"},{"$error":"#N/A"},{"$error":"#N/A"},{"$error":"#N/A"}]
[{"$f":"données!W518","v":{"$error":"#N/A"}},{"$f":"données!X518","v":{"$error":"#N/A"}},{"$f":"données!Y518","v":{"$error":"#N/A"}},{"$f":"données!AH518","v":2},{"$error":"#N/A"},{"$error":"#N/A"},null,null,null,null,null,null,null,null,null,null,null,null,null,null,null,null,null,{"$error":"#N/A"},{"$error":"#N/A"},{"$error":"#N/A"},{"$error":"#N/A"},{"$error":"#N/A"},{"$error":"#N/A"},{"$error":"#N/A"},{"$error":"#N/A"},{"$error":"#N/A"},{"$error":"#N/A"},{"$error":"#N/A"},{"$error":"#N/A"},{"$error":"#N/A"},{"$error":"#N/A"}]
[{"$f":"données!W519","v":{"$error":"#N/A"}},{"$f":"données!X519","v":{"$error":"#N/A"}},{"$f":"données!Y519","v":{"$error":"#N/A"}},{"$f":"données!AH519","v":5},{"$error":"#N/A"},{"$error":"#N/A"},null,null,null,null,null,null,null,null,null,null,null,null,null,null,null,null,null,{"$error":"#N/A"},{"$error":"#N/A"},{"$error":"#N/A"},{"$error":"#N/A"},{"$error":"#N/A"},{"$error":"#N/A"},{"$error":"#N/A"},{"$error":"#N/A"},{"$error":"#N/A"},{"$error":"#N/A"},{"$error":"#N/A"},{"$error":"#N/A"},{"$error":"#N/A"},{"$error":"#N/A"}]
[{"$f":"données!W520","v":{"$error":"#N/A"}},{"$f":"données!X520","v":{"$error":"#N/A"}},{"$f":"données!Y520","v":{"$error":"#N/A"}},{"$f":"données!AH520","v":3},{"$error":"#N/A"},{"$error":"#N/A"},null,null,null,null,null,null,null,null,null,null,null,null,null,null,null,null,null,{"$error":"#N/A"},{"$error":"#N/A"},{"$error":"#N/A"},{"$error":"#N/A"},{"$error":"#N/A"},{"$error":"#N/A"},{"$error":"#N/A"},{"$error":"#N/A"},{"$error":"#N/A"},{"$error":"#N/A"},{"$error":"#N/A"},{"$error":"#N/A"},{"$error":"#N/A"},{"$error":"#N/A"}]
[{"$f":"données!W521","v":{"$error":"#N/A"}},{"$f":"données!X521","v":{"$error":"#N/A"}},{"$f":"données!Y521","v":{"$error":"#N/A"}},{"$f":"données!AH521","v":6},{"$error":"#N/A"},{"$error":"#N/A"},null,null,null,null,null,null,null,null,null,null,null,null,null,null,null,null,null,{"$error":"#N/A"},{"$error":"#N/A"},{"$error":"#N/A"},{"$error":"#N/A"},{"$error":"#N/A"},{"$error":"#N/A"},{"$error":"#N/A"},{"$error":"#N/A"},{"$error":"#N/A"},{"$error":"#N/A"},{"$error":"#N/A"},{"$error":"#N/A"},{"$error":"#N/A"},{"$error":"#N/A"}]
[{"$f":"données!W522","v":{"$error":"#N/A"}},{"$f":"données!X522","v":{"$error":"#N/A"}},{"$f":"données!Y522","v":{"$error":"#N/A"}},{"$f":"données!AH522","v":4},{"$error":"#N/A"},{"$error":"#N/A"},null,null,null,null,null,null,null,null,null,null,null,null,null,null,null,null,null,{"$error":"#N/A"},{"$error":"#N/A"},{"$error":"#N/A"},{"$error":"#N/A"},{"$error":"#N/A"},{"$error":"#N/A"},{"$error":"#N/A"},{"$error":"#N/A"},{"$error":"#N/A"},{"$error":"#N/A"},{"$error":"#N/A"},{"$error":"#N/A"},{"$error":"#N/A"},{"$error":"#N/A"}]
[{"$f":"données!W523","v":{"$error":"#N/A"}},{"$f":"données!X523","v":{"$error":"#N/A"}},{"$f":"données!Y523","v":{"$error":"#N/A"}},{"$f":"données!AH523","v":5},{"$error":"#N/A"},{"$error":"#N/A"},null,null,null,null,null,null,null,null,null,null,null,null,null,null,null,null,null,{"$error":"#N/A"},{"$error":"#N/A"},{"$error":"#N/A"},{"$error":"#N/A"},{"$error":"#N/A"},{"$error":"#N/A"},{"$error":"#N/A"},{"$error":"#N/A"},{"$error":"#N/A"},{"$error":"#N/A"},{"$error":"#N/A"},{"$error":"#N/A"},{"$error":"#N/A"},{"$error":"#N/A"}]
[{"$f":"données!W524","v":{"$error":"#N/A"}},{"$f":"données!X524","v":{"$error":"#N/A"}},{"$f":"données!Y524","v":{"$error":"#N/A"}},{"$f":"données!AH524","v":3},{"$error":"#N/A"},{"$error":"#N/A"},null,null,null,null,null,null,null,null,null,null,null,null,null,null,null,null,null,{"$error":"#N/A"},{"$error":"#N/A"},{"$error":"#N/A"},{"$error":"#N/A"},{"$error":"#N/A"},{"$error":"#N/A"},{"$error":"#N/A"},{"$error":"#N/A"},{"$error":"#N/A"},{"$error":"#N/A"},{"$error":"#N/A"},{"$error":"#N/A"},{"$error":"#N/A"},{"$error":"#N/A"}]
[{"$f":"données!W525","v":{"$error":"#N/A"}},{"$f":"données!X525","v":{"$error":"#N/A"}},{"$f":"données!Y525","v":{"$error":"#N/A"}},{"$f":"données!AH525","v":7},{"$error":"#N/A"},{"$error":"#N/A"},null,null,null,null,null,null,null,null,null,null,null,null,null,null,null,null,null,{"$error":"#N/A"},{"$error":"#N/A"},{"$error":"#N/A"},{"$error":"#N/A"},{"$error":"#N/A"},{"$error":"#N/A"},{"$error":"#N/A"},{"$error":"#N/A"},{"$error":"#N/A"},{"$error":"#N/A"},{"$error":"#N/A"},{"$error":"#N/A"},{"$error":"#N/A"},{"$error":"#N/A"}]
[{"$f":"données!W526","v":{"$error":"#N/A"}},{"$f":"données!X526","v":{"$error":"#N/A"}},{"$f":"données!Y526","v":{"$error":"#N/A"}},{"$f":"données!AH526","v":1},{"$error":"#N/A"},{"$error":"#N/A"},null,null,null,null,null,null,null,null,null,null,null,null,null,null,null,null,null,{"$error":"#N/A"},{"$error":"#N/A"},{"$error":"#N/A"},{"$error":"#N/A"},{"$error":"#N/A"},{"$error":"#N/A"},{"$error":"#N/A"},{"$error":"#N/A"},{"$error":"#N/A"},{"$error":"#N/A"},{"$error":"#N/A"},{"$error":"#N/A"},{"$error":"#N/A"},{"$error":"#N/A"}]
[{"$f":"données!W527","v":{"$error":"#N/A"}},{"$f":"données!X527","v":{"$error":"#N/A"}},{"$f":"données!Y527","v":{"$error":"#N/A"}},{"$f":"données!AH527","v":7},{"$error":"#N/A"},{"$error":"#N/A"},null,null,null,null,null,null,null,null,null,null,null,null,null,null,null,null,null,{"$error":"#N/A"},{"$error":"#N/A"},{"$error":"#N/A"},{"$error":"#N/A"},{"$error":"#N/A"},{"$error":"#N/A"},{"$error":"#N/A"},{"$error":"#N/A"},{"$error":"#N/A"},{"$error":"#N/A"},{"$error":"#N/A"},{"$error":"#N/A"},{"$error":"#N/A"},{"$error":"#N/A"}]
[{"$f":"données!W528","v":{"$error":"#N/A"}},{"$f":"données!X528","v":{"$error":"#N/A"}},{"$f":"données!Y528","v":{"$error":"#N/A"}},{"$f":"données!AH528","v":4},{"$error":"#N/A"},{"$error":"#N/A"},null,null,null,null,null,null,null,null,null,null,null,null,null,null,null,null,null,{"$error":"#N/A"},{"$error":"#N/A"},{"$error":"#N/A"},{"$error":"#N/A"},{"$error":"#N/A"},{"$error":"#N/A"},{"$error":"#N/A"},{"$error":"#N/A"},{"$error":"#N/A"},{"$error":"#N/A"},{"$error":"#N/A"},{"$error":"#N/A"},{"$error":"#N/A"},{"$error":"#N/A"}]
[{"$f":"données!W529","v":{"$error":"#N/A"}},{"$f":"données!X529","v":{"$error":"#N/A"}},{"$f":"données!Y529","v":{"$error":"#N/A"}},{"$f":"données!AH529","v":2},{"$error":"#N/A"},{"$error":"#N/A"},null,null,null,null,null,null,null,null,null,null,null,null,null,null,null,null,null,{"$error":"#N/A"},{"$error":"#N/A"},{"$error":"#N/A"},{"$error":"#N/A"},{"$error":"#N/A"},{"$error":"#N/A"},{"$error":"#N/A"},{"$error":"#N/A"},{"$error":"#N/A"},{"$error":"#N/A"},{"$error":"#N/A"},{"$error":"#N/A"},{"$error":"#N/A"},{"$error":"#N/A"}]
[{"$f":"données!W530","v":{"$error":"#N/A"}},{"$f":"données!X530","v":{"$error":"#N/A"}},{"$f":"données!Y530","v":{"$error":"#N/A"}},{"$f":"données!AH530","v":6},{"$error":"#N/A"},{"$error":"#N/A"},null,null,null,null,null,null,null,null,null,null,null,null,null,null,null,null,null,{"$error":"#N/A"},{"$error":"#N/A"},{"$error":"#N/A"},{"$error":"#N/A"},{"$error":"#N/A"},{"$error":"#N/A"},{"$error":"#N/A"},{"$error":"#N/A"},{"$error":"#N/A"},{"$error":"#N/A"},{"$error":"#N/A"},{"$error":"#N/A"},{"$error":"#N/A"},{"$error":"#N/A"}]
[{"$f":"données!W531","v":{"$error":"#N/A"}},{"$f":"données!X531","v":{"$error":"#N/A"}},{"$f":"données!Y531","v":{"$error":"#N/A"}},{"$f":"données!AH531","v":5},{"$error":"#N/A"},{"$error":"#N/A"},null,null,null,null,null,null,null,null,null,null,null,null,null,null,null,null,null,{"$error":"#N/A"},{"$error":"#N/A"},{"$error":"#N/A"},{"$error":"#N/A"},{"$error":"#N/A"},{"$error":"#N/A"},{"$error":"#N/A"},{"$error":"#N/A"},{"$error":"#N/A"},{"$error":"#N/A"},{"$error":"#N/A"},{"$error":"#N/A"},{"$error":"#N/A"},{"$error":"#N/A"}]
[{"$f":"données!W532","v":{"$error":"#N/A"}},{"$f":"données!X532","v":{"$error":"#N/A"}},{"$f":"données!Y532","v":{"$error":"#N/A"}},{"$f":"données!AH532","v":5},{"$error":"#N/A"},{"$error":"#N/A"},null,null,null,null,null,null,null,null,null,null,null,null,null,null,null,null,null,{"$error":"#N/A"},{"$error":"#N/A"},{"$error":"#N/A"},{"$error":"#N/A"},{"$error":"#N/A"},{"$error":"#N/A"},{"$error":"#N/A"},{"$error":"#N/A"},{"$error":"#N/A"},{"$error":"#N/A"},{"$error":"#N/A"},{"$error":"#N/A"},{"$error":"#N/A"},{"$error":"#N/A"}]
[{"$f":"données!W533","v":{"$error":"#N/A"}},{"$f":"données!X533","v":{"$error":"#N/A"}},{"$f":"données!Y533","v":{"$error":"#N/A"}},{"$f":"données!AH533","v":2},{"$error":"#N/A"},{"$error":"#N/A"},null,null,null,null,null,null,null,null,null,null,null,null,null,null,null,null,null,{"$error":"#N/A"},{"$error":"#N/A"},{"$error":"#N/A"},{"$error":"#N/A"},{"$error":"#N/A"},{"$error":"#N/A"},{"$error":"#N/A"},{"$error":"#N/A"},{"$error":"#N/A"},{"$error":"#N/A"},{"$error":"#N/A"},{"$error":"#N/A"},{"$error":"#N/A"},{"$error":"#N/A"}]
[{"$f":"données!W534","v":{"$error":"#N/A"}},{"$f":"données!X534","v":{"$error":"#N/A"}},{"$f":"données!Y534","v":{"$error":"#N/A"}},{"$f":"données!AH534","v":4},{"$error":"#N/A"},{"$error":"#N/A"},null,null,null,null,null,null,null,null,null,null,null,null,null,null,null,null,null,{"$error":"#N/A"},{"$error":"#N/A"},{"$error":"#N/A"},{"$error":"#N/A"},{"$error":"#N/A"},{"$error":"#N/A"},{"$error":"#N/A"},{"$error":"#N/A"},{"$error":"#N/A"},{"$error":"#N/A"},{"$error":"#N/A"},{"$error":"#N/A"},{"$error":"#N/A"},{"$error":"#N/A"}]
[{"$f":"données!W535","v":{"$error":"#N/A"}},{"$f":"données!X535","v":{"$error":"#N/A"}},{"$f":"données!Y535","v":{"$error":"#N/A"}},{"$f":"données!AH535","v":5},{"$error":"#N/A"},{"$error":"#N/A"},null,null,null,null,null,null,null,null,null,null,null,null,null,null,null,null,null,{"$error":"#N/A"},{"$error":"#N/A"},{"$error":"#N/A"},{"$error":"#N/A"},{"$error":"#N/A"},{"$error":"#N/A"},{"$error":"#N/A"},{"$error":"#N/A"},{"$error":"#N/A"},{"$error":"#N/A"},{"$error":"#N/A"},{"$error":"#N/A"},{"$error":"#N/A"},{"$error":"#N/A"}]
[{"$f":"données!W536","v":{"$error":"#N/A"}},{"$f":"données!X536","v":{"$error":"#N/A"}},{"$f":"données!Y536","v":{"$error":"#N/A"}},{"$f":"données!AH536","v":1},{"$error":"#N/A"},{"$error":"#N/A"},null,null,null,null,null,null,null,null,null,null,null,null,null,null,null,null,null,{"$error":"#N/A"},{"$error":"#N/A"},{"$error":"#N/A"},{"$error":"#N/A"},{"$error":"#N/A"},{"$error":"#N/A"},{"$error":"#N/A"},{"$error":"#N/A"},{"$error":"#N/A"},{"$error":"#N/A"},{"$error":"#N/A"},{"$error":"#N/A"},{"$error":"#N/A"},{"$error":"#N/A"}]
[{"$f":"données!W537","v":{"$error":"#N/A"}},{"$f":"données!X537","v":{"$error":"#N/A"}},{"$f":"données!Y537","v":{"$error":"#N/A"}},{"$f":"données!AH537","v":5},{"$error":"#N/A"},{"$error":"#N/A"},null,null,null,null,null,null,null,null,null,null,null,null,null,null,null,null,null,{"$error":"#N/A"},{"$error":"#N/A"},{"$error":"#N/A"},{"$error":"#N/A"},{"$error":"#N/A"},{"$error":"#N/A"},{"$error":"#N/A"},{"$error":"#N/A"},{"$error":"#N/A"},{"$error":"#N/A"},{"$error":"#N/A"},{"$error":"#N/A"},{"$error":"#N/A"},{"$error":"#N/A"}]
[{"$f":"données!W538","v":{"$error":"#N/A"}},{"$f":"données!X538","v":{"$error":"#N/A"}},{"$f":"données!Y538","v":{"$error":"#N/A"}},{"$f":"données!AH538","v":7},{"$error":"#N/A"},{"$error":"#N/A"},null,null,null,null,null,null,null,null,null,null,null,null,null,null,null,null,null,{"$error":"#N/A"},{"$error":"#N/A"},{"$error":"#N/A"},{"$error":"#N/A"},{"$error":"#N/A"},{"$error":"#N/A"},{"$error":"#N/A"},{"$error":"#N/A"},{"$error":"#N/A"},{"$error":"#N/A"},{"$error":"#N/A"},{"$error":"#N/A"},{"$error":"#N/A"},{"$error":"#N/A"}]
[{"$f":"données!W539","v":{"$error":"#N/A"}},{"$f":"données!X539","v":{"$error":"#N/A"}},{"$f":"données!Y539","v":{"$error":"#N/A"}},{"$f":"données!AH539","v":2},{"$error":"#N/A"},{"$error":"#N/A"},null,null,null,null,null,null,null,null,null,null,null,null,null,null,null,null,null,{"$error":"#N/A"},{"$error":"#N/A"},{"$error":"#N/A"},{"$error":"#N/A"},{"$error":"#N/A"},{"$error":"#N/A"},{"$error":"#N/A"},{"$error":"#N/A"},{"$error":"#N/A"},{"$error":"#N/A"},{"$error":"#N/A"},{"$error":"#N/A"},{"$error":"#N/A"},{"$error":"#N/A"}]
[{"$f":"données!W540","v":{"$error":"#N/A"}},{"$f":"données!X540","v":{"$error":"#N/A"}},{"$f":"données!Y540","v":{"$error":"#N/A"}},{"$f":"données!AH540","v":6},{"$error":"#N/A"},{"$error":"#N/A"},null,null,null,null,null,null,null,null,null,null,null,null,null,null,null,null,null,{"$error":"#N/A"},{"$error":"#N/A"},{"$error":"#N/A"},{"$error":"#N/A"},{"$error":"#N/A"},{"$error":"#N/A"},{"$error":"#N/A"},{"$error":"#N/A"},{"$error":"#N/A"},{"$error":"#N/A"},{"$error":"#N/A"},{"$error":"#N/A"},{"$error":"#N/A"},{"$error":"#N/A"}]
[{"$f":"données!W541","v":{"$error":"#N/A"}},{"$f":"données!X541","v":{"$error":"#N/A"}},{"$f":"données!Y541","v":{"$error":"#N/A"}},{"$f":"données!AH541","v":4},{"$error":"#N/A"},{"$error":"#N/A"},null,null,null,null,null,null,null,null,null,null,null,null,null,null,null,null,null,{"$error":"#N/A"},{"$error":"#N/A"},{"$error":"#N/A"},{"$error":"#N/A"},{"$error":"#N/A"},{"$error":"#N/A"},{"$error":"#N/A"},{"$error":"#N/A"},{"$error":"#N/A"},{"$error":"#N/A"},{"$error":"#N/A"},{"$error":"#N/A"},{"$error":"#N/A"},{"$error":"#N/A"}]
[{"$f":"données!W542","v":{"$error":"#N/A"}},{"$f":"données!X542","v":{"$error":"#N/A"}},{"$f":"données!Y542","v":{"$error":"#N/A"}},{"$f":"données!AH542","v":2},{"$error":"#N/A"},{"$error":"#N/A"},null,null,null,null,null,null,null,null,null,null,null,null,null,null,null,null,null,{"$error":"#N/A"},{"$error":"#N/A"},{"$error":"#N/A"},{"$error":"#N/A"},{"$error":"#N/A"},{"$error":"#N/A"},{"$error":"#N/A"},{"$error":"#N/A"},{"$error":"#N/A"},{"$error":"#N/A"},{"$error":"#N/A"},{"$error":"#N/A"},{"$error":"#N/A"},{"$error":"#N/A"}]
[{"$f":"données!W543","v":{"$error":"#N/A"}},{"$f":"données!X543","v":{"$error":"#N/A"}},{"$f":"données!Y543","v":{"$error":"#N/A"}},{"$f":"données!AH543","v":4},{"$error":"#N/A"},{"$error":"#N/A"},null,null,null,null,null,null,null,null,null,null,null,null,null,null,null,null,null,{"$error":"#N/A"},{"$error":"#N/A"},{"$error":"#N/A"},{"$error":"#N/A"},{"$error":"#N/A"},{"$error":"#N/A"},{"$error":"#N/A"},{"$error":"#N/A"},{"$error":"#N/A"},{"$error":"#N/A"},{"$error":"#N/A"},{"$error":"#N/A"},{"$error":"#N/A"},{"$error":"#N/A"}]
[{"$f":"données!W544","v":{"$error":"#N/A"}},{"$f":"données!X544","v":{"$error":"#N/A"}},{"$f":"données!Y544","v":{"$error":"#N/A"}},{"$f":"données!AH544","v":2},{"$error":"#N/A"},{"$error":"#N/A"},null,null,null,null,null,null,null,null,null,null,null,null,null,null,null,null,null,{"$error":"#N/A"},{"$error":"#N/A"},{"$error":"#N/A"},{"$error":"#N/A"},{"$error":"#N/A"},{"$error":"#N/A"},{"$error":"#N/A"},{"$error":"#N/A"},{"$error":"#N/A"},{"$error":"#N/A"},{"$error":"#N/A"},{"$error":"#N/A"},{"$error":"#N/A"},{"$error":"#N/A"}]
[{"$f":"données!W545","v":{"$error":"#N/A"}},{"$f":"données!X545","v":{"$error":"#N/A"}},{"$f":"données!Y545","v":{"$error":"#N/A"}},{"$f":"données!AH545","v":5},{"$error":"#N/A"},{"$error":"#N/A"},null,null,null,null,null,null,null,null,null,null,null,null,null,null,null,null,null,{"$error":"#N/A"},{"$error":"#N/A"},{"$error":"#N/A"},{"$error":"#N/A"},{"$error":"#N/A"},{"$error":"#N/A"},{"$error":"#N/A"},{"$error":"#N/A"},{"$error":"#N/A"},{"$error":"#N/A"},{"$error":"#N/A"},{"$error":"#N/A"},{"$error":"#N/A"},{"$error":"#N/A"}]
[{"$f":"données!W546","v":{"$error":"#N/A"}},{"$f":"données!X546","v":{"$error":"#N/A"}},{"$f":"données!Y546","v":{"$error":"#N/A"}},{"$f":"données!AH546","v":4},{"$error":"#N/A"},{"$error":"#N/A"},null,null,null,null,null,null,null,null,null,null,null,null,null,null,null,null,null,{"$error":"#N/A"},{"$error":"#N/A"},{"$error":"#N/A"},{"$error":"#N/A"},{"$error":"#N/A"},{"$error":"#N/A"},{"$error":"#N/A"},{"$error":"#N/A"},{"$error":"#N/A"},{"$error":"#N/A"},{"$error":"#N/A"},{"$error":"#N/A"},{"$error":"#N/A"},{"$error":"#N/A"}]
[{"$f":"données!W547","v":{"$error":"#N/A"}},{"$f":"données!X547","v":{"$error":"#N/A"}},{"$f":"données!Y547","v":{"$error":"#N/A"}},{"$f":"données!AH547","v":3},{"$error":"#N/A"},{"$error":"#N/A"},null,null,null,null,null,null,null,null,null,null,null,null,null,null,null,null,null,{"$error":"#N/A"},{"$error":"#N/A"},{"$error":"#N/A"},{"$error":"#N/A"},{"$error":"#N/A"},{"$error":"#N/A"},{"$error":"#N/A"},{"$error":"#N/A"},{"$error":"#N/A"},{"$error":"#N/A"},{"$error":"#N/A"},{"$error":"#N/A"},{"$error":"#N/A"},{"$error":"#N/A"}]
[{"$f":"données!W548","v":{"$error":"#N/A"}},{"$f":"données!X548","v":{"$error":"#N/A"}},{"$f":"données!Y548","v":{"$error":"#N/A"}},{"$f":"données!AH548","v":7},{"$error":"#N/A"},{"$error":"#N/A"},null,null,null,null,null,null,null,null,null,null,null,null,null,null,null,null,null,{"$error":"#N/A"},{"$error":"#N/A"},{"$error":"#N/A"},{"$error":"#N/A"},{"$error":"#N/A"},{"$error":"#N/A"},{"$error":"#N/A"},{"$error":"#N/A"},{"$error":"#N/A"},{"$error":"#N/A"},{"$error":"#N/A"},{"$error":"#N/A"},{"$error":"#N/A"},{"$error":"#N/A"}]
[{"$f":"données!W549","v":{"$error":"#N/A"}},{"$f":"données!X549","v":{"$error":"#N/A"}},{"$f":"données!Y549","v":{"$error":"#N/A"}},{"$f":"données!AH549","v":7},{"$error":"#N/A"},{"$error":"#N/A"},null,null,null,null,null,null,null,null,null,null,null,null,null,null,null,null,null,{"$error":"#N/A"},{"$error":"#N/A"},{"$error":"#N/A"},{"$error":"#N/A"},{"$error":"#N/A"},{"$error":"#N/A"},{"$error":"#N/A"},{"$error":"#N/A"},{"$error":"#N/A"},{"$error":"#N/A"},{"$error":"#N/A"},{"$error":"#N/A"},{"$error":"#N/A"},{"$error":"#N/A"}]
[{"$f":"données!W550","v":{"$error":"#N/A"}},{"$f":"données!X550","v":{"$error":"#N/A"}},{"$f":"données!Y550","v":{"$error":"#N/A"}},{"$f":"données!AH550","v":6},{"$error":"#N/A"},{"$error":"#N/A"},null,null,null,null,null,null,null,null,null,null,null,null,null,null,null,null,null,{"$error":"#N/A"},{"$error":"#N/A"},{"$error":"#N/A"},{"$error":"#N/A"},{"$error":"#N/A"},{"$error":"#N/A"},{"$error":"#N/A"},{"$error":"#N/A"},{"$error":"#N/A"},{"$error":"#N/A"},{"$error":"#N/A"},{"$error":"#N/A"},{"$error":"#N/A"},{"$error":"#N/A"}]
[{"$f":"données!W551","v":{"$error":"#N/A"}},{"$f":"données!X551","v":{"$error":"#N/A"}},{"$f":"données!Y551","v":{"$error":"#N/A"}},{"$f":"données!AH551","v":2},{"$error":"#N/A"},{"$error":"#N/A"},null,null,null,null,null,null,null,null,null,null,null,null,null,null,null,null,null,{"$error":"#N/A"},{"$error":"#N/A"},{"$error":"#N/A"},{"$error":"#N/A"},{"$error":"#N/A"},{"$error":"#N/A"},{"$error":"#N/A"},{"$error":"#N/A"},{"$error":"#N/A"},{"$error":"#N/A"},{"$error":"#N/A"},{"$error":"#N/A"},{"$error":"#N/A"},{"$error":"#N/A"}]
[{"$f":"données!W552","v":{"$error":"#N/A"}},{"$f":"données!X552","v":{"$error":"#N/A"}},{"$f":"données!Y552","v":{"$error":"#N/A"}},{"$f":"données!AH552","v":6},{"$error":"#N/A"},{"$error":"#N/A"},null,null,null,null,null,null,null,null,null,null,null,null,null,null,null,null,null,{"$error":"#N/A"},{"$error":"#N/A"},{"$error":"#N/A"},{"$error":"#N/A"},{"$error":"#N/A"},{"$error":"#N/A"},{"$error":"#N/A"},{"$error":"#N/A"},{"$error":"#N/A"},{"$error":"#N/A"},{"$error":"#N/A"},{"$error":"#N/A"},{"$error":"#N/A"},{"$error":"#N/A"}]
[{"$f":"données!W553","v":{"$error":"#N/A"}},{"$f":"données!X553","v":{"$error":"#N/A"}},{"$f":"données!Y553","v":{"$error":"#N/A"}},{"$f":"données!AH553","v":6},{"$error":"#N/A"},{"$error":"#N/A"},null,null,null,null,null,null,null,null,null,null,null,null,null,null,null,null,null,{"$error":"#N/A"},{"$error":"#N/A"},{"$error":"#N/A"},{"$error":"#N/A"},{"$error":"#N/A"},{"$error":"#N/A"},{"$error":"#N/A"},{"$error":"#N/A"},{"$error":"#N/A"},{"$error":"#N/A"},{"$error":"#N/A"},{"$error":"#N/A"},{"$error":"#N/A"},{"$error":"#N/A"}]
[{"$f":"données!W554","v":{"$error":"#N/A"}},{"$f":"données!X554","v":{"$error":"#N/A"}},{"$f":"données!Y554","v":{"$error":"#N/A"}},{"$f":"données!AH554","v":3},{"$error":"#N/A"},{"$error":"#N/A"},null,null,null,null,null,null,null,null,null,null,null,null,null,null,null,null,null,{"$error":"#N/A"},{"$error":"#N/A"},{"$error":"#N/A"},{"$error":"#N/A"},{"$error":"#N/A"},{"$error":"#N/A"},{"$error":"#N/A"},{"$error":"#N/A"},{"$error":"#N/A"},{"$error":"#N/A"},{"$error":"#N/A"},{"$error":"#N/A"},{"$error":"#N/A"},{"$error":"#N/A"}]
[{"$f":"données!W555","v":{"$error":"#N/A"}},{"$f":"données!X555","v":{"$error":"#N/A"}},{"$f":"données!Y555","v":{"$error":"#N/A"}},{"$f":"données!AH555","v":3},{"$error":"#N/A"},{"$error":"#N/A"},null,null,null,null,null,null,null,null,null,null,null,null,null,null,null,null,null,{"$error":"#N/A"},{"$error":"#N/A"},{"$error":"#N/A"},{"$error":"#N/A"},{"$error":"#N/A"},{"$error":"#N/A"},{"$error":"#N/A"},{"$error":"#N/A"},{"$error":"#N/A"},{"$error":"#N/A"},{"$error":"#N/A"},{"$error":"#N/A"},{"$error":"#N/A"},{"$error":"#N/A"}]
[{"$f":"données!W556","v":{"$error":"#N/A"}},{"$f":"données!X556","v":{"$error":"#N/A"}},{"$f":"données!Y556","v":{"$error":"#N/A"}},{"$f":"données!AH556","v":6},{"$error":"#N/A"},{"$error":"#N/A"},null,null,null,null,null,null,null,null,null,null,null,null,null,null,null,null,null,{"$error":"#N/A"},{"$error":"#N/A"},{"$error":"#N/A"},{"$error":"#N/A"},{"$error":"#N/A"},{"$error":"#N/A"},{"$error":"#N/A"},{"$error":"#N/A"},{"$error":"#N/A"},{"$error":"#N/A"},{"$error":"#N/A"},{"$error":"#N/A"},{"$error":"#N/A"},{"$error":"#N/A"}]
[{"$f":"données!W557","v":{"$error":"#N/A"}},{"$f":"données!X557","v":{"$error":"#N/A"}},{"$f":"données!Y557","v":{"$error":"#N/A"}},{"$f":"données!AH557","v":7},{"$error":"#N/A"},{"$error":"#N/A"},null,null,null,null,null,null,null,null,null,null,null,null,null,null,null,null,null,{"$error":"#N/A"},{"$error":"#N/A"},{"$error":"#N/A"},{"$error":"#N/A"},{"$error":"#N/A"},{"$error":"#N/A"},{"$error":"#N/A"},{"$error":"#N/A"},{"$error":"#N/A"},{"$error":"#N/A"},{"$error":"#N/A"},{"$error":"#N/A"},{"$error":"#N/A"},{"$error":"#N/A"}]
[{"$f":"données!W558","v":{"$error":"#N/A"}},{"$f":"données!X558","v":{"$error":"#N/A"}},{"$f":"données!Y558","v":{"$error":"#N/A"}},{"$f":"données!AH558","v":4},{"$error":"#N/A"},{"$error":"#N/A"},null,null,null,null,null,null,null,null,null,null,null,null,null,null,null,null,null,{"$error":"#N/A"},{"$error":"#N/A"},{"$error":"#N/A"},{"$error":"#N/A"},{"$error":"#N/A"},{"$error":"#N/A"},{"$error":"#N/A"},{"$error":"#N/A"},{"$error":"#N/A"},{"$error":"#N/A"},{"$error":"#N/A"},{"$error":"#N/A"},{"$error":"#N/A"},{"$error":"#N/A"}]
[{"$f":"données!W559","v":{"$error":"#N/A"}},{"$f":"données!X559","v":{"$error":"#N/A"}},{"$f":"données!Y559","v":{"$error":"#N/A"}},{"$f":"données!AH559","v":2},{"$error":"#N/A"},{"$error":"#N/A"},null,null,null,null,null,null,null,null,null,null,null,null,null,null,null,null,null,{"$error":"#N/A"},{"$error":"#N/A"},{"$error":"#N/A"},{"$error":"#N/A"},{"$error":"#N/A"},{"$error":"#N/A"},{"$error":"#N/A"},{"$error":"#N/A"},{"$error":"#N/A"},{"$error":"#N/A"},{"$error":"#N/A"},{"$error":"#N/A"},{"$error":"#N/A"},{"$error":"#N/A"}]
[{"$f":"données!W560","v":{"$error":"#N/A"}},{"$f":"données!X560","v":{"$error":"#N/A"}},{"$f":"données!Y560","v":{"$error":"#N/A"}},{"$f":"données!AH560","v":4},{"$error":"#N/A"},{"$error":"#N/A"},null,null,null,null,null,null,null,null,null,null,null,null,null,null,null,null,null,{"$error":"#N/A"},{"$error":"#N/A"},{"$error":"#N/A"},{"$error":"#N/A"},{"$error":"#N/A"},{"$error":"#N/A"},{"$error":"#N/A"},{"$error":"#N/A"},{"$error":"#N/A"},{"$error":"#N/A"},{"$error":"#N/A"},{"$error":"#N/A"},{"$error":"#N/A"},{"$error":"#N/A"}]
[{"$f":"données!W561","v":{"$error":"#N/A"}},{"$f":"données!X561","v":{"$error":"#N/A"}},{"$f":"données!Y561","v":{"$error":"#N/A"}},{"$f":"données!AH561","v":7},{"$error":"#N/A"},{"$error":"#N/A"},null,null,null,null,null,null,null,null,null,null,null,null,null,null,null,null,null,{"$error":"#N/A"},{"$error":"#N/A"},{"$error":"#N/A"},{"$error":"#N/A"},{"$error":"#N/A"},{"$error":"#N/A"},{"$error":"#N/A"},{"$error":"#N/A"},{"$error":"#N/A"},{"$error":"#N/A"},{"$error":"#N/A"},{"$error":"#N/A"},{"$error":"#N/A"},{"$error":"#N/A"}]
[{"$f":"données!W562","v":{"$error":"#N/A"}},{"$f":"données!X562","v":{"$error":"#N/A"}},{"$f":"données!Y562","v":{"$error":"#N/A"}},{"$f":"données!AH562","v":7},{"$error":"#N/A"},{"$error":"#N/A"},null,null,null,null,null,null,null,null,null,null,null,null,null,null,null,null,null,{"$error":"#N/A"},{"$error":"#N/A"},{"$error":"#N/A"},{"$error":"#N/A"},{"$error":"#N/A"},{"$error":"#N/A"},{"$error":"#N/A"},{"$error":"#N/A"},{"$error":"#N/A"},{"$error":"#N/A"},{"$error":"#N/A"},{"$error":"#N/A"},{"$error":"#N/A"},{"$error":"#N/A"}]
[{"$f":"données!W563","v":{"$error":"#N/A"}},{"$f":"données!X563","v":{"$error":"#N/A"}},{"$f":"données!Y563","v":{"$error":"#N/A"}},{"$f":"données!AH563","v":5},{"$error":"#N/A"},{"$error":"#N/A"},null,null,null,null,null,null,null,null,null,null,null,null,null,null,null,null,null,{"$error":"#N/A"},{"$error":"#N/A"},{"$error":"#N/A"},{"$error":"#N/A"},{"$error":"#N/A"},{"$error":"#N/A"},{"$error":"#N/A"},{"$error":"#N/A"},{"$error":"#N/A"},{"$error":"#N/A"},{"$error":"#N/A"},{"$error":"#N/A"},{"$error":"#N/A"},{"$error":"#N/A"}]
[{"$f":"données!W564","v":{"$error":"#N/A"}},{"$f":"données!X564","v":{"$error":"#N/A"}},{"$f":"données!Y564","v":{"$error":"#N/A"}},{"$f":"données!AH564","v":5},{"$error":"#N/A"},{"$error":"#N/A"},null,null,null,null,null,null,null,null,null,null,null,null,null,null,null,null,null,{"$error":"#N/A"},{"$error":"#N/A"},{"$error":"#N/A"},{"$error":"#N/A"},{"$error":"#N/A"},{"$error":"#N/A"},{"$error":"#N/A"},{"$error":"#N/A"},{"$error":"#N/A"},{"$error":"#N/A"},{"$error":"#N/A"},{"$error":"#N/A"},{"$error":"#N/A"},{"$error":"#N/A"}]
[{"$f":"données!W565","v":{"$error":"#N/A"}},{"$f":"données!X565","v":{"$error":"#N/A"}},{"$f":"données!Y565","v":{"$error":"#N/A"}},{"$f":"données!AH565","v":3},{"$error":"#N/A"},{"$error":"#N/A"},null,null,null,null,null,null,null,null,null,null,null,null,null,null,null,null,null,{"$error":"#N/A"},{"$error":"#N/A"},{"$error":"#N/A"},{"$error":"#N/A"},{"$error":"#N/A"},{"$error":"#N/A"},{"$error":"#N/A"},{"$error":"#N/A"},{"$error":"#N/A"},{"$error":"#N/A"},{"$error":"#N/A"},{"$error":"#N/A"},{"$error":"#N/A"},{"$error":"#N/A"}]
[{"$f":"données!W566","v":{"$error":"#N/A"}},{"$f":"données!X566","v":{"$error":"#N/A"}},{"$f":"données!Y566","v":{"$error":"#N/A"}},{"$f":"données!AH566","v":2},{"$error":"#N/A"},{"$error":"#N/A"},null,null,null,null,null,null,null,null,null,null,null,null,null,null,null,null,null,{"$error":"#N/A"},{"$error":"#N/A"},{"$error":"#N/A"},{"$error":"#N/A"},{"$error":"#N/A"},{"$error":"#N/A"},{"$error":"#N/A"},{"$error":"#N/A"},{"$error":"#N/A"},{"$error":"#N/A"},{"$error":"#N/A"},{"$error":"#N/A"},{"$error":"#N/A"},{"$error":"#N/A"}]
[{"$f":"données!W567","v":{"$error":"#N/A"}},{"$f":"données!X567","v":{"$error":"#N/A"}},{"$f":"données!Y567","v":{"$error":"#N/A"}},{"$f":"données!AH567","v":5},{"$error":"#N/A"},{"$error":"#N/A"},null,null,null,null,null,null,null,null,null,null,null,null,null,null,null,null,null,{"$error":"#N/A"},{"$error":"#N/A"},{"$error":"#N/A"},{"$error":"#N/A"},{"$error":"#N/A"},{"$error":"#N/A"},{"$error":"#N/A"},{"$error":"#N/A"},{"$error":"#N/A"},{"$error":"#N/A"},{"$error":"#N/A"},{"$error":"#N/A"},{"$error":"#N/A"},{"$error":"#N/A"}]
[{"$f":"données!W568","v":{"$error":"#N/A"}},{"$f":"données!X568","v":{"$error":"#N/A"}},{"$f":"données!Y568","v":{"$error":"#N/A"}},{"$f":"données!AH568","v":7},{"$error":"#N/A"},{"$error":"#N/A"},null,null,null,null,null,null,null,null,null,null,null,null,null,null,null,null,null,{"$error":"#N/A"},{"$error":"#N/A"},{"$error":"#N/A"},{"$error":"#N/A"},{"$error":"#N/A"},{"$error":"#N/A"},{"$error":"#N/A"},{"$error":"#N/A"},{"$error":"#N/A"},{"$error":"#N/A"},{"$error":"#N/A"},{"$error":"#N/A"},{"$error":"#N/A"},{"$error":"#N/A"}]
[{"$f":"données!W569","v":{"$error":"#N/A"}},{"$f":"données!X569","v":{"$error":"#N/A"}},{"$f":"données!Y569","v":{"$error":"#N/A"}},{"$f":"données!AH569","v":4},{"$error":"#N/A"},{"$error":"#N/A"},null,null,null,null,null,null,null,null,null,null,null,null,null,null,null,null,null,{"$error":"#N/A"},{"$error":"#N/A"},{"$error":"#N/A"},{"$error":"#N/A"},{"$error":"#N/A"},{"$error":"#N/A"},{"$error":"#N/A"},{"$error":"#N/A"},{"$error":"#N/A"},{"$error":"#N/A"},{"$error":"#N/A"},{"$error":"#N/A"},{"$error":"#N/A"},{"$error":"#N/A"}]
[{"$f":"données!W570","v":{"$error":"#N/A"}},{"$f":"données!X570","v":{"$error":"#N/A"}},{"$f":"données!Y570","v":{"$error":"#N/A"}},{"$f":"données!AH570","v":4},{"$error":"#N/A"},{"$error":"#N/A"},null,null,null,null,null,null,null,null,null,null,null,null,null,null,null,null,null,{"$f":"IF($D568=X$1,$E568,#N/A)","v":{"$error":"#N/A"}},{"$f":"IF($D568=Y$1,$F568,#N/A)","v":{"$error":"#N/A"}},{"$error":"#N/A"},{"$error":"#N/A"},{"$error":"#N/A"},{"$error":"#N/A"},{"$error":"#N/A"},{"$error":"#N/A"},{"$error":"#N/A"},{"$error":"#N/A"},{"$error":"#N/A"},{"$error":"#N/A"},{"$error":"#N/A"},{"$error":"#N/A"}]
[{"$f":"données!W571","v":{"$error":"#N/A"}},{"$f":"données!X571","v":{"$error":"#N/A"}},{"$f":"données!Y571","v":{"$error":"#N/A"}},{"$f":"données!AH571","v":1},{"$error":"#N/A"},{"$error":"#N/A"},null,null,null,null,null,null,null,null,null,null,null,null,null,null,null,null,null,{"$error":"#N/A"},{"$error":"#N/A"},{"$error":"#N/A"},{"$error":"#N/A"},{"$error":"#N/A"},{"$error":"#N/A"},{"$error":"#N/A"},{"$error":"#N/A"},{"$error":"#N/A"},{"$error":"#N/A"},{"$error":"#N/A"},{"$error":"#N/A"},{"$error":"#N/A"},{"$error":"#N/A"}]
[{"$f":"données!W572","v":{"$error":"#N/A"}},{"$f":"données!X572","v":{"$error":"#N/A"}},{"$f":"données!Y572","v":{"$error":"#N/A"}},{"$f":"données!AH572","v":7},{"$error":"#N/A"},{"$error":"#N/A"},null,null,null,null,null,null,null,null,null,null,null,null,null,null,null,null,null,{"$error":"#N/A"},{"$error":"#N/A"},{"$error":"#N/A"},{"$error":"#N/A"},{"$error":"#N/A"},{"$error":"#N/A"},{"$error":"#N/A"},{"$error":"#N/A"},{"$error":"#N/A"},{"$error":"#N/A"},{"$error":"#N/A"},{"$error":"#N/A"},{"$error":"#N/A"},{"$error":"#N/A"}]
[{"$f":"données!W573","v":{"$error":"#N/A"}},{"$f":"données!X573","v":{"$error":"#N/A"}},{"$f":"données!Y573","v":{"$error":"#N/A"}},{"$f":"données!AH573","v":2},{"$error":"#N/A"},{"$error":"#N/A"},null,null,null,null,null,null,null,null,null,null,null,null,null,null,null,null,null,{"$error":"#N/A"},{"$error":"#N/A"},{"$error":"#N/A"},{"$error":"#N/A"},{"$error":"#N/A"},{"$error":"#N/A"},{"$error":"#N/A"},{"$error":"#N/A"},{"$error":"#N/A"},{"$error":"#N/A"},{"$error":"#N/A"},{"$error":"#N/A"},{"$error":"#N/A"},{"$error":"#N/A"}]
[{"$f":"données!W574","v":{"$error":"#N/A"}},{"$f":"données!X574","v":{"$error":"#N/A"}},{"$f":"données!Y574","v":{"$error":"#N/A"}},{"$f":"données!AH574","v":2},{"$error":"#N/A"},{"$error":"#N/A"},null,null,null,null,null,null,null,null,null,null,null,null,null,null,null,null,null,{"$error":"#N/A"},{"$error":"#N/A"},{"$error":"#N/A"},{"$error":"#N/A"},{"$error":"#N/A"},{"$error":"#N/A"},{"$error":"#N/A"},{"$error":"#N/A"},{"$error":"#N/A"},{"$error":"#N/A"},{"$error":"#N/A"},{"$error":"#N/A"},{"$error":"#N/A"},{"$error":"#N/A"}]
[{"$f":"données!W575","v":{"$error":"#N/A"}},{"$f":"données!X575","v":{"$error":"#N/A"}},{"$f":"données!Y575","v":{"$error":"#N/A"}},{"$f":"données!AH575","v":2},{"$error":"#N/A"},{"$error":"#N/A"},null,null,null,null,null,null,null,null,null,null,null,null,null,null,null,null,null,{"$error":"#N/A"},{"$error":"#N/A"},{"$error":"#N/A"},{"$error":"#N/A"},{"$error":"#N/A"},{"$error":"#N/A"},{"$error":"#N/A"},{"$error":"#N/A"},{"$error":"#N/A"},{"$error":"#N/A"},{"$error":"#N/A"},{"$error":"#N/A"},{"$error":"#N/A"},{"$error":"#N/A"}]
[{"$f":"données!W576","v":{"$error":"#N/A"}},{"$f":"données!X576","v":{"$error":"#N/A"}},{"$f":"données!Y576","v":{"$error":"#N/A"}},{"$f":"données!AH576","v":7},{"$error":"#N/A"},{"$error":"#N/A"},null,null,null,null,null,null,null,null,null,null,null,null,null,null,null,null,null,{"$error":"#N/A"},{"$error":"#N/A"},{"$error":"#N/A"},{"$error":"#N/A"},{"$error":"#N/A"},{"$error":"#N/A"},{"$error":"#N/A"},{"$error":"#N/A"},{"$error":"#N/A"},{"$error":"#N/A"},{"$error":"#N/A"},{"$error":"#N/A"},{"$error":"#N/A"},{"$error":"#N/A"}]
[{"$f":"données!W577","v":{"$error":"#N/A"}},{"$f":"données!X577","v":{"$error":"#N/A"}},{"$f":"données!Y577","v":{"$error":"#N/A"}},{"$f":"données!AH577","v":4},{"$error":"#N/A"},{"$error":"#N/A"},null,null,null,null,null,null,null,null,null,null,null,null,null,null,null,null,null,{"$error":"#N/A"},{"$error":"#N/A"},{"$error":"#N/A"},{"$error":"#N/A"},{"$error":"#N/A"},{"$error":"#N/A"},{"$error":"#N/A"},{"$error":"#N/A"},{"$error":"#N/A"},{"$error":"#N/A"},{"$error":"#N/A"},{"$error":"#N/A"},{"$error":"#N/A"},{"$error":"#N/A"}]
[{"$f":"données!W578","v":{"$error":"#N/A"}},{"$f":"données!X578","v":{"$error":"#N/A"}},{"$f":"données!Y578","v":{"$error":"#N/A"}},{"$f":"données!AH578","v":3},{"$error":"#N/A"},{"$error":"#N/A"},null,null,null,null,null,null,null,null,null,null,null,null,null,null,null,null,null,{"$error":"#N/A"},{"$error":"#N/A"},{"$error":"#N/A"},{"$error":"#N/A"},{"$error":"#N/A"},{"$error":"#N/A"},{"$error":"#N/A"},{"$error":"#N/A"},{"$error":"#N/A"},{"$error":"#N/A"},{"$error":"#N/A"},{"$error":"#N/A"},{"$error":"#N/A"},{"$error":"#N/A"}]
[{"$f":"données!W579","v":{"$error":"#N/A"}},{"$f":"données!X579","v":{"$error":"#N/A"}},{"$f":"données!Y579","v":{"$error":"#N/A"}},{"$f":"données!AH579","v":1},{"$error":"#N/A"},{"$error":"#N/A"},null,null,null,null,null,null,null,null,null,null,null,null,null,null,null,null,null,{"$error":"#N/A"},{"$error":"#N/A"},{"$error":"#N/A"},{"$error":"#N/A"},{"$error":"#N/A"},{"$error":"#N/A"},{"$error":"#N/A"},{"$error":"#N/A"},{"$error":"#N/A"},{"$error":"#N/A"},{"$error":"#N/A"},{"$error":"#N/A"},{"$error":"#N/A"},{"$error":"#N/A"}]
[{"$f":"données!W580","v":{"$error":"#N/A"}},{"$f":"données!X580","v":{"$error":"#N/A"}},{"$f":"données!Y580","v":{"$error":"#N/A"}},{"$f":"données!AH580","v":4},{"$f":"A578+B578*$I$2","v":{"$error":"#N/A"}},{"$f":"C578+B578*$I$3","v":{"$error":"#N/A"}},null,null,null,null,null,null,null,null,null,null,null,null,null,null,null,null,null,{"$error":"#N/A"},{"$error":"#N/A"},{"$f":"IF($D578=Z$1,$E578,#N/A)","v":{"$error":"#N/A"}},{"$f":"IF($D578=AA$1,$F578,#N/A)","v":{"$error":"#N/A"}},{"$f":"IF($D578=AB$1,$E578,#N/A)","v":{"$error":"#N/A"}},{"$f":"IF($D578=AC$1,$F578,#N/A)","v":{"$error":"#N/A"}},{"$f":"IF($D578=AD$1,$E578,#N/A)","v":{"$error":"#N/A"}},{"$f":"IF($D578=AE$1,$F578,#N/A)","v":{"$error":"#N/A"}},{"$f":"IF($D578=AF$1,$E578,#N/A)","v":{"$error":"#N/A"}},{"$f":"IF($D578=AG$1,$F578,#N/A)","v":{"$error":"#N/A"}},{"$f":"IF($D578=AH$1,$E578,#N/A)","v":{"$error":"#N/A"}},{"$f":"IF($D578=AI$1,$F578,#N/A)","v":{"$error":"#N/A"}},{"$f":"IF($D578=AJ$1,$E578,#N/A)","v":{"$error":"#N/A"}},{"$f":"IF($D578=AK$1,$F578,#N/A)","v":{"$error":"#N/A"}}]
[{"$f":"données!W581","v":{"$error":"#N/A"}},{"$f":"données!X581","v":{"$error":"#N/A"}},{"$f":"données!Y581","v":{"$error":"#N/A"}},{"$f":"données!AH581","v":7},{"$error":"#N/A"},{"$error":"#N/A"},null,null,null,null,null,null,null,null,null,null,null,null,null,null,null,null,null,{"$error":"#N/A"},{"$error":"#N/A"},{"$error":"#N/A"},{"$error":"#N/A"},{"$error":"#N/A"},{"$error":"#N/A"},{"$error":"#N/A"},{"$error":"#N/A"},{"$error":"#N/A"},{"$error":"#N/A"},{"$error":"#N/A"},{"$error":"#N/A"},{"$error":"#N/A"},{"$error":"#N/A"}]
[{"$f":"données!W582","v":{"$error":"#N/A"}},{"$f":"données!X582","v":{"$error":"#N/A"}},{"$f":"données!Y582","v":{"$error":"#N/A"}},{"$f":"données!AH582","v":1},{"$error":"#N/A"},{"$error":"#N/A"},null,null,null,null,null,null,null,null,null,null,null,null,null,null,null,null,null,{"$error":"#N/A"},{"$error":"#N/A"},{"$error":"#N/A"},{"$error":"#N/A"},{"$error":"#N/A"},{"$error":"#N/A"},{"$error":"#N/A"},{"$error":"#N/A"},{"$error":"#N/A"},{"$error":"#N/A"},{"$error":"#N/A"},{"$error":"#N/A"},{"$error":"#N/A"},{"$error":"#N/A"}]
[{"$f":"données!W583","v":{"$error":"#N/A"}},{"$f":"données!X583","v":{"$error":"#N/A"}},{"$f":"données!Y583","v":{"$error":"#N/A"}},{"$f":"données!AH583","v":6},{"$error":"#N/A"},{"$error":"#N/A"},null,null,null,null,null,null,null,null,null,null,null,null,null,null,null,null,null,{"$error":"#N/A"},{"$error":"#N/A"},{"$error":"#N/A"},{"$error":"#N/A"},{"$error":"#N/A"},{"$error":"#N/A"},{"$error":"#N/A"},{"$error":"#N/A"},{"$error":"#N/A"},{"$error":"#N/A"},{"$error":"#N/A"},{"$error":"#N/A"},{"$error":"#N/A"},{"$error":"#N/A"}]
[{"$f":"données!W584","v":{"$error":"#N/A"}},{"$f":"données!X584","v":{"$error":"#N/A"}},{"$f":"données!Y584","v":{"$error":"#N/A"}},{"$f":"données!AH584","v":1},{"$error":"#N/A"},{"$error":"#N/A"},null,null,null,null,null,null,null,null,null,null,null,null,null,null,null,null,null,{"$error":"#N/A"},{"$error":"#N/A"},{"$error":"#N/A"},{"$error":"#N/A"},{"$error":"#N/A"},{"$error":"#N/A"},{"$error":"#N/A"},{"$error":"#N/A"},{"$error":"#N/A"},{"$error":"#N/A"},{"$error":"#N/A"},{"$error":"#N/A"},{"$error":"#N/A"},{"$error":"#N/A"}]
[{"$f":"données!W585","v":{"$error":"#N/A"}},{"$f":"données!X585","v":{"$error":"#N/A"}},{"$f":"données!Y585","v":{"$error":"#N/A"}},{"$f":"données!AH585","v":7},{"$error":"#N/A"},{"$error":"#N/A"},null,null,null,null,null,null,null,null,null,null,null,null,null,null,null,null,null,{"$error":"#N/A"},{"$error":"#N/A"},{"$error":"#N/A"},{"$error":"#N/A"},{"$error":"#N/A"},{"$error":"#N/A"},{"$error":"#N/A"},{"$error":"#N/A"},{"$error":"#N/A"},{"$error":"#N/A"},{"$error":"#N/A"},{"$error":"#N/A"},{"$error":"#N/A"},{"$error":"#N/A"}]
[{"$f":"données!W586","v":{"$error":"#N/A"}},{"$f":"données!X586","v":{"$error":"#N/A"}},{"$f":"données!Y586","v":{"$error":"#N/A"}},{"$f":"données!AH586","v":5},{"$error":"#N/A"},{"$error":"#N/A"},null,null,null,null,null,null,null,null,null,null,null,null,null,null,null,null,null,{"$error":"#N/A"},{"$error":"#N/A"},{"$error":"#N/A"},{"$error":"#N/A"},{"$error":"#N/A"},{"$error":"#N/A"},{"$error":"#N/A"},{"$error":"#N/A"},{"$error":"#N/A"},{"$error":"#N/A"},{"$error":"#N/A"},{"$error":"#N/A"},{"$error":"#N/A"},{"$error":"#N/A"}]
[{"$f":"données!W587","v":{"$error":"#N/A"}},{"$f":"données!X587","v":{"$error":"#N/A"}},{"$f":"données!Y587","v":{"$error":"#N/A"}},{"$f":"données!AH587","v":6},{"$error":"#N/A"},{"$error":"#N/A"},null,null,null,null,null,null,null,null,null,null,null,null,null,null,null,null,null,{"$error":"#N/A"},{"$error":"#N/A"},{"$error":"#N/A"},{"$error":"#N/A"},{"$error":"#N/A"},{"$error":"#N/A"},{"$error":"#N/A"},{"$error":"#N/A"},{"$error":"#N/A"},{"$error":"#N/A"},{"$error":"#N/A"},{"$error":"#N/A"},{"$error":"#N/A"},{"$error":"#N/A"}]
[{"$f":"données!W588","v":{"$error":"#N/A"}},{"$f":"données!X588","v":{"$error":"#N/A"}},{"$f":"données!Y588","v":{"$error":"#N/A"}},{"$f":"données!AH588","v":5},{"$error":"#N/A"},{"$error":"#N/A"},null,null,null,null,null,null,null,null,null,null,null,null,null,null,null,null,null,{"$error":"#N/A"},{"$error":"#N/A"},{"$error":"#N/A"},{"$error":"#N/A"},{"$error":"#N/A"},{"$error":"#N/A"},{"$error":"#N/A"},{"$error":"#N/A"},{"$error":"#N/A"},{"$error":"#N/A"},{"$error":"#N/A"},{"$error":"#N/A"},{"$error":"#N/A"},{"$error":"#N/A"}]
[{"$f":"données!W589","v":{"$error":"#N/A"}},{"$f":"données!X589","v":{"$error":"#N/A"}},{"$f":"données!Y589","v":{"$error":"#N/A"}},{"$f":"données!AH589","v":3},{"$error":"#N/A"},{"$error":"#N/A"},null,null,null,null,null,null,null,null,null,null,null,null,null,null,null,null,null,{"$error":"#N/A"},{"$error":"#N/A"},{"$error":"#N/A"},{"$error":"#N/A"},{"$error":"#N/A"},{"$error":"#N/A"},{"$error":"#N/A"},{"$error":"#N/A"},{"$error":"#N/A"},{"$error":"#N/A"},{"$error":"#N/A"},{"$error":"#N/A"},{"$error":"#N/A"},{"$error":"#N/A"}]
[{"$f":"données!W590","v":{"$error":"#N/A"}},{"$f":"données!X590","v":{"$error":"#N/A"}},{"$f":"données!Y590","v":{"$error":"#N/A"}},{"$f":"données!AH590","v":4},{"$error":"#N/A"},{"$error":"#N/A"},null,null,null,null,null,null,null,null,null,null,null,null,null,null,null,null,null,{"$error":"#N/A"},{"$error":"#N/A"},{"$error":"#N/A"},{"$error":"#N/A"},{"$error":"#N/A"},{"$error":"#N/A"},{"$error":"#N/A"},{"$error":"#N/A"},{"$error":"#N/A"},{"$error":"#N/A"},{"$error":"#N/A"},{"$error":"#N/A"},{"$error":"#N/A"},{"$error":"#N/A"}]
[{"$f":"données!W591","v":{"$error":"#N/A"}},{"$f":"données!X591","v":{"$error":"#N/A"}},{"$f":"données!Y591","v":{"$error":"#N/A"}},{"$f":"données!AH591","v":3},{"$error":"#N/A"},{"$error":"#N/A"},null,null,null,null,null,null,null,null,null,null,null,null,null,null,null,null,null,{"$error":"#N/A"},{"$error":"#N/A"},{"$error":"#N/A"},{"$error":"#N/A"},{"$error":"#N/A"},{"$error":"#N/A"},{"$error":"#N/A"},{"$error":"#N/A"},{"$error":"#N/A"},{"$error":"#N/A"},{"$error":"#N/A"},{"$error":"#N/A"},{"$error":"#N/A"},{"$error":"#N/A"}]
[{"$f":"données!W592","v":{"$error":"#N/A"}},{"$f":"données!X592","v":{"$error":"#N/A"}},{"$f":"données!Y592","v":{"$error":"#N/A"}},{"$f":"données!AH592","v":2},{"$error":"#N/A"},{"$error":"#N/A"},null,null,null,null,null,null,null,null,null,null,null,null,null,null,null,null,null,{"$error":"#N/A"},{"$error":"#N/A"},{"$error":"#N/A"},{"$error":"#N/A"},{"$error":"#N/A"},{"$error":"#N/A"},{"$error":"#N/A"},{"$error":"#N/A"},{"$error":"#N/A"},{"$error":"#N/A"},{"$error":"#N/A"},{"$error":"#N/A"},{"$error":"#N/A"},{"$error":"#N/A"}]
[{"$f":"données!W593","v":{"$error":"#N/A"}},{"$f":"données!X593","v":{"$error":"#N/A"}},{"$f":"données!Y593","v":{"$error":"#N/A"}},{"$f":"données!AH593","v":2},{"$error":"#N/A"},{"$error":"#N/A"},null,null,null,null,null,null,null,null,null,null,null,null,null,null,null,null,null,{"$error":"#N/A"},{"$error":"#N/A"},{"$error":"#N/A"},{"$error":"#N/A"},{"$error":"#N/A"},{"$error":"#N/A"},{"$error":"#N/A"},{"$error":"#N/A"},{"$error":"#N/A"},{"$error":"#N/A"},{"$error":"#N/A"},{"$error":"#N/A"},{"$error":"#N/A"},{"$error":"#N/A"}]
[{"$f":"données!W594","v":{"$error":"#N/A"}},{"$f":"données!X594","v":{"$error":"#N/A"}},{"$f":"données!Y594","v":{"$error":"#N/A"}},{"$f":"données!AH594","v":3},{"$error":"#N/A"},{"$error":"#N/A"},null,null,null,null,null,null,null,null,null,null,null,null,null,null,null,null,null,{"$error":"#N/A"},{"$error":"#N/A"},{"$error":"#N/A"},{"$error":"#N/A"},{"$error":"#N/A"},{"$error":"#N/A"},{"$error":"#N/A"},{"$error":"#N/A"},{"$error":"#N/A"},{"$error":"#N/A"},{"$error":"#N/A"},{"$error":"#N/A"},{"$error":"#N/A"},{"$error":"#N/A"}]
[{"$f":"données!W595","v":{"$error":"#N/A"}},{"$f":"données!X595","v":{"$error":"#N/A"}},{"$f":"données!Y595","v":{"$error":"#N/A"}},{"$f":"données!AH595","v":3},{"$error":"#N/A"},{"$error":"#N/A"},null,null,null,null,null,null,null,null,null,null,null,null,null,null,null,null,null,{"$error":"#N/A"},{"$error":"#N/A"},{"$error":"#N/A"},{"$error":"#N/A"},{"$error":"#N/A"},{"$error":"#N/A"},{"$error":"#N/A"},{"$error":"#N/A"},{"$error":"#N/A"},{"$error":"#N/A"},{"$error":"#N/A"},{"$error":"#N/A"},{"$error":"#N/A"},{"$error":"#N/A"}]
[{"$f":"données!W596","v":{"$error":"#N/A"}},{"$f":"données!X596","v":{"$error":"#N/A"}},{"$f":"données!Y596","v":{"$error":"#N/A"}},{"$f":"données!AH596","v":1},{"$error":"#N/A"},{"$error":"#N/A"},null,null,null,null,null,null,null,null,null,null,null,null,null,null,null,null,null,{"$error":"#N/A"},{"$error":"#N/A"},{"$error":"#N/A"},{"$error":"#N/A"},{"$error":"#N/A"},{"$error":"#N/A"},{"$error":"#N/A"},{"$error":"#N/A"},{"$error":"#N/A"},{"$error":"#N/A"},{"$error":"#N/A"},{"$error":"#N/A"},{"$error":"#N/A"},{"$error":"#N/A"}]
[{"$f":"données!W597","v":{"$error":"#N/A"}},{"$f":"données!X597","v":{"$error":"#N/A"}},{"$f":"données!Y597","v":{"$error":"#N/A"}},{"$f":"données!AH597","v":7},{"$error":"#N/A"},{"$error":"#N/A"},null,null,null,null,null,null,null,null,null,null,null,null,null,null,null,null,null,{"$error":"#N/A"},{"$error":"#N/A"},{"$error":"#N/A"},{"$error":"#N/A"},{"$error":"#N/A"},{"$error":"#N/A"},{"$error":"#N/A"},{"$error":"#N/A"},{"$error":"#N/A"},{"$error":"#N/A"},{"$error":"#N/A"},{"$error":"#N/A"},{"$error":"#N/A"},{"$error":"#N/A"}]
[{"$f":"données!W598","v":{"$error":"#N/A"}},{"$f":"données!X598","v":{"$error":"#N/A"}},{"$f":"données!Y598","v":{"$error":"#N/A"}},{"$f":"données!AH598","v":1},{"$error":"#N/A"},{"$error":"#N/A"},null,null,null,null,null,null,null,null,null,null,null,null,null,null,null,null,null,{"$error":"#N/A"},{"$error":"#N/A"},{"$error":"#N/A"},{"$error":"#N/A"},{"$error":"#N/A"},{"$error":"#N/A"},{"$error":"#N/A"},{"$error":"#N/A"},{"$error":"#N/A"},{"$error":"#N/A"},{"$error":"#N/A"},{"$error":"#N/A"},{"$error":"#N/A"},{"$error":"#N/A"}]
[{"$f":"données!W599","v":{"$error":"#N/A"}},{"$f":"données!X599","v":{"$error":"#N/A"}},{"$f":"données!Y599","v":{"$error":"#N/A"}},{"$f":"données!AH599","v":5},{"$error":"#N/A"},{"$error":"#N/A"},null,null,null,null,null,null,null,null,null,null,null,null,null,null,null,null,null,{"$error":"#N/A"},{"$error":"#N/A"},{"$error":"#N/A"},{"$error":"#N/A"},{"$error":"#N/A"},{"$error":"#N/A"},{"$error":"#N/A"},{"$error":"#N/A"},{"$error":"#N/A"},{"$error":"#N/A"},{"$error":"#N/A"},{"$error":"#N/A"},{"$error":"#N/A"},{"$error":"#N/A"}]
[{"$f":"données!W600","v":{"$error":"#N/A"}},{"$f":"données!X600","v":{"$error":"#N/A"}},{"$f":"données!Y600","v":{"$error":"#N/A"}},{"$f":"données!AH600","v":4},{"$error":"#N/A"},{"$error":"#N/A"},null,null,null,null,null,null,null,null,null,null,null,null,null,null,null,null,null,{"$error":"#N/A"},{"$error":"#N/A"},{"$error":"#N/A"},{"$error":"#N/A"},{"$error":"#N/A"},{"$error":"#N/A"},{"$error":"#N/A"},{"$error":"#N/A"},{"$error":"#N/A"},{"$error":"#N/A"},{"$error":"#N/A"},{"$error":"#N/A"},{"$error":"#N/A"},{"$error":"#N/A"}]
[{"$f":"données!W601","v":{"$error":"#N/A"}},{"$f":"données!X601","v":{"$error":"#N/A"}},{"$f":"données!Y601","v":{"$error":"#N/A"}},{"$f":"données!AH601","v":6},{"$error":"#N/A"},{"$error":"#N/A"},null,null,null,null,null,null,null,null,null,null,null,null,null,null,null,null,null,{"$error":"#N/A"},{"$error":"#N/A"},{"$error":"#N/A"},{"$error":"#N/A"},{"$error":"#N/A"},{"$error":"#N/A"},{"$error":"#N/A"},{"$error":"#N/A"},{"$error":"#N/A"},{"$error":"#N/A"},{"$error":"#N/A"},{"$error":"#N/A"},{"$error":"#N/A"},{"$error":"#N/A"}]
[{"$f":"données!W602","v":{"$error":"#N/A"}},{"$f":"données!X602","v":{"$error":"#N/A"}},{"$f":"données!Y602","v":{"$error":"#N/A"}},{"$f":"données!AH602","v":4},{"$error":"#N/A"},{"$error":"#N/A"},null,null,null,null,null,null,null,null,null,null,null,null,null,null,null,null,null,{"$error":"#N/A"},{"$error":"#N/A"},{"$error":"#N/A"},{"$error":"#N/A"},{"$error":"#N/A"},{"$error":"#N/A"},{"$error":"#N/A"},{"$error":"#N/A"},{"$error":"#N/A"},{"$error":"#N/A"},{"$error":"#N/A"},{"$error":"#N/A"},{"$error":"#N/A"},{"$error":"#N/A"}]
[{"$f":"données!W603","v":{"$error":"#N/A"}},{"$f":"données!X603","v":{"$error":"#N/A"}},{"$f":"données!Y603","v":{"$error":"#N/A"}},{"$f":"données!AH603","v":5},{"$error":"#N/A"},{"$error":"#N/A"},null,null,null,null,null,null,null,null,null,null,null,null,null,null,null,null,null,{"$error":"#N/A"},{"$error":"#N/A"},{"$error":"#N/A"},{"$error":"#N/A"},{"$error":"#N/A"},{"$error":"#N/A"},{"$error":"#N/A"},{"$error":"#N/A"},{"$error":"#N/A"},{"$error":"#N/A"},{"$error":"#N/A"},{"$error":"#N/A"},{"$error":"#N/A"},{"$error":"#N/A"}]
[{"$f":"données!W604","v":{"$error":"#N/A"}},{"$f":"données!X604","v":{"$error":"#N/A"}},{"$f":"données!Y604","v":{"$error":"#N/A"}},{"$f":"données!AH604","v":4},{"$error":"#N/A"},{"$error":"#N/A"},null,null,null,null,null,null,null,null,null,null,null,null,null,null,null,null,null,{"$error":"#N/A"},{"$error":"#N/A"},{"$error":"#N/A"},{"$error":"#N/A"},{"$error":"#N/A"},{"$error":"#N/A"},{"$error":"#N/A"},{"$error":"#N/A"},{"$error":"#N/A"},{"$error":"#N/A"},{"$error":"#N/A"},{"$error":"#N/A"},{"$error":"#N/A"},{"$error":"#N/A"}]
[{"$f":"données!W605","v":{"$error":"#N/A"}},{"$f":"données!X605","v":{"$error":"#N/A"}},{"$f":"données!Y605","v":{"$error":"#N/A"}},{"$f":"données!AH605","v":5},{"$error":"#N/A"},{"$error":"#N/A"},null,null,null,null,null,null,null,null,null,null,null,null,null,null,null,null,null,{"$error":"#N/A"},{"$error":"#N/A"},{"$error":"#N/A"},{"$error":"#N/A"},{"$error":"#N/A"},{"$error":"#N/A"},{"$error":"#N/A"},{"$error":"#N/A"},{"$error":"#N/A"},{"$error":"#N/A"},{"$error":"#N/A"},{"$error":"#N/A"},{"$error":"#N/A"},{"$error":"#N/A"}]
[{"$f":"données!W606","v":{"$error":"#N/A"}},{"$f":"données!X606","v":{"$error":"#N/A"}},{"$f":"données!Y606","v":{"$error":"#N/A"}},{"$f":"données!AH606","v":2},{"$error":"#N/A"},{"$error":"#N/A"},null,null,null,null,null,null,null,null,null,null,null,null,null,null,null,null,null,{"$error":"#N/A"},{"$error":"#N/A"},{"$error":"#N/A"},{"$error":"#N/A"},{"$error":"#N/A"},{"$error":"#N/A"},{"$error":"#N/A"},{"$error":"#N/A"},{"$error":"#N/A"},{"$error":"#N/A"},{"$error":"#N/A"},{"$error":"#N/A"},{"$error":"#N/A"},{"$error":"#N/A"}]
[{"$f":"données!W607","v":{"$error":"#N/A"}},{"$f":"données!X607","v":{"$error":"#N/A"}},{"$f":"données!Y607","v":{"$error":"#N/A"}},{"$f":"données!AH607","v":1},{"$error":"#N/A"},{"$error":"#N/A"},null,null,null,null,null,null,null,null,null,null,null,null,null,null,null,null,null,{"$error":"#N/A"},{"$error":"#N/A"},{"$error":"#N/A"},{"$error":"#N/A"},{"$error":"#N/A"},{"$error":"#N/A"},{"$error":"#N/A"},{"$error":"#N/A"},{"$error":"#N/A"},{"$error":"#N/A"},{"$error":"#N/A"},{"$error":"#N/A"},{"$error":"#N/A"},{"$error":"#N/A"}]
[{"$f":"données!W608","v":{"$error":"#N/A"}},{"$f":"données!X608","v":{"$error":"#N/A"}},{"$f":"données!Y608","v":{"$error":"#N/A"}},{"$f":"données!AH608","v":7},{"$error":"#N/A"},{"$error":"#N/A"},null,null,null,null,null,null,null,null,null,null,null,null,null,null,null,null,null,{"$error":"#N/A"},{"$error":"#N/A"},{"$error":"#N/A"},{"$error":"#N/A"},{"$error":"#N/A"},{"$error":"#N/A"},{"$error":"#N/A"},{"$error":"#N/A"},{"$error":"#N/A"},{"$error":"#N/A"},{"$error":"#N/A"},{"$error":"#N/A"},{"$error":"#N/A"},{"$error":"#N/A"}]
[{"$f":"données!W609","v":{"$error":"#N/A"}},{"$f":"données!X609","v":{"$error":"#N/A"}},{"$f":"données!Y609","v":{"$error":"#N/A"}},{"$f":"données!AH609","v":1},{"$error":"#N/A"},{"$error":"#N/A"},null,null,null,null,null,null,null,null,null,null,null,null,null,null,null,null,null,{"$error":"#N/A"},{"$error":"#N/A"},{"$error":"#N/A"},{"$error":"#N/A"},{"$error":"#N/A"},{"$error":"#N/A"},{"$error":"#N/A"},{"$error":"#N/A"},{"$error":"#N/A"},{"$error":"#N/A"},{"$error":"#N/A"},{"$error":"#N/A"},{"$error":"#N/A"},{"$error":"#N/A"}]
[{"$f":"données!W610","v":{"$error":"#N/A"}},{"$f":"données!X610","v":{"$error":"#N/A"}},{"$f":"données!Y610","v":{"$error":"#N/A"}},{"$f":"données!AH610","v":3},{"$error":"#N/A"},{"$error":"#N/A"},null,null,null,null,null,null,null,null,null,null,null,null,null,null,null,null,null,{"$error":"#N/A"},{"$error":"#N/A"},{"$error":"#N/A"},{"$error":"#N/A"},{"$error":"#N/A"},{"$error":"#N/A"},{"$error":"#N/A"},{"$error":"#N/A"},{"$error":"#N/A"},{"$error":"#N/A"},{"$error":"#N/A"},{"$error":"#N/A"},{"$error":"#N/A"},{"$error":"#N/A"}]
[{"$f":"données!W611","v":{"$error":"#N/A"}},{"$f":"données!X611","v":{"$error":"#N/A"}},{"$f":"données!Y611","v":{"$error":"#N/A"}},{"$f":"données!AH611","v":3},{"$error":"#N/A"},{"$error":"#N/A"},null,null,null,null,null,null,null,null,null,null,null,null,null,null,null,null,null,{"$error":"#N/A"},{"$error":"#N/A"},{"$error":"#N/A"},{"$error":"#N/A"},{"$error":"#N/A"},{"$error":"#N/A"},{"$error":"#N/A"},{"$error":"#N/A"},{"$error":"#N/A"},{"$error":"#N/A"},{"$error":"#N/A"},{"$error":"#N/A"},{"$error":"#N/A"},{"$error":"#N/A"}]
[{"$f":"données!W612","v":{"$error":"#N/A"}},{"$f":"données!X612","v":{"$error":"#N/A"}},{"$f":"données!Y612","v":{"$error":"#N/A"}},{"$f":"données!AH612","v":5},{"$error":"#N/A"},{"$error":"#N/A"},null,null,null,null,null,null,null,null,null,null,null,null,null,null,null,null,null,{"$error":"#N/A"},{"$error":"#N/A"},{"$error":"#N/A"},{"$error":"#N/A"},{"$error":"#N/A"},{"$error":"#N/A"},{"$error":"#N/A"},{"$error":"#N/A"},{"$error":"#N/A"},{"$error":"#N/A"},{"$error":"#N/A"},{"$error":"#N/A"},{"$error":"#N/A"},{"$error":"#N/A"}]
[{"$f":"données!W613","v":{"$error":"#N/A"}},{"$f":"données!X613","v":{"$error":"#N/A"}},{"$f":"données!Y613","v":{"$error":"#N/A"}},{"$f":"données!AH613","v":4},{"$error":"#N/A"},{"$error":"#N/A"},null,null,null,null,null,null,null,null,null,null,null,null,null,null,null,null,null,{"$error":"#N/A"},{"$error":"#N/A"},{"$error":"#N/A"},{"$error":"#N/A"},{"$error":"#N/A"},{"$error":"#N/A"},{"$error":"#N/A"},{"$error":"#N/A"},{"$error":"#N/A"},{"$error":"#N/A"},{"$error":"#N/A"},{"$error":"#N/A"},{"$error":"#N/A"},{"$error":"#N/A"}]
[{"$f":"données!W614","v":{"$error":"#N/A"}},{"$f":"données!X614","v":{"$error":"#N/A"}},{"$f":"données!Y614","v":{"$error":"#N/A"}},{"$f":"données!AH614","v":3},{"$error":"#N/A"},{"$error":"#N/A"},null,null,null,null,null,null,null,null,null,null,null,null,null,null,null,null,null,{"$error":"#N/A"},{"$error":"#N/A"},{"$error":"#N/A"},{"$error":"#N/A"},{"$error":"#N/A"},{"$error":"#N/A"},{"$error":"#N/A"},{"$error":"#N/A"},{"$error":"#N/A"},{"$error":"#N/A"},{"$error":"#N/A"},{"$error":"#N/A"},{"$error":"#N/A"},{"$error":"#N/A"}]
[{"$f":"données!W615","v":{"$error":"#N/A"}},{"$f":"données!X615","v":{"$error":"#N/A"}},{"$f":"données!Y615","v":{"$error":"#N/A"}},{"$f":"données!AH615","v":3},{"$error":"#N/A"},{"$error":"#N/A"},null,null,null,null,null,null,null,null,null,null,null,null,null,null,null,null,null,{"$error":"#N/A"},{"$error":"#N/A"},{"$error":"#N/A"},{"$error":"#N/A"},{"$error":"#N/A"},{"$error":"#N/A"},{"$error":"#N/A"},{"$error":"#N/A"},{"$error":"#N/A"},{"$error":"#N/A"},{"$error":"#N/A"},{"$error":"#N/A"},{"$error":"#N/A"},{"$error":"#N/A"}]
[{"$f":"données!W616","v":{"$error":"#N/A"}},{"$f":"données!X616","v":{"$error":"#N/A"}},{"$f":"données!Y616","v":{"$error":"#N/A"}},{"$f":"données!AH616","v":7},{"$error":"#N/A"},{"$error":"#N/A"},null,null,null,null,null,null,null,null,null,null,null,null,null,null,null,null,null,{"$error":"#N/A"},{"$error":"#N/A"},{"$error":"#N/A"},{"$error":"#N/A"},{"$error":"#N/A"},{"$error":"#N/A"},{"$error":"#N/A"},{"$error":"#N/A"},{"$error":"#N/A"},{"$error":"#N/A"},{"$error":"#N/A"},{"$error":"#N/A"},{"$error":"#N/A"},{"$error":"#N/A"}]
[{"$f":"données!W617","v":{"$error":"#N/A"}},{"$f":"données!X617","v":{"$error":"#N/A"}},{"$f":"données!Y617","v":{"$error":"#N/A"}},{"$f":"données!AH617","v":4},{"$error":"#N/A"},{"$error":"#N/A"},null,null,null,null,null,null,null,null,null,null,null,null,null,null,null,null,null,{"$error":"#N/A"},{"$error":"#N/A"},{"$error":"#N/A"},{"$error":"#N/A"},{"$error":"#N/A"},{"$error":"#N/A"},{"$error":"#N/A"},{"$error":"#N/A"},{"$error":"#N/A"},{"$error":"#N/A"},{"$error":"#N/A"},{"$error":"#N/A"},{"$error":"#N/A"},{"$error":"#N/A"}]
[{"$f":"données!W618","v":{"$error":"#N/A"}},{"$f":"données!X618","v":{"$error":"#N/A"}},{"$f":"données!Y618","v":{"$error":"#N/A"}},{"$f":"données!AH618","v":2},{"$error":"#N/A"},{"$error":"#N/A"},null,null,null,null,null,null,null,null,null,null,null,null,null,null,null,null,null,{"$error":"#N/A"},{"$error":"#N/A"},{"$error":"#N/A"},{"$error":"#N/A"},{"$error":"#N/A"},{"$error":"#N/A"},{"$error":"#N/A"},{"$error":"#N/A"},{"$error":"#N/A"},{"$error":"#N/A"},{"$error":"#N/A"},{"$error":"#N/A"},{"$error":"#N/A"},{"$error":"#N/A"}]
[{"$f":"données!W619","v":{"$error":"#N/A"}},{"$f":"données!X619","v":{"$error":"#N/A"}},{"$f":"données!Y619","v":{"$error":"#N/A"}},{"$f":"données!AH619","v":6},{"$error":"#N/A"},{"$error":"#N/A"},null,null,null,null,null,null,null,null,null,null,null,null,null,null,null,null,null,{"$error":"#N/A"},{"$error":"#N/A"},{"$error":"#N/A"},{"$error":"#N/A"},{"$error":"#N/A"},{"$error":"#N/A"},{"$error":"#N/A"},{"$error":"#N/A"},{"$error":"#N/A"},{"$error":"#N/A"},{"$error":"#N/A"},{"$error":"#N/A"},{"$error":"#N/A"},{"$error":"#N/A"}]
[{"$f":"données!W620","v":{"$error":"#N/A"}},{"$f":"données!X620","v":{"$error":"#N/A"}},{"$f":"données!Y620","v":{"$error":"#N/A"}},{"$f":"données!AH620","v":7},{"$error":"#N/A"},{"$error":"#N/A"},null,null,null,null,null,null,null,null,null,null,null,null,null,null,null,null,null,{"$error":"#N/A"},{"$error":"#N/A"},{"$error":"#N/A"},{"$error":"#N/A"},{"$error":"#N/A"},{"$error":"#N/A"},{"$error":"#N/A"},{"$error":"#N/A"},{"$error":"#N/A"},{"$error":"#N/A"},{"$error":"#N/A"},{"$error":"#N/A"},{"$error":"#N/A"},{"$error":"#N/A"}]
[{"$f":"données!W621","v":{"$error":"#N/A"}},{"$f":"données!X621","v":{"$error":"#N/A"}},{"$f":"données!Y621","v":{"$error":"#N/A"}},{"$f":"données!AH621","v":4},{"$error":"#N/A"},{"$error":"#N/A"},null,null,null,null,null,null,null,null,null,null,null,null,null,null,null,null,null,{"$error":"#N/A"},{"$error":"#N/A"},{"$error":"#N/A"},{"$error":"#N/A"},{"$error":"#N/A"},{"$error":"#N/A"},{"$error":"#N/A"},{"$error":"#N/A"},{"$error":"#N/A"},{"$error":"#N/A"},{"$error":"#N/A"},{"$error":"#N/A"},{"$error":"#N/A"},{"$error":"#N/A"}]
[{"$f":"données!W622","v":{"$error":"#N/A"}},{"$f":"données!X622","v":{"$error":"#N/A"}},{"$f":"données!Y622","v":{"$error":"#N/A"}},{"$f":"données!AH622","v":7},{"$error":"#N/A"},{"$error":"#N/A"},null,null,null,null,null,null,null,null,null,null,null,null,null,null,null,null,null,{"$error":"#N/A"},{"$error":"#N/A"},{"$error":"#N/A"},{"$error":"#N/A"},{"$error":"#N/A"},{"$error":"#N/A"},{"$error":"#N/A"},{"$error":"#N/A"},{"$error":"#N/A"},{"$error":"#N/A"},{"$error":"#N/A"},{"$error":"#N/A"},{"$error":"#N/A"},{"$error":"#N/A"}]
[{"$f":"données!W623","v":{"$error":"#N/A"}},{"$f":"données!X623","v":{"$error":"#N/A"}},{"$f":"données!Y623","v":{"$error":"#N/A"}},{"$f":"données!AH623","v":7},{"$error":"#N/A"},{"$error":"#N/A"},null,null,null,null,null,null,null,null,null,null,null,null,null,null,null,null,null,{"$error":"#N/A"},{"$error":"#N/A"},{"$error":"#N/A"},{"$error":"#N/A"},{"$error":"#N/A"},{"$error":"#N/A"},{"$error":"#N/A"},{"$error":"#N/A"},{"$error":"#N/A"},{"$error":"#N/A"},{"$error":"#N/A"},{"$error":"#N/A"},{"$error":"#N/A"},{"$error":"#N/A"}]
[{"$f":"données!W624","v":{"$error":"#N/A"}},{"$f":"données!X624","v":{"$error":"#N/A"}},{"$f":"données!Y624","v":{"$error":"#N/A"}},{"$f":"données!AH624","v":2},{"$error":"#N/A"},{"$error":"#N/A"},null,null,null,null,null,null,null,null,null,null,null,null,null,null,null,null,null,{"$error":"#N/A"},{"$error":"#N/A"},{"$error":"#N/A"},{"$error":"#N/A"},{"$error":"#N/A"},{"$error":"#N/A"},{"$error":"#N/A"},{"$error":"#N/A"},{"$error":"#N/A"},{"$error":"#N/A"},{"$error":"#N/A"},{"$error":"#N/A"},{"$error":"#N/A"},{"$error":"#N/A"}]
[{"$f":"données!W625","v":{"$error":"#N/A"}},{"$f":"données!X625","v":{"$error":"#N/A"}},{"$f":"données!Y625","v":{"$error":"#N/A"}},{"$f":"données!AH625","v":3},{"$error":"#N/A"},{"$error":"#N/A"},null,null,null,null,null,null,null,null,null,null,null,null,null,null,null,null,null,{"$error":"#N/A"},{"$error":"#N/A"},{"$error":"#N/A"},{"$error":"#N/A"},{"$error":"#N/A"},{"$error":"#N/A"},{"$error":"#N/A"},{"$error":"#N/A"},{"$error":"#N/A"},{"$error":"#N/A"},{"$error":"#N/A"},{"$error":"#N/A"},{"$error":"#N/A"},{"$error":"#N/A"}]
[{"$f":"données!W626","v":{"$error":"#N/A"}},{"$f":"données!X626","v":{"$error":"#N/A"}},{"$f":"données!Y626","v":{"$error":"#N/A"}},{"$f":"données!AH626","v":5},{"$error":"#N/A"},{"$error":"#N/A"},null,null,null,null,null,null,null,null,null,null,null,null,null,null,null,null,null,{"$error":"#N/A"},{"$error":"#N/A"},{"$error":"#N/A"},{"$error":"#N/A"},{"$error":"#N/A"},{"$error":"#N/A"},{"$error":"#N/A"},{"$error":"#N/A"},{"$error":"#N/A"},{"$error":"#N/A"},{"$error":"#N/A"},{"$error":"#N/A"},{"$error":"#N/A"},{"$error":"#N/A"}]
[{"$f":"données!W627","v":{"$error":"#N/A"}},{"$f":"données!X627","v":{"$error":"#N/A"}},{"$f":"données!Y627","v":{"$error":"#N/A"}},{"$f":"données!AH627","v":4},{"$error":"#N/A"},{"$error":"#N/A"},null,null,null,null,null,null,null,null,null,null,null,null,null,null,null,null,null,{"$error":"#N/A"},{"$error":"#N/A"},{"$error":"#N/A"},{"$error":"#N/A"},{"$error":"#N/A"},{"$error":"#N/A"},{"$error":"#N/A"},{"$error":"#N/A"},{"$error":"#N/A"},{"$error":"#N/A"},{"$error":"#N/A"},{"$error":"#N/A"},{"$error":"#N/A"},{"$error":"#N/A"}]
[{"$f":"données!W628","v":{"$error":"#N/A"}},{"$f":"données!X628","v":{"$error":"#N/A"}},{"$f":"données!Y628","v":{"$error":"#N/A"}},{"$f":"données!AH628","v":1},{"$error":"#N/A"},{"$error":"#N/A"},null,null,null,null,null,null,null,null,null,null,null,null,null,null,null,null,null,{"$error":"#N/A"},{"$error":"#N/A"},{"$error":"#N/A"},{"$error":"#N/A"},{"$error":"#N/A"},{"$error":"#N/A"},{"$error":"#N/A"},{"$error":"#N/A"},{"$error":"#N/A"},{"$error":"#N/A"},{"$error":"#N/A"},{"$error":"#N/A"},{"$error":"#N/A"},{"$error":"#N/A"}]
[{"$f":"données!W629","v":{"$error":"#N/A"}},{"$f":"données!X629","v":{"$error":"#N/A"}},{"$f":"données!Y629","v":{"$error":"#N/A"}},{"$f":"données!AH629","v":1},{"$error":"#N/A"},{"$error":"#N/A"},null,null,null,null,null,null,null,null,null,null,null,null,null,null,null,null,null,{"$error":"#N/A"},{"$error":"#N/A"},{"$error":"#N/A"},{"$error":"#N/A"},{"$error":"#N/A"},{"$error":"#N/A"},{"$error":"#N/A"},{"$error":"#N/A"},{"$error":"#N/A"},{"$error":"#N/A"},{"$error":"#N/A"},{"$error":"#N/A"},{"$error":"#N/A"},{"$error":"#N/A"}]
[{"$f":"données!W630","v":{"$error":"#N/A"}},{"$f":"données!X630","v":{"$error":"#N/A"}},{"$f":"données!Y630","v":{"$error":"#N/A"}},{"$f":"données!AH630","v":4},{"$error":"#N/A"},{"$error":"#N/A"},null,null,null,null,null,null,null,null,null,null,null,null,null,null,null,null,null,{"$error":"#N/A"},{"$error":"#N/A"},{"$error":"#N/A"},{"$error":"#N/A"},{"$error":"#N/A"},{"$error":"#N/A"},{"$error":"#N/A"},{"$error":"#N/A"},{"$error":"#N/A"},{"$error":"#N/A"},{"$error":"#N/A"},{"$error":"#N/A"},{"$error":"#N/A"},{"$error":"#N/A"}]
[{"$f":"données!W631","v":{"$error":"#N/A"}},{"$f":"données!X631","v":{"$error":"#N/A"}},{"$f":"données!Y631","v":{"$error":"#N/A"}},{"$f":"données!AH631","v":5},{"$error":"#N/A"},{"$error":"#N/A"},null,null,null,null,null,null,null,null,null,null,null,null,null,null,null,null,null,{"$error":"#N/A"},{"$error":"#N/A"},{"$error":"#N/A"},{"$error":"#N/A"},{"$error":"#N/A"},{"$error":"#N/A"},{"$error":"#N/A"},{"$error":"#N/A"},{"$error":"#N/A"},{"$error":"#N/A"},{"$error":"#N/A"},{"$error":"#N/A"},{"$error":"#N/A"},{"$error":"#N/A"}]
[{"$f":"données!W632","v":{"$error":"#N/A"}},{"$f":"données!X632","v":{"$error":"#N/A"}},{"$f":"données!Y632","v":{"$error":"#N/A"}},{"$f":"données!AH632","v":5},{"$error":"#N/A"},{"$error":"#N/A"},null,null,null,null,null,null,null,null,null,null,null,null,null,null,null,null,null,{"$error":"#N/A"},{"$error":"#N/A"},{"$error":"#N/A"},{"$error":"#N/A"},{"$error":"#N/A"},{"$error":"#N/A"},{"$error":"#N/A"},{"$error":"#N/A"},{"$error":"#N/A"},{"$error":"#N/A"},{"$error":"#N/A"},{"$error":"#N/A"},{"$error":"#N/A"},{"$error":"#N/A"}]
[{"$f":"données!W633","v":{"$error":"#N/A"}},{"$f":"données!X633","v":{"$error":"#N/A"}},{"$f":"données!Y633","v":{"$error":"#N/A"}},{"$f":"données!AH633","v":5},{"$error":"#N/A"},{"$error":"#N/A"},null,null,null,null,null,null,null,null,null,null,null,null,null,null,null,null,null,{"$error":"#N/A"},{"$error":"#N/A"},{"$error":"#N/A"},{"$error":"#N/A"},{"$error":"#N/A"},{"$error":"#N/A"},{"$error":"#N/A"},{"$error":"#N/A"},{"$error":"#N/A"},{"$error":"#N/A"},{"$error":"#N/A"},{"$error":"#N/A"},{"$error":"#N/A"},{"$error":"#N/A"}]
[{"$f":"données!W634","v":{"$error":"#N/A"}},{"$f":"données!X634","v":{"$error":"#N/A"}},{"$f":"données!Y634","v":{"$error":"#N/A"}},{"$f":"données!AH634","v":3},{"$error":"#N/A"},{"$error":"#N/A"},null,null,null,null,null,null,null,null,null,null,null,null,null,null,null,null,null,{"$f":"IF($D632=X$1,$E632,#N/A)","v":{"$error":"#N/A"}},{"$f":"IF($D632=Y$1,$F632,#N/A)","v":{"$error":"#N/A"}},{"$error":"#N/A"},{"$error":"#N/A"},{"$error":"#N/A"},{"$error":"#N/A"},{"$error":"#N/A"},{"$error":"#N/A"},{"$error":"#N/A"},{"$error":"#N/A"},{"$error":"#N/A"},{"$error":"#N/A"},{"$error":"#N/A"},{"$error":"#N/A"}]
[{"$f":"données!W635","v":{"$error":"#N/A"}},{"$f":"données!X635","v":{"$error":"#N/A"}},{"$f":"données!Y635","v":{"$error":"#N/A"}},{"$f":"données!AH635","v":5},{"$error":"#N/A"},{"$error":"#N/A"},null,null,null,null,null,null,null,null,null,null,null,null,null,null,null,null,null,{"$error":"#N/A"},{"$error":"#N/A"},{"$error":"#N/A"},{"$error":"#N/A"},{"$error":"#N/A"},{"$error":"#N/A"},{"$error":"#N/A"},{"$error":"#N/A"},{"$error":"#N/A"},{"$error":"#N/A"},{"$error":"#N/A"},{"$error":"#N/A"},{"$error":"#N/A"},{"$error":"#N/A"}]
[{"$f":"données!W636","v":{"$error":"#N/A"}},{"$f":"données!X636","v":{"$error":"#N/A"}},{"$f":"données!Y636","v":{"$error":"#N/A"}},{"$f":"données!AH636","v":3},{"$error":"#N/A"},{"$error":"#N/A"},null,null,null,null,null,null,null,null,null,null,null,null,null,null,null,null,null,{"$error":"#N/A"},{"$error":"#N/A"},{"$error":"#N/A"},{"$error":"#N/A"},{"$error":"#N/A"},{"$error":"#N/A"},{"$error":"#N/A"},{"$error":"#N/A"},{"$error":"#N/A"},{"$error":"#N/A"},{"$error":"#N/A"},{"$error":"#N/A"},{"$error":"#N/A"},{"$error":"#N/A"}]
[{"$f":"données!W637","v":{"$error":"#N/A"}},{"$f":"données!X637","v":{"$error":"#N/A"}},{"$f":"données!Y637","v":{"$error":"#N/A"}},{"$f":"données!AH637","v":5},{"$error":"#N/A"},{"$error":"#N/A"},null,null,null,null,null,null,null,null,null,null,null,null,null,null,null,null,null,{"$error":"#N/A"},{"$error":"#N/A"},{"$error":"#N/A"},{"$error":"#N/A"},{"$error":"#N/A"},{"$error":"#N/A"},{"$error":"#N/A"},{"$error":"#N/A"},{"$error":"#N/A"},{"$error":"#N/A"},{"$error":"#N/A"},{"$error":"#N/A"},{"$error":"#N/A"},{"$error":"#N/A"}]
[{"$f":"données!W638","v":{"$error":"#N/A"}},{"$f":"données!X638","v":{"$error":"#N/A"}},{"$f":"données!Y638","v":{"$error":"#N/A"}},{"$f":"données!AH638","v":1},{"$error":"#N/A"},{"$error":"#N/A"},null,null,null,null,null,null,null,null,null,null,null,null,null,null,null,null,null,{"$error":"#N/A"},{"$error":"#N/A"},{"$error":"#N/A"},{"$error":"#N/A"},{"$error":"#N/A"},{"$error":"#N/A"},{"$error":"#N/A"},{"$error":"#N/A"},{"$error":"#N/A"},{"$error":"#N/A"},{"$error":"#N/A"},{"$error":"#N/A"},{"$error":"#N/A"},{"$error":"#N/A"}]
[{"$f":"données!W639","v":{"$error":"#N/A"}},{"$f":"données!X639","v":{"$error":"#N/A"}},{"$f":"données!Y639","v":{"$error":"#N/A"}},{"$f":"données!AH639","v":2},{"$error":"#N/A"},{"$error":"#N/A"},null,null,null,null,null,null,null,null,null,null,null,null,null,null,null,null,null,{"$error":"#N/A"},{"$error":"#N/A"},{"$error":"#N/A"},{"$error":"#N/A"},{"$error":"#N/A"},{"$error":"#N/A"},{"$error":"#N/A"},{"$error":"#N/A"},{"$error":"#N/A"},{"$error":"#N/A"},{"$error":"#N/A"},{"$error":"#N/A"},{"$error":"#N/A"},{"$error":"#N/A"}]
[{"$f":"données!W640","v":{"$error":"#N/A"}},{"$f":"données!X640","v":{"$error":"#N/A"}},{"$f":"données!Y640","v":{"$error":"#N/A"}},{"$f":"données!AH640","v":1},{"$error":"#N/A"},{"$error":"#N/A"},null,null,null,null,null,null,null,null,null,null,null,null,null,null,null,null,null,{"$error":"#N/A"},{"$error":"#N/A"},{"$error":"#N/A"},{"$error":"#N/A"},{"$error":"#N/A"},{"$error":"#N/A"},{"$error":"#N/A"},{"$error":"#N/A"},{"$error":"#N/A"},{"$error":"#N/A"},{"$error":"#N/A"},{"$error":"#N/A"},{"$error":"#N/A"},{"$error":"#N/A"}]
[{"$f":"données!W641","v":{"$error":"#N/A"}},{"$f":"données!X641","v":{"$error":"#N/A"}},{"$f":"données!Y641","v":{"$error":"#N/A"}},{"$f":"données!AH641","v":3},{"$error":"#N/A"},{"$error":"#N/A"},null,null,null,null,null,null,null,null,null,null,null,null,null,null,null,null,null,{"$error":"#N/A"},{"$error":"#N/A"},{"$error":"#N/A"},{"$error":"#N/A"},{"$error":"#N/A"},{"$error":"#N/A"},{"$error":"#N/A"},{"$error":"#N/A"},{"$error":"#N/A"},{"$error":"#N/A"},{"$error":"#N/A"},{"$error":"#N/A"},{"$error":"#N/A"},{"$error":"#N/A"}]
[{"$f":"données!W642","v":{"$error":"#N/A"}},{"$f":"données!X642","v":{"$error":"#N/A"}},{"$f":"données!Y642","v":{"$error":"#N/A"}},{"$f":"données!AH642","v":4},{"$error":"#N/A"},{"$error":"#N/A"},null,null,null,null,null,null,null,null,null,null,null,null,null,null,null,null,null,{"$error":"#N/A"},{"$error":"#N/A"},{"$error":"#N/A"},{"$error":"#N/A"},{"$error":"#N/A"},{"$error":"#N/A"},{"$error":"#N/A"},{"$error":"#N/A"},{"$error":"#N/A"},{"$error":"#N/A"},{"$error":"#N/A"},{"$error":"#N/A"},{"$error":"#N/A"},{"$error":"#N/A"}]
[{"$f":"données!W643","v":{"$error":"#N/A"}},{"$f":"données!X643","v":{"$error":"#N/A"}},{"$f":"données!Y643","v":{"$error":"#N/A"}},{"$f":"données!AH643","v":3},{"$error":"#N/A"},{"$error":"#N/A"},null,null,null,null,null,null,null,null,null,null,null,null,null,null,null,null,null,{"$error":"#N/A"},{"$error":"#N/A"},{"$error":"#N/A"},{"$error":"#N/A"},{"$error":"#N/A"},{"$error":"#N/A"},{"$error":"#N/A"},{"$error":"#N/A"},{"$error":"#N/A"},{"$error":"#N/A"},{"$error":"#N/A"},{"$error":"#N/A"},{"$error":"#N/A"},{"$error":"#N/A"}]
[{"$f":"données!W644","v":{"$error":"#N/A"}},{"$f":"données!X644","v":{"$error":"#N/A"}},{"$f":"données!Y644","v":{"$error":"#N/A"}},{"$f":"données!AH644","v":7},{"$f":"A642+B642*$I$2","v":{"$error":"#N/A"}},{"$f":"C642+B642*$I$3","v":{"$error":"#N/A"}},null,null,null,null,null,null,null,null,null,null,null,null,null,null,null,null,null,{"$error":"#N/A"},{"$error":"#N/A"},{"$f":"IF($D642=Z$1,$E642,#N/A)","v":{"$error":"#N/A"}},{"$f":"IF($D642=AA$1,$F642,#N/A)","v":{"$error":"#N/A"}},{"$f":"IF($D642=AB$1,$E642,#N/A)","v":{"$error":"#N/A"}},{"$f":"IF($D642=AC$1,$F642,#N/A)","v":{"$error":"#N/A"}},{"$f":"IF($D642=AD$1,$E642,#N/A)","v":{"$error":"#N/A"}},{"$f":"IF($D642=AE$1,$F642,#N/A)","v":{"$error":"#N/A"}},{"$f":"IF($D642=AF$1,$E642,#N/A)","v":{"$error":"#N/A"}},{"$f":"IF($D642=AG$1,$F642,#N/A)","v":{"$error":"#N/A"}},{"$f":"IF($D642=AH$1,$E642,#N/A)","v":{"$error":"#N/A"}},{"$f":"IF($D642=AI$1,$F642,#N/A)","v":{"$error":"#N/A"}},{"$f":"IF($D642=AJ$1,$E642,#N/A)","v":{"$error":"#N/A"}},{"$f":"IF($D642=AK$1,$F642,#N/A)","v":{"$error":"#N/A"}}]
[{"$f":"données!W645","v":{"$error":"#N/A"}},{"$f":"données!X645","v":{"$error":"#N/A"}},{"$f":"données!Y645","v":{"$error":"#N/A"}},{"$f":"données!AH645","v":1},{"$error":"#N/A"},{"$error":"#N/A"},null,null,null,null,null,null,null,null,null,null,null,null,null,null,null,null,null,{"$error":"#N/A"},{"$error":"#N/A"},{"$error":"#N/A"},{"$error":"#N/A"},{"$error":"#N/A"},{"$error":"#N/A"},{"$error":"#N/A"},{"$error":"#N/A"},{"$error":"#N/A"},{"$error":"#N/A"},{"$error":"#N/A"},{"$error":"#N/A"},{"$error":"#N/A"},{"$error":"#N/A"}]
[{"$f":"données!W646","v":{"$error":"#N/A"}},{"$f":"données!X646","v":{"$error":"#N/A"}},{"$f":"données!Y646","v":{"$error":"#N/A"}},{"$f":"données!AH646","v":3},{"$error":"#N/A"},{"$error":"#N/A"},null,null,null,null,null,null,null,null,null,null,null,null,null,null,null,null,null,{"$error":"#N/A"},{"$error":"#N/A"},{"$error":"#N/A"},{"$error":"#N/A"},{"$error":"#N/A"},{"$error":"#N/A"},{"$error":"#N/A"},{"$error":"#N/A"},{"$error":"#N/A"},{"$error":"#N/A"},{"$error":"#N/A"},{"$error":"#N/A"},{"$error":"#N/A"},{"$error":"#N/A"}]
[{"$f":"données!W647","v":{"$error":"#N/A"}},{"$f":"données!X647","v":{"$error":"#N/A"}},{"$f":"données!Y647","v":{"$error":"#N/A"}},{"$f":"données!AH647","v":2},{"$error":"#N/A"},{"$error":"#N/A"},null,null,null,null,null,null,null,null,null,null,null,null,null,null,null,null,null,{"$error":"#N/A"},{"$error":"#N/A"},{"$error":"#N/A"},{"$error":"#N/A"},{"$error":"#N/A"},{"$error":"#N/A"},{"$error":"#N/A"},{"$error":"#N/A"},{"$error":"#N/A"},{"$error":"#N/A"},{"$error":"#N/A"},{"$error":"#N/A"},{"$error":"#N/A"},{"$error":"#N/A"}]
[{"$f":"données!W648","v":{"$error":"#N/A"}},{"$f":"données!X648","v":{"$error":"#N/A"}},{"$f":"données!Y648","v":{"$error":"#N/A"}},{"$f":"données!AH648","v":2},{"$error":"#N/A"},{"$error":"#N/A"},null,null,null,null,null,null,null,null,null,null,null,null,null,null,null,null,null,{"$error":"#N/A"},{"$error":"#N/A"},{"$error":"#N/A"},{"$error":"#N/A"},{"$error":"#N/A"},{"$error":"#N/A"},{"$error":"#N/A"},{"$error":"#N/A"},{"$error":"#N/A"},{"$error":"#N/A"},{"$error":"#N/A"},{"$error":"#N/A"},{"$error":"#N/A"},{"$error":"#N/A"}]
[{"$f":"données!W649","v":{"$error":"#N/A"}},{"$f":"données!X649","v":{"$error":"#N/A"}},{"$f":"données!Y649","v":{"$error":"#N/A"}},{"$f":"données!AH649","v":4},{"$error":"#N/A"},{"$error":"#N/A"},null,null,null,null,null,null,null,null,null,null,null,null,null,null,null,null,null,{"$error":"#N/A"},{"$error":"#N/A"},{"$error":"#N/A"},{"$error":"#N/A"},{"$error":"#N/A"},{"$error":"#N/A"},{"$error":"#N/A"},{"$error":"#N/A"},{"$error":"#N/A"},{"$error":"#N/A"},{"$error":"#N/A"},{"$error":"#N/A"},{"$error":"#N/A"},{"$error":"#N/A"}]
[{"$f":"données!W650","v":{"$error":"#N/A"}},{"$f":"données!X650","v":{"$error":"#N/A"}},{"$f":"données!Y650","v":{"$error":"#N/A"}},{"$f":"données!AH650","v":7},{"$error":"#N/A"},{"$error":"#N/A"},null,null,null,null,null,null,null,null,null,null,null,null,null,null,null,null,null,{"$error":"#N/A"},{"$error":"#N/A"},{"$error":"#N/A"},{"$error":"#N/A"},{"$error":"#N/A"},{"$error":"#N/A"},{"$error":"#N/A"},{"$error":"#N/A"},{"$error":"#N/A"},{"$error":"#N/A"},{"$error":"#N/A"},{"$error":"#N/A"},{"$error":"#N/A"},{"$error":"#N/A"}]
[{"$f":"données!W651","v":{"$error":"#N/A"}},{"$f":"données!X651","v":{"$error":"#N/A"}},{"$f":"données!Y651","v":{"$error":"#N/A"}},{"$f":"données!AH651","v":5},{"$error":"#N/A"},{"$error":"#N/A"},null,null,null,null,null,null,null,null,null,null,null,null,null,null,null,null,null,{"$error":"#N/A"},{"$error":"#N/A"},{"$error":"#N/A"},{"$error":"#N/A"},{"$error":"#N/A"},{"$error":"#N/A"},{"$error":"#N/A"},{"$error":"#N/A"},{"$error":"#N/A"},{"$error":"#N/A"},{"$error":"#N/A"},{"$error":"#N/A"},{"$error":"#N/A"},{"$error":"#N/A"}]
[{"$f":"données!W652","v":{"$error":"#N/A"}},{"$f":"données!X652","v":{"$error":"#N/A"}},{"$f":"données!Y652","v":{"$error":"#N/A"}},{"$f":"données!AH652","v":4},{"$error":"#N/A"},{"$error":"#N/A"},null,null,null,null,null,null,null,null,null,null,null,null,null,null,null,null,null,{"$error":"#N/A"},{"$error":"#N/A"},{"$error":"#N/A"},{"$error":"#N/A"},{"$error":"#N/A"},{"$error":"#N/A"},{"$error":"#N/A"},{"$error":"#N/A"},{"$error":"#N/A"},{"$error":"#N/A"},{"$error":"#N/A"},{"$error":"#N/A"},{"$error":"#N/A"},{"$error":"#N/A"}]
[{"$f":"données!W653","v":{"$error":"#N/A"}},{"$f":"données!X653","v":{"$error":"#N/A"}},{"$f":"données!Y653","v":{"$error":"#N/A"}},{"$f":"données!AH653","v":5},{"$error":"#N/A"},{"$error":"#N/A"},null,null,null,null,null,null,null,null,null,null,null,null,null,null,null,null,null,{"$error":"#N/A"},{"$error":"#N/A"},{"$error":"#N/A"},{"$error":"#N/A"},{"$error":"#N/A"},{"$error":"#N/A"},{"$error":"#N/A"},{"$error":"#N/A"},{"$error":"#N/A"},{"$error":"#N/A"},{"$error":"#N/A"},{"$error":"#N/A"},{"$error":"#N/A"},{"$error":"#N/A"}]
[{"$f":"données!W654","v":{"$error":"#N/A"}},{"$f":"données!X654","v":{"$error":"#N/A"}},{"$f":"données!Y654","v":{"$error":"#N/A"}},{"$f":"données!AH654","v":2},{"$error":"#N/A"},{"$error":"#N/A"},null,null,null,null,null,null,null,null,null,null,null,null,null,null,null,null,null,{"$error":"#N/A"},{"$error":"#N/A"},{"$error":"#N/A"},{"$error":"#N/A"},{"$error":"#N/A"},{"$error":"#N/A"},{"$error":"#N/A"},{"$error":"#N/A"},{"$error":"#N/A"},{"$error":"#N/A"},{"$error":"#N/A"},{"$error":"#N/A"},{"$error":"#N/A"},{"$error":"#N/A"}]
[{"$f":"données!W655","v":{"$error":"#N/A"}},{"$f":"données!X655","v":{"$error":"#N/A"}},{"$f":"données!Y655","v":{"$error":"#N/A"}},{"$f":"données!AH655","v":2},{"$error":"#N/A"},{"$error":"#N/A"},null,null,null,null,null,null,null,null,null,null,null,null,null,null,null,null,null,{"$error":"#N/A"},{"$error":"#N/A"},{"$error":"#N/A"},{"$error":"#N/A"},{"$error":"#N/A"},{"$error":"#N/A"},{"$error":"#N/A"},{"$error":"#N/A"},{"$error":"#N/A"},{"$error":"#N/A"},{"$error":"#N/A"},{"$error":"#N/A"},{"$error":"#N/A"},{"$error":"#N/A"}]
[{"$f":"données!W656","v":{"$error":"#N/A"}},{"$f":"données!X656","v":{"$error":"#N/A"}},{"$f":"données!Y656","v":{"$error":"#N/A"}},{"$f":"données!AH656","v":5},{"$error":"#N/A"},{"$error":"#N/A"},null,null,null,null,null,null,null,null,null,null,null,null,null,null,null,null,null,{"$error":"#N/A"},{"$error":"#N/A"},{"$error":"#N/A"},{"$error":"#N/A"},{"$error":"#N/A"},{"$error":"#N/A"},{"$error":"#N/A"},{"$error":"#N/A"},{"$error":"#N/A"},{"$error":"#N/A"},{"$error":"#N/A"},{"$error":"#N/A"},{"$error":"#N/A"},{"$error":"#N/A"}]
[{"$f":"données!W657","v":{"$error":"#N/A"}},{"$f":"données!X657","v":{"$error":"#N/A"}},{"$f":"données!Y657","v":{"$error":"#N/A"}},{"$f":"données!AH657","v":1},{"$error":"#N/A"},{"$error":"#N/A"},null,null,null,null,null,null,null,null,null,null,null,null,null,null,null,null,null,{"$error":"#N/A"},{"$error":"#N/A"},{"$error":"#N/A"},{"$error":"#N/A"},{"$error":"#N/A"},{"$error":"#N/A"},{"$error":"#N/A"},{"$error":"#N/A"},{"$error":"#N/A"},{"$error":"#N/A"},{"$error":"#N/A"},{"$error":"#N/A"},{"$error":"#N/A"},{"$error":"#N/A"}]
[{"$f":"données!W658","v":{"$error":"#N/A"}},{"$f":"données!X658","v":{"$error":"#N/A"}},{"$f":"données!Y658","v":{"$error":"#N/A"}},{"$f":"données!AH658","v":6},{"$error":"#N/A"},{"$error":"#N/A"},null,null,null,null,null,null,null,null,null,null,null,null,null,null,null,null,null,{"$error":"#N/A"},{"$error":"#N/A"},{"$error":"#N/A"},{"$error":"#N/A"},{"$error":"#N/A"},{"$error":"#N/A"},{"$error":"#N/A"},{"$error":"#N/A"},{"$error":"#N/A"},{"$error":"#N/A"},{"$error":"#N/A"},{"$error":"#N/A"},{"$error":"#N/A"},{"$error":"#N/A"}]
[{"$f":"données!W659","v":{"$error":"#N/A"}},{"$f":"données!X659","v":{"$error":"#N/A"}},{"$f":"données!Y659","v":{"$error":"#N/A"}},{"$f":"données!AH659","v":7},{"$error":"#N/A"},{"$error":"#N/A"},null,null,null,null,null,null,null,null,null,null,null,null,null,null,null,null,null,{"$error":"#N/A"},{"$error":"#N/A"},{"$error":"#N/A"},{"$error":"#N/A"},{"$error":"#N/A"},{"$error":"#N/A"},{"$error":"#N/A"},{"$error":"#N/A"},{"$error":"#N/A"},{"$error":"#N/A"},{"$error":"#N/A"},{"$error":"#N/A"},{"$error":"#N/A"},{"$error":"#N/A"}]
[{"$f":"données!W660","v":{"$error":"#N/A"}},{"$f":"données!X660","v":{"$error":"#N/A"}},{"$f":"données!Y660","v":{"$error":"#N/A"}},{"$f":"données!AH660","v":7},{"$error":"#N/A"},{"$error":"#N/A"},null,null,null,null,null,null,null,null,null,null,null,null,null,null,null,null,null,{"$error":"#N/A"},{"$error":"#N/A"},{"$error":"#N/A"},{"$error":"#N/A"},{"$error":"#N/A"},{"$error":"#N/A"},{"$error":"#N/A"},{"$error":"#N/A"},{"$error":"#N/A"},{"$error":"#N/A"},{"$error":"#N/A"},{"$error":"#N/A"},{"$error":"#N/A"},{"$error":"#N/A"}]
[{"$f":"données!W661","v":{"$error":"#N/A"}},{"$f":"données!X661","v":{"$error":"#N/A"}},{"$f":"données!Y661","v":{"$error":"#N/A"}},{"$f":"données!AH661","v":4},{"$error":"#N/A"},{"$error":"#N/A"},null,null,null,null,null,null,null,null,null,null,null,null,null,null,null,null,null,{"$error":"#N/A"},{"$error":"#N/A"},{"$error":"#N/A"},{"$error":"#N/A"},{"$error":"#N/A"},{"$error":"#N/A"},{"$error":"#N/A"},{"$error":"#N/A"},{"$error":"#N/A"},{"$error":"#N/A"},{"$error":"#N/A"},{"$error":"#N/A"},{"$error":"#N/A"},{"$error":"#N/A"}]
[{"$f":"données!W662","v":{"$error":"#N/A"}},{"$f":"données!X662","v":{"$error":"#N/A"}},{"$f":"données!Y662","v":{"$error":"#N/A"}},{"$f":"données!AH662","v":6},{"$error":"#N/A"},{"$error":"#N/A"},null,null,null,null,null,null,null,null,null,null,null,null,null,null,null,null,null,{"$error":"#N/A"},{"$error":"#N/A"},{"$error":"#N/A"},{"$error":"#N/A"},{"$error":"#N/A"},{"$error":"#N/A"},{"$error":"#N/A"},{"$error":"#N/A"},{"$error":"#N/A"},{"$error":"#N/A"},{"$error":"#N/A"},{"$error":"#N/A"},{"$error":"#N/A"},{"$error":"#N/A"}]
[{"$f":"données!W663","v":{"$error":"#N/A"}},{"$f":"données!X663","v":{"$error":"#N/A"}},{"$f":"données!Y663","v":{"$error":"#N/A"}},{"$f":"données!AH663","v":3},{"$error":"#N/A"},{"$error":"#N/A"},null,null,null,null,null,null,null,null,null,null,null,null,null,null,null,null,null,{"$error":"#N/A"},{"$error":"#N/A"},{"$error":"#N/A"},{"$error":"#N/A"},{"$error":"#N/A"},{"$error":"#N/A"},{"$error":"#N/A"},{"$error":"#N/A"},{"$error":"#N/A"},{"$error":"#N/A"},{"$error":"#N/A"},{"$error":"#N/A"},{"$error":"#N/A"},{"$error":"#N/A"}]
[{"$f":"données!W664","v":{"$error":"#N/A"}},{"$f":"données!X664","v":{"$error":"#N/A"}},{"$f":"données!Y664","v":{"$error":"#N/A"}},{"$f":"données!AH664","v":4},{"$error":"#N/A"},{"$error":"#N/A"},null,null,null,null,null,null,null,null,null,null,null,null,null,null,null,null,null,{"$error":"#N/A"},{"$error":"#N/A"},{"$error":"#N/A"},{"$error":"#N/A"},{"$error":"#N/A"},{"$error":"#N/A"},{"$error":"#N/A"},{"$error":"#N/A"},{"$error":"#N/A"},{"$error":"#N/A"},{"$error":"#N/A"},{"$error":"#N/A"},{"$error":"#N/A"},{"$error":"#N/A"}]
[{"$f":"données!W665","v":{"$error":"#N/A"}},{"$f":"données!X665","v":{"$error":"#N/A"}},{"$f":"données!Y665","v":{"$error":"#N/A"}},{"$f":"données!AH665","v":5},{"$error":"#N/A"},{"$error":"#N/A"},null,null,null,null,null,null,null,null,null,null,null,null,null,null,null,null,null,{"$error":"#N/A"},{"$error":"#N/A"},{"$error":"#N/A"},{"$error":"#N/A"},{"$error":"#N/A"},{"$error":"#N/A"},{"$error":"#N/A"},{"$error":"#N/A"},{"$error":"#N/A"},{"$error":"#N/A"},{"$error":"#N/A"},{"$error":"#N/A"},{"$error":"#N/A"},{"$error":"#N/A"}]
[{"$f":"données!W666","v":{"$error":"#N/A"}},{"$f":"données!X666","v":{"$error":"#N/A"}},{"$f":"données!Y666","v":{"$error":"#N/A"}},{"$f":"données!AH666","v":3},{"$error":"#N/A"},{"$error":"#N/A"},null,null,null,null,null,null,null,null,null,null,null,null,null,null,null,null,null,{"$error":"#N/A"},{"$error":"#N/A"},{"$error":"#N/A"},{"$error":"#N/A"},{"$error":"#N/A"},{"$error":"#N/A"},{"$error":"#N/A"},{"$error":"#N/A"},{"$error":"#N/A"},{"$error":"#N/A"},{"$error":"#N/A"},{"$error":"#N/A"},{"$error":"#N/A"},{"$error":"#N/A"}]
[{"$f":"données!W667","v":{"$error":"#N/A"}},{"$f":"données!X667","v":{"$error":"#N/A"}},{"$f":"données!Y667","v":{"$error":"#N/A"}},{"$f":"données!AH667","v":5},{"$error":"#N/A"},{"$error":"#N/A"},null,null,null,null,null,null,null,null,null,null,null,null,null,null,null,null,null,{"$error":"#N/A"},{"$error":"#N/A"},{"$error":"#N/A"},{"$error":"#N/A"},{"$error":"#N/A"},{"$error":"#N/A"},{"$error":"#N/A"},{"$error":"#N/A"},{"$error":"#N/A"},{"$error":"#N/A"},{"$error":"#N/A"},{"$error":"#N/A"},{"$error":"#N/A"},{"$error":"#N/A"}]
[{"$f":"données!W668","v":{"$error":"#N/A"}},{"$f":"données!X668","v":{"$error":"#N/A"}},{"$f":"données!Y668","v":{"$error":"#N/A"}},{"$f":"données!AH668","v":7},{"$error":"#N/A"},{"$error":"#N/A"},null,null,null,null,null,null,null,null,null,null,null,null,null,null,null,null,null,{"$error":"#N/A"},{"$error":"#N/A"},{"$error":"#N/A"},{"$error":"#N/A"},{"$error":"#N/A"},{"$error":"#N/A"},{"$error":"#N/A"},{"$error":"#N/A"},{"$error":"#N/A"},{"$error":"#N/A"},{"$error":"#N/A"},{"$error":"#N/A"},{"$error":"#N/A"},{"$error":"#N/A"}]
[{"$f":"données!W669","v":{"$error":"#N/A"}},{"$f":"données!X669","v":{"$error":"#N/A"}},{"$f":"données!Y669","v":{"$error":"#N/A"}},{"$f":"données!AH669","v":5},{"$error":"#N/A"},{"$error":"#N/A"},null,null,null,null,null,null,null,null,null,null,null,null,null,null,null,null,null,{"$error":"#N/A"},{"$error":"#N/A"},{"$error":"#N/A"},{"$error":"#N/A"},{"$error":"#N/A"},{"$error":"#N/A"},{"$error":"#N/A"},{"$error":"#N/A"},{"$error":"#N/A"},{"$error":"#N/A"},{"$error":"#N/A"},{"$error":"#N/A"},{"$error":"#N/A"},{"$error":"#N/A"}]
[{"$f":"données!W670","v":{"$error":"#N/A"}},{"$f":"données!X670","v":{"$error":"#N/A"}},{"$f":"données!Y670","v":{"$error":"#N/A"}},{"$f":"données!AH670","v":5},{"$error":"#N/A"},{"$error":"#N/A"},null,null,null,null,null,null,null,null,null,null,null,null,null,null,null,null,null,{"$error":"#N/A"},{"$error":"#N/A"},{"$error":"#N/A"},{"$error":"#N/A"},{"$error":"#N/A"},{"$error":"#N/A"},{"$error":"#N/A"},{"$error":"#N/A"},{"$error":"#N/A"},{"$error":"#N/A"},{"$error":"#N/A"},{"$error":"#N/A"},{"$error":"#N/A"},{"$error":"#N/A"}]
[{"$f":"données!W671","v":{"$error":"#N/A"}},{"$f":"données!X671","v":{"$error":"#N/A"}},{"$f":"données!Y671","v":{"$error":"#N/A"}},{"$f":"données!AH671","v":6},{"$error":"#N/A"},{"$error":"#N/A"},null,null,null,null,null,null,null,null,null,null,null,null,null,null,null,null,null,{"$error":"#N/A"},{"$error":"#N/A"},{"$error":"#N/A"},{"$error":"#N/A"},{"$error":"#N/A"},{"$error":"#N/A"},{"$error":"#N/A"},{"$error":"#N/A"},{"$error":"#N/A"},{"$error":"#N/A"},{"$error":"#N/A"},{"$error":"#N/A"},{"$error":"#N/A"},{"$error":"#N/A"}]
[{"$f":"données!W672","v":{"$error":"#N/A"}},{"$f":"données!X672","v":{"$error":"#N/A"}},{"$f":"données!Y672","v":{"$error":"#N/A"}},{"$f":"données!AH672","v":4},{"$error":"#N/A"},{"$error":"#N/A"},null,null,null,null,null,null,null,null,null,null,null,null,null,null,null,null,null,{"$error":"#N/A"},{"$error":"#N/A"},{"$error":"#N/A"},{"$error":"#N/A"},{"$error":"#N/A"},{"$error":"#N/A"},{"$error":"#N/A"},{"$error":"#N/A"},{"$error":"#N/A"},{"$error":"#N/A"},{"$error":"#N/A"},{"$error":"#N/A"},{"$error":"#N/A"},{"$error":"#N/A"}]
[{"$f":"données!W673","v":{"$error":"#N/A"}},{"$f":"données!X673","v":{"$error":"#N/A"}},{"$f":"données!Y673","v":{"$error":"#N/A"}},{"$f":"données!AH673","v":4},{"$error":"#N/A"},{"$error":"#N/A"},null,null,null,null,null,null,null,null,null,null,null,null,null,null,null,null,null,{"$error":"#N/A"},{"$error":"#N/A"},{"$error":"#N/A"},{"$error":"#N/A"},{"$error":"#N/A"},{"$error":"#N/A"},{"$error":"#N/A"},{"$error":"#N/A"},{"$error":"#N/A"},{"$error":"#N/A"},{"$error":"#N/A"},{"$error":"#N/A"},{"$error":"#N/A"},{"$error":"#N/A"}]
[{"$f":"données!W674","v":{"$error":"#N/A"}},{"$f":"données!X674","v":{"$error":"#N/A"}},{"$f":"données!Y674","v":{"$error":"#N/A"}},{"$f":"données!AH674","v":5},{"$error":"#N/A"},{"$error":"#N/A"},null,null,null,null,null,null,null,null,null,null,null,null,null,null,null,null,null,{"$error":"#N/A"},{"$error":"#N/A"},{"$error":"#N/A"},{"$error":"#N/A"},{"$error":"#N/A"},{"$error":"#N/A"},{"$error":"#N/A"},{"$error":"#N/A"},{"$error":"#N/A"},{"$error":"#N/A"},{"$error":"#N/A"},{"$error":"#N/A"},{"$error":"#N/A"},{"$error":"#N/A"}]
[{"$f":"données!W675","v":{"$error":"#N/A"}},{"$f":"données!X675","v":{"$error":"#N/A"}},{"$f":"données!Y675","v":{"$error":"#N/A"}},{"$f":"données!AH675","v":7},{"$error":"#N/A"},{"$error":"#N/A"},null,null,null,null,null,null,null,null,null,null,null,null,null,null,null,null,null,{"$error":"#N/A"},{"$error":"#N/A"},{"$error":"#N/A"},{"$error":"#N/A"},{"$error":"#N/A"},{"$error":"#N/A"},{"$error":"#N/A"},{"$error":"#N/A"},{"$error":"#N/A"},{"$error":"#N/A"},{"$error":"#N/A"},{"$error":"#N/A"},{"$error":"#N/A"},{"$error":"#N/A"}]
[{"$f":"données!W676","v":{"$error":"#N/A"}},{"$f":"données!X676","v":{"$error":"#N/A"}},{"$f":"données!Y676","v":{"$error":"#N/A"}},{"$f":"données!AH676","v":3},{"$error":"#N/A"},{"$error":"#N/A"},null,null,null,null,null,null,null,null,null,null,null,null,null,null,null,null,null,{"$error":"#N/A"},{"$error":"#N/A"},{"$error":"#N/A"},{"$error":"#N/A"},{"$error":"#N/A"},{"$error":"#N/A"},{"$error":"#N/A"},{"$error":"#N/A"},{"$error":"#N/A"},{"$error":"#N/A"},{"$error":"#N/A"},{"$error":"#N/A"},{"$error":"#N/A"},{"$error":"#N/A"}]
[{"$f":"données!W677","v":{"$error":"#N/A"}},{"$f":"données!X677","v":{"$error":"#N/A"}},{"$f":"données!Y677","v":{"$error":"#N/A"}},{"$f":"données!AH677","v":3},{"$error":"#N/A"},{"$error":"#N/A"},null,null,null,null,null,null,null,null,null,null,null,null,null,null,null,null,null,{"$error":"#N/A"},{"$error":"#N/A"},{"$error":"#N/A"},{"$error":"#N/A"},{"$error":"#N/A"},{"$error":"#N/A"},{"$error":"#N/A"},{"$error":"#N/A"},{"$error":"#N/A"},{"$error":"#N/A"},{"$error":"#N/A"},{"$error":"#N/A"},{"$error":"#N/A"},{"$error":"#N/A"}]
[{"$f":"données!W678","v":{"$error":"#N/A"}},{"$f":"données!X678","v":{"$error":"#N/A"}},{"$f":"données!Y678","v":{"$error":"#N/A"}},{"$f":"données!AH678","v":7},{"$error":"#N/A"},{"$error":"#N/A"},null,null,null,null,null,null,null,null,null,null,null,null,null,null,null,null,null,{"$error":"#N/A"},{"$error":"#N/A"},{"$error":"#N/A"},{"$error":"#N/A"},{"$error":"#N/A"},{"$error":"#N/A"},{"$error":"#N/A"},{"$error":"#N/A"},{"$error":"#N/A"},{"$error":"#N/A"},{"$error":"#N/A"},{"$error":"#N/A"},{"$error":"#N/A"},{"$error":"#N/A"}]
[{"$f":"données!W679","v":{"$error":"#N/A"}},{"$f":"données!X679","v":{"$error":"#N/A"}},{"$f":"données!Y679","v":{"$error":"#N/A"}},{"$f":"données!AH679","v":7},{"$error":"#N/A"},{"$error":"#N/A"},null,null,null,null,null,null,null,null,null,null,null,null,null,null,null,null,null,{"$error":"#N/A"},{"$error":"#N/A"},{"$error":"#N/A"},{"$error":"#N/A"},{"$error":"#N/A"},{"$error":"#N/A"},{"$error":"#N/A"},{"$error":"#N/A"},{"$error":"#N/A"},{"$error":"#N/A"},{"$error":"#N/A"},{"$error":"#N/A"},{"$error":"#N/A"},{"$error":"#N/A"}]
[{"$f":"données!W680","v":{"$error":"#N/A"}},{"$f":"données!X680","v":{"$error":"#N/A"}},{"$f":"données!Y680","v":{"$error":"#N/A"}},{"$f":"données!AH680","v":1},{"$error":"#N/A"},{"$error":"#N/A"},null,null,null,null,null,null,null,null,null,null,null,null,null,null,null,null,null,{"$error":"#N/A"},{"$error":"#N/A"},{"$error":"#N/A"},{"$error":"#N/A"},{"$error":"#N/A"},{"$error":"#N/A"},{"$error":"#N/A"},{"$error":"#N/A"},{"$error":"#N/A"},{"$error":"#N/A"},{"$error":"#N/A"},{"$error":"#N/A"},{"$error":"#N/A"},{"$error":"#N/A"}]
[{"$f":"données!W681","v":{"$error":"#N/A"}},{"$f":"données!X681","v":{"$error":"#N/A"}},{"$f":"données!Y681","v":{"$error":"#N/A"}},{"$f":"données!AH681","v":2},{"$error":"#N/A"},{"$error":"#N/A"},null,null,null,null,null,null,null,null,null,null,null,null,null,null,null,null,null,{"$error":"#N/A"},{"$error":"#N/A"},{"$error":"#N/A"},{"$error":"#N/A"},{"$error":"#N/A"},{"$error":"#N/A"},{"$error":"#N/A"},{"$error":"#N/A"},{"$error":"#N/A"},{"$error":"#N/A"},{"$error":"#N/A"},{"$error":"#N/A"},{"$error":"#N/A"},{"$error":"#N/A"}]
[{"$f":"données!W682","v":{"$error":"#N/A"}},{"$f":"données!X682","v":{"$error":"#N/A"}},{"$f":"données!Y682","v":{"$error":"#N/A"}},{"$f":"données!AH682","v":4},{"$error":"#N/A"},{"$error":"#N/A"},null,null,null,null,null,null,null,null,null,null,null,null,null,null,null,null,null,{"$error":"#N/A"},{"$error":"#N/A"},{"$error":"#N/A"},{"$error":"#N/A"},{"$error":"#N/A"},{"$error":"#N/A"},{"$error":"#N/A"},{"$error":"#N/A"},{"$error":"#N/A"},{"$error":"#N/A"},{"$error":"#N/A"},{"$error":"#N/A"},{"$error":"#N/A"},{"$error":"#N/A"}]
[{"$f":"données!W683","v":{"$error":"#N/A"}},{"$f":"données!X683","v":{"$error":"#N/A"}},{"$f":"données!Y683","v":{"$error":"#N/A"}},{"$f":"données!AH683","v":3},{"$error":"#N/A"},{"$error":"#N/A"},null,null,null,null,null,null,null,null,null,null,null,null,null,null,null,null,null,{"$error":"#N/A"},{"$error":"#N/A"},{"$error":"#N/A"},{"$error":"#N/A"},{"$error":"#N/A"},{"$error":"#N/A"},{"$error":"#N/A"},{"$error":"#N/A"},{"$error":"#N/A"},{"$error":"#N/A"},{"$error":"#N/A"},{"$error":"#N/A"},{"$error":"#N/A"},{"$error":"#N/A"}]
[{"$f":"données!W684","v":{"$error":"#N/A"}},{"$f":"données!X684","v":{"$error":"#N/A"}},{"$f":"données!Y684","v":{"$error":"#N/A"}},{"$f":"données!AH684","v":4},{"$error":"#N/A"},{"$error":"#N/A"},null,null,null,null,null,null,null,null,null,null,null,null,null,null,null,null,null,{"$error":"#N/A"},{"$error":"#N/A"},{"$error":"#N/A"},{"$error":"#N/A"},{"$error":"#N/A"},{"$error":"#N/A"},{"$error":"#N/A"},{"$error":"#N/A"},{"$error":"#N/A"},{"$error":"#N/A"},{"$error":"#N/A"},{"$error":"#N/A"},{"$error":"#N/A"},{"$error":"#N/A"}]
[{"$f":"données!W685","v":{"$error":"#N/A"}},{"$f":"données!X685","v":{"$error":"#N/A"}},{"$f":"données!Y685","v":{"$error":"#N/A"}},{"$f":"données!AH685","v":2},{"$error":"#N/A"},{"$error":"#N/A"},null,null,null,null,null,null,null,null,null,null,null,null,null,null,null,null,null,{"$error":"#N/A"},{"$error":"#N/A"},{"$error":"#N/A"},{"$error":"#N/A"},{"$error":"#N/A"},{"$error":"#N/A"},{"$error":"#N/A"},{"$error":"#N/A"},{"$error":"#N/A"},{"$error":"#N/A"},{"$error":"#N/A"},{"$error":"#N/A"},{"$error":"#N/A"},{"$error":"#N/A"}]
[{"$f":"données!W686","v":{"$error":"#N/A"}},{"$f":"données!X686","v":{"$error":"#N/A"}},{"$f":"données!Y686","v":{"$error":"#N/A"}},{"$f":"données!AH686","v":3},{"$error":"#N/A"},{"$error":"#N/A"},null,null,null,null,null,null,null,null,null,null,null,null,null,null,null,null,null,{"$error":"#N/A"},{"$error":"#N/A"},{"$error":"#N/A"},{"$error":"#N/A"},{"$error":"#N/A"},{"$error":"#N/A"},{"$error":"#N/A"},{"$error":"#N/A"},{"$error":"#N/A"},{"$error":"#N/A"},{"$error":"#N/A"},{"$error":"#N/A"},{"$error":"#N/A"},{"$error":"#N/A"}]
[{"$f":"données!W687","v":{"$error":"#N/A"}},{"$f":"données!X687","v":{"$error":"#N/A"}},{"$f":"données!Y687","v":{"$error":"#N/A"}},{"$f":"données!AH687","v":6},{"$error":"#N/A"},{"$error":"#N/A"},null,null,null,null,null,null,null,null,null,null,null,null,null,null,null,null,null,{"$error":"#N/A"},{"$error":"#N/A"},{"$error":"#N/A"},{"$error":"#N/A"},{"$error":"#N/A"},{"$error":"#N/A"},{"$error":"#N/A"},{"$error":"#N/A"},{"$error":"#N/A"},{"$error":"#N/A"},{"$error":"#N/A"},{"$error":"#N/A"},{"$error":"#N/A"},{"$error":"#N/A"}]
[{"$f":"données!W688","v":{"$error":"#N/A"}},{"$f":"données!X688","v":{"$error":"#N/A"}},{"$f":"données!Y688","v":{"$error":"#N/A"}},{"$f":"données!AH688","v":2},{"$error":"#N/A"},{"$error":"#N/A"},null,null,null,null,null,null,null,null,null,null,null,null,null,null,null,null,null,{"$error":"#N/A"},{"$error":"#N/A"},{"$error":"#N/A"},{"$error":"#N/A"},{"$error":"#N/A"},{"$error":"#N/A"},{"$error":"#N/A"},{"$error":"#N/A"},{"$error":"#N/A"},{"$error":"#N/A"},{"$error":"#N/A"},{"$error":"#N/A"},{"$error":"#N/A"},{"$error":"#N/A"}]
[{"$f":"données!W689","v":{"$error":"#N/A"}},{"$f":"données!X689","v":{"$error":"#N/A"}},{"$f":"données!Y689","v":{"$error":"#N/A"}},{"$f":"données!AH689","v":5},{"$error":"#N/A"},{"$error":"#N/A"},null,null,null,null,null,null,null,null,null,null,null,null,null,null,null,null,null,{"$error":"#N/A"},{"$error":"#N/A"},{"$error":"#N/A"},{"$error":"#N/A"},{"$error":"#N/A"},{"$error":"#N/A"},{"$error":"#N/A"},{"$error":"#N/A"},{"$error":"#N/A"},{"$error":"#N/A"},{"$error":"#N/A"},{"$error":"#N/A"},{"$error":"#N/A"},{"$error":"#N/A"}]
[{"$f":"données!W690","v":{"$error":"#N/A"}},{"$f":"données!X690","v":{"$error":"#N/A"}},{"$f":"données!Y690","v":{"$error":"#N/A"}},{"$f":"données!AH690","v":6},{"$error":"#N/A"},{"$error":"#N/A"},null,null,null,null,null,null,null,null,null,null,null,null,null,null,null,null,null,{"$error":"#N/A"},{"$error":"#N/A"},{"$error":"#N/A"},{"$error":"#N/A"},{"$error":"#N/A"},{"$error":"#N/A"},{"$error":"#N/A"},{"$error":"#N/A"},{"$error":"#N/A"},{"$error":"#N/A"},{"$error":"#N/A"},{"$error":"#N/A"},{"$error":"#N/A"},{"$error":"#N/A"}]
[{"$f":"données!W691","v":{"$error":"#N/A"}},{"$f":"données!X691","v":{"$error":"#N/A"}},{"$f":"données!Y691","v":{"$error":"#N/A"}},{"$f":"données!AH691","v":1},{"$error":"#N/A"},{"$error":"#N/A"},null,null,null,null,null,null,null,null,null,null,null,null,null,null,null,null,null,{"$error":"#N/A"},{"$error":"#N/A"},{"$error":"#N/A"},{"$error":"#N/A"},{"$error":"#N/A"},{"$error":"#N/A"},{"$error":"#N/A"},{"$error":"#N/A"},{"$error":"#N/A"},{"$error":"#N/A"},{"$error":"#N/A"},{"$error":"#N/A"},{"$error":"#N/A"},{"$error":"#N/A"}]
[{"$f":"données!W692","v":{"$error":"#N/A"}},{"$f":"données!X692","v":{"$error":"#N/A"}},{"$f":"données!Y692","v":{"$error":"#N/A"}},{"$f":"données!AH692","v":7},{"$error":"#N/A"},{"$error":"#N/A"},null,null,null,null,null,null,null,null,null,null,null,null,null,null,null,null,null,{"$error":"#N/A"},{"$error":"#N/A"},{"$error":"#N/A"},{"$error":"#N/A"},{"$error":"#N/A"},{"$error":"#N/A"},{"$error":"#N/A"},{"$error":"#N/A"},{"$error":"#N/A"},{"$error":"#N/A"},{"$error":"#N/A"},{"$error":"#N/A"},{"$error":"#N/A"},{"$error":"#N/A"}]
[{"$f":"données!W693","v":{"$error":"#N/A"}},{"$f":"données!X693","v":{"$error":"#N/A"}},{"$f":"données!Y693","v":{"$error":"#N/A"}},{"$f":"données!AH693","v":2},{"$error":"#N/A"},{"$error":"#N/A"},null,null,null,null,null,null,null,null,null,null,null,null,null,null,null,null,null,{"$error":"#N/A"},{"$error":"#N/A"},{"$error":"#N/A"},{"$error":"#N/A"},{"$error":"#N/A"},{"$error":"#N/A"},{"$error":"#N/A"},{"$error":"#N/A"},{"$error":"#N/A"},{"$error":"#N/A"},{"$error":"#N/A"},{"$error":"#N/A"},{"$error":"#N/A"},{"$error":"#N/A"}]
[{"$f":"données!W694","v":{"$error":"#N/A"}},{"$f":"données!X694","v":{"$error":"#N/A"}},{"$f":"données!Y694","v":{"$error":"#N/A"}},{"$f":"données!AH694","v":2},{"$error":"#N/A"},{"$error":"#N/A"},null,null,null,null,null,null,null,null,null,null,null,null,null,null,null,null,null,{"$error":"#N/A"},{"$error":"#N/A"},{"$error":"#N/A"},{"$error":"#N/A"},{"$error":"#N/A"},{"$error":"#N/A"},{"$error":"#N/A"},{"$error":"#N/A"},{"$error":"#N/A"},{"$error":"#N/A"},{"$error":"#N/A"},{"$error":"#N/A"},{"$error":"#N/A"},{"$error":"#N/A"}]
[{"$f":"données!W695","v":{"$error":"#N/A"}},{"$f":"données!X695","v":{"$error":"#N/A"}},{"$f":"données!Y695","v":{"$error":"#N/A"}},{"$f":"données!AH695","v":3},{"$error":"#N/A"},{"$error":"#N/A"},null,null,null,null,null,null,null,null,null,null,null,null,null,null,null,null,null,{"$error":"#N/A"},{"$error":"#N/A"},{"$error":"#N/A"},{"$error":"#N/A"},{"$error":"#N/A"},{"$error":"#N/A"},{"$error":"#N/A"},{"$error":"#N/A"},{"$error":"#N/A"},{"$error":"#N/A"},{"$error":"#N/A"},{"$error":"#N/A"},{"$error":"#N/A"},{"$error":"#N/A"}]
[{"$f":"données!W696","v":{"$error":"#N/A"}},{"$f":"données!X696","v":{"$error":"#N/A"}},{"$f":"données!Y696","v":{"$error":"#N/A"}},{"$f":"données!AH696","v":4},{"$error":"#N/A"},{"$error":"#N/A"},null,null,null,null,null,null,null,null,null,null,null,null,null,null,null,null,null,{"$error":"#N/A"},{"$error":"#N/A"},{"$error":"#N/A"},{"$error":"#N/A"},{"$error":"#N/A"},{"$error":"#N/A"},{"$error":"#N/A"},{"$error":"#N/A"},{"$error":"#N/A"},{"$error":"#N/A"},{"$error":"#N/A"},{"$error":"#N/A"},{"$error":"#N/A"},{"$error":"#N/A"}]
[{"$f":"données!W697","v":{"$error":"#N/A"}},{"$f":"données!X697","v":{"$error":"#N/A"}},{"$f":"données!Y697","v":{"$error":"#N/A"}},{"$f":"données!AH697","v":4},{"$error":"#N/A"},{"$error":"#N/A"},null,null,null,null,null,null,null,null,null,null,null,null,null,null,null,null,null,{"$error":"#N/A"},{"$error":"#N/A"},{"$error":"#N/A"},{"$error":"#N/A"},{"$error":"#N/A"},{"$error":"#N/A"},{"$error":"#N/A"},{"$error":"#N/A"},{"$error":"#N/A"},{"$error":"#N/A"},{"$error":"#N/A"},{"$error":"#N/A"},{"$error":"#N/A"},{"$error":"#N/A"}]
[{"$f":"données!W698","v":{"$error":"#N/A"}},{"$f":"données!X698","v":{"$error":"#N/A"}},{"$f":"données!Y698","v":{"$error":"#N/A"}},{"$f":"données!AH698","v":3},{"$error":"#N/A"},{"$error":"#N/A"},null,null,null,null,null,null,null,null,null,null,null,null,null,null,null,null,null,{"$f":"IF($D696=X$1,$E696,#N/A)","v":{"$error":"#N/A"}},{"$f":"IF($D696=Y$1,$F696,#N/A)","v":{"$error":"#N/A"}},{"$error":"#N/A"},{"$error":"#N/A"},{"$error":"#N/A"},{"$error":"#N/A"},{"$error":"#N/A"},{"$error":"#N/A"},{"$error":"#N/A"},{"$error":"#N/A"},{"$error":"#N/A"},{"$error":"#N/A"},{"$error":"#N/A"},{"$error":"#N/A"}]
[{"$f":"données!W699","v":{"$error":"#N/A"}},{"$f":"données!X699","v":{"$error":"#N/A"}},{"$f":"données!Y699","v":{"$error":"#N/A"}},{"$f":"données!AH699","v":5},{"$error":"#N/A"},{"$error":"#N/A"},null,null,null,null,null,null,null,null,null,null,null,null,null,null,null,null,null,{"$error":"#N/A"},{"$error":"#N/A"},{"$error":"#N/A"},{"$error":"#N/A"},{"$error":"#N/A"},{"$error":"#N/A"},{"$error":"#N/A"},{"$error":"#N/A"},{"$error":"#N/A"},{"$error":"#N/A"},{"$error":"#N/A"},{"$error":"#N/A"},{"$error":"#N/A"},{"$error":"#N/A"}]
[{"$f":"données!W700","v":{"$error":"#N/A"}},{"$f":"données!X700","v":{"$error":"#N/A"}},{"$f":"données!Y700","v":{"$error":"#N/A"}},{"$f":"données!AH700","v":5},{"$error":"#N/A"},{"$error":"#N/A"},null,null,null,null,null,null,null,null,null,null,null,null,null,null,null,null,null,{"$error":"#N/A"},{"$error":"#N/A"},{"$error":"#N/A"},{"$error":"#N/A"},{"$error":"#N/A"},{"$error":"#N/A"},{"$error":"#N/A"},{"$error":"#N/A"},{"$error":"#N/A"},{"$error":"#N/A"},{"$error":"#N/A"},{"$error":"#N/A"},{"$error":"#N/A"},{"$error":"#N/A"}]
[{"$f":"données!W701","v":{"$error":"#N/A"}},{"$f":"données!X701","v":{"$error":"#N/A"}},{"$f":"données!Y701","v":{"$error":"#N/A"}},{"$f":"données!AH701","v":3},{"$error":"#N/A"},{"$error":"#N/A"},null,null,null,null,null,null,null,null,null,null,null,null,null,null,null,null,null,{"$error":"#N/A"},{"$error":"#N/A"},{"$error":"#N/A"},{"$error":"#N/A"},{"$error":"#N/A"},{"$error":"#N/A"},{"$error":"#N/A"},{"$error":"#N/A"},{"$error":"#N/A"},{"$error":"#N/A"},{"$error":"#N/A"},{"$error":"#N/A"},{"$error":"#N/A"},{"$error":"#N/A"}]
[{"$f":"données!W702","v":{"$error":"#N/A"}},{"$f":"données!X702","v":{"$error":"#N/A"}},{"$f":"données!Y702","v":{"$error":"#N/A"}},{"$f":"données!AH702","v":7},{"$error":"#N/A"},{"$error":"#N/A"},null,null,null,null,null,null,null,null,null,null,null,null,null,null,null,null,null,{"$error":"#N/A"},{"$error":"#N/A"},{"$error":"#N/A"},{"$error":"#N/A"},{"$error":"#N/A"},{"$error":"#N/A"},{"$error":"#N/A"},{"$error":"#N/A"},{"$error":"#N/A"},{"$error":"#N/A"},{"$error":"#N/A"},{"$error":"#N/A"},{"$error":"#N/A"},{"$error":"#N/A"}]
[{"$f":"données!W703","v":{"$error":"#N/A"}},{"$f":"données!X703","v":{"$error":"#N/A"}},{"$f":"données!Y703","v":{"$error":"#N/A"}},{"$f":"données!AH703","v":7},{"$error":"#N/A"},{"$error":"#N/A"},null,null,null,null,null,null,null,null,null,null,null,null,null,null,null,null,null,{"$error":"#N/A"},{"$error":"#N/A"},{"$error":"#N/A"},{"$error":"#N/A"},{"$error":"#N/A"},{"$error":"#N/A"},{"$error":"#N/A"},{"$error":"#N/A"},{"$error":"#N/A"},{"$error":"#N/A"},{"$error":"#N/A"},{"$error":"#N/A"},{"$error":"#N/A"},{"$error":"#N/A"}]
[{"$f":"données!W704","v":{"$error":"#N/A"}},{"$f":"données!X704","v":{"$error":"#N/A"}},{"$f":"données!Y704","v":{"$error":"#N/A"}},{"$f":"données!AH704","v":7},{"$error":"#N/A"},{"$error":"#N/A"},null,null,null,null,null,null,null,null,null,null,null,null,null,null,null,null,null,{"$error":"#N/A"},{"$error":"#N/A"},{"$error":"#N/A"},{"$error":"#N/A"},{"$error":"#N/A"},{"$error":"#N/A"},{"$error":"#N/A"},{"$error":"#N/A"},{"$error":"#N/A"},{"$error":"#N/A"},{"$error":"#N/A"},{"$error":"#N/A"},{"$error":"#N/A"},{"$error":"#N/A"}]
[{"$f":"données!W705","v":{"$error":"#N/A"}},{"$f":"données!X705","v":{"$error":"#N/A"}},{"$f":"données!Y705","v":{"$error":"#N/A"}},{"$f":"données!AH705","v":5},{"$error":"#N/A"},{"$error":"#N/A"},null,null,null,null,null,null,null,null,null,null,null,null,null,null,null,null,null,{"$error":"#N/A"},{"$error":"#N/A"},{"$error":"#N/A"},{"$error":"#N/A"},{"$error":"#N/A"},{"$error":"#N/A"},{"$error":"#N/A"},{"$error":"#N/A"},{"$error":"#N/A"},{"$error":"#N/A"},{"$error":"#N/A"},{"$error":"#N/A"},{"$error":"#N/A"},{"$error":"#N/A"}]
[{"$f":"données!W706","v":{"$error":"#N/A"}},{"$f":"données!X706","v":{"$error":"#N/A"}},{"$f":"données!Y706","v":{"$error":"#N/A"}},{"$f":"données!AH706","v":1},{"$error":"#N/A"},{"$error":"#N/A"},null,null,null,null,null,null,null,null,null,null,null,null,null,null,null,null,null,{"$error":"#N/A"},{"$error":"#N/A"},{"$error":"#N/A"},{"$error":"#N/A"},{"$error":"#N/A"},{"$error":"#N/A"},{"$error":"#N/A"},{"$error":"#N/A"},{"$error":"#N/A"},{"$error":"#N/A"},{"$error":"#N/A"},{"$error":"#N/A"},{"$error":"#N/A"},{"$error":"#N/A"}]
[{"$f":"données!W707","v":{"$error":"#N/A"}},{"$f":"données!X707","v":{"$error":"#N/A"}},{"$f":"données!Y707","v":{"$error":"#N/A"}},{"$f":"données!AH707","v":5},{"$error":"#N/A"},{"$error":"#N/A"},null,null,null,null,null,null,null,null,null,null,null,null,null,null,null,null,null,{"$error":"#N/A"},{"$error":"#N/A"},{"$error":"#N/A"},{"$error":"#N/A"},{"$error":"#N/A"},{"$error":"#N/A"},{"$error":"#N/A"},{"$error":"#N/A"},{"$error":"#N/A"},{"$error":"#N/A"},{"$error":"#N/A"},{"$error":"#N/A"},{"$error":"#N/A"},{"$error":"#N/A"}]
[{"$f":"données!W708","v":{"$error":"#N/A"}},{"$f":"données!X708","v":{"$error":"#N/A"}},{"$f":"données!Y708","v":{"$error":"#N/A"}},{"$f":"données!AH708","v":3},{"$f":"A706+B706*$I$2","v":{"$error":"#N/A"}},{"$f":"C706+B706*$I$3","v":{"$error":"#N/A"}},null,null,null,null,null,null,null,null,null,null,null,null,null,null,null,null,null,{"$error":"#N/A"},{"$error":"#N/A"},{"$f":"IF($D706=Z$1,$E706,#N/A)","v":{"$error":"#N/A"}},{"$f":"IF($D706=AA$1,$F706,#N/A)","v":{"$error":"#N/A"}},{"$f":"IF($D706=AB$1,$E706,#N/A)","v":{"$error":"#N/A"}},{"$f":"IF($D706=AC$1,$F706,#N/A)","v":{"$error":"#N/A"}},{"$f":"IF($D706=AD$1,$E706,#N/A)","v":{"$error":"#N/A"}},{"$f":"IF($D706=AE$1,$F706,#N/A)","v":{"$error":"#N/A"}},{"$f":"IF($D706=AF$1,$E706,#N/A)","v":{"$error":"#N/A"}},{"$f":"IF($D706=AG$1,$F706,#N/A)","v":{"$error":"#N/A"}},{"$f":"IF($D706=AH$1,$E706,#N/A)","v":{"$error":"#N/A"}},{"$f":"IF($D706=AI$1,$F706,#N/A)","v":{"$error":"#N/A"}},{"$f":"IF($D706=AJ$1,$E706,#N/A)","v":{"$error":"#N/A"}},{"$f":"IF($D706=AK$1,$F706,#N/A)","v":{"$error":"#N/A"}}]
[{"$f":"données!W709","v":{"$error":"#N/A"}},{"$f":"données!X709","v":{"$error":"#N/A"}},{"$f":"données!Y709","v":{"$error":"#N/A"}},{"$f":"données!AH709","v":7},{"$error":"#N/A"},{"$error":"#N/A"},null,null,null,null,null,null,null,null,null,null,null,null,null,null,null,null,null,{"$error":"#N/A"},{"$error":"#N/A"},{"$error":"#N/A"},{"$error":"#N/A"},{"$error":"#N/A"},{"$error":"#N/A"},{"$error":"#N/A"},{"$error":"#N/A"},{"$error":"#N/A"},{"$error":"#N/A"},{"$error":"#N/A"},{"$error":"#N/A"},{"$error":"#N/A"},{"$error":"#N/A"}]
[{"$f":"données!W710","v":{"$error":"#N/A"}},{"$f":"données!X710","v":{"$error":"#N/A"}},{"$f":"données!Y710","v":{"$error":"#N/A"}},{"$f":"données!AH710","v":5},{"$error":"#N/A"},{"$error":"#N/A"},null,null,null,null,null,null,null,null,null,null,null,null,null,null,null,null,null,{"$error":"#N/A"},{"$error":"#N/A"},{"$error":"#N/A"},{"$error":"#N/A"},{"$error":"#N/A"},{"$error":"#N/A"},{"$error":"#N/A"},{"$error":"#N/A"},{"$error":"#N/A"},{"$error":"#N/A"},{"$error":"#N/A"},{"$error":"#N/A"},{"$error":"#N/A"},{"$error":"#N/A"}]
[{"$f":"données!W711","v":{"$error":"#N/A"}},{"$f":"données!X711","v":{"$error":"#N/A"}},{"$f":"données!Y711","v":{"$error":"#N/A"}},{"$f":"données!AH711","v":4},{"$error":"#N/A"},{"$error":"#N/A"},null,null,null,null,null,null,null,null,null,null,null,null,null,null,null,null,null,{"$error":"#N/A"},{"$error":"#N/A"},{"$error":"#N/A"},{"$error":"#N/A"},{"$error":"#N/A"},{"$error":"#N/A"},{"$error":"#N/A"},{"$error":"#N/A"},{"$error":"#N/A"},{"$error":"#N/A"},{"$error":"#N/A"},{"$error":"#N/A"},{"$error":"#N/A"},{"$error":"#N/A"}]
[{"$f":"données!W712","v":{"$error":"#N/A"}},{"$f":"données!X712","v":{"$error":"#N/A"}},{"$f":"données!Y712","v":{"$error":"#N/A"}},{"$f":"données!AH712","v":3},{"$error":"#N/A"},{"$error":"#N/A"},null,null,null,null,null,null,null,null,null,null,null,null,null,null,null,null,null,{"$error":"#N/A"},{"$error":"#N/A"},{"$error":"#N/A"},{"$error":"#N/A"},{"$error":"#N/A"},{"$error":"#N/A"},{"$error":"#N/A"},{"$error":"#N/A"},{"$error":"#N/A"},{"$error":"#N/A"},{"$error":"#N/A"},{"$error":"#N/A"},{"$error":"#N/A"},{"$error":"#N/A"}]
[{"$f":"données!W713","v":{"$error":"#N/A"}},{"$f":"données!X713","v":{"$error":"#N/A"}},{"$f":"données!Y713","v":{"$error":"#N/A"}},{"$f":"données!AH713","v":3},{"$error":"#N/A"},{"$error":"#N/A"},null,null,null,null,null,null,null,null,null,null,null,null,null,null,null,null,null,{"$error":"#N/A"},{"$error":"#N/A"},{"$error":"#N/A"},{"$error":"#N/A"},{"$error":"#N/A"},{"$error":"#N/A"},{"$error":"#N/A"},{"$error":"#N/A"},{"$error":"#N/A"},{"$error":"#N/A"},{"$error":"#N/A"},{"$error":"#N/A"},{"$error":"#N/A"},{"$error":"#N/A"}]
[{"$f":"données!W714","v":{"$error":"#N/A"}},{"$f":"données!X714","v":{"$error":"#N/A"}},{"$f":"données!Y714","v":{"$error":"#N/A"}},{"$f":"données!AH714","v":5},{"$error":"#N/A"},{"$error":"#N/A"},null,null,null,null,null,null,null,null,null,null,null,null,null,null,null,null,null,{"$error":"#N/A"},{"$error":"#N/A"},{"$error":"#N/A"},{"$error":"#N/A"},{"$error":"#N/A"},{"$error":"#N/A"},{"$error":"#N/A"},{"$error":"#N/A"},{"$error":"#N/A"},{"$error":"#N/A"},{"$error":"#N/A"},{"$error":"#N/A"},{"$error":"#N/A"},{"$error":"#N/A"}]
[{"$f":"données!W715","v":{"$error":"#N/A"}},{"$f":"données!X715","v":{"$error":"#N/A"}},{"$f":"données!Y715","v":{"$error":"#N/A"}},{"$f":"données!AH715","v":5},{"$error":"#N/A"},{"$error":"#N/A"},null,null,null,null,null,null,null,null,null,null,null,null,null,null,null,null,null,{"$error":"#N/A"},{"$error":"#N/A"},{"$error":"#N/A"},{"$error":"#N/A"},{"$error":"#N/A"},{"$error":"#N/A"},{"$error":"#N/A"},{"$error":"#N/A"},{"$error":"#N/A"},{"$error":"#N/A"},{"$error":"#N/A"},{"$error":"#N/A"},{"$error":"#N/A"},{"$error":"#N/A"}]
[{"$f":"données!W716","v":{"$error":"#N/A"}},{"$f":"données!X716","v":{"$error":"#N/A"}},{"$f":"données!Y716","v":{"$error":"#N/A"}},{"$f":"données!AH716","v":7},{"$error":"#N/A"},{"$error":"#N/A"},null,null,null,null,null,null,null,null,null,null,null,null,null,null,null,null,null,{"$error":"#N/A"},{"$error":"#N/A"},{"$error":"#N/A"},{"$error":"#N/A"},{"$error":"#N/A"},{"$error":"#N/A"},{"$error":"#N/A"},{"$error":"#N/A"},{"$error":"#N/A"},{"$error":"#N/A"},{"$error":"#N/A"},{"$error":"#N/A"},{"$error":"#N/A"},{"$error":"#N/A"}]
[{"$f":"données!W717","v":{"$error":"#N/A"}},{"$f":"données!X717","v":{"$error":"#N/A"}},{"$f":"données!Y717","v":{"$error":"#N/A"}},{"$f":"données!AH717","v":4},{"$error":"#N/A"},{"$error":"#N/A"},null,null,null,null,null,null,null,null,null,null,null,null,null,null,null,null,null,{"$error":"#N/A"},{"$error":"#N/A"},{"$error":"#N/A"},{"$error":"#N/A"},{"$error":"#N/A"},{"$error":"#N/A"},{"$error":"#N/A"},{"$error":"#N/A"},{"$error":"#N/A"},{"$error":"#N/A"},{"$error":"#N/A"},{"$error":"#N/A"},{"$error":"#N/A"},{"$error":"#N/A"}]
[{"$f":"données!W718","v":{"$error":"#N/A"}},{"$f":"données!X718","v":{"$error":"#N/A"}},{"$f":"données!Y718","v":{"$error":"#N/A"}},{"$f":"données!AH718","v":7},{"$error":"#N/A"},{"$error":"#N/A"},null,null,null,null,null,null,null,null,null,null,null,null,null,null,null,null,null,{"$error":"#N/A"},{"$error":"#N/A"},{"$error":"#N/A"},{"$error":"#N/A"},{"$error":"#N/A"},{"$error":"#N/A"},{"$error":"#N/A"},{"$error":"#N/A"},{"$error":"#N/A"},{"$error":"#N/A"},{"$error":"#N/A"},{"$error":"#N/A"},{"$error":"#N/A"},{"$error":"#N/A"}]
[{"$f":"données!W719","v":{"$error":"#N/A"}},{"$f":"données!X719","v":{"$error":"#N/A"}},{"$f":"données!Y719","v":{"$error":"#N/A"}},{"$f":"données!AH719","v":2},{"$error":"#N/A"},{"$error":"#N/A"},null,null,null,null,null,null,null,null,null,null,null,null,null,null,null,null,null,{"$error":"#N/A"},{"$error":"#N/A"},{"$error":"#N/A"},{"$error":"#N/A"},{"$error":"#N/A"},{"$error":"#N/A"},{"$error":"#N/A"},{"$error":"#N/A"},{"$error":"#N/A"},{"$error":"#N/A"},{"$error":"#N/A"},{"$error":"#N/A"},{"$error":"#N/A"},{"$error":"#N/A"}]
[{"$f":"données!W720","v":{"$error":"#N/A"}},{"$f":"données!X720","v":{"$error":"#N/A"}},{"$f":"données!Y720","v":{"$error":"#N/A"}},{"$f":"données!AH720","v":4},{"$error":"#N/A"},{"$error":"#N/A"},null,null,null,null,null,null,null,null,null,null,null,null,null,null,null,null,null,{"$error":"#N/A"},{"$error":"#N/A"},{"$error":"#N/A"},{"$error":"#N/A"},{"$error":"#N/A"},{"$error":"#N/A"},{"$error":"#N/A"},{"$error":"#N/A"},{"$error":"#N/A"},{"$error":"#N/A"},{"$error":"#N/A"},{"$error":"#N/A"},{"$error":"#N/A"},{"$error":"#N/A"}]
[{"$f":"données!W721","v":{"$error":"#N/A"}},{"$f":"données!X721","v":{"$error":"#N/A"}},{"$f":"données!Y721","v":{"$error":"#N/A"}},{"$f":"données!AH721","v":1},{"$error":"#N/A"},{"$error":"#N/A"},null,null,null,null,null,null,null,null,null,null,null,null,null,null,null,null,null,{"$error":"#N/A"},{"$error":"#N/A"},{"$error":"#N/A"},{"$error":"#N/A"},{"$error":"#N/A"},{"$error":"#N/A"},{"$error":"#N/A"},{"$error":"#N/A"},{"$error":"#N/A"},{"$error":"#N/A"},{"$error":"#N/A"},{"$error":"#N/A"},{"$error":"#N/A"},{"$error":"#N/A"}]
[{"$f":"données!W722","v":{"$error":"#N/A"}},{"$f":"données!X722","v":{"$error":"#N/A"}},{"$f":"données!Y722","v":{"$error":"#N/A"}},{"$f":"données!AH722","v":7},{"$error":"#N/A"},{"$error":"#N/A"},null,null,null,null,null,null,null,null,null,null,null,null,null,null,null,null,null,{"$error":"#N/A"},{"$error":"#N/A"},{"$error":"#N/A"},{"$error":"#N/A"},{"$error":"#N/A"},{"$error":"#N/A"},{"$error":"#N/A"},{"$error":"#N/A"},{"$error":"#N/A"},{"$error":"#N/A"},{"$error":"#N/A"},{"$error":"#N/A"},{"$error":"#N/A"},{"$error":"#N/A"}]
[{"$f":"données!W723","v":{"$error":"#N/A"}},{"$f":"données!X723","v":{"$error":"#N/A"}},{"$f":"données!Y723","v":{"$error":"#N/A"}},{"$f":"données!AH723","v":5},{"$error":"#N/A"},{"$error":"#N/A"},null,null,null,null,null,null,null,null,null,null,null,null,null,null,null,null,null,{"$error":"#N/A"},{"$error":"#N/A"},{"$error":"#N/A"},{"$error":"#N/A"},{"$error":"#N/A"},{"$error":"#N/A"},{"$error":"#N/A"},{"$error":"#N/A"},{"$error":"#N/A"},{"$error":"#N/A"},{"$error":"#N/A"},{"$error":"#N/A"},{"$error":"#N/A"},{"$error":"#N/A"}]
[{"$f":"données!W724","v":{"$error":"#N/A"}},{"$f":"données!X724","v":{"$error":"#N/A"}},{"$f":"données!Y724","v":{"$error":"#N/A"}},{"$f":"données!AH724","v":2},{"$error":"#N/A"},{"$error":"#N/A"},null,null,null,null,null,null,null,null,null,null,null,null,null,null,null,null,null,{"$error":"#N/A"},{"$error":"#N/A"},{"$error":"#N/A"},{"$error":"#N/A"},{"$error":"#N/A"},{"$error":"#N/A"},{"$error":"#N/A"},{"$error":"#N/A"},{"$error":"#N/A"},{"$error":"#N/A"},{"$error":"#N/A"},{"$error":"#N/A"},{"$error":"#N/A"},{"$error":"#N/A"}]
[{"$f":"données!W725","v":{"$error":"#N/A"}},{"$f":"données!X725","v":{"$error":"#N/A"}},{"$f":"données!Y725","v":{"$error":"#N/A"}},{"$f":"données!AH725","v":6},{"$error":"#N/A"},{"$error":"#N/A"},null,null,null,null,null,null,null,null,null,null,null,null,null,null,null,null,null,{"$error":"#N/A"},{"$error":"#N/A"},{"$error":"#N/A"},{"$error":"#N/A"},{"$error":"#N/A"},{"$error":"#N/A"},{"$error":"#N/A"},{"$error":"#N/A"},{"$error":"#N/A"},{"$error":"#N/A"},{"$error":"#N/A"},{"$error":"#N/A"},{"$error":"#N/A"},{"$error":"#N/A"}]
[{"$f":"données!W726","v":{"$error":"#N/A"}},{"$f":"données!X726","v":{"$error":"#N/A"}},{"$f":"données!Y726","v":{"$error":"#N/A"}},{"$f":"données!AH726","v":1},{"$error":"#N/A"},{"$error":"#N/A"},null,null,null,null,null,null,null,null,null,null,null,null,null,null,null,null,null,{"$error":"#N/A"},{"$error":"#N/A"},{"$error":"#N/A"},{"$error":"#N/A"},{"$error":"#N/A"},{"$error":"#N/A"},{"$error":"#N/A"},{"$error":"#N/A"},{"$error":"#N/A"},{"$error":"#N/A"},{"$error":"#N/A"},{"$error":"#N/A"},{"$error":"#N/A"},{"$error":"#N/A"}]
[{"$f":"données!W727","v":{"$error":"#N/A"}},{"$f":"données!X727","v":{"$error":"#N/A"}},{"$f":"données!Y727","v":{"$error":"#N/A"}},{"$f":"données!AH727","v":1},{"$error":"#N/A"},{"$error":"#N/A"},null,null,null,null,null,null,null,null,null,null,null,null,null,null,null,null,null,{"$error":"#N/A"},{"$error":"#N/A"},{"$error":"#N/A"},{"$error":"#N/A"},{"$error":"#N/A"},{"$error":"#N/A"},{"$error":"#N/A"},{"$error":"#N/A"},{"$error":"#N/A"},{"$error":"#N/A"},{"$error":"#N/A"},{"$error":"#N/A"},{"$error":"#N/A"},{"$error":"#N/A"}]
[{"$f":"données!W728","v":{"$error":"#N/A"}},{"$f":"données!X728","v":{"$error":"#N/A"}},{"$f":"données!Y728","v":{"$error":"#N/A"}},{"$f":"données!AH728","v":4},{"$error":"#N/A"},{"$error":"#N/A"},null,null,null,null,null,null,null,null,null,null,null,null,null,null,null,null,null,{"$error":"#N/A"},{"$error":"#N/A"},{"$error":"#N/A"},{"$error":"#N/A"},{"$error":"#N/A"},{"$error":"#N/A"},{"$error":"#N/A"},{"$error":"#N/A"},{"$error":"#N/A"},{"$error":"#N/A"},{"$error":"#N/A"},{"$error":"#N/A"},{"$error":"#N/A"},{"$error":"#N/A"}]
[{"$f":"données!W729","v":{"$error":"#N/A"}},{"$f":"données!X729","v":{"$error":"#N/A"}},{"$f":"données!Y729","v":{"$error":"#N/A"}},{"$f":"données!AH729","v":2},{"$error":"#N/A"},{"$error":"#N/A"},null,null,null,null,null,null,null,null,null,null,null,null,null,null,null,null,null,{"$error":"#N/A"},{"$error":"#N/A"},{"$error":"#N/A"},{"$error":"#N/A"},{"$error":"#N/A"},{"$error":"#N/A"},{"$error":"#N/A"},{"$error":"#N/A"},{"$error":"#N/A"},{"$error":"#N/A"},{"$error":"#N/A"},{"$error":"#N/A"},{"$error":"#N/A"},{"$error":"#N/A"}]
[{"$f":"données!W730","v":{"$error":"#N/A"}},{"$f":"données!X730","v":{"$error":"#N/A"}},{"$f":"données!Y730","v":{"$error":"#N/A"}},{"$f":"données!AH730","v":2},{"$error":"#N/A"},{"$error":"#N/A"},null,null,null,null,null,null,null,null,null,null,null,null,null,null,null,null,null,{"$error":"#N/A"},{"$error":"#N/A"},{"$error":"#N/A"},{"$error":"#N/A"},{"$error":"#N/A"},{"$error":"#N/A"},{"$error":"#N/A"},{"$error":"#N/A"},{"$error":"#N/A"},{"$error":"#N/A"},{"$error":"#N/A"},{"$error":"#N/A"},{"$error":"#N/A"},{"$error":"#N/A"}]
[{"$f":"données!W731","v":{"$error":"#N/A"}},{"$f":"données!X731","v":{"$error":"#N/A"}},{"$f":"données!Y731","v":{"$error":"#N/A"}},{"$f":"données!AH731","v":7},{"$error":"#N/A"},{"$error":"#N/A"},null,null,null,null,null,null,null,null,null,null,null,null,null,null,null,null,null,{"$error":"#N/A"},{"$error":"#N/A"},{"$error":"#N/A"},{"$error":"#N/A"},{"$error":"#N/A"},{"$error":"#N/A"},{"$error":"#N/A"},{"$error":"#N/A"},{"$error":"#N/A"},{"$error":"#N/A"},{"$error":"#N/A"},{"$error":"#N/A"},{"$error":"#N/A"},{"$error":"#N/A"}]
[{"$f":"données!W732","v":{"$error":"#N/A"}},{"$f":"données!X732","v":{"$error":"#N/A"}},{"$f":"données!Y732","v":{"$error":"#N/A"}},{"$f":"données!AH732","v":5},{"$error":"#N/A"},{"$error":"#N/A"},null,null,null,null,null,null,null,null,null,null,null,null,null,null,null,null,null,{"$error":"#N/A"},{"$error":"#N/A"},{"$error":"#N/A"},{"$error":"#N/A"},{"$error":"#N/A"},{"$error":"#N/A"},{"$error":"#N/A"},{"$error":"#N/A"},{"$error":"#N/A"},{"$error":"#N/A"},{"$error":"#N/A"},{"$error":"#N/A"},{"$error":"#N/A"},{"$error":"#N/A"}]
[{"$f":"données!W733","v":{"$error":"#N/A"}},{"$f":"données!X733","v":{"$error":"#N/A"}},{"$f":"données!Y733","v":{"$error":"#N/A"}},{"$f":"données!AH733","v":2},{"$error":"#N/A"},{"$error":"#N/A"},null,null,null,null,null,null,null,null,null,null,null,null,null,null,null,null,null,{"$error":"#N/A"},{"$error":"#N/A"},{"$error":"#N/A"},{"$error":"#N/A"},{"$error":"#N/A"},{"$error":"#N/A"},{"$error":"#N/A"},{"$error":"#N/A"},{"$error":"#N/A"},{"$error":"#N/A"},{"$error":"#N/A"},{"$error":"#N/A"},{"$error":"#N/A"},{"$error":"#N/A"}]
[{"$f":"données!W734","v":{"$error":"#N/A"}},{"$f":"données!X734","v":{"$error":"#N/A"}},{"$f":"données!Y734","v":{"$error":"#N/A"}},{"$f":"données!AH734","v":1},{"$error":"#N/A"},{"$error":"#N/A"},null,null,null,null,null,null,null,null,null,null,null,null,null,null,null,null,null,{"$error":"#N/A"},{"$error":"#N/A"},{"$error":"#N/A"},{"$error":"#N/A"},{"$error":"#N/A"},{"$error":"#N/A"},{"$error":"#N/A"},{"$error":"#N/A"},{"$error":"#N/A"},{"$error":"#N/A"},{"$error":"#N/A"},{"$error":"#N/A"},{"$error":"#N/A"},{"$error":"#N/A"}]
[{"$f":"données!W735","v":{"$error":"#N/A"}},{"$f":"données!X735","v":{"$error":"#N/A"}},{"$f":"données!Y735","v":{"$error":"#N/A"}},{"$f":"données!AH735","v":7},{"$error":"#N/A"},{"$error":"#N/A"},null,null,null,null,null,null,null,null,null,null,null,null,null,null,null,null,null,{"$error":"#N/A"},{"$error":"#N/A"},{"$error":"#N/A"},{"$error":"#N/A"},{"$error":"#N/A"},{"$error":"#N/A"},{"$error":"#N/A"},{"$error":"#N/A"},{"$error":"#N/A"},{"$error":"#N/A"},{"$error":"#N/A"},{"$error":"#N/A"},{"$error":"#N/A"},{"$error":"#N/A"}]
[{"$f":"données!W736","v":{"$error":"#N/A"}},{"$f":"données!X736","v":{"$error":"#N/A"}},{"$f":"données!Y736","v":{"$error":"#N/A"}},{"$f":"données!AH736","v":2},{"$error":"#N/A"},{"$error":"#N/A"},null,null,null,null,null,null,null,null,null,null,null,null,null,null,null,null,null,{"$error":"#N/A"},{"$error":"#N/A"},{"$error":"#N/A"},{"$error":"#N/A"},{"$error":"#N/A"},{"$error":"#N/A"},{"$error":"#N/A"},{"$error":"#N/A"},{"$error":"#N/A"},{"$error":"#N/A"},{"$error":"#N/A"},{"$error":"#N/A"},{"$error":"#N/A"},{"$error":"#N/A"}]
[{"$f":"données!W737","v":{"$error":"#N/A"}},{"$f":"données!X737","v":{"$error":"#N/A"}},{"$f":"données!Y737","v":{"$error":"#N/A"}},{"$f":"données!AH737","v":1},{"$error":"#N/A"},{"$error":"#N/A"},null,null,null,null,null,null,null,null,null,null,null,null,null,null,null,null,null,{"$error":"#N/A"},{"$error":"#N/A"},{"$error":"#N/A"},{"$error":"#N/A"},{"$error":"#N/A"},{"$error":"#N/A"},{"$error":"#N/A"},{"$error":"#N/A"},{"$error":"#N/A"},{"$error":"#N/A"},{"$error":"#N/A"},{"$error":"#N/A"},{"$error":"#N/A"},{"$error":"#N/A"}]
[{"$f":"données!W738","v":{"$error":"#N/A"}},{"$f":"données!X738","v":{"$error":"#N/A"}},{"$f":"données!Y738","v":{"$error":"#N/A"}},{"$f":"données!AH738","v":4},{"$error":"#N/A"},{"$error":"#N/A"},null,null,null,null,null,null,null,null,null,null,null,null,null,null,null,null,null,{"$error":"#N/A"},{"$error":"#N/A"},{"$error":"#N/A"},{"$error":"#N/A"},{"$error":"#N/A"},{"$error":"#N/A"},{"$error":"#N/A"},{"$error":"#N/A"},{"$error":"#N/A"},{"$error":"#N/A"},{"$error":"#N/A"},{"$error":"#N/A"},{"$error":"#N/A"},{"$error":"#N/A"}]
[{"$f":"données!W739","v":{"$error":"#N/A"}},{"$f":"données!X739","v":{"$error":"#N/A"}},{"$f":"données!Y739","v":{"$error":"#N/A"}},{"$f":"données!AH739","v":7},{"$error":"#N/A"},{"$error":"#N/A"},null,null,null,null,null,null,null,null,null,null,null,null,null,null,null,null,null,{"$error":"#N/A"},{"$error":"#N/A"},{"$error":"#N/A"},{"$error":"#N/A"},{"$error":"#N/A"},{"$error":"#N/A"},{"$error":"#N/A"},{"$error":"#N/A"},{"$error":"#N/A"},{"$error":"#N/A"},{"$error":"#N/A"},{"$error":"#N/A"},{"$error":"#N/A"},{"$error":"#N/A"}]
[{"$f":"données!W740","v":{"$error":"#N/A"}},{"$f":"données!X740","v":{"$error":"#N/A"}},{"$f":"données!Y740","v":{"$error":"#N/A"}},{"$f":"données!AH740","v":5},{"$error":"#N/A"},{"$error":"#N/A"},null,null,null,null,null,null,null,null,null,null,null,null,null,null,null,null,null,{"$error":"#N/A"},{"$error":"#N/A"},{"$error":"#N/A"},{"$error":"#N/A"},{"$error":"#N/A"},{"$error":"#N/A"},{"$error":"#N/A"},{"$error":"#N/A"},{"$error":"#N/A"},{"$error":"#N/A"},{"$error":"#N/A"},{"$error":"#N/A"},{"$error":"#N/A"},{"$error":"#N/A"}]
[{"$f":"données!W741","v":{"$error":"#N/A"}},{"$f":"données!X741","v":{"$error":"#N/A"}},{"$f":"données!Y741","v":{"$error":"#N/A"}},{"$f":"données!AH741","v":2},{"$error":"#N/A"},{"$error":"#N/A"},null,null,null,null,null,null,null,null,null,null,null,null,null,null,null,null,null,{"$error":"#N/A"},{"$error":"#N/A"},{"$error":"#N/A"},{"$error":"#N/A"},{"$error":"#N/A"},{"$error":"#N/A"},{"$error":"#N/A"},{"$error":"#N/A"},{"$error":"#N/A"},{"$error":"#N/A"},{"$error":"#N/A"},{"$error":"#N/A"},{"$error":"#N/A"},{"$error":"#N/A"}]
[{"$f":"données!W742","v":{"$error":"#N/A"}},{"$f":"données!X742","v":{"$error":"#N/A"}},{"$f":"données!Y742","v":{"$error":"#N/A"}},{"$f":"données!AH742","v":1},{"$error":"#N/A"},{"$error":"#N/A"},null,null,null,null,null,null,null,null,null,null,null,null,null,null,null,null,null,{"$error":"#N/A"},{"$error":"#N/A"},{"$error":"#N/A"},{"$error":"#N/A"},{"$error":"#N/A"},{"$error":"#N/A"},{"$error":"#N/A"},{"$error":"#N/A"},{"$error":"#N/A"},{"$error":"#N/A"},{"$error":"#N/A"},{"$error":"#N/A"},{"$error":"#N/A"},{"$error":"#N/A"}]
[{"$f":"données!W743","v":{"$error":"#N/A"}},{"$f":"données!X743","v":{"$error":"#N/A"}},{"$f":"données!Y743","v":{"$error":"#N/A"}},{"$f":"données!AH743","v":7},{"$error":"#N/A"},{"$error":"#N/A"},null,null,null,null,null,null,null,null,null,null,null,null,null,null,null,null,null,{"$error":"#N/A"},{"$error":"#N/A"},{"$error":"#N/A"},{"$error":"#N/A"},{"$error":"#N/A"},{"$error":"#N/A"},{"$error":"#N/A"},{"$error":"#N/A"},{"$error":"#N/A"},{"$error":"#N/A"},{"$error":"#N/A"},{"$error":"#N/A"},{"$error":"#N/A"},{"$error":"#N/A"}]
[{"$f":"données!W744","v":{"$error":"#N/A"}},{"$f":"données!X744","v":{"$error":"#N/A"}},{"$f":"données!Y744","v":{"$error":"#N/A"}},{"$f":"données!AH744","v":7},{"$error":"#N/A"},{"$error":"#N/A"},null,null,null,null,null,null,null,null,null,null,null,null,null,null,null,null,null,{"$error":"#N/A"},{"$error":"#N/A"},{"$error":"#N/A"},{"$error":"#N/A"},{"$error":"#N/A"},{"$error":"#N/A"},{"$error":"#N/A"},{"$error":"#N/A"},{"$error":"#N/A"},{"$error":"#N/A"},{"$error":"#N/A"},{"$error":"#N/A"},{"$error":"#N/A"},{"$error":"#N/A"}]
[{"$f":"données!W745","v":{"$error":"#N/A"}},{"$f":"données!X745","v":{"$error":"#N/A"}},{"$f":"données!Y745","v":{"$error":"#N/A"}},{"$f":"données!AH745","v":3},{"$error":"#N/A"},{"$error":"#N/A"},null,null,null,null,null,null,null,null,null,null,null,null,null,null,null,null,null,{"$error":"#N/A"},{"$error":"#N/A"},{"$error":"#N/A"},{"$error":"#N/A"},{"$error":"#N/A"},{"$error":"#N/A"},{"$error":"#N/A"},{"$error":"#N/A"},{"$error":"#N/A"},{"$error":"#N/A"},{"$error":"#N/A"},{"$error":"#N/A"},{"$error":"#N/A"},{"$error":"#N/A"}]
[{"$f":"données!W746","v":{"$error":"#N/A"}},{"$f":"données!X746","v":{"$error":"#N/A"}},{"$f":"données!Y746","v":{"$error":"#N/A"}},{"$f":"données!AH746","v":4},{"$error":"#N/A"},{"$error":"#N/A"},null,null,null,null,null,null,null,null,null,null,null,null,null,null,null,null,null,{"$error":"#N/A"},{"$error":"#N/A"},{"$error":"#N/A"},{"$error":"#N/A"},{"$error":"#N/A"},{"$error":"#N/A"},{"$error":"#N/A"},{"$error":"#N/A"},{"$error":"#N/A"},{"$error":"#N/A"},{"$error":"#N/A"},{"$error":"#N/A"},{"$error":"#N/A"},{"$error":"#N/A"}]
[{"$f":"données!W747","v":{"$error":"#N/A"}},{"$f":"données!X747","v":{"$error":"#N/A"}},{"$f":"données!Y747","v":{"$error":"#N/A"}},{"$f":"données!AH747","v":7},{"$error":"#N/A"},{"$error":"#N/A"},null,null,null,null,null,null,null,null,null,null,null,null,null,null,null,null,null,{"$error":"#N/A"},{"$error":"#N/A"},{"$error":"#N/A"},{"$error":"#N/A"},{"$error":"#N/A"},{"$error":"#N/A"},{"$error":"#N/A"},{"$error":"#N/A"},{"$error":"#N/A"},{"$error":"#N/A"},{"$error":"#N/A"},{"$error":"#N/A"},{"$error":"#N/A"},{"$error":"#N/A"}]
[{"$f":"données!W748","v":{"$error":"#N/A"}},{"$f":"données!X748","v":{"$error":"#N/A"}},{"$f":"données!Y748","v":{"$error":"#N/A"}},{"$f":"données!AH748","v":2},{"$error":"#N/A"},{"$error":"#N/A"},null,null,null,null,null,null,null,null,null,null,null,null,null,null,null,null,null,{"$error":"#N/A"},{"$error":"#N/A"},{"$error":"#N/A"},{"$error":"#N/A"},{"$error":"#N/A"},{"$error":"#N/A"},{"$error":"#N/A"},{"$error":"#N/A"},{"$error":"#N/A"},{"$error":"#N/A"},{"$error":"#N/A"},{"$error":"#N/A"},{"$error":"#N/A"},{"$error":"#N/A"}]
[{"$f":"données!W749","v":{"$error":"#N/A"}},{"$f":"données!X749","v":{"$error":"#N/A"}},{"$f":"données!Y749","v":{"$error":"#N/A"}},{"$f":"données!AH749","v":5},{"$error":"#N/A"},{"$error":"#N/A"},null,null,null,null,null,null,null,null,null,null,null,null,null,null,null,null,null,{"$error":"#N/A"},{"$error":"#N/A"},{"$error":"#N/A"},{"$error":"#N/A"},{"$error":"#N/A"},{"$error":"#N/A"},{"$error":"#N/A"},{"$error":"#N/A"},{"$error":"#N/A"},{"$error":"#N/A"},{"$error":"#N/A"},{"$error":"#N/A"},{"$error":"#N/A"},{"$error":"#N/A"}]
[{"$f":"données!W750","v":{"$error":"#N/A"}},{"$f":"données!X750","v":{"$error":"#N/A"}},{"$f":"données!Y750","v":{"$error":"#N/A"}},{"$f":"données!AH750","v":4},{"$error":"#N/A"},{"$error":"#N/A"},null,null,null,null,null,null,null,null,null,null,null,null,null,null,null,null,null,{"$error":"#N/A"},{"$error":"#N/A"},{"$error":"#N/A"},{"$error":"#N/A"},{"$error":"#N/A"},{"$error":"#N/A"},{"$error":"#N/A"},{"$error":"#N/A"},{"$error":"#N/A"},{"$error":"#N/A"},{"$error":"#N/A"},{"$error":"#N/A"},{"$error":"#N/A"},{"$error":"#N/A"}]
[{"$f":"données!W751","v":{"$error":"#N/A"}},{"$f":"données!X751","v":{"$error":"#N/A"}},{"$f":"données!Y751","v":{"$error":"#N/A"}},{"$f":"données!AH751","v":3},{"$error":"#N/A"},{"$error":"#N/A"},null,null,null,null,null,null,null,null,null,null,null,null,null,null,null,null,null,{"$error":"#N/A"},{"$error":"#N/A"},{"$error":"#N/A"},{"$error":"#N/A"},{"$error":"#N/A"},{"$error":"#N/A"},{"$error":"#N/A"},{"$error":"#N/A"},{"$error":"#N/A"},{"$error":"#N/A"},{"$error":"#N/A"},{"$error":"#N/A"},{"$error":"#N/A"},{"$error":"#N/A"}]
[{"$f":"données!W752","v":{"$error":"#N/A"}},{"$f":"données!X752","v":{"$error":"#N/A"}},{"$f":"données!Y752","v":{"$error":"#N/A"}},{"$f":"données!AH752","v":5},{"$error":"#N/A"},{"$error":"#N/A"},null,null,null,null,null,null,null,null,null,null,null,null,null,null,null,null,null,{"$error":"#N/A"},{"$error":"#N/A"},{"$error":"#N/A"},{"$error":"#N/A"},{"$error":"#N/A"},{"$error":"#N/A"},{"$error":"#N/A"},{"$error":"#N/A"},{"$error":"#N/A"},{"$error":"#N/A"},{"$error":"#N/A"},{"$error":"#N/A"},{"$error":"#N/A"},{"$error":"#N/A"}]
[{"$f":"données!W753","v":{"$error":"#N/A"}},{"$f":"données!X753","v":{"$error":"#N/A"}},{"$f":"données!Y753","v":{"$error":"#N/A"}},{"$f":"données!AH753","v":4},{"$error":"#N/A"},{"$error":"#N/A"},null,null,null,null,null,null,null,null,null,null,null,null,null,null,null,null,null,{"$error":"#N/A"},{"$error":"#N/A"},{"$error":"#N/A"},{"$error":"#N/A"},{"$error":"#N/A"},{"$error":"#N/A"},{"$error":"#N/A"},{"$error":"#N/A"},{"$error":"#N/A"},{"$error":"#N/A"},{"$error":"#N/A"},{"$error":"#N/A"},{"$error":"#N/A"},{"$error":"#N/A"}]
[{"$f":"données!W754","v":{"$error":"#N/A"}},{"$f":"données!X754","v":{"$error":"#N/A"}},{"$f":"données!Y754","v":{"$error":"#N/A"}},{"$f":"données!AH754","v":3},{"$error":"#N/A"},{"$error":"#N/A"},null,null,null,null,null,null,null,null,null,null,null,null,null,null,null,null,null,{"$error":"#N/A"},{"$error":"#N/A"},{"$error":"#N/A"},{"$error":"#N/A"},{"$error":"#N/A"},{"$error":"#N/A"},{"$error":"#N/A"},{"$error":"#N/A"},{"$error":"#N/A"},{"$error":"#N/A"},{"$error":"#N/A"},{"$error":"#N/A"},{"$error":"#N/A"},{"$error":"#N/A"}]
[{"$f":"données!W755","v":{"$error":"#N/A"}},{"$f":"données!X755","v":{"$error":"#N/A"}},{"$f":"données!Y755","v":{"$error":"#N/A"}},{"$f":"données!AH755","v":3},{"$error":"#N/A"},{"$error":"#N/A"},null,null,null,null,null,null,null,null,null,null,null,null,null,null,null,null,null,{"$error":"#N/A"},{"$error":"#N/A"},{"$error":"#N/A"},{"$error":"#N/A"},{"$error":"#N/A"},{"$error":"#N/A"},{"$error":"#N/A"},{"$error":"#N/A"},{"$error":"#N/A"},{"$error":"#N/A"},{"$error":"#N/A"},{"$error":"#N/A"},{"$error":"#N/A"},{"$error":"#N/A"}]
[{"$f":"données!W756","v":{"$error":"#N/A"}},{"$f":"données!X756","v":{"$error":"#N/A"}},{"$f":"données!Y756","v":{"$error":"#N/A"}},{"$f":"données!AH756","v":6},{"$error":"#N/A"},{"$error":"#N/A"},null,null,null,null,null,null,null,null,null,null,null,null,null,null,null,null,null,{"$error":"#N/A"},{"$error":"#N/A"},{"$error":"#N/A"},{"$error":"#N/A"},{"$error":"#N/A"},{"$error":"#N/A"},{"$error":"#N/A"},{"$error":"#N/A"},{"$error":"#N/A"},{"$error":"#N/A"},{"$error":"#N/A"},{"$error":"#N/A"},{"$error":"#N/A"},{"$error":"#N/A"}]
[{"$f":"données!W757","v":{"$error":"#N/A"}},{"$f":"données!X757","v":{"$error":"#N/A"}},{"$f":"données!Y757","v":{"$error":"#N/A"}},{"$f":"données!AH757","v":1},{"$error":"#N/A"},{"$error":"#N/A"},null,null,null,null,null,null,null,null,null,null,null,null,null,null,null,null,null,{"$error":"#N/A"},{"$error":"#N/A"},{"$error":"#N/A"},{"$error":"#N/A"},{"$error":"#N/A"},{"$error":"#N/A"},{"$error":"#N/A"},{"$error":"#N/A"},{"$error":"#N/A"},{"$error":"#N/A"},{"$error":"#N/A"},{"$error":"#N/A"},{"$error":"#N/A"},{"$error":"#N/A"}]
[{"$f":"données!W758","v":{"$error":"#N/A"}},{"$f":"données!X758","v":{"$error":"#N/A"}},{"$f":"données!Y758","v":{"$error":"#N/A"}},{"$f":"données!AH758","v":6},{"$error":"#N/A"},{"$error":"#N/A"},null,null,null,null,null,null,null,null,null,null,null,null,null,null,null,null,null,{"$error":"#N/A"},{"$error":"#N/A"},{"$error":"#N/A"},{"$error":"#N/A"},{"$error":"#N/A"},{"$error":"#N/A"},{"$error":"#N/A"},{"$error":"#N/A"},{"$error":"#N/A"},{"$error":"#N/A"},{"$error":"#N/A"},{"$error":"#N/A"},{"$error":"#N/A"},{"$error":"#N/A"}]
[{"$f":"données!W759","v":{"$error":"#N/A"}},{"$f":"données!X759","v":{"$error":"#N/A"}},{"$f":"données!Y759","v":{"$error":"#N/A"}},{"$f":"données!AH759","v":6},{"$error":"#N/A"},{"$error":"#N/A"},null,null,null,null,null,null,null,null,null,null,null,null,null,null,null,null,null,{"$error":"#N/A"},{"$error":"#N/A"},{"$error":"#N/A"},{"$error":"#N/A"},{"$error":"#N/A"},{"$error":"#N/A"},{"$error":"#N/A"},{"$error":"#N/A"},{"$error":"#N/A"},{"$error":"#N/A"},{"$error":"#N/A"},{"$error":"#N/A"},{"$error":"#N/A"},{"$error":"#N/A"}]
[{"$f":"données!W760","v":{"$error":"#N/A"}},{"$f":"données!X760","v":{"$error":"#N/A"}},{"$f":"données!Y760","v":{"$error":"#N/A"}},{"$f":"données!AH760","v":2},{"$error":"#N/A"},{"$error":"#N/A"},null,null,null,null,null,null,null,null,null,null,null,null,null,null,null,null,null,{"$error":"#N/A"},{"$error":"#N/A"},{"$error":"#N/A"},{"$error":"#N/A"},{"$error":"#N/A"},{"$error":"#N/A"},{"$error":"#N/A"},{"$error":"#N/A"},{"$error":"#N/A"},{"$error":"#N/A"},{"$error":"#N/A"},{"$error":"#N/A"},{"$error":"#N/A"},{"$error":"#N/A"}]
[{"$f":"données!W761","v":{"$error":"#N/A"}},{"$f":"données!X761","v":{"$error":"#N/A"}},{"$f":"données!Y761","v":{"$error":"#N/A"}},{"$f":"données!AH761","v":6},{"$error":"#N/A"},{"$error":"#N/A"},null,null,null,null,null,null,null,null,null,null,null,null,null,null,null,null,null,{"$error":"#N/A"},{"$error":"#N/A"},{"$error":"#N/A"},{"$error":"#N/A"},{"$error":"#N/A"},{"$error":"#N/A"},{"$error":"#N/A"},{"$error":"#N/A"},{"$error":"#N/A"},{"$error":"#N/A"},{"$error":"#N/A"},{"$error":"#N/A"},{"$error":"#N/A"},{"$error":"#N/A"}]
[{"$f":"données!W762","v":{"$error":"#N/A"}},{"$f":"données!X762","v":{"$error":"#N/A"}},{"$f":"données!Y762","v":{"$error":"#N/A"}},{"$f":"données!AH762","v":1},{"$error":"#N/A"},{"$error":"#N/A"},null,null,null,null,null,null,null,null,null,null,null,null,null,null,null,null,null,{"$f":"IF($D760=X$1,$E760,#N/A)","v":{"$error":"#N/A"}},{"$f":"IF($D760=Y$1,$F760,#N/A)","v":{"$error":"#N/A"}},{"$error":"#N/A"},{"$error":"#N/A"},{"$error":"#N/A"},{"$error":"#N/A"},{"$error":"#N/A"},{"$error":"#N/A"},{"$error":"#N/A"},{"$error":"#N/A"},{"$error":"#N/A"},{"$error":"#N/A"},{"$error":"#N/A"},{"$error":"#N/A"}]
[{"$f":"données!W763","v":{"$error":"#N/A"}},{"$f":"données!X763","v":{"$error":"#N/A"}},{"$f":"données!Y763","v":{"$error":"#N/A"}},{"$f":"données!AH763","v":1},{"$error":"#N/A"},{"$error":"#N/A"},null,null,null,null,null,null,null,null,null,null,null,null,null,null,null,null,null,{"$error":"#N/A"},{"$error":"#N/A"},{"$error":"#N/A"},{"$error":"#N/A"},{"$error":"#N/A"},{"$error":"#N/A"},{"$error":"#N/A"},{"$error":"#N/A"},{"$error":"#N/A"},{"$error":"#N/A"},{"$error":"#N/A"},{"$error":"#N/A"},{"$error":"#N/A"},{"$error":"#N/A"}]
[{"$f":"données!W764","v":{"$error":"#N/A"}},{"$f":"données!X764","v":{"$error":"#N/A"}},{"$f":"données!Y764","v":{"$error":"#N/A"}},{"$f":"données!AH764","v":7},{"$error":"#N/A"},{"$error":"#N/A"},null,null,null,null,null,null,null,null,null,null,null,null,null,null,null,null,null,{"$error":"#N/A"},{"$error":"#N/A"},{"$error":"#N/A"},{"$error":"#N/A"},{"$error":"#N/A"},{"$error":"#N/A"},{"$error":"#N/A"},{"$error":"#N/A"},{"$error":"#N/A"},{"$error":"#N/A"},{"$error":"#N/A"},{"$error":"#N/A"},{"$error":"#N/A"},{"$error":"#N/A"}]
[{"$f":"données!W765","v":{"$error":"#N/A"}},{"$f":"données!X765","v":{"$error":"#N/A"}},{"$f":"données!Y765","v":{"$error":"#N/A"}},{"$f":"données!AH765","v":4},{"$error":"#N/A"},{"$error":"#N/A"},null,null,null,null,null,null,null,null,null,null,null,null,null,null,null,null,null,{"$error":"#N/A"},{"$error":"#N/A"},{"$error":"#N/A"},{"$error":"#N/A"},{"$error":"#N/A"},{"$error":"#N/A"},{"$error":"#N/A"},{"$error":"#N/A"},{"$error":"#N/A"},{"$error":"#N/A"},{"$error":"#N/A"},{"$error":"#N/A"},{"$error":"#N/A"},{"$error":"#N/A"}]
[{"$f":"données!W766","v":{"$error":"#N/A"}},{"$f":"données!X766","v":{"$error":"#N/A"}},{"$f":"données!Y766","v":{"$error":"#N/A"}},{"$f":"données!AH766","v":3},{"$error":"#N/A"},{"$error":"#N/A"},null,null,null,null,null,null,null,null,null,null,null,null,null,null,null,null,null,{"$error":"#N/A"},{"$error":"#N/A"},{"$error":"#N/A"},{"$error":"#N/A"},{"$error":"#N/A"},{"$error":"#N/A"},{"$error":"#N/A"},{"$error":"#N/A"},{"$error":"#N/A"},{"$error":"#N/A"},{"$error":"#N/A"},{"$error":"#N/A"},{"$error":"#N/A"},{"$error":"#N/A"}]
[{"$f":"données!W767","v":{"$error":"#N/A"}},{"$f":"données!X767","v":{"$error":"#N/A"}},{"$f":"données!Y767","v":{"$error":"#N/A"}},{"$f":"données!AH767","v":2},{"$error":"#N/A"},{"$error":"#N/A"},null,null,null,null,null,null,null,null,null,null,null,null,null,null,null,null,null,{"$error":"#N/A"},{"$error":"#N/A"},{"$error":"#N/A"},{"$error":"#N/A"},{"$error":"#N/A"},{"$error":"#N/A"},{"$error":"#N/A"},{"$error":"#N/A"},{"$error":"#N/A"},{"$error":"#N/A"},{"$error":"#N/A"},{"$error":"#N/A"},{"$error":"#N/A"},{"$error":"#N/A"}]
[{"$f":"données!W768","v":{"$error":"#N/A"}},{"$f":"données!X768","v":{"$error":"#N/A"}},{"$f":"données!Y768","v":{"$error":"#N/A"}},{"$f":"données!AH768","v":7},{"$error":"#N/A"},{"$error":"#N/A"},null,null,null,null,null,null,null,null,null,null,null,null,null,null,null,null,null,{"$error":"#N/A"},{"$error":"#N/A"},{"$error":"#N/A"},{"$error":"#N/A"},{"$error":"#N/A"},{"$error":"#N/A"},{"$error":"#N/A"},{"$error":"#N/A"},{"$error":"#N/A"},{"$error":"#N/A"},{"$error":"#N/A"},{"$error":"#N/A"},{"$error":"#N/A"},{"$error":"#N/A"}]
[{"$f":"données!W769","v":{"$error":"#N/A"}},{"$f":"données!X769","v":{"$error":"#N/A"}},{"$f":"données!Y769","v":{"$error":"#N/A"}},{"$f":"données!AH769","v":1},{"$error":"#N/A"},{"$error":"#N/A"},null,null,null,null,null,null,null,null,null,null,null,null,null,null,null,null,null,{"$error":"#N/A"},{"$error":"#N/A"},{"$error":"#N/A"},{"$error":"#N/A"},{"$error":"#N/A"},{"$error":"#N/A"},{"$error":"#N/A"},{"$error":"#N/A"},{"$error":"#N/A"},{"$error":"#N/A"},{"$error":"#N/A"},{"$error":"#N/A"},{"$error":"#N/A"},{"$error":"#N/A"}]
[{"$f":"données!W770","v":{"$error":"#N/A"}},{"$f":"données!X770","v":{"$error":"#N/A"}},{"$f":"données!Y770","v":{"$error":"#N/A"}},{"$f":"données!AH770","v":4},{"$error":"#N/A"},{"$error":"#N/A"},null,null,null,null,null,null,null,null,null,null,null,null,null,null,null,null,null,{"$error":"#N/A"},{"$error":"#N/A"},{"$error":"#N/A"},{"$error":"#N/A"},{"$error":"#N/A"},{"$error":"#N/A"},{"$error":"#N/A"},{"$error":"#N/A"},{"$error":"#N/A"},{"$error":"#N/A"},{"$error":"#N/A"},{"$error":"#N/A"},{"$error":"#N/A"},{"$error":"#N/A"}]
[{"$f":"données!W771","v":{"$error":"#N/A"}},{"$f":"données!X771","v":{"$error":"#N/A"}},{"$f":"données!Y771","v":{"$error":"#N/A"}},{"$f":"données!AH771","v":7},{"$error":"#N/A"},{"$error":"#N/A"},null,null,null,null,null,null,null,null,null,null,null,null,null,null,null,null,null,{"$error":"#N/A"},{"$error":"#N/A"},{"$error":"#N/A"},{"$error":"#N/A"},{"$error":"#N/A"},{"$error":"#N/A"},{"$error":"#N/A"},{"$error":"#N/A"},{"$error":"#N/A"},{"$error":"#N/A"},{"$error":"#N/A"},{"$error":"#N/A"},{"$error":"#N/A"},{"$error":"#N/A"}]
[{"$f":"données!W772","v":{"$error":"#N/A"}},{"$f":"données!X772","v":{"$error":"#N/A"}},{"$f":"données!Y772","v":{"$error":"#N/A"}},{"$f":"données!AH772","v":2},{"$f":"A770+B770*$I$2","v":{"$error":"#N/A"}},{"$f":"C770+B770*$I$3","v":{"$error":"#N/A"}},null,null,null,null,null,null,null,null,null,null,null,null,null,null,null,null,null,{"$error":"#N/A"},{"$error":"#N/A"},{"$f":"IF($D770=Z$1,$E770,#N/A)","v":{"$error":"#N/A"}},{"$f":"IF($D770=AA$1,$F770,#N/A)","v":{"$error":"#N/A"}},{"$f":"IF($D770=AB$1,$E770,#N/A)","v":{"$error":"#N/A"}},{"$f":"IF($D770=AC$1,$F770,#N/A)","v":{"$error":"#N/A"}},{"$f":"IF($D770=AD$1,$E770,#N/A)","v":{"$error":"#N/A"}},{"$f":"IF($D770=AE$1,$F770,#N/A)","v":{"$error":"#N/A"}},{"$f":"IF($D770=AF$1,$E770,#N/A)","v":{"$error":"#N/A"}},{"$f":"IF($D770=AG$1,$F770,#N/A)","v":{"$error":"#N/A"}},{"$f":"IF($D770=AH$1,$E770,#N/A)","v":{"$error":"#N/A"}},{"$f":"IF($D770=AI$1,$F770,#N/A)","v":{"$error":"#N/A"}},{"$f":"IF($D770=AJ$1,$E770,#N/A)","v":{"$error":"#N/A"}},{"$f":"IF($D770=AK$1,$F770,#N/A)","v":{"$error":"#N/A"}}]
[{"$f":"données!W773","v":{"$error":"#N/A"}},{"$f":"données!X773","v":{"$error":"#N/A"}},{"$f":"données!Y773","v":{"$error":"#N/A"}},{"$f":"données!AH773","v":6},{"$error":"#N/A"},{"$error":"#N/A"},null,null,null,null,null,null,null,null,null,null,null,null,null,null,null,null,null,{"$error":"#N/A"},{"$error":"#N/A"},{"$error":"#N/A"},{"$error":"#N/A"},{"$error":"#N/A"},{"$error":"#N/A"},{"$error":"#N/A"},{"$error":"#N/A"},{"$error":"#N/A"},{"$error":"#N/A"},{"$error":"#N/A"},{"$error":"#N/A"},{"$error":"#N/A"},{"$error":"#N/A"}]
[{"$f":"données!W774","v":{"$error":"#N/A"}},{"$f":"données!X774","v":{"$error":"#N/A"}},{"$f":"données!Y774","v":{"$error":"#N/A"}},{"$f":"données!AH774","v":3},{"$error":"#N/A"},{"$error":"#N/A"},null,null,null,null,null,null,null,null,null,null,null,null,null,null,null,null,null,{"$error":"#N/A"},{"$error":"#N/A"},{"$error":"#N/A"},{"$error":"#N/A"},{"$error":"#N/A"},{"$error":"#N/A"},{"$error":"#N/A"},{"$error":"#N/A"},{"$error":"#N/A"},{"$error":"#N/A"},{"$error":"#N/A"},{"$error":"#N/A"},{"$error":"#N/A"},{"$error":"#N/A"}]
[{"$f":"données!W775","v":{"$error":"#N/A"}},{"$f":"données!X775","v":{"$error":"#N/A"}},{"$f":"données!Y775","v":{"$error":"#N/A"}},{"$f":"données!AH775","v":3},{"$error":"#N/A"},{"$error":"#N/A"},null,null,null,null,null,null,null,null,null,null,null,null,null,null,null,null,null,{"$error":"#N/A"},{"$error":"#N/A"},{"$error":"#N/A"},{"$error":"#N/A"},{"$error":"#N/A"},{"$error":"#N/A"},{"$error":"#N/A"},{"$error":"#N/A"},{"$error":"#N/A"},{"$error":"#N/A"},{"$error":"#N/A"},{"$error":"#N/A"},{"$error":"#N/A"},{"$error":"#N/A"}]
[{"$f":"données!W776","v":{"$error":"#N/A"}},{"$f":"données!X776","v":{"$error":"#N/A"}},{"$f":"données!Y776","v":{"$error":"#N/A"}},{"$f":"données!AH776","v":2},{"$error":"#N/A"},{"$error":"#N/A"},null,null,null,null,null,null,null,null,null,null,null,null,null,null,null,null,null,{"$error":"#N/A"},{"$error":"#N/A"},{"$error":"#N/A"},{"$error":"#N/A"},{"$error":"#N/A"},{"$error":"#N/A"},{"$error":"#N/A"},{"$error":"#N/A"},{"$error":"#N/A"},{"$error":"#N/A"},{"$error":"#N/A"},{"$error":"#N/A"},{"$error":"#N/A"},{"$error":"#N/A"}]
[{"$f":"données!W777","v":{"$error":"#N/A"}},{"$f":"données!X777","v":{"$error":"#N/A"}},{"$f":"données!Y777","v":{"$error":"#N/A"}},{"$f":"données!AH777","v":4},{"$error":"#N/A"},{"$error":"#N/A"},null,null,null,null,null,null,null,null,null,null,null,null,null,null,null,null,null,{"$error":"#N/A"},{"$error":"#N/A"},{"$error":"#N/A"},{"$error":"#N/A"},{"$error":"#N/A"},{"$error":"#N/A"},{"$error":"#N/A"},{"$error":"#N/A"},{"$error":"#N/A"},{"$error":"#N/A"},{"$error":"#N/A"},{"$error":"#N/A"},{"$error":"#N/A"},{"$error":"#N/A"}]
[{"$f":"données!W778","v":{"$error":"#N/A"}},{"$f":"données!X778","v":{"$error":"#N/A"}},{"$f":"données!Y778","v":{"$error":"#N/A"}},{"$f":"données!AH778","v":3},{"$error":"#N/A"},{"$error":"#N/A"},null,null,null,null,null,null,null,null,null,null,null,null,null,null,null,null,null,{"$error":"#N/A"},{"$error":"#N/A"},{"$error":"#N/A"},{"$error":"#N/A"},{"$error":"#N/A"},{"$error":"#N/A"},{"$error":"#N/A"},{"$error":"#N/A"},{"$error":"#N/A"},{"$error":"#N/A"},{"$error":"#N/A"},{"$error":"#N/A"},{"$error":"#N/A"},{"$error":"#N/A"}]
[{"$f":"données!W779","v":{"$error":"#N/A"}},{"$f":"données!X779","v":{"$error":"#N/A"}},{"$f":"données!Y779","v":{"$error":"#N/A"}},{"$f":"données!AH779","v":7},{"$error":"#N/A"},{"$error":"#N/A"},null,null,null,null,null,null,null,null,null,null,null,null,null,null,null,null,null,{"$error":"#N/A"},{"$error":"#N/A"},{"$error":"#N/A"},{"$error":"#N/A"},{"$error":"#N/A"},{"$error":"#N/A"},{"$error":"#N/A"},{"$error":"#N/A"},{"$error":"#N/A"},{"$error":"#N/A"},{"$error":"#N/A"},{"$error":"#N/A"},{"$error":"#N/A"},{"$error":"#N/A"}]
[{"$f":"données!W780","v":{"$error":"#N/A"}},{"$f":"données!X780","v":{"$error":"#N/A"}},{"$f":"données!Y780","v":{"$error":"#N/A"}},{"$f":"données!AH780","v":6},{"$error":"#N/A"},{"$error":"#N/A"},null,null,null,null,null,null,null,null,null,null,null,null,null,null,null,null,null,{"$error":"#N/A"},{"$error":"#N/A"},{"$error":"#N/A"},{"$error":"#N/A"},{"$error":"#N/A"},{"$error":"#N/A"},{"$error":"#N/A"},{"$error":"#N/A"},{"$error":"#N/A"},{"$error":"#N/A"},{"$error":"#N/A"},{"$error":"#N/A"},{"$error":"#N/A"},{"$error":"#N/A"}]
[{"$f":"données!W781","v":{"$error":"#N/A"}},{"$f":"données!X781","v":{"$error":"#N/A"}},{"$f":"données!Y781","v":{"$error":"#N/A"}},{"$f":"données!AH781","v":3},{"$error":"#N/A"},{"$error":"#N/A"},null,null,null,null,null,null,null,null,null,null,null,null,null,null,null,null,null,{"$error":"#N/A"},{"$error":"#N/A"},{"$error":"#N/A"},{"$error":"#N/A"},{"$error":"#N/A"},{"$error":"#N/A"},{"$error":"#N/A"},{"$error":"#N/A"},{"$error":"#N/A"},{"$error":"#N/A"},{"$error":"#N/A"},{"$error":"#N/A"},{"$error":"#N/A"},{"$error":"#N/A"}]
[{"$f":"données!W782","v":{"$error":"#N/A"}},{"$f":"données!X782","v":{"$error":"#N/A"}},{"$f":"données!Y782","v":{"$error":"#N/A"}},{"$f":"données!AH782","v":2},{"$error":"#N/A"},{"$error":"#N/A"},null,null,null,null,null,null,null,null,null,null,null,null,null,null,null,null,null,{"$error":"#N/A"},{"$error":"#N/A"},{"$error":"#N/A"},{"$error":"#N/A"},{"$error":"#N/A"},{"$error":"#N/A"},{"$error":"#N/A"},{"$error":"#N/A"},{"$error":"#N/A"},{"$error":"#N/A"},{"$error":"#N/A"},{"$error":"#N/A"},{"$error":"#N/A"},{"$error":"#N/A"}]
[{"$f":"données!W783","v":{"$error":"#N/A"}},{"$f":"données!X783","v":{"$error":"#N/A"}},{"$f":"données!Y783","v":{"$error":"#N/A"}},{"$f":"données!AH783","v":1},{"$error":"#N/A"},{"$error":"#N/A"},null,null,null,null,null,null,null,null,null,null,null,null,null,null,null,null,null,{"$error":"#N/A"},{"$error":"#N/A"},{"$error":"#N/A"},{"$error":"#N/A"},{"$error":"#N/A"},{"$error":"#N/A"},{"$error":"#N/A"},{"$error":"#N/A"},{"$error":"#N/A"},{"$error":"#N/A"},{"$error":"#N/A"},{"$error":"#N/A"},{"$error":"#N/A"},{"$error":"#N/A"}]
[{"$f":"données!W784","v":{"$error":"#N/A"}},{"$f":"données!X784","v":{"$error":"#N/A"}},{"$f":"données!Y784","v":{"$error":"#N/A"}},{"$f":"données!AH784","v":5},{"$error":"#N/A"},{"$error":"#N/A"},null,null,null,null,null,null,null,null,null,null,null,null,null,null,null,null,null,{"$error":"#N/A"},{"$error":"#N/A"},{"$error":"#N/A"},{"$error":"#N/A"},{"$error":"#N/A"},{"$error":"#N/A"},{"$error":"#N/A"},{"$error":"#N/A"},{"$error":"#N/A"},{"$error":"#N/A"},{"$error":"#N/A"},{"$error":"#N/A"},{"$error":"#N/A"},{"$error":"#N/A"}]
[{"$f":"données!W785","v":{"$error":"#N/A"}},{"$f":"données!X785","v":{"$error":"#N/A"}},{"$f":"données!Y785","v":{"$error":"#N/A"}},{"$f":"données!AH785","v":3},{"$error":"#N/A"},{"$error":"#N/A"},null,null,null,null,null,null,null,null,null,null,null,null,null,null,null,null,null,{"$error":"#N/A"},{"$error":"#N/A"},{"$error":"#N/A"},{"$error":"#N/A"},{"$error":"#N/A"},{"$error":"#N/A"},{"$error":"#N/A"},{"$error":"#N/A"},{"$error":"#N/A"},{"$error":"#N/A"},{"$error":"#N/A"},{"$error":"#N/A"},{"$error":"#N/A"},{"$error":"#N/A"}]
[{"$f":"données!W786","v":{"$error":"#N/A"}},{"$f":"données!X786","v":{"$error":"#N/A"}},{"$f":"données!Y786","v":{"$error":"#N/A"}},{"$f":"données!AH786","v":1},{"$error":"#N/A"},{"$error":"#N/A"},null,null,null,null,null,null,null,null,null,null,null,null,null,null,null,null,null,{"$error":"#N/A"},{"$error":"#N/A"},{"$error":"#N/A"},{"$error":"#N/A"},{"$error":"#N/A"},{"$error":"#N/A"},{"$error":"#N/A"},{"$error":"#N/A"},{"$error":"#N/A"},{"$error":"#N/A"},{"$error":"#N/A"},{"$error":"#N/A"},{"$error":"#N/A"},{"$error":"#N/A"}]
[{"$f":"données!W787","v":{"$error":"#N/A"}},{"$f":"données!X787","v":{"$error":"#N/A"}},{"$f":"données!Y787","v":{"$error":"#N/A"}},{"$f":"données!AH787","v":1},{"$error":"#N/A"},{"$error":"#N/A"},null,null,null,null,null,null,null,null,null,null,null,null,null,null,null,null,null,{"$error":"#N/A"},{"$error":"#N/A"},{"$error":"#N/A"},{"$error":"#N/A"},{"$error":"#N/A"},{"$error":"#N/A"},{"$error":"#N/A"},{"$error":"#N/A"},{"$error":"#N/A"},{"$error":"#N/A"},{"$error":"#N/A"},{"$error":"#N/A"},{"$error":"#N/A"},{"$error":"#N/A"}]
[{"$f":"données!W788","v":{"$error":"#N/A"}},{"$f":"données!X788","v":{"$error":"#N/A"}},{"$f":"données!Y788","v":{"$error":"#N/A"}},{"$f":"données!AH788","v":6},{"$error":"#N/A"},{"$error":"#N/A"},null,null,null,null,null,null,null,null,null,null,null,null,null,null,null,null,null,{"$error":"#N/A"},{"$error":"#N/A"},{"$error":"#N/A"},{"$error":"#N/A"},{"$error":"#N/A"},{"$error":"#N/A"},{"$error":"#N/A"},{"$error":"#N/A"},{"$error":"#N/A"},{"$error":"#N/A"},{"$error":"#N/A"},{"$error":"#N/A"},{"$error":"#N/A"},{"$error":"#N/A"}]
[{"$f":"données!W789","v":{"$error":"#N/A"}},{"$f":"données!X789","v":{"$error":"#N/A"}},{"$f":"données!Y789","v":{"$error":"#N/A"}},{"$f":"données!AH789","v":7},{"$error":"#N/A"},{"$error":"#N/A"},null,null,null,null,null,null,null,null,null,null,null,null,null,null,null,null,null,{"$error":"#N/A"},{"$error":"#N/A"},{"$error":"#N/A"},{"$error":"#N/A"},{"$error":"#N/A"},{"$error":"#N/A"},{"$error":"#N/A"},{"$error":"#N/A"},{"$error":"#N/A"},{"$error":"#N/A"},{"$error":"#N/A"},{"$error":"#N/A"},{"$error":"#N/A"},{"$error":"#N/A"}]
[{"$f":"données!W790","v":{"$error":"#N/A"}},{"$f":"données!X790","v":{"$error":"#N/A"}},{"$f":"données!Y790","v":{"$error":"#N/A"}},{"$f":"données!AH790","v":5},{"$error":"#N/A"},{"$error":"#N/A"},null,null,null,null,null,null,null,null,null,null,null,null,null,null,null,null,null,{"$error":"#N/A"},{"$error":"#N/A"},{"$error":"#N/A"},{"$error":"#N/A"},{"$error":"#N/A"},{"$error":"#N/A"},{"$error":"#N/A"},{"$error":"#N/A"},{"$error":"#N/A"},{"$error":"#N/A"},{"$error":"#N/A"},{"$error":"#N/A"},{"$error":"#N/A"},{"$error":"#N/A"}]
[{"$f":"données!W791","v":{"$error":"#N/A"}},{"$f":"données!X791","v":{"$error":"#N/A"}},{"$f":"données!Y791","v":{"$error":"#N/A"}},{"$f":"données!AH791","v":7},{"$error":"#N/A"},{"$error":"#N/A"},null,null,null,null,null,null,null,null,null,null,null,null,null,null,null,null,null,{"$error":"#N/A"},{"$error":"#N/A"},{"$error":"#N/A"},{"$error":"#N/A"},{"$error":"#N/A"},{"$error":"#N/A"},{"$error":"#N/A"},{"$error":"#N/A"},{"$error":"#N/A"},{"$error":"#N/A"},{"$error":"#N/A"},{"$error":"#N/A"},{"$error":"#N/A"},{"$error":"#N/A"}]
[{"$f":"données!W792","v":{"$error":"#N/A"}},{"$f":"données!X792","v":{"$error":"#N/A"}},{"$f":"données!Y792","v":{"$error":"#N/A"}},{"$f":"données!AH792","v":5},{"$error":"#N/A"},{"$error":"#N/A"},null,null,null,null,null,null,null,null,null,null,null,null,null,null,null,null,null,{"$error":"#N/A"},{"$error":"#N/A"},{"$error":"#N/A"},{"$error":"#N/A"},{"$error":"#N/A"},{"$error":"#N/A"},{"$error":"#N/A"},{"$error":"#N/A"},{"$error":"#N/A"},{"$error":"#N/A"},{"$error":"#N/A"},{"$error":"#N/A"},{"$error":"#N/A"},{"$error":"#N/A"}]
[{"$f":"données!W793","v":{"$error":"#N/A"}},{"$f":"données!X793","v":{"$error":"#N/A"}},{"$f":"données!Y793","v":{"$error":"#N/A"}},{"$f":"données!AH793","v":5},{"$error":"#N/A"},{"$error":"#N/A"},null,null,null,null,null,null,null,null,null,null,null,null,null,null,null,null,null,{"$error":"#N/A"},{"$error":"#N/A"},{"$error":"#N/A"},{"$error":"#N/A"},{"$error":"#N/A"},{"$error":"#N/A"},{"$error":"#N/A"},{"$error":"#N/A"},{"$error":"#N/A"},{"$error":"#N/A"},{"$error":"#N/A"},{"$error":"#N/A"},{"$error":"#N/A"},{"$error":"#N/A"}]
[{"$f":"données!W794","v":{"$error":"#N/A"}},{"$f":"données!X794","v":{"$error":"#N/A"}},{"$f":"données!Y794","v":{"$error":"#N/A"}},{"$f":"données!AH794","v":2},{"$error":"#N/A"},{"$error":"#N/A"},null,null,null,null,null,null,null,null,null,null,null,null,null,null,null,null,null,{"$error":"#N/A"},{"$error":"#N/A"},{"$error":"#N/A"},{"$error":"#N/A"},{"$error":"#N/A"},{"$error":"#N/A"},{"$error":"#N/A"},{"$error":"#N/A"},{"$error":"#N/A"},{"$error":"#N/A"},{"$error":"#N/A"},{"$error":"#N/A"},{"$error":"#N/A"},{"$error":"#N/A"}]
[{"$f":"données!W795","v":{"$error":"#N/A"}},{"$f":"données!X795","v":{"$error":"#N/A"}},{"$f":"données!Y795","v":{"$error":"#N/A"}},{"$f":"données!AH795","v":5},{"$error":"#N/A"},{"$error":"#N/A"},null,null,null,null,null,null,null,null,null,null,null,null,null,null,null,null,null,{"$error":"#N/A"},{"$error":"#N/A"},{"$error":"#N/A"},{"$error":"#N/A"},{"$error":"#N/A"},{"$error":"#N/A"},{"$error":"#N/A"},{"$error":"#N/A"},{"$error":"#N/A"},{"$error":"#N/A"},{"$error":"#N/A"},{"$error":"#N/A"},{"$error":"#N/A"},{"$error":"#N/A"}]
[{"$f":"données!W796","v":{"$error":"#N/A"}},{"$f":"données!X796","v":{"$error":"#N/A"}},{"$f":"données!Y796","v":{"$error":"#N/A"}},{"$f":"données!AH796","v":6},{"$error":"#N/A"},{"$error":"#N/A"},null,null,null,null,null,null,null,null,null,null,null,null,null,null,null,null,null,{"$error":"#N/A"},{"$error":"#N/A"},{"$error":"#N/A"},{"$error":"#N/A"},{"$error":"#N/A"},{"$error":"#N/A"},{"$error":"#N/A"},{"$error":"#N/A"},{"$error":"#N/A"},{"$error":"#N/A"},{"$error":"#N/A"},{"$error":"#N/A"},{"$error":"#N/A"},{"$error":"#N/A"}]
[{"$f":"données!W797","v":{"$error":"#N/A"}},{"$f":"données!X797","v":{"$error":"#N/A"}},{"$f":"données!Y797","v":{"$error":"#N/A"}},{"$f":"données!AH797","v":5},{"$error":"#N/A"},{"$error":"#N/A"},null,null,null,null,null,null,null,null,null,null,null,null,null,null,null,null,null,{"$error":"#N/A"},{"$error":"#N/A"},{"$error":"#N/A"},{"$error":"#N/A"},{"$error":"#N/A"},{"$error":"#N/A"},{"$error":"#N/A"},{"$error":"#N/A"},{"$error":"#N/A"},{"$error":"#N/A"},{"$error":"#N/A"},{"$error":"#N/A"},{"$error":"#N/A"},{"$error":"#N/A"}]
[{"$f":"données!W798","v":{"$error":"#N/A"}},{"$f":"données!X798","v":{"$error":"#N/A"}},{"$f":"données!Y798","v":{"$error":"#N/A"}},{"$f":"données!AH798","v":6},{"$error":"#N/A"},{"$error":"#N/A"},null,null,null,null,null,null,null,null,null,null,null,null,null,null,null,null,null,{"$error":"#N/A"},{"$error":"#N/A"},{"$error":"#N/A"},{"$error":"#N/A"},{"$error":"#N/A"},{"$error":"#N/A"},{"$error":"#N/A"},{"$error":"#N/A"},{"$error":"#N/A"},{"$error":"#N/A"},{"$error":"#N/A"},{"$error":"#N/A"},{"$error":"#N/A"},{"$error":"#N/A"}]
[{"$f":"données!W799","v":{"$error":"#N/A"}},{"$f":"données!X799","v":{"$error":"#N/A"}},{"$f":"données!Y799","v":{"$error":"#N/A"}},{"$f":"données!AH799","v":5},{"$error":"#N/A"},{"$error":"#N/A"},null,null,null,null,null,null,null,null,null,null,null,null,null,null,null,null,null,{"$error":"#N/A"},{"$error":"#N/A"},{"$error":"#N/A"},{"$error":"#N/A"},{"$error":"#N/A"},{"$error":"#N/A"},{"$error":"#N/A"},{"$error":"#N/A"},{"$error":"#N/A"},{"$error":"#N/A"},{"$error":"#N/A"},{"$error":"#N/A"},{"$error":"#N/A"},{"$error":"#N/A"}]
[{"$f":"données!W800","v":{"$error":"#N/A"}},{"$f":"données!X800","v":{"$error":"#N/A"}},{"$f":"données!Y800","v":{"$error":"#N/A"}},{"$f":"données!AH800","v":3},{"$error":"#N/A"},{"$error":"#N/A"},null,null,null,null,null,null,null,null,null,null,null,null,null,null,null,null,null,{"$error":"#N/A"},{"$error":"#N/A"},{"$error":"#N/A"},{"$error":"#N/A"},{"$error":"#N/A"},{"$error":"#N/A"},{"$error":"#N/A"},{"$error":"#N/A"},{"$error":"#N/A"},{"$error":"#N/A"},{"$error":"#N/A"},{"$error":"#N/A"},{"$error":"#N/A"},{"$error":"#N/A"}]
[{"$f":"données!W801","v":{"$error":"#N/A"}},{"$f":"données!X801","v":{"$error":"#N/A"}},{"$f":"données!Y801","v":{"$error":"#N/A"}},{"$f":"données!AH801","v":1},{"$error":"#N/A"},{"$error":"#N/A"},null,null,null,null,null,null,null,null,null,null,null,null,null,null,null,null,null,{"$error":"#N/A"},{"$error":"#N/A"},{"$error":"#N/A"},{"$error":"#N/A"},{"$error":"#N/A"},{"$error":"#N/A"},{"$error":"#N/A"},{"$error":"#N/A"},{"$error":"#N/A"},{"$error":"#N/A"},{"$error":"#N/A"},{"$error":"#N/A"},{"$error":"#N/A"},{"$error":"#N/A"}]
[{"$f":"données!W802","v":{"$error":"#N/A"}},{"$f":"données!X802","v":{"$error":"#N/A"}},{"$f":"données!Y802","v":{"$error":"#N/A"}},{"$f":"données!AH802","v":2},{"$error":"#N/A"},{"$error":"#N/A"},null,null,null,null,null,null,null,null,null,null,null,null,null,null,null,null,null,{"$error":"#N/A"},{"$error":"#N/A"},{"$error":"#N/A"},{"$error":"#N/A"},{"$error":"#N/A"},{"$error":"#N/A"},{"$error":"#N/A"},{"$error":"#N/A"},{"$error":"#N/A"},{"$error":"#N/A"},{"$error":"#N/A"},{"$error":"#N/A"},{"$error":"#N/A"},{"$error":"#N/A"}]
[{"$f":"données!W803","v":{"$error":"#N/A"}},{"$f":"données!X803","v":{"$error":"#N/A"}},{"$f":"données!Y803","v":{"$error":"#N/A"}},{"$f":"données!AH803","v":6},{"$error":"#N/A"},{"$error":"#N/A"},null,null,null,null,null,null,null,null,null,null,null,null,null,null,null,null,null,{"$error":"#N/A"},{"$error":"#N/A"},{"$error":"#N/A"},{"$error":"#N/A"},{"$error":"#N/A"},{"$error":"#N/A"},{"$error":"#N/A"},{"$error":"#N/A"},{"$error":"#N/A"},{"$error":"#N/A"},{"$error":"#N/A"},{"$error":"#N/A"},{"$error":"#N/A"},{"$error":"#N/A"}]
[{"$f":"données!W804","v":{"$error":"#N/A"}},{"$f":"données!X804","v":{"$error":"#N/A"}},{"$f":"données!Y804","v":{"$error":"#N/A"}},{"$f":"données!AH804","v":7},{"$error":"#N/A"},{"$error":"#N/A"},null,null,null,null,null,null,null,null,null,null,null,null,null,null,null,null,null,{"$error":"#N/A"},{"$error":"#N/A"},{"$error":"#N/A"},{"$error":"#N/A"},{"$error":"#N/A"},{"$error":"#N/A"},{"$error":"#N/A"},{"$error":"#N/A"},{"$error":"#N/A"},{"$error":"#N/A"},{"$error":"#N/A"},{"$error":"#N/A"},{"$error":"#N/A"},{"$error":"#N/A"}]
[{"$f":"données!W805","v":{"$error":"#N/A"}},{"$f":"données!X805","v":{"$error":"#N/A"}},{"$f":"données!Y805","v":{"$error":"#N/A"}},{"$f":"données!AH805","v":3},{"$error":"#N/A"},{"$error":"#N/A"},null,null,null,null,null,null,null,null,null,null,null,null,null,null,null,null,null,{"$error":"#N/A"},{"$error":"#N/A"},{"$error":"#N/A"},{"$error":"#N/A"},{"$error":"#N/A"},{"$error":"#N/A"},{"$error":"#N/A"},{"$error":"#N/A"},{"$error":"#N/A"},{"$error":"#N/A"},{"$error":"#N/A"},{"$error":"#N/A"},{"$error":"#N/A"},{"$error":"#N/A"}]
[{"$f":"données!W806","v":{"$error":"#N/A"}},{"$f":"données!X806","v":{"$error":"#N/A"}},{"$f":"données!Y806","v":{"$error":"#N/A"}},{"$f":"données!AH806","v":5},{"$error":"#N/A"},{"$error":"#N/A"},null,null,null,null,null,null,null,null,null,null,null,null,null,null,null,null,null,{"$error":"#N/A"},{"$error":"#N/A"},{"$error":"#N/A"},{"$error":"#N/A"},{"$error":"#N/A"},{"$error":"#N/A"},{"$error":"#N/A"},{"$error":"#N/A"},{"$error":"#N/A"},{"$error":"#N/A"},{"$error":"#N/A"},{"$error":"#N/A"},{"$error":"#N/A"},{"$error":"#N/A"}]
[{"$f":"données!W807","v":{"$error":"#N/A"}},{"$f":"données!X807","v":{"$error":"#N/A"}},{"$f":"données!Y807","v":{"$error":"#N/A"}},{"$f":"données!AH807","v":3},{"$error":"#N/A"},{"$error":"#N/A"},null,null,null,null,null,null,null,null,null,null,null,null,null,null,null,null,null,{"$error":"#N/A"},{"$error":"#N/A"},{"$error":"#N/A"},{"$error":"#N/A"},{"$error":"#N/A"},{"$error":"#N/A"},{"$error":"#N/A"},{"$error":"#N/A"},{"$error":"#N/A"},{"$error":"#N/A"},{"$error":"#N/A"},{"$error":"#N/A"},{"$error":"#N/A"},{"$error":"#N/A"}]
[{"$f":"données!W808","v":{"$error":"#N/A"}},{"$f":"données!X808","v":{"$error":"#N/A"}},{"$f":"données!Y808","v":{"$error":"#N/A"}},{"$f":"données!AH808","v":7},{"$error":"#N/A"},{"$error":"#N/A"},null,null,null,null,null,null,null,null,null,null,null,null,null,null,null,null,null,{"$error":"#N/A"},{"$error":"#N/A"},{"$error":"#N/A"},{"$error":"#N/A"},{"$error":"#N/A"},{"$error":"#N/A"},{"$error":"#N/A"},{"$error":"#N/A"},{"$error":"#N/A"},{"$error":"#N/A"},{"$error":"#N/A"},{"$error":"#N/A"},{"$error":"#N/A"},{"$error":"#N/A"}]
[{"$f":"données!W809","v":{"$error":"#N/A"}},{"$f":"données!X809","v":{"$error":"#N/A"}},{"$f":"données!Y809","v":{"$error":"#N/A"}},{"$f":"données!AH809","v":6},{"$error":"#N/A"},{"$error":"#N/A"},null,null,null,null,null,null,null,null,null,null,null,null,null,null,null,null,null,{"$error":"#N/A"},{"$error":"#N/A"},{"$error":"#N/A"},{"$error":"#N/A"},{"$error":"#N/A"},{"$error":"#N/A"},{"$error":"#N/A"},{"$error":"#N/A"},{"$error":"#N/A"},{"$error":"#N/A"},{"$error":"#N/A"},{"$error":"#N/A"},{"$error":"#N/A"},{"$error":"#N/A"}]
[{"$f":"données!W810","v":{"$error":"#N/A"}},{"$f":"données!X810","v":{"$error":"#N/A"}},{"$f":"données!Y810","v":{"$error":"#N/A"}},{"$f":"données!AH810","v":1},{"$error":"#N/A"},{"$error":"#N/A"},null,null,null,null,null,null,null,null,null,null,null,null,null,null,null,null,null,{"$error":"#N/A"},{"$error":"#N/A"},{"$error":"#N/A"},{"$error":"#N/A"},{"$error":"#N/A"},{"$error":"#N/A"},{"$error":"#N/A"},{"$error":"#N/A"},{"$error":"#N/A"},{"$error":"#N/A"},{"$error":"#N/A"},{"$error":"#N/A"},{"$error":"#N/A"},{"$error":"#N/A"}]
[{"$f":"données!W811","v":{"$error":"#N/A"}},{"$f":"données!X811","v":{"$error":"#N/A"}},{"$f":"données!Y811","v":{"$error":"#N/A"}},{"$f":"données!AH811","v":1},{"$error":"#N/A"},{"$error":"#N/A"},null,null,null,null,null,null,null,null,null,null,null,null,null,null,null,null,null,{"$error":"#N/A"},{"$error":"#N/A"},{"$error":"#N/A"},{"$error":"#N/A"},{"$error":"#N/A"},{"$error":"#N/A"},{"$error":"#N/A"},{"$error":"#N/A"},{"$error":"#N/A"},{"$error":"#N/A"},{"$error":"#N/A"},{"$error":"#N/A"},{"$error":"#N/A"},{"$error":"#N/A"}]
[{"$f":"données!W812","v":{"$error":"#N/A"}},{"$f":"données!X812","v":{"$error":"#N/A"}},{"$f":"données!Y812","v":{"$error":"#N/A"}},{"$f":"données!AH812","v":3},{"$error":"#N/A"},{"$error":"#N/A"},null,null,null,null,null,null,null,null,null,null,null,null,null,null,null,null,null,{"$error":"#N/A"},{"$error":"#N/A"},{"$error":"#N/A"},{"$error":"#N/A"},{"$error":"#N/A"},{"$error":"#N/A"},{"$error":"#N/A"},{"$error":"#N/A"},{"$error":"#N/A"},{"$error":"#N/A"},{"$error":"#N/A"},{"$error":"#N/A"},{"$error":"#N/A"},{"$error":"#N/A"}]
[{"$f":"données!W813","v":{"$error":"#N/A"}},{"$f":"données!X813","v":{"$error":"#N/A"}},{"$f":"données!Y813","v":{"$error":"#N/A"}},{"$f":"données!AH813","v":7},{"$error":"#N/A"},{"$error":"#N/A"},null,null,null,null,null,null,null,null,null,null,null,null,null,null,null,null,null,{"$error":"#N/A"},{"$error":"#N/A"},{"$error":"#N/A"},{"$error":"#N/A"},{"$error":"#N/A"},{"$error":"#N/A"},{"$error":"#N/A"},{"$error":"#N/A"},{"$error":"#N/A"},{"$error":"#N/A"},{"$error":"#N/A"},{"$error":"#N/A"},{"$error":"#N/A"},{"$error":"#N/A"}]
[{"$f":"données!W814","v":{"$error":"#N/A"}},{"$f":"données!X814","v":{"$error":"#N/A"}},{"$f":"données!Y814","v":{"$error":"#N/A"}},{"$f":"données!AH814","v":3},{"$error":"#N/A"},{"$error":"#N/A"},null,null,null,null,null,null,null,null,null,null,null,null,null,null,null,null,null,{"$error":"#N/A"},{"$error":"#N/A"},{"$error":"#N/A"},{"$error":"#N/A"},{"$error":"#N/A"},{"$error":"#N/A"},{"$error":"#N/A"},{"$error":"#N/A"},{"$error":"#N/A"},{"$error":"#N/A"},{"$error":"#N/A"},{"$error":"#N/A"},{"$error":"#N/A"},{"$error":"#N/A"}]
[{"$f":"données!W815","v":{"$error":"#N/A"}},{"$f":"données!X815","v":{"$error":"#N/A"}},{"$f":"données!Y815","v":{"$error":"#N/A"}},{"$f":"données!AH815","v":4},{"$error":"#N/A"},{"$error":"#N/A"},null,null,null,null,null,null,null,null,null,null,null,null,null,null,null,null,null,{"$error":"#N/A"},{"$error":"#N/A"},{"$error":"#N/A"},{"$error":"#N/A"},{"$error":"#N/A"},{"$error":"#N/A"},{"$error":"#N/A"},{"$error":"#N/A"},{"$error":"#N/A"},{"$error":"#N/A"},{"$error":"#N/A"},{"$error":"#N/A"},{"$error":"#N/A"},{"$error":"#N/A"}]
[{"$f":"données!W816","v":{"$error":"#N/A"}},{"$f":"données!X816","v":{"$error":"#N/A"}},{"$f":"données!Y816","v":{"$error":"#N/A"}},{"$f":"données!AH816","v":7},{"$error":"#N/A"},{"$error":"#N/A"},null,null,null,null,null,null,null,null,null,null,null,null,null,null,null,null,null,{"$error":"#N/A"},{"$error":"#N/A"},{"$error":"#N/A"},{"$error":"#N/A"},{"$error":"#N/A"},{"$error":"#N/A"},{"$error":"#N/A"},{"$error":"#N/A"},{"$error":"#N/A"},{"$error":"#N/A"},{"$error":"#N/A"},{"$error":"#N/A"},{"$error":"#N/A"},{"$error":"#N/A"}]
[{"$f":"données!W817","v":{"$error":"#N/A"}},{"$f":"données!X817","v":{"$error":"#N/A"}},{"$f":"données!Y817","v":{"$error":"#N/A"}},{"$f":"données!AH817","v":6},{"$error":"#N/A"},{"$error":"#N/A"},null,null,null,null,null,null,null,null,null,null,null,null,null,null,null,null,null,{"$error":"#N/A"},{"$error":"#N/A"},{"$error":"#N/A"},{"$error":"#N/A"},{"$error":"#N/A"},{"$error":"#N/A"},{"$error":"#N/A"},{"$error":"#N/A"},{"$error":"#N/A"},{"$error":"#N/A"},{"$error":"#N/A"},{"$error":"#N/A"},{"$error":"#N/A"},{"$error":"#N/A"}]
[{"$f":"données!W818","v":{"$error":"#N/A"}},{"$f":"données!X818","v":{"$error":"#N/A"}},{"$f":"données!Y818","v":{"$error":"#N/A"}},{"$f":"données!AH818","v":6},{"$error":"#N/A"},{"$error":"#N/A"},null,null,null,null,null,null,null,null,null,null,null,null,null,null,null,null,null,{"$error":"#N/A"},{"$error":"#N/A"},{"$error":"#N/A"},{"$error":"#N/A"},{"$error":"#N/A"},{"$error":"#N/A"},{"$error":"#N/A"},{"$error":"#N/A"},{"$error":"#N/A"},{"$error":"#N/A"},{"$error":"#N/A"},{"$error":"#N/A"},{"$error":"#N/A"},{"$error":"#N/A"}]
[{"$f":"données!W819","v":{"$error":"#N/A"}},{"$f":"données!X819","v":{"$error":"#N/A"}},{"$f":"données!Y819","v":{"$error":"#N/A"}},{"$f":"données!AH819","v":2},{"$error":"#N/A"},{"$error":"#N/A"},null,null,null,null,null,null,null,null,null,null,null,null,null,null,null,null,null,{"$error":"#N/A"},{"$error":"#N/A"},{"$error":"#N/A"},{"$error":"#N/A"},{"$error":"#N/A"},{"$error":"#N/A"},{"$error":"#N/A"},{"$error":"#N/A"},{"$error":"#N/A"},{"$error":"#N/A"},{"$error":"#N/A"},{"$error":"#N/A"},{"$error":"#N/A"},{"$error":"#N/A"}]
[{"$f":"données!W820","v":{"$error":"#N/A"}},{"$f":"données!X820","v":{"$error":"#N/A"}},{"$f":"données!Y820","v":{"$error":"#N/A"}},{"$f":"données!AH820","v":1},{"$error":"#N/A"},{"$error":"#N/A"},null,null,null,null,null,null,null,null,null,null,null,null,null,null,null,null,null,{"$error":"#N/A"},{"$error":"#N/A"},{"$error":"#N/A"},{"$error":"#N/A"},{"$error":"#N/A"},{"$error":"#N/A"},{"$error":"#N/A"},{"$error":"#N/A"},{"$error":"#N/A"},{"$error":"#N/A"},{"$error":"#N/A"},{"$error":"#N/A"},{"$error":"#N/A"},{"$error":"#N/A"}]
[{"$f":"données!W821","v":{"$error":"#N/A"}},{"$f":"données!X821","v":{"$error":"#N/A"}},{"$f":"données!Y821","v":{"$error":"#N/A"}},{"$f":"données!AH821","v":2},{"$error":"#N/A"},{"$error":"#N/A"},null,null,null,null,null,null,null,null,null,null,null,null,null,null,null,null,null,{"$error":"#N/A"},{"$error":"#N/A"},{"$error":"#N/A"},{"$error":"#N/A"},{"$error":"#N/A"},{"$error":"#N/A"},{"$error":"#N/A"},{"$error":"#N/A"},{"$error":"#N/A"},{"$error":"#N/A"},{"$error":"#N/A"},{"$error":"#N/A"},{"$error":"#N/A"},{"$error":"#N/A"}]
[{"$f":"données!W822","v":{"$error":"#N/A"}},{"$f":"données!X822","v":{"$error":"#N/A"}},{"$f":"données!Y822","v":{"$error":"#N/A"}},{"$f":"données!AH822","v":2},{"$error":"#N/A"},{"$error":"#N/A"},null,null,null,null,null,null,null,null,null,null,null,null,null,null,null,null,null,{"$error":"#N/A"},{"$error":"#N/A"},{"$error":"#N/A"},{"$error":"#N/A"},{"$error":"#N/A"},{"$error":"#N/A"},{"$error":"#N/A"},{"$error":"#N/A"},{"$error":"#N/A"},{"$error":"#N/A"},{"$error":"#N/A"},{"$error":"#N/A"},{"$error":"#N/A"},{"$error":"#N/A"}]
[{"$f":"données!W823","v":{"$error":"#N/A"}},{"$f":"données!X823","v":{"$error":"#N/A"}},{"$f":"données!Y823","v":{"$error":"#N/A"}},{"$f":"données!AH823","v":6},{"$error":"#N/A"},{"$error":"#N/A"},null,null,null,null,null,null,null,null,null,null,null,null,null,null,null,null,null,{"$error":"#N/A"},{"$error":"#N/A"},{"$error":"#N/A"},{"$error":"#N/A"},{"$error":"#N/A"},{"$error":"#N/A"},{"$error":"#N/A"},{"$error":"#N/A"},{"$error":"#N/A"},{"$error":"#N/A"},{"$error":"#N/A"},{"$error":"#N/A"},{"$error":"#N/A"},{"$error":"#N/A"}]
[{"$f":"données!W824","v":{"$error":"#N/A"}},{"$f":"données!X824","v":{"$error":"#N/A"}},{"$f":"données!Y824","v":{"$error":"#N/A"}},{"$f":"données!AH824","v":3},{"$error":"#N/A"},{"$error":"#N/A"},null,null,null,null,null,null,null,null,null,null,null,null,null,null,null,null,null,{"$error":"#N/A"},{"$error":"#N/A"},{"$error":"#N/A"},{"$error":"#N/A"},{"$error":"#N/A"},{"$error":"#N/A"},{"$error":"#N/A"},{"$error":"#N/A"},{"$error":"#N/A"},{"$error":"#N/A"},{"$error":"#N/A"},{"$error":"#N/A"},{"$error":"#N/A"},{"$error":"#N/A"}]
[{"$f":"données!W825","v":{"$error":"#N/A"}},{"$f":"données!X825","v":{"$error":"#N/A"}},{"$f":"données!Y825","v":{"$error":"#N/A"}},{"$f":"données!AH825","v":4},{"$error":"#N/A"},{"$error":"#N/A"},null,null,null,null,null,null,null,null,null,null,null,null,null,null,null,null,null,{"$error":"#N/A"},{"$error":"#N/A"},{"$error":"#N/A"},{"$error":"#N/A"},{"$error":"#N/A"},{"$error":"#N/A"},{"$error":"#N/A"},{"$error":"#N/A"},{"$error":"#N/A"},{"$error":"#N/A"},{"$error":"#N/A"},{"$error":"#N/A"},{"$error":"#N/A"},{"$error":"#N/A"}]
[{"$f":"données!W826","v":{"$error":"#N/A"}},{"$f":"données!X826","v":{"$error":"#N/A"}},{"$f":"données!Y826","v":{"$error":"#N/A"}},{"$f":"données!AH826","v":2},{"$error":"#N/A"},{"$error":"#N/A"},null,null,null,null,null,null,null,null,null,null,null,null,null,null,null,null,null,{"$f":"IF($D824=X$1,$E824,#N/A)","v":{"$error":"#N/A"}},{"$f":"IF($D824=Y$1,$F824,#N/A)","v":{"$error":"#N/A"}},{"$error":"#N/A"},{"$error":"#N/A"},{"$error":"#N/A"},{"$error":"#N/A"},{"$error":"#N/A"},{"$error":"#N/A"},{"$error":"#N/A"},{"$error":"#N/A"},{"$error":"#N/A"},{"$error":"#N/A"},{"$error":"#N/A"},{"$error":"#N/A"}]
[{"$f":"données!W827","v":{"$error":"#N/A"}},{"$f":"données!X827","v":{"$error":"#N/A"}},{"$f":"données!Y827","v":{"$error":"#N/A"}},{"$f":"données!AH827","v":2},{"$error":"#N/A"},{"$error":"#N/A"},null,null,null,null,null,null,null,null,null,null,null,null,null,null,null,null,null,{"$error":"#N/A"},{"$error":"#N/A"},{"$error":"#N/A"},{"$error":"#N/A"},{"$error":"#N/A"},{"$error":"#N/A"},{"$error":"#N/A"},{"$error":"#N/A"},{"$error":"#N/A"},{"$error":"#N/A"},{"$error":"#N/A"},{"$error":"#N/A"},{"$error":"#N/A"},{"$error":"#N/A"}]
[{"$f":"données!W828","v":{"$error":"#N/A"}},{"$f":"données!X828","v":{"$error":"#N/A"}},{"$f":"données!Y828","v":{"$error":"#N/A"}},{"$f":"données!AH828","v":2},{"$error":"#N/A"},{"$error":"#N/A"},null,null,null,null,null,null,null,null,null,null,null,null,null,null,null,null,null,{"$error":"#N/A"},{"$error":"#N/A"},{"$error":"#N/A"},{"$error":"#N/A"},{"$error":"#N/A"},{"$error":"#N/A"},{"$error":"#N/A"},{"$error":"#N/A"},{"$error":"#N/A"},{"$error":"#N/A"},{"$error":"#N/A"},{"$error":"#N/A"},{"$error":"#N/A"},{"$error":"#N/A"}]
[{"$f":"données!W829","v":{"$error":"#N/A"}},{"$f":"données!X829","v":{"$error":"#N/A"}},{"$f":"données!Y829","v":{"$error":"#N/A"}},{"$f":"données!AH829","v":5},{"$error":"#N/A"},{"$error":"#N/A"},null,null,null,null,null,null,null,null,null,null,null,null,null,null,null,null,null,{"$error":"#N/A"},{"$error":"#N/A"},{"$error":"#N/A"},{"$error":"#N/A"},{"$error":"#N/A"},{"$error":"#N/A"},{"$error":"#N/A"},{"$error":"#N/A"},{"$error":"#N/A"},{"$error":"#N/A"},{"$error":"#N/A"},{"$error":"#N/A"},{"$error":"#N/A"},{"$error":"#N/A"}]
[{"$f":"données!W830","v":{"$error":"#N/A"}},{"$f":"données!X830","v":{"$error":"#N/A"}},{"$f":"données!Y830","v":{"$error":"#N/A"}},{"$f":"données!AH830","v":5},{"$error":"#N/A"},{"$error":"#N/A"},null,null,null,null,null,null,null,null,null,null,null,null,null,null,null,null,null,{"$error":"#N/A"},{"$error":"#N/A"},{"$error":"#N/A"},{"$error":"#N/A"},{"$error":"#N/A"},{"$error":"#N/A"},{"$error":"#N/A"},{"$error":"#N/A"},{"$error":"#N/A"},{"$error":"#N/A"},{"$error":"#N/A"},{"$error":"#N/A"},{"$error":"#N/A"},{"$error":"#N/A"}]
[{"$f":"données!W831","v":{"$error":"#N/A"}},{"$f":"données!X831","v":{"$error":"#N/A"}},{"$f":"données!Y831","v":{"$error":"#N/A"}},{"$f":"données!AH831","v":4},{"$error":"#N/A"},{"$error":"#N/A"},null,null,null,null,null,null,null,null,null,null,null,null,null,null,null,null,null,{"$error":"#N/A"},{"$error":"#N/A"},{"$error":"#N/A"},{"$error":"#N/A"},{"$error":"#N/A"},{"$error":"#N/A"},{"$error":"#N/A"},{"$error":"#N/A"},{"$error":"#N/A"},{"$error":"#N/A"},{"$error":"#N/A"},{"$error":"#N/A"},{"$error":"#N/A"},{"$error":"#N/A"}]
[{"$f":"données!W832","v":{"$error":"#N/A"}},{"$f":"données!X832","v":{"$error":"#N/A"}},{"$f":"données!Y832","v":{"$error":"#N/A"}},{"$f":"données!AH832","v":4},{"$error":"#N/A"},{"$error":"#N/A"},null,null,null,null,null,null,null,null,null,null,null,null,null,null,null,null,null,{"$error":"#N/A"},{"$error":"#N/A"},{"$error":"#N/A"},{"$error":"#N/A"},{"$error":"#N/A"},{"$error":"#N/A"},{"$error":"#N/A"},{"$error":"#N/A"},{"$error":"#N/A"},{"$error":"#N/A"},{"$error":"#N/A"},{"$error":"#N/A"},{"$error":"#N/A"},{"$error":"#N/A"}]
[{"$f":"données!W833","v":{"$error":"#N/A"}},{"$f":"données!X833","v":{"$error":"#N/A"}},{"$f":"données!Y833","v":{"$error":"#N/A"}},{"$f":"données!AH833","v":2},{"$error":"#N/A"},{"$error":"#N/A"},null,null,null,null,null,null,null,null,null,null,null,null,null,null,null,null,null,{"$error":"#N/A"},{"$error":"#N/A"},{"$error":"#N/A"},{"$error":"#N/A"},{"$error":"#N/A"},{"$error":"#N/A"},{"$error":"#N/A"},{"$error":"#N/A"},{"$error":"#N/A"},{"$error":"#N/A"},{"$error":"#N/A"},{"$error":"#N/A"},{"$error":"#N/A"},{"$error":"#N/A"}]
[{"$f":"données!W834","v":{"$error":"#N/A"}},{"$f":"données!X834","v":{"$error":"#N/A"}},{"$f":"données!Y834","v":{"$error":"#N/A"}},{"$f":"données!AH834","v":7},{"$error":"#N/A"},{"$error":"#N/A"},null,null,null,null,null,null,null,null,null,null,null,null,null,null,null,null,null,{"$error":"#N/A"},{"$error":"#N/A"},{"$error":"#N/A"},{"$error":"#N/A"},{"$error":"#N/A"},{"$error":"#N/A"},{"$error":"#N/A"},{"$error":"#N/A"},{"$error":"#N/A"},{"$error":"#N/A"},{"$error":"#N/A"},{"$error":"#N/A"},{"$error":"#N/A"},{"$error":"#N/A"}]
[{"$f":"données!W835","v":{"$error":"#N/A"}},{"$f":"données!X835","v":{"$error":"#N/A"}},{"$f":"données!Y835","v":{"$error":"#N/A"}},{"$f":"données!AH835","v":5},{"$error":"#N/A"},{"$error":"#N/A"},null,null,null,null,null,null,null,null,null,null,null,null,null,null,null,null,null,{"$error":"#N/A"},{"$error":"#N/A"},{"$error":"#N/A"},{"$error":"#N/A"},{"$error":"#N/A"},{"$error":"#N/A"},{"$error":"#N/A"},{"$error":"#N/A"},{"$error":"#N/A"},{"$error":"#N/A"},{"$error":"#N/A"},{"$error":"#N/A"},{"$error":"#N/A"},{"$error":"#N/A"}]
[{"$f":"données!W836","v":{"$error":"#N/A"}},{"$f":"données!X836","v":{"$error":"#N/A"}},{"$f":"données!Y836","v":{"$error":"#N/A"}},{"$f":"données!AH836","v":5},{"$f":"A834+B834*$I$2","v":{"$error":"#N/A"}},{"$f":"C834+B834*$I$3","v":{"$error":"#N/A"}},null,null,null,null,null,null,null,null,null,null,null,null,null,null,null,null,null,{"$error":"#N/A"},{"$error":"#N/A"},{"$f":"IF($D834=Z$1,$E834,#N/A)","v":{"$error":"#N/A"}},{"$f":"IF($D834=AA$1,$F834,#N/A)","v":{"$error":"#N/A"}},{"$f":"IF($D834=AB$1,$E834,#N/A)","v":{"$error":"#N/A"}},{"$f":"IF($D834=AC$1,$F834,#N/A)","v":{"$error":"#N/A"}},{"$f":"IF($D834=AD$1,$E834,#N/A)","v":{"$error":"#N/A"}},{"$f":"IF($D834=AE$1,$F834,#N/A)","v":{"$error":"#N/A"}},{"$f":"IF($D834=AF$1,$E834,#N/A)","v":{"$error":"#N/A"}},{"$f":"IF($D834=AG$1,$F834,#N/A)","v":{"$error":"#N/A"}},{"$f":"IF($D834=AH$1,$E834,#N/A)","v":{"$error":"#N/A"}},{"$f":"IF($D834=AI$1,$F834,#N/A)","v":{"$error":"#N/A"}},{"$f":"IF($D834=AJ$1,$E834,#N/A)","v":{"$error":"#N/A"}},{"$f":"IF($D834=AK$1,$F834,#N/A)","v":{"$error":"#N/A"}}]
[{"$f":"données!W837","v":{"$error":"#N/A"}},{"$f":"données!X837","v":{"$error":"#N/A"}},{"$f":"données!Y837","v":{"$error":"#N/A"}},{"$f":"données!AH837","v":2},{"$error":"#N/A"},{"$error":"#N/A"},null,null,null,null,null,null,null,null,null,null,null,null,null,null,null,null,null,{"$error":"#N/A"},{"$error":"#N/A"},{"$error":"#N/A"},{"$error":"#N/A"},{"$error":"#N/A"},{"$error":"#N/A"},{"$error":"#N/A"},{"$error":"#N/A"},{"$error":"#N/A"},{"$error":"#N/A"},{"$error":"#N/A"},{"$error":"#N/A"},{"$error":"#N/A"},{"$error":"#N/A"}]
[{"$f":"données!W838","v":{"$error":"#N/A"}},{"$f":"données!X838","v":{"$error":"#N/A"}},{"$f":"données!Y838","v":{"$error":"#N/A"}},{"$f":"données!AH838","v":5},{"$error":"#N/A"},{"$error":"#N/A"},null,null,null,null,null,null,null,null,null,null,null,null,null,null,null,null,null,{"$error":"#N/A"},{"$error":"#N/A"},{"$error":"#N/A"},{"$error":"#N/A"},{"$error":"#N/A"},{"$error":"#N/A"},{"$error":"#N/A"},{"$error":"#N/A"},{"$error":"#N/A"},{"$error":"#N/A"},{"$error":"#N/A"},{"$error":"#N/A"},{"$error":"#N/A"},{"$error":"#N/A"}]
[{"$f":"données!W839","v":{"$error":"#N/A"}},{"$f":"données!X839","v":{"$error":"#N/A"}},{"$f":"données!Y839","v":{"$error":"#N/A"}},{"$f":"données!AH839","v":2},{"$error":"#N/A"},{"$error":"#N/A"},null,null,null,null,null,null,null,null,null,null,null,null,null,null,null,null,null,{"$error":"#N/A"},{"$error":"#N/A"},{"$error":"#N/A"},{"$error":"#N/A"},{"$error":"#N/A"},{"$error":"#N/A"},{"$error":"#N/A"},{"$error":"#N/A"},{"$error":"#N/A"},{"$error":"#N/A"},{"$error":"#N/A"},{"$error":"#N/A"},{"$error":"#N/A"},{"$error":"#N/A"}]
[{"$f":"données!W840","v":{"$error":"#N/A"}},{"$f":"données!X840","v":{"$error":"#N/A"}},{"$f":"données!Y840","v":{"$error":"#N/A"}},{"$f":"données!AH840","v":5},{"$error":"#N/A"},{"$error":"#N/A"},null,null,null,null,null,null,null,null,null,null,null,null,null,null,null,null,null,{"$error":"#N/A"},{"$error":"#N/A"},{"$error":"#N/A"},{"$error":"#N/A"},{"$error":"#N/A"},{"$error":"#N/A"},{"$error":"#N/A"},{"$error":"#N/A"},{"$error":"#N/A"},{"$error":"#N/A"},{"$error":"#N/A"},{"$error":"#N/A"},{"$error":"#N/A"},{"$error":"#N/A"}]
[{"$f":"données!W841","v":{"$error":"#N/A"}},{"$f":"données!X841","v":{"$error":"#N/A"}},{"$f":"données!Y841","v":{"$error":"#N/A"}},{"$f":"données!AH841","v":7},{"$error":"#N/A"},{"$error":"#N/A"},null,null,null,null,null,null,null,null,null,null,null,null,null,null,null,null,null,{"$error":"#N/A"},{"$error":"#N/A"},{"$error":"#N/A"},{"$error":"#N/A"},{"$error":"#N/A"},{"$error":"#N/A"},{"$error":"#N/A"},{"$error":"#N/A"},{"$error":"#N/A"},{"$error":"#N/A"},{"$error":"#N/A"},{"$error":"#N/A"},{"$error":"#N/A"},{"$error":"#N/A"}]
[{"$f":"données!W842","v":{"$error":"#N/A"}},{"$f":"données!X842","v":{"$error":"#N/A"}},{"$f":"données!Y842","v":{"$error":"#N/A"}},{"$f":"données!AH842","v":6},{"$error":"#N/A"},{"$error":"#N/A"},null,null,null,null,null,null,null,null,null,null,null,null,null,null,null,null,null,{"$error":"#N/A"},{"$error":"#N/A"},{"$error":"#N/A"},{"$error":"#N/A"},{"$error":"#N/A"},{"$error":"#N/A"},{"$error":"#N/A"},{"$error":"#N/A"},{"$error":"#N/A"},{"$error":"#N/A"},{"$error":"#N/A"},{"$error":"#N/A"},{"$error":"#N/A"},{"$error":"#N/A"}]
[{"$f":"données!W843","v":{"$error":"#N/A"}},{"$f":"données!X843","v":{"$error":"#N/A"}},{"$f":"données!Y843","v":{"$error":"#N/A"}},{"$f":"données!AH843","v":5},{"$error":"#N/A"},{"$error":"#N/A"},null,null,null,null,null,null,null,null,null,null,null,null,null,null,null,null,null,{"$error":"#N/A"},{"$error":"#N/A"},{"$error":"#N/A"},{"$error":"#N/A"},{"$error":"#N/A"},{"$error":"#N/A"},{"$error":"#N/A"},{"$error":"#N/A"},{"$error":"#N/A"},{"$error":"#N/A"},{"$error":"#N/A"},{"$error":"#N/A"},{"$error":"#N/A"},{"$error":"#N/A"}]
[{"$f":"données!W844","v":{"$error":"#N/A"}},{"$f":"données!X844","v":{"$error":"#N/A"}},{"$f":"données!Y844","v":{"$error":"#N/A"}},{"$f":"données!AH844","v":4},{"$error":"#N/A"},{"$error":"#N/A"},null,null,null,null,null,null,null,null,null,null,null,null,null,null,null,null,null,{"$error":"#N/A"},{"$error":"#N/A"},{"$error":"#N/A"},{"$error":"#N/A"},{"$error":"#N/A"},{"$error":"#N/A"},{"$error":"#N/A"},{"$error":"#N/A"},{"$error":"#N/A"},{"$error":"#N/A"},{"$error":"#N/A"},{"$error":"#N/A"},{"$error":"#N/A"},{"$error":"#N/A"}]
[{"$f":"données!W845","v":{"$error":"#N/A"}},{"$f":"données!X845","v":{"$error":"#N/A"}},{"$f":"données!Y845","v":{"$error":"#N/A"}},{"$f":"données!AH845","v":1},{"$error":"#N/A"},{"$error":"#N/A"},null,null,null,null,null,null,null,null,null,null,null,null,null,null,null,null,null,{"$error":"#N/A"},{"$error":"#N/A"},{"$error":"#N/A"},{"$error":"#N/A"},{"$error":"#N/A"},{"$error":"#N/A"},{"$error":"#N/A"},{"$error":"#N/A"},{"$error":"#N/A"},{"$error":"#N/A"},{"$error":"#N/A"},{"$error":"#N/A"},{"$error":"#N/A"},{"$error":"#N/A"}]
[{"$f":"données!W846","v":{"$error":"#N/A"}},{"$f":"données!X846","v":{"$error":"#N/A"}},{"$f":"données!Y846","v":{"$error":"#N/A"}},{"$f":"données!AH846","v":7},{"$error":"#N/A"},{"$error":"#N/A"},null,null,null,null,null,null,null,null,null,null,null,null,null,null,null,null,null,{"$error":"#N/A"},{"$error":"#N/A"},{"$error":"#N/A"},{"$error":"#N/A"},{"$error":"#N/A"},{"$error":"#N/A"},{"$error":"#N/A"},{"$error":"#N/A"},{"$error":"#N/A"},{"$error":"#N/A"},{"$error":"#N/A"},{"$error":"#N/A"},{"$error":"#N/A"},{"$error":"#N/A"}]
[{"$f":"données!W847","v":{"$error":"#N/A"}},{"$f":"données!X847","v":{"$error":"#N/A"}},{"$f":"données!Y847","v":{"$error":"#N/A"}},{"$f":"données!AH847","v":7},{"$error":"#N/A"},{"$error":"#N/A"},null,null,null,null,null,null,null,null,null,null,null,null,null,null,null,null,null,{"$error":"#N/A"},{"$error":"#N/A"},{"$error":"#N/A"},{"$error":"#N/A"},{"$error":"#N/A"},{"$error":"#N/A"},{"$error":"#N/A"},{"$error":"#N/A"},{"$error":"#N/A"},{"$error":"#N/A"},{"$error":"#N/A"},{"$error":"#N/A"},{"$error":"#N/A"},{"$error":"#N/A"}]
[{"$f":"données!W848","v":{"$error":"#N/A"}},{"$f":"données!X848","v":{"$error":"#N/A"}},{"$f":"données!Y848","v":{"$error":"#N/A"}},{"$f":"données!AH848","v":5},{"$error":"#N/A"},{"$error":"#N/A"},null,null,null,null,null,null,null,null,null,null,null,null,null,null,null,null,null,{"$error":"#N/A"},{"$error":"#N/A"},{"$error":"#N/A"},{"$error":"#N/A"},{"$error":"#N/A"},{"$error":"#N/A"},{"$error":"#N/A"},{"$error":"#N/A"},{"$error":"#N/A"},{"$error":"#N/A"},{"$error":"#N/A"},{"$error":"#N/A"},{"$error":"#N/A"},{"$error":"#N/A"}]
[{"$f":"données!W849","v":{"$error":"#N/A"}},{"$f":"données!X849","v":{"$error":"#N/A"}},{"$f":"données!Y849","v":{"$error":"#N/A"}},{"$f":"données!AH849","v":3},{"$error":"#N/A"},{"$error":"#N/A"},null,null,null,null,null,null,null,null,null,null,null,null,null,null,null,null,null,{"$error":"#N/A"},{"$error":"#N/A"},{"$error":"#N/A"},{"$error":"#N/A"},{"$error":"#N/A"},{"$error":"#N/A"},{"$error":"#N/A"},{"$error":"#N/A"},{"$error":"#N/A"},{"$error":"#N/A"},{"$error":"#N/A"},{"$error":"#N/A"},{"$error":"#N/A"},{"$error":"#N/A"}]
[{"$f":"données!W850","v":{"$error":"#N/A"}},{"$f":"données!X850","v":{"$error":"#N/A"}},{"$f":"données!Y850","v":{"$error":"#N/A"}},{"$f":"données!AH850","v":6},{"$error":"#N/A"},{"$error":"#N/A"},null,null,null,null,null,null,null,null,null,null,null,null,null,null,null,null,null,{"$error":"#N/A"},{"$error":"#N/A"},{"$error":"#N/A"},{"$error":"#N/A"},{"$error":"#N/A"},{"$error":"#N/A"},{"$error":"#N/A"},{"$error":"#N/A"},{"$error":"#N/A"},{"$error":"#N/A"},{"$error":"#N/A"},{"$error":"#N/A"},{"$error":"#N/A"},{"$error":"#N/A"}]
[{"$f":"données!W851","v":{"$error":"#N/A"}},{"$f":"données!X851","v":{"$error":"#N/A"}},{"$f":"données!Y851","v":{"$error":"#N/A"}},{"$f":"données!AH851","v":7},{"$error":"#N/A"},{"$error":"#N/A"},null,null,null,null,null,null,null,null,null,null,null,null,null,null,null,null,null,{"$error":"#N/A"},{"$error":"#N/A"},{"$error":"#N/A"},{"$error":"#N/A"},{"$error":"#N/A"},{"$error":"#N/A"},{"$error":"#N/A"},{"$error":"#N/A"},{"$error":"#N/A"},{"$error":"#N/A"},{"$error":"#N/A"},{"$error":"#N/A"},{"$error":"#N/A"},{"$error":"#N/A"}]
[{"$f":"données!W852","v":{"$error":"#N/A"}},{"$f":"données!X852","v":{"$error":"#N/A"}},{"$f":"données!Y852","v":{"$error":"#N/A"}},{"$f":"données!AH852","v":7},{"$error":"#N/A"},{"$error":"#N/A"},null,null,null,null,null,null,null,null,null,null,null,null,null,null,null,null,null,{"$error":"#N/A"},{"$error":"#N/A"},{"$error":"#N/A"},{"$error":"#N/A"},{"$error":"#N/A"},{"$error":"#N/A"},{"$error":"#N/A"},{"$error":"#N/A"},{"$error":"#N/A"},{"$error":"#N/A"},{"$error":"#N/A"},{"$error":"#N/A"},{"$error":"#N/A"},{"$error":"#N/A"}]
[{"$f":"données!W853","v":{"$error":"#N/A"}},{"$f":"données!X853","v":{"$error":"#N/A"}},{"$f":"données!Y853","v":{"$error":"#N/A"}},{"$f":"données!AH853","v":5},{"$error":"#N/A"},{"$error":"#N/A"},null,null,null,null,null,null,null,null,null,null,null,null,null,null,null,null,null,{"$error":"#N/A"},{"$error":"#N/A"},{"$error":"#N/A"},{"$error":"#N/A"},{"$error":"#N/A"},{"$error":"#N/A"},{"$error":"#N/A"},{"$error":"#N/A"},{"$error":"#N/A"},{"$error":"#N/A"},{"$error":"#N/A"},{"$error":"#N/A"},{"$error":"#N/A"},{"$error":"#N/A"}]
[{"$f":"données!W854","v":{"$error":"#N/A"}},{"$f":"données!X854","v":{"$error":"#N/A"}},{"$f":"données!Y854","v":{"$error":"#N/A"}},{"$f":"données!AH854","v":2},{"$error":"#N/A"},{"$error":"#N/A"},null,null,null,null,null,null,null,null,null,null,null,null,null,null,null,null,null,{"$error":"#N/A"},{"$error":"#N/A"},{"$error":"#N/A"},{"$error":"#N/A"},{"$error":"#N/A"},{"$error":"#N/A"},{"$error":"#N/A"},{"$error":"#N/A"},{"$error":"#N/A"},{"$error":"#N/A"},{"$error":"#N/A"},{"$error":"#N/A"},{"$error":"#N/A"},{"$error":"#N/A"}]
[{"$f":"données!W855","v":{"$error":"#N/A"}},{"$f":"données!X855","v":{"$error":"#N/A"}},{"$f":"données!Y855","v":{"$error":"#N/A"}},{"$f":"données!AH855","v":2},{"$error":"#N/A"},{"$error":"#N/A"},null,null,null,null,null,null,null,null,null,null,null,null,null,null,null,null,null,{"$error":"#N/A"},{"$error":"#N/A"},{"$error":"#N/A"},{"$error":"#N/A"},{"$error":"#N/A"},{"$error":"#N/A"},{"$error":"#N/A"},{"$error":"#N/A"},{"$error":"#N/A"},{"$error":"#N/A"},{"$error":"#N/A"},{"$error":"#N/A"},{"$error":"#N/A"},{"$error":"#N/A"}]
[{"$f":"données!W856","v":{"$error":"#N/A"}},{"$f":"données!X856","v":{"$error":"#N/A"}},{"$f":"données!Y856","v":{"$error":"#N/A"}},{"$f":"données!AH856","v":3},{"$error":"#N/A"},{"$error":"#N/A"},null,null,null,null,null,null,null,null,null,null,null,null,null,null,null,null,null,{"$error":"#N/A"},{"$error":"#N/A"},{"$error":"#N/A"},{"$error":"#N/A"},{"$error":"#N/A"},{"$error":"#N/A"},{"$error":"#N/A"},{"$error":"#N/A"},{"$error":"#N/A"},{"$error":"#N/A"},{"$error":"#N/A"},{"$error":"#N/A"},{"$error":"#N/A"},{"$error":"#N/A"}]
[{"$f":"données!W857","v":{"$error":"#N/A"}},{"$f":"données!X857","v":{"$error":"#N/A"}},{"$f":"données!Y857","v":{"$error":"#N/A"}},{"$f":"données!AH857","v":6},{"$error":"#N/A"},{"$error":"#N/A"},null,null,null,null,null,null,null,null,null,null,null,null,null,null,null,null,null,{"$error":"#N/A"},{"$error":"#N/A"},{"$error":"#N/A"},{"$error":"#N/A"},{"$error":"#N/A"},{"$error":"#N/A"},{"$error":"#N/A"},{"$error":"#N/A"},{"$error":"#N/A"},{"$error":"#N/A"},{"$error":"#N/A"},{"$error":"#N/A"},{"$error":"#N/A"},{"$error":"#N/A"}]
[{"$f":"données!W858","v":{"$error":"#N/A"}},{"$f":"données!X858","v":{"$error":"#N/A"}},{"$f":"données!Y858","v":{"$error":"#N/A"}},{"$f":"données!AH858","v":6},{"$error":"#N/A"},{"$error":"#N/A"},null,null,null,null,null,null,null,null,null,null,null,null,null,null,null,null,null,{"$error":"#N/A"},{"$error":"#N/A"},{"$error":"#N/A"},{"$error":"#N/A"},{"$error":"#N/A"},{"$error":"#N/A"},{"$error":"#N/A"},{"$error":"#N/A"},{"$error":"#N/A"},{"$error":"#N/A"},{"$error":"#N/A"},{"$error":"#N/A"},{"$error":"#N/A"},{"$error":"#N/A"}]
[{"$f":"données!W859","v":{"$error":"#N/A"}},{"$f":"données!X859","v":{"$error":"#N/A"}},{"$f":"données!Y859","v":{"$error":"#N/A"}},{"$f":"données!AH859","v":5},{"$error":"#N/A"},{"$error":"#N/A"},null,null,null,null,null,null,null,null,null,null,null,null,null,null,null,null,null,{"$error":"#N/A"},{"$error":"#N/A"},{"$error":"#N/A"},{"$error":"#N/A"},{"$error":"#N/A"},{"$error":"#N/A"},{"$error":"#N/A"},{"$error":"#N/A"},{"$error":"#N/A"},{"$error":"#N/A"},{"$error":"#N/A"},{"$error":"#N/A"},{"$error":"#N/A"},{"$error":"#N/A"}]
[{"$f":"données!W860","v":{"$error":"#N/A"}},{"$f":"données!X860","v":{"$error":"#N/A"}},{"$f":"données!Y860","v":{"$error":"#N/A"}},{"$f":"données!AH860","v":2},{"$error":"#N/A"},{"$error":"#N/A"},null,null,null,null,null,null,null,null,null,null,null,null,null,null,null,null,null,{"$error":"#N/A"},{"$error":"#N/A"},{"$error":"#N/A"},{"$error":"#N/A"},{"$error":"#N/A"},{"$error":"#N/A"},{"$error":"#N/A"},{"$error":"#N/A"},{"$error":"#N/A"},{"$error":"#N/A"},{"$error":"#N/A"},{"$error":"#N/A"},{"$error":"#N/A"},{"$error":"#N/A"}]
[{"$f":"données!W861","v":{"$error":"#N/A"}},{"$f":"données!X861","v":{"$error":"#N/A"}},{"$f":"données!Y861","v":{"$error":"#N/A"}},{"$f":"données!AH861","v":3},{"$error":"#N/A"},{"$error":"#N/A"},null,null,null,null,null,null,null,null,null,null,null,null,null,null,null,null,null,{"$error":"#N/A"},{"$error":"#N/A"},{"$error":"#N/A"},{"$error":"#N/A"},{"$error":"#N/A"},{"$error":"#N/A"},{"$error":"#N/A"},{"$error":"#N/A"},{"$error":"#N/A"},{"$error":"#N/A"},{"$error":"#N/A"},{"$error":"#N/A"},{"$error":"#N/A"},{"$error":"#N/A"}]
[{"$f":"données!W862","v":{"$error":"#N/A"}},{"$f":"données!X862","v":{"$error":"#N/A"}},{"$f":"données!Y862","v":{"$error":"#N/A"}},{"$f":"données!AH862","v":1},{"$error":"#N/A"},{"$error":"#N/A"},null,null,null,null,null,null,null,null,null,null,null,null,null,null,null,null,null,{"$error":"#N/A"},{"$error":"#N/A"},{"$error":"#N/A"},{"$error":"#N/A"},{"$error":"#N/A"},{"$error":"#N/A"},{"$error":"#N/A"},{"$error":"#N/A"},{"$error":"#N/A"},{"$error":"#N/A"},{"$error":"#N/A"},{"$error":"#N/A"},{"$error":"#N/A"},{"$error":"#N/A"}]
[{"$f":"données!W863","v":{"$error":"#N/A"}},{"$f":"données!X863","v":{"$error":"#N/A"}},{"$f":"données!Y863","v":{"$error":"#N/A"}},{"$f":"données!AH863","v":6},{"$error":"#N/A"},{"$error":"#N/A"},null,null,null,null,null,null,null,null,null,null,null,null,null,null,null,null,null,{"$error":"#N/A"},{"$error":"#N/A"},{"$error":"#N/A"},{"$error":"#N/A"},{"$error":"#N/A"},{"$error":"#N/A"},{"$error":"#N/A"},{"$error":"#N/A"},{"$error":"#N/A"},{"$error":"#N/A"},{"$error":"#N/A"},{"$error":"#N/A"},{"$error":"#N/A"},{"$error":"#N/A"}]
[{"$f":"données!W864","v":{"$error":"#N/A"}},{"$f":"données!X864","v":{"$error":"#N/A"}},{"$f":"données!Y864","v":{"$error":"#N/A"}},{"$f":"données!AH864","v":4},{"$error":"#N/A"},{"$error":"#N/A"},null,null,null,null,null,null,null,null,null,null,null,null,null,null,null,null,null,{"$error":"#N/A"},{"$error":"#N/A"},{"$error":"#N/A"},{"$error":"#N/A"},{"$error":"#N/A"},{"$error":"#N/A"},{"$error":"#N/A"},{"$error":"#N/A"},{"$error":"#N/A"},{"$error":"#N/A"},{"$error":"#N/A"},{"$error":"#N/A"},{"$error":"#N/A"},{"$error":"#N/A"}]
[{"$f":"données!W865","v":{"$error":"#N/A"}},{"$f":"données!X865","v":{"$error":"#N/A"}},{"$f":"données!Y865","v":{"$error":"#N/A"}},{"$f":"données!AH865","v":4},{"$error":"#N/A"},{"$error":"#N/A"},null,null,null,null,null,null,null,null,null,null,null,null,null,null,null,null,null,{"$error":"#N/A"},{"$error":"#N/A"},{"$error":"#N/A"},{"$error":"#N/A"},{"$error":"#N/A"},{"$error":"#N/A"},{"$error":"#N/A"},{"$error":"#N/A"},{"$error":"#N/A"},{"$error":"#N/A"},{"$error":"#N/A"},{"$error":"#N/A"},{"$error":"#N/A"},{"$error":"#N/A"}]
[{"$f":"données!W866","v":{"$error":"#N/A"}},{"$f":"données!X866","v":{"$error":"#N/A"}},{"$f":"données!Y866","v":{"$error":"#N/A"}},{"$f":"données!AH866","v":3},{"$error":"#N/A"},{"$error":"#N/A"},null,null,null,null,null,null,null,null,null,null,null,null,null,null,null,null,null,{"$error":"#N/A"},{"$error":"#N/A"},{"$error":"#N/A"},{"$error":"#N/A"},{"$error":"#N/A"},{"$error":"#N/A"},{"$error":"#N/A"},{"$error":"#N/A"},{"$error":"#N/A"},{"$error":"#N/A"},{"$error":"#N/A"},{"$error":"#N/A"},{"$error":"#N/A"},{"$error":"#N/A"}]
[{"$f":"données!W867","v":{"$error":"#N/A"}},{"$f":"données!X867","v":{"$error":"#N/A"}},{"$f":"données!Y867","v":{"$error":"#N/A"}},{"$f":"données!AH867","v":3},{"$error":"#N/A"},{"$error":"#N/A"},null,null,null,null,null,null,null,null,null,null,null,null,null,null,null,null,null,{"$error":"#N/A"},{"$error":"#N/A"},{"$error":"#N/A"},{"$error":"#N/A"},{"$error":"#N/A"},{"$error":"#N/A"},{"$error":"#N/A"},{"$error":"#N/A"},{"$error":"#N/A"},{"$error":"#N/A"},{"$error":"#N/A"},{"$error":"#N/A"},{"$error":"#N/A"},{"$error":"#N/A"}]
[{"$f":"données!W868","v":{"$error":"#N/A"}},{"$f":"données!X868","v":{"$error":"#N/A"}},{"$f":"données!Y868","v":{"$error":"#N/A"}},{"$f":"données!AH868","v":4},{"$error":"#N/A"},{"$error":"#N/A"},null,null,null,null,null,null,null,null,null,null,null,null,null,null,null,null,null,{"$error":"#N/A"},{"$error":"#N/A"},{"$error":"#N/A"},{"$error":"#N/A"},{"$error":"#N/A"},{"$error":"#N/A"},{"$error":"#N/A"},{"$error":"#N/A"},{"$error":"#N/A"},{"$error":"#N/A"},{"$error":"#N/A"},{"$error":"#N/A"},{"$error":"#N/A"},{"$error":"#N/A"}]
[{"$f":"données!W869","v":{"$error":"#N/A"}},{"$f":"données!X869","v":{"$error":"#N/A"}},{"$f":"données!Y869","v":{"$error":"#N/A"}},{"$f":"données!AH869","v":6},{"$error":"#N/A"},{"$error":"#N/A"},null,null,null,null,null,null,null,null,null,null,null,null,null,null,null,null,null,{"$error":"#N/A"},{"$error":"#N/A"},{"$error":"#N/A"},{"$error":"#N/A"},{"$error":"#N/A"},{"$error":"#N/A"},{"$error":"#N/A"},{"$error":"#N/A"},{"$error":"#N/A"},{"$error":"#N/A"},{"$error":"#N/A"},{"$error":"#N/A"},{"$error":"#N/A"},{"$error":"#N/A"}]
[{"$f":"données!W870","v":{"$error":"#N/A"}},{"$f":"données!X870","v":{"$error":"#N/A"}},{"$f":"données!Y870","v":{"$error":"#N/A"}},{"$f":"données!AH870","v":5},{"$error":"#N/A"},{"$error":"#N/A"},null,null,null,null,null,null,null,null,null,null,null,null,null,null,null,null,null,{"$error":"#N/A"},{"$error":"#N/A"},{"$error":"#N/A"},{"$error":"#N/A"},{"$error":"#N/A"},{"$error":"#N/A"},{"$error":"#N/A"},{"$error":"#N/A"},{"$error":"#N/A"},{"$error":"#N/A"},{"$error":"#N/A"},{"$error":"#N/A"},{"$error":"#N/A"},{"$error":"#N/A"}]
[{"$f":"données!W871","v":{"$error":"#N/A"}},{"$f":"données!X871","v":{"$error":"#N/A"}},{"$f":"données!Y871","v":{"$error":"#N/A"}},{"$f":"données!AH871","v":3},{"$error":"#N/A"},{"$error":"#N/A"},null,null,null,null,null,null,null,null,null,null,null,null,null,null,null,null,null,{"$error":"#N/A"},{"$error":"#N/A"},{"$error":"#N/A"},{"$error":"#N/A"},{"$error":"#N/A"},{"$error":"#N/A"},{"$error":"#N/A"},{"$error":"#N/A"},{"$error":"#N/A"},{"$error":"#N/A"},{"$error":"#N/A"},{"$error":"#N/A"},{"$error":"#N/A"},{"$error":"#N/A"}]
[{"$f":"données!W872","v":{"$error":"#N/A"}},{"$f":"données!X872","v":{"$error":"#N/A"}},{"$f":"données!Y872","v":{"$error":"#N/A"}},{"$f":"données!AH872","v":4},{"$error":"#N/A"},{"$error":"#N/A"},null,null,null,null,null,null,null,null,null,null,null,null,null,null,null,null,null,{"$error":"#N/A"},{"$error":"#N/A"},{"$error":"#N/A"},{"$error":"#N/A"},{"$error":"#N/A"},{"$error":"#N/A"},{"$error":"#N/A"},{"$error":"#N/A"},{"$error":"#N/A"},{"$error":"#N/A"},{"$error":"#N/A"},{"$error":"#N/A"},{"$error":"#N/A"},{"$error":"#N/A"}]
[{"$f":"données!W873","v":{"$error":"#N/A"}},{"$f":"données!X873","v":{"$error":"#N/A"}},{"$f":"données!Y873","v":{"$error":"#N/A"}},{"$f":"données!AH873","v":3},{"$error":"#N/A"},{"$error":"#N/A"},null,null,null,null,null,null,null,null,null,null,null,null,null,null,null,null,null,{"$error":"#N/A"},{"$error":"#N/A"},{"$error":"#N/A"},{"$error":"#N/A"},{"$error":"#N/A"},{"$error":"#N/A"},{"$error":"#N/A"},{"$error":"#N/A"},{"$error":"#N/A"},{"$error":"#N/A"},{"$error":"#N/A"},{"$error":"#N/A"},{"$error":"#N/A"},{"$error":"#N/A"}]
[{"$f":"données!W874","v":{"$error":"#N/A"}},{"$f":"données!X874","v":{"$error":"#N/A"}},{"$f":"données!Y874","v":{"$error":"#N/A"}},{"$f":"données!AH874","v":3},{"$error":"#N/A"},{"$error":"#N/A"},null,null,null,null,null,null,null,null,null,null,null,null,null,null,null,null,null,{"$error":"#N/A"},{"$error":"#N/A"},{"$error":"#N/A"},{"$error":"#N/A"},{"$error":"#N/A"},{"$error":"#N/A"},{"$error":"#N/A"},{"$error":"#N/A"},{"$error":"#N/A"},{"$error":"#N/A"},{"$error":"#N/A"},{"$error":"#N/A"},{"$error":"#N/A"},{"$error":"#N/A"}]
[{"$f":"données!W875","v":{"$error":"#N/A"}},{"$f":"données!X875","v":{"$error":"#N/A"}},{"$f":"données!Y875","v":{"$error":"#N/A"}},{"$f":"données!AH875","v":1},{"$error":"#N/A"},{"$error":"#N/A"},null,null,null,null,null,null,null,null,null,null,null,null,null,null,null,null,null,{"$error":"#N/A"},{"$error":"#N/A"},{"$error":"#N/A"},{"$error":"#N/A"},{"$error":"#N/A"},{"$error":"#N/A"},{"$error":"#N/A"},{"$error":"#N/A"},{"$error":"#N/A"},{"$error":"#N/A"},{"$error":"#N/A"},{"$error":"#N/A"},{"$error":"#N/A"},{"$error":"#N/A"}]
[{"$f":"données!W876","v":{"$error":"#N/A"}},{"$f":"données!X876","v":{"$error":"#N/A"}},{"$f":"données!Y876","v":{"$error":"#N/A"}},{"$f":"données!AH876","v":5},{"$error":"#N/A"},{"$error":"#N/A"},null,null,null,null,null,null,null,null,null,null,null,null,null,null,null,null,null,{"$error":"#N/A"},{"$error":"#N/A"},{"$error":"#N/A"},{"$error":"#N/A"},{"$error":"#N/A"},{"$error":"#N/A"},{"$error":"#N/A"},{"$error":"#N/A"},{"$error":"#N/A"},{"$error":"#N/A"},{"$error":"#N/A"},{"$error":"#N/A"},{"$error":"#N/A"},{"$error":"#N/A"}]
[{"$f":"données!W877","v":{"$error":"#N/A"}},{"$f":"données!X877","v":{"$error":"#N/A"}},{"$f":"données!Y877","v":{"$error":"#N/A"}},{"$f":"données!AH877","v":1},{"$error":"#N/A"},{"$error":"#N/A"},null,null,null,null,null,null,null,null,null,null,null,null,null,null,null,null,null,{"$error":"#N/A"},{"$error":"#N/A"},{"$error":"#N/A"},{"$error":"#N/A"},{"$error":"#N/A"},{"$error":"#N/A"},{"$error":"#N/A"},{"$error":"#N/A"},{"$error":"#N/A"},{"$error":"#N/A"},{"$error":"#N/A"},{"$error":"#N/A"},{"$error":"#N/A"},{"$error":"#N/A"}]
[{"$f":"données!W878","v":{"$error":"#N/A"}},{"$f":"données!X878","v":{"$error":"#N/A"}},{"$f":"données!Y878","v":{"$error":"#N/A"}},{"$f":"données!AH878","v":2},{"$error":"#N/A"},{"$error":"#N/A"},null,null,null,null,null,null,null,null,null,null,null,null,null,null,null,null,null,{"$error":"#N/A"},{"$error":"#N/A"},{"$error":"#N/A"},{"$error":"#N/A"},{"$error":"#N/A"},{"$error":"#N/A"},{"$error":"#N/A"},{"$error":"#N/A"},{"$error":"#N/A"},{"$error":"#N/A"},{"$error":"#N/A"},{"$error":"#N/A"},{"$error":"#N/A"},{"$error":"#N/A"}]
[{"$f":"données!W879","v":{"$error":"#N/A"}},{"$f":"données!X879","v":{"$error":"#N/A"}},{"$f":"données!Y879","v":{"$error":"#N/A"}},{"$f":"données!AH879","v":2},{"$error":"#N/A"},{"$error":"#N/A"},null,null,null,null,null,null,null,null,null,null,null,null,null,null,null,null,null,{"$error":"#N/A"},{"$error":"#N/A"},{"$error":"#N/A"},{"$error":"#N/A"},{"$error":"#N/A"},{"$error":"#N/A"},{"$error":"#N/A"},{"$error":"#N/A"},{"$error":"#N/A"},{"$error":"#N/A"},{"$error":"#N/A"},{"$error":"#N/A"},{"$error":"#N/A"},{"$error":"#N/A"}]
[{"$f":"données!W880","v":{"$error":"#N/A"}},{"$f":"données!X880","v":{"$error":"#N/A"}},{"$f":"données!Y880","v":{"$error":"#N/A"}},{"$f":"données!AH880","v":2},{"$error":"#N/A"},{"$error":"#N/A"},null,null,null,null,null,null,null,null,null,null,null,null,null,null,null,null,null,{"$error":"#N/A"},{"$error":"#N/A"},{"$error":"#N/A"},{"$error":"#N/A"},{"$error":"#N/A"},{"$error":"#N/A"},{"$error":"#N/A"},{"$error":"#N/A"},{"$error":"#N/A"},{"$error":"#N/A"},{"$error":"#N/A"},{"$error":"#N/A"},{"$error":"#N/A"},{"$error":"#N/A"}]
[{"$f":"données!W881","v":{"$error":"#N/A"}},{"$f":"données!X881","v":{"$error":"#N/A"}},{"$f":"données!Y881","v":{"$error":"#N/A"}},{"$f":"données!AH881","v":4},{"$error":"#N/A"},{"$error":"#N/A"},null,null,null,null,null,null,null,null,null,null,null,null,null,null,null,null,null,{"$error":"#N/A"},{"$error":"#N/A"},{"$error":"#N/A"},{"$error":"#N/A"},{"$error":"#N/A"},{"$error":"#N/A"},{"$error":"#N/A"},{"$error":"#N/A"},{"$error":"#N/A"},{"$error":"#N/A"},{"$error":"#N/A"},{"$error":"#N/A"},{"$error":"#N/A"},{"$error":"#N/A"}]
[{"$f":"données!W882","v":{"$error":"#N/A"}},{"$f":"données!X882","v":{"$error":"#N/A"}},{"$f":"données!Y882","v":{"$error":"#N/A"}},{"$f":"données!AH882","v":5},{"$error":"#N/A"},{"$error":"#N/A"},null,null,null,null,null,null,null,null,null,null,null,null,null,null,null,null,null,{"$error":"#N/A"},{"$error":"#N/A"},{"$error":"#N/A"},{"$error":"#N/A"},{"$error":"#N/A"},{"$error":"#N/A"},{"$error":"#N/A"},{"$error":"#N/A"},{"$error":"#N/A"},{"$error":"#N/A"},{"$error":"#N/A"},{"$error":"#N/A"},{"$error":"#N/A"},{"$error":"#N/A"}]
[{"$f":"données!W883","v":{"$error":"#N/A"}},{"$f":"données!X883","v":{"$error":"#N/A"}},{"$f":"données!Y883","v":{"$error":"#N/A"}},{"$f":"données!AH883","v":4},{"$error":"#N/A"},{"$error":"#N/A"},null,null,null,null,null,null,null,null,null,null,null,null,null,null,null,null,null,{"$error":"#N/A"},{"$error":"#N/A"},{"$error":"#N/A"},{"$error":"#N/A"},{"$error":"#N/A"},{"$error":"#N/A"},{"$error":"#N/A"},{"$error":"#N/A"},{"$error":"#N/A"},{"$error":"#N/A"},{"$error":"#N/A"},{"$error":"#N/A"},{"$error":"#N/A"},{"$error":"#N/A"}]
[{"$f":"données!W884","v":{"$error":"#N/A"}},{"$f":"données!X884","v":{"$error":"#N/A"}},{"$f":"données!Y884","v":{"$error":"#N/A"}},{"$f":"données!AH884","v":5},{"$error":"#N/A"},{"$error":"#N/A"},null,null,null,null,null,null,null,null,null,null,null,null,null,null,null,null,null,{"$error":"#N/A"},{"$error":"#N/A"},{"$error":"#N/A"},{"$error":"#N/A"},{"$error":"#N/A"},{"$error":"#N/A"},{"$error":"#N/A"},{"$error":"#N/A"},{"$error":"#N/A"},{"$error":"#N/A"},{"$error":"#N/A"},{"$error":"#N/A"},{"$error":"#N/A"},{"$error":"#N/A"}]
[{"$f":"données!W885","v":{"$error":"#N/A"}},{"$f":"données!X885","v":{"$error":"#N/A"}},{"$f":"données!Y885","v":{"$error":"#N/A"}},{"$f":"données!AH885","v":2},{"$error":"#N/A"},{"$error":"#N/A"},null,null,null,null,null,null,null,null,null,null,null,null,null,null,null,null,null,{"$error":"#N/A"},{"$error":"#N/A"},{"$error":"#N/A"},{"$error":"#N/A"},{"$error":"#N/A"},{"$error":"#N/A"},{"$error":"#N/A"},{"$error":"#N/A"},{"$error":"#N/A"},{"$error":"#N/A"},{"$error":"#N/A"},{"$error":"#N/A"},{"$error":"#N/A"},{"$error":"#N/A"}]
[{"$f":"données!W886","v":{"$error":"#N/A"}},{"$f":"données!X886","v":{"$error":"#N/A"}},{"$f":"données!Y886","v":{"$error":"#N/A"}},{"$f":"données!AH886","v":2},{"$error":"#N/A"},{"$error":"#N/A"},null,null,null,null,null,null,null,null,null,null,null,null,null,null,null,null,null,{"$error":"#N/A"},{"$error":"#N/A"},{"$error":"#N/A"},{"$error":"#N/A"},{"$error":"#N/A"},{"$error":"#N/A"},{"$error":"#N/A"},{"$error":"#N/A"},{"$error":"#N/A"},{"$error":"#N/A"},{"$error":"#N/A"},{"$error":"#N/A"},{"$error":"#N/A"},{"$error":"#N/A"}]
[{"$f":"données!W887","v":{"$error":"#N/A"}},{"$f":"données!X887","v":{"$error":"#N/A"}},{"$f":"données!Y887","v":{"$error":"#N/A"}},{"$f":"données!AH887","v":5},{"$error":"#N/A"},{"$error":"#N/A"},null,null,null,null,null,null,null,null,null,null,null,null,null,null,null,null,null,{"$error":"#N/A"},{"$error":"#N/A"},{"$error":"#N/A"},{"$error":"#N/A"},{"$error":"#N/A"},{"$error":"#N/A"},{"$error":"#N/A"},{"$error":"#N/A"},{"$error":"#N/A"},{"$error":"#N/A"},{"$error":"#N/A"},{"$error":"#N/A"},{"$error":"#N/A"},{"$error":"#N/A"}]
[{"$f":"données!W888","v":{"$error":"#N/A"}},{"$f":"données!X888","v":{"$error":"#N/A"}},{"$f":"données!Y888","v":{"$error":"#N/A"}},{"$f":"données!AH888","v":7},{"$error":"#N/A"},{"$error":"#N/A"},null,null,null,null,null,null,null,null,null,null,null,null,null,null,null,null,null,{"$error":"#N/A"},{"$error":"#N/A"},{"$error":"#N/A"},{"$error":"#N/A"},{"$error":"#N/A"},{"$error":"#N/A"},{"$error":"#N/A"},{"$error":"#N/A"},{"$error":"#N/A"},{"$error":"#N/A"},{"$error":"#N/A"},{"$error":"#N/A"},{"$error":"#N/A"},{"$error":"#N/A"}]
[{"$f":"données!W889","v":{"$error":"#N/A"}},{"$f":"données!X889","v":{"$error":"#N/A"}},{"$f":"données!Y889","v":{"$error":"#N/A"}},{"$f":"données!AH889","v":3},{"$error":"#N/A"},{"$error":"#N/A"},null,null,null,null,null,null,null,null,null,null,null,null,null,null,null,null,null,{"$error":"#N/A"},{"$error":"#N/A"},{"$error":"#N/A"},{"$error":"#N/A"},{"$error":"#N/A"},{"$error":"#N/A"},{"$error":"#N/A"},{"$error":"#N/A"},{"$error":"#N/A"},{"$error":"#N/A"},{"$error":"#N/A"},{"$error":"#N/A"},{"$error":"#N/A"},{"$error":"#N/A"}]
[{"$f":"données!W890","v":{"$error":"#N/A"}},{"$f":"données!X890","v":{"$error":"#N/A"}},{"$f":"données!Y890","v":{"$error":"#N/A"}},{"$f":"données!AH890","v":7},{"$error":"#N/A"},{"$error":"#N/A"},null,null,null,null,null,null,null,null,null,null,null,null,null,null,null,null,null,{"$f":"IF($D888=X$1,$E888,#N/A)","v":{"$error":"#N/A"}},{"$f":"IF($D888=Y$1,$F888,#N/A)","v":{"$error":"#N/A"}},{"$error":"#N/A"},{"$error":"#N/A"},{"$error":"#N/A"},{"$error":"#N/A"},{"$error":"#N/A"},{"$error":"#N/A"},{"$error":"#N/A"},{"$error":"#N/A"},{"$error":"#N/A"},{"$error":"#N/A"},{"$error":"#N/A"},{"$error":"#N/A"}]
[{"$f":"données!W891","v":{"$error":"#N/A"}},{"$f":"données!X891","v":{"$error":"#N/A"}},{"$f":"données!Y891","v":{"$error":"#N/A"}},{"$f":"données!AH891","v":5},{"$error":"#N/A"},{"$error":"#N/A"},null,null,null,null,null,null,null,null,null,null,null,null,null,null,null,null,null,{"$error":"#N/A"},{"$error":"#N/A"},{"$error":"#N/A"},{"$error":"#N/A"},{"$error":"#N/A"},{"$error":"#N/A"},{"$error":"#N/A"},{"$error":"#N/A"},{"$error":"#N/A"},{"$error":"#N/A"},{"$error":"#N/A"},{"$error":"#N/A"},{"$error":"#N/A"},{"$error":"#N/A"}]
[{"$f":"données!W892","v":{"$error":"#N/A"}},{"$f":"données!X892","v":{"$error":"#N/A"}},{"$f":"données!Y892","v":{"$error":"#N/A"}},{"$f":"données!AH892","v":5},{"$error":"#N/A"},{"$error":"#N/A"},null,null,null,null,null,null,null,null,null,null,null,null,null,null,null,null,null,{"$error":"#N/A"},{"$error":"#N/A"},{"$error":"#N/A"},{"$error":"#N/A"},{"$error":"#N/A"},{"$error":"#N/A"},{"$error":"#N/A"},{"$error":"#N/A"},{"$error":"#N/A"},{"$error":"#N/A"},{"$error":"#N/A"},{"$error":"#N/A"},{"$error":"#N/A"},{"$error":"#N/A"}]
[{"$f":"données!W893","v":{"$error":"#N/A"}},{"$f":"données!X893","v":{"$error":"#N/A"}},{"$f":"données!Y893","v":{"$error":"#N/A"}},{"$f":"données!AH893","v":2},{"$error":"#N/A"},{"$error":"#N/A"},null,null,null,null,null,null,null,null,null,null,null,null,null,null,null,null,null,{"$error":"#N/A"},{"$error":"#N/A"},{"$error":"#N/A"},{"$error":"#N/A"},{"$error":"#N/A"},{"$error":"#N/A"},{"$error":"#N/A"},{"$error":"#N/A"},{"$error":"#N/A"},{"$error":"#N/A"},{"$error":"#N/A"},{"$error":"#N/A"},{"$error":"#N/A"},{"$error":"#N/A"}]
[{"$f":"données!W894","v":{"$error":"#N/A"}},{"$f":"données!X894","v":{"$error":"#N/A"}},{"$f":"données!Y894","v":{"$error":"#N/A"}},{"$f":"données!AH894","v":1},{"$error":"#N/A"},{"$error":"#N/A"},null,null,null,null,null,null,null,null,null,null,null,null,null,null,null,null,null,{"$error":"#N/A"},{"$error":"#N/A"},{"$error":"#N/A"},{"$error":"#N/A"},{"$error":"#N/A"},{"$error":"#N/A"},{"$error":"#N/A"},{"$error":"#N/A"},{"$error":"#N/A"},{"$error":"#N/A"},{"$error":"#N/A"},{"$error":"#N/A"},{"$error":"#N/A"},{"$error":"#N/A"}]
[{"$f":"données!W895","v":{"$error":"#N/A"}},{"$f":"données!X895","v":{"$error":"#N/A"}},{"$f":"données!Y895","v":{"$error":"#N/A"}},{"$f":"données!AH895","v":2},{"$error":"#N/A"},{"$error":"#N/A"},null,null,null,null,null,null,null,null,null,null,null,null,null,null,null,null,null,{"$error":"#N/A"},{"$error":"#N/A"},{"$error":"#N/A"},{"$error":"#N/A"},{"$error":"#N/A"},{"$error":"#N/A"},{"$error":"#N/A"},{"$error":"#N/A"},{"$error":"#N/A"},{"$error":"#N/A"},{"$error":"#N/A"},{"$error":"#N/A"},{"$error":"#N/A"},{"$error":"#N/A"}]
[{"$f":"données!W896","v":{"$error":"#N/A"}},{"$f":"données!X896","v":{"$error":"#N/A"}},{"$f":"données!Y896","v":{"$error":"#N/A"}},{"$f":"données!AH896","v":5},{"$error":"#N/A"},{"$error":"#N/A"},null,null,null,null,null,null,null,null,null,null,null,null,null,null,null,null,null,{"$error":"#N/A"},{"$error":"#N/A"},{"$error":"#N/A"},{"$error":"#N/A"},{"$error":"#N/A"},{"$error":"#N/A"},{"$error":"#N/A"},{"$error":"#N/A"},{"$error":"#N/A"},{"$error":"#N/A"},{"$error":"#N/A"},{"$error":"#N/A"},{"$error":"#N/A"},{"$error":"#N/A"}]
[{"$f":"données!W897","v":{"$error":"#N/A"}},{"$f":"données!X897","v":{"$error":"#N/A"}},{"$f":"données!Y897","v":{"$error":"#N/A"}},{"$f":"données!AH897","v":2},{"$error":"#N/A"},{"$error":"#N/A"},null,null,null,null,null,null,null,null,null,null,null,null,null,null,null,null,null,{"$error":"#N/A"},{"$error":"#N/A"},{"$error":"#N/A"},{"$error":"#N/A"},{"$error":"#N/A"},{"$error":"#N/A"},{"$error":"#N/A"},{"$error":"#N/A"},{"$error":"#N/A"},{"$error":"#N/A"},{"$error":"#N/A"},{"$error":"#N/A"},{"$error":"#N/A"},{"$error":"#N/A"}]
[{"$f":"données!W898","v":{"$error":"#N/A"}},{"$f":"données!X898","v":{"$error":"#N/A"}},{"$f":"données!Y898","v":{"$error":"#N/A"}},{"$f":"données!AH898","v":6},{"$error":"#N/A"},{"$error":"#N/A"},null,null,null,null,null,null,null,null,null,null,null,null,null,null,null,null,null,{"$error":"#N/A"},{"$error":"#N/A"},{"$error":"#N/A"},{"$error":"#N/A"},{"$error":"#N/A"},{"$error":"#N/A"},{"$error":"#N/A"},{"$error":"#N/A"},{"$error":"#N/A"},{"$error":"#N/A"},{"$error":"#N/A"},{"$error":"#N/A"},{"$error":"#N/A"},{"$error":"#N/A"}]
[{"$f":"données!W899","v":{"$error":"#N/A"}},{"$f":"données!X899","v":{"$error":"#N/A"}},{"$f":"données!Y899","v":{"$error":"#N/A"}},{"$f":"données!AH899","v":6},{"$error":"#N/A"},{"$error":"#N/A"},null,null,null,null,null,null,null,null,null,null,null,null,null,null,null,null,null,{"$error":"#N/A"},{"$error":"#N/A"},{"$error":"#N/A"},{"$error":"#N/A"},{"$error":"#N/A"},{"$error":"#N/A"},{"$error":"#N/A"},{"$error":"#N/A"},{"$error":"#N/A"},{"$error":"#N/A"},{"$error":"#N/A"},{"$error":"#N/A"},{"$error":"#N/A"},{"$error":"#N/A"}]
[{"$f":"données!W900","v":{"$error":"#N/A"}},{"$f":"données!X900","v":{"$error":"#N/A"}},{"$f":"données!Y900","v":{"$error":"#N/A"}},{"$f":"données!AH900","v":6},{"$f":"A898+B898*$I$2","v":{"$error":"#N/A"}},{"$f":"C898+B898*$I$3","v":{"$error":"#N/A"}},null,null,null,null,null,null,null,null,null,null,null,null,null,null,null,null,null,{"$error":"#N/A"},{"$error":"#N/A"},{"$f":"IF($D898=Z$1,$E898,#N/A)","v":{"$error":"#N/A"}},{"$f":"IF($D898=AA$1,$F898,#N/A)","v":{"$error":"#N/A"}},{"$f":"IF($D898=AB$1,$E898,#N/A)","v":{"$error":"#N/A"}},{"$f":"IF($D898=AC$1,$F898,#N/A)","v":{"$error":"#N/A"}},{"$f":"IF($D898=AD$1,$E898,#N/A)","v":{"$error":"#N/A"}},{"$f":"IF($D898=AE$1,$F898,#N/A)","v":{"$error":"#N/A"}},{"$f":"IF($D898=AF$1,$E898,#N/A)","v":{"$error":"#N/A"}},{"$f":"IF($D898=AG$1,$F898,#N/A)","v":{"$error":"#N/A"}},{"$f":"IF($D898=AH$1,$E898,#N/A)","v":{"$error":"#N/A"}},{"$f":"IF($D898=AI$1,$F898,#N/A)","v":{"$error":"#N/A"}},{"$f":"IF($D898=AJ$1,$E898,#N/A)","v":{"$error":"#N/A"}},{"$f":"IF($D898=AK$1,$F898,#N/A)","v":{"$error":"#N/A"}}]
[{"$f":"données!W901","v":{"$error":"#N/A"}},{"$f":"données!X901","v":{"$error":"#N/A"}},{"$f":"données!Y901","v":{"$error":"#N/A"}},{"$f":"données!AH901","v":1},{"$error":"#N/A"},{"$error":"#N/A"},null,null,null,null,null,null,null,null,null,null,null,null,null,null,null,null,null,{"$error":"#N/A"},{"$error":"#N/A"},{"$error":"#N/A"},{"$error":"#N/A"},{"$error":"#N/A"},{"$error":"#N/A"},{"$error":"#N/A"},{"$error":"#N/A"},{"$error":"#N/A"},{"$error":"#N/A"},{"$error":"#N/A"},{"$error":"#N/A"},{"$error":"#N/A"},{"$error":"#N/A"}]
[{"$f":"données!W902","v":{"$error":"#N/A"}},{"$f":"données!X902","v":{"$error":"#N/A"}},{"$f":"données!Y902","v":{"$error":"#N/A"}},{"$f":"données!AH902","v":4},{"$error":"#N/A"},{"$error":"#N/A"},null,null,null,null,null,null,null,null,null,null,null,null,null,null,null,null,null,{"$error":"#N/A"},{"$error":"#N/A"},{"$error":"#N/A"},{"$error":"#N/A"},{"$error":"#N/A"},{"$error":"#N/A"},{"$error":"#N/A"},{"$error":"#N/A"},{"$error":"#N/A"},{"$error":"#N/A"},{"$error":"#N/A"},{"$error":"#N/A"},{"$error":"#N/A"},{"$error":"#N/A"}]
[{"$f":"données!W903","v":{"$error":"#N/A"}},{"$f":"données!X903","v":{"$error":"#N/A"}},{"$f":"données!Y903","v":{"$error":"#N/A"}},{"$f":"données!AH903","v":7},{"$error":"#N/A"},{"$error":"#N/A"},null,null,null,null,null,null,null,null,null,null,null,null,null,null,null,null,null,{"$error":"#N/A"},{"$error":"#N/A"},{"$error":"#N/A"},{"$error":"#N/A"},{"$error":"#N/A"},{"$error":"#N/A"},{"$error":"#N/A"},{"$error":"#N/A"},{"$error":"#N/A"},{"$error":"#N/A"},{"$error":"#N/A"},{"$error":"#N/A"},{"$error":"#N/A"},{"$error":"#N/A"}]
[{"$f":"données!W904","v":{"$error":"#N/A"}},{"$f":"données!X904","v":{"$error":"#N/A"}},{"$f":"données!Y904","v":{"$error":"#N/A"}},{"$f":"données!AH904","v":6},{"$error":"#N/A"},{"$error":"#N/A"},null,null,null,null,null,null,null,null,null,null,null,null,null,null,null,null,null,{"$error":"#N/A"},{"$error":"#N/A"},{"$error":"#N/A"},{"$error":"#N/A"},{"$error":"#N/A"},{"$error":"#N/A"},{"$error":"#N/A"},{"$error":"#N/A"},{"$error":"#N/A"},{"$error":"#N/A"},{"$error":"#N/A"},{"$error":"#N/A"},{"$error":"#N/A"},{"$error":"#N/A"}]
[{"$f":"données!W905","v":{"$error":"#N/A"}},{"$f":"données!X905","v":{"$error":"#N/A"}},{"$f":"données!Y905","v":{"$error":"#N/A"}},{"$f":"données!AH905","v":4},{"$error":"#N/A"},{"$error":"#N/A"},null,null,null,null,null,null,null,null,null,null,null,null,null,null,null,null,null,{"$error":"#N/A"},{"$error":"#N/A"},{"$error":"#N/A"},{"$error":"#N/A"},{"$error":"#N/A"},{"$error":"#N/A"},{"$error":"#N/A"},{"$error":"#N/A"},{"$error":"#N/A"},{"$error":"#N/A"},{"$error":"#N/A"},{"$error":"#N/A"},{"$error":"#N/A"},{"$error":"#N/A"}]
[{"$f":"données!W906","v":{"$error":"#N/A"}},{"$f":"données!X906","v":{"$error":"#N/A"}},{"$f":"données!Y906","v":{"$error":"#N/A"}},{"$f":"données!AH906","v":4},{"$error":"#N/A"},{"$error":"#N/A"},null,null,null,null,null,null,null,null,null,null,null,null,null,null,null,null,null,{"$error":"#N/A"},{"$error":"#N/A"},{"$error":"#N/A"},{"$error":"#N/A"},{"$error":"#N/A"},{"$error":"#N/A"},{"$error":"#N/A"},{"$error":"#N/A"},{"$error":"#N/A"},{"$error":"#N/A"},{"$error":"#N/A"},{"$error":"#N/A"},{"$error":"#N/A"},{"$error":"#N/A"}]
[{"$f":"données!W907","v":{"$error":"#N/A"}},{"$f":"données!X907","v":{"$error":"#N/A"}},{"$f":"données!Y907","v":{"$error":"#N/A"}},{"$f":"données!AH907","v":1},{"$error":"#N/A"},{"$error":"#N/A"},null,null,null,null,null,null,null,null,null,null,null,null,null,null,null,null,null,{"$error":"#N/A"},{"$error":"#N/A"},{"$error":"#N/A"},{"$error":"#N/A"},{"$error":"#N/A"},{"$error":"#N/A"},{"$error":"#N/A"},{"$error":"#N/A"},{"$error":"#N/A"},{"$error":"#N/A"},{"$error":"#N/A"},{"$error":"#N/A"},{"$error":"#N/A"},{"$error":"#N/A"}]
[{"$f":"données!W908","v":{"$error":"#N/A"}},{"$f":"données!X908","v":{"$error":"#N/A"}},{"$f":"données!Y908","v":{"$error":"#N/A"}},{"$f":"données!AH908","v":4},{"$error":"#N/A"},{"$error":"#N/A"},null,null,null,null,null,null,null,null,null,null,null,null,null,null,null,null,null,{"$error":"#N/A"},{"$error":"#N/A"},{"$error":"#N/A"},{"$error":"#N/A"},{"$error":"#N/A"},{"$error":"#N/A"},{"$error":"#N/A"},{"$error":"#N/A"},{"$error":"#N/A"},{"$error":"#N/A"},{"$error":"#N/A"},{"$error":"#N/A"},{"$error":"#N/A"},{"$error":"#N/A"}]
[{"$f":"données!W909","v":{"$error":"#N/A"}},{"$f":"données!X909","v":{"$error":"#N/A"}},{"$f":"données!Y909","v":{"$error":"#N/A"}},{"$f":"données!AH909","v":2},{"$error":"#N/A"},{"$error":"#N/A"},null,null,null,null,null,null,null,null,null,null,null,null,null,null,null,null,null,{"$error":"#N/A"},{"$error":"#N/A"},{"$error":"#N/A"},{"$error":"#N/A"},{"$error":"#N/A"},{"$error":"#N/A"},{"$error":"#N/A"},{"$error":"#N/A"},{"$error":"#N/A"},{"$error":"#N/A"},{"$error":"#N/A"},{"$error":"#N/A"},{"$error":"#N/A"},{"$error":"#N/A"}]
[{"$f":"données!W910","v":{"$error":"#N/A"}},{"$f":"données!X910","v":{"$error":"#N/A"}},{"$f":"données!Y910","v":{"$error":"#N/A"}},{"$f":"données!AH910","v":2},{"$error":"#N/A"},{"$error":"#N/A"},null,null,null,null,null,null,null,null,null,null,null,null,null,null,null,null,null,{"$error":"#N/A"},{"$error":"#N/A"},{"$error":"#N/A"},{"$error":"#N/A"},{"$error":"#N/A"},{"$error":"#N/A"},{"$error":"#N/A"},{"$error":"#N/A"},{"$error":"#N/A"},{"$error":"#N/A"},{"$error":"#N/A"},{"$error":"#N/A"},{"$error":"#N/A"},{"$error":"#N/A"}]
[{"$f":"données!W911","v":{"$error":"#N/A"}},{"$f":"données!X911","v":{"$error":"#N/A"}},{"$f":"données!Y911","v":{"$error":"#N/A"}},{"$f":"données!AH911","v":5},{"$error":"#N/A"},{"$error":"#N/A"},null,null,null,null,null,null,null,null,null,null,null,null,null,null,null,null,null,{"$error":"#N/A"},{"$error":"#N/A"},{"$error":"#N/A"},{"$error":"#N/A"},{"$error":"#N/A"},{"$error":"#N/A"},{"$error":"#N/A"},{"$error":"#N/A"},{"$error":"#N/A"},{"$error":"#N/A"},{"$error":"#N/A"},{"$error":"#N/A"},{"$error":"#N/A"},{"$error":"#N/A"}]
[{"$f":"données!W912","v":{"$error":"#N/A"}},{"$f":"données!X912","v":{"$error":"#N/A"}},{"$f":"données!Y912","v":{"$error":"#N/A"}},{"$f":"données!AH912","v":3},{"$error":"#N/A"},{"$error":"#N/A"},null,null,null,null,null,null,null,null,null,null,null,null,null,null,null,null,null,{"$error":"#N/A"},{"$error":"#N/A"},{"$error":"#N/A"},{"$error":"#N/A"},{"$error":"#N/A"},{"$error":"#N/A"},{"$error":"#N/A"},{"$error":"#N/A"},{"$error":"#N/A"},{"$error":"#N/A"},{"$error":"#N/A"},{"$error":"#N/A"},{"$error":"#N/A"},{"$error":"#N/A"}]
[{"$f":"données!W913","v":{"$error":"#N/A"}},{"$f":"données!X913","v":{"$error":"#N/A"}},{"$f":"données!Y913","v":{"$error":"#N/A"}},{"$f":"données!AH913","v":7},{"$error":"#N/A"},{"$error":"#N/A"},null,null,null,null,null,null,null,null,null,null,null,null,null,null,null,null,null,{"$error":"#N/A"},{"$error":"#N/A"},{"$error":"#N/A"},{"$error":"#N/A"},{"$error":"#N/A"},{"$error":"#N/A"},{"$error":"#N/A"},{"$error":"#N/A"},{"$error":"#N/A"},{"$error":"#N/A"},{"$error":"#N/A"},{"$error":"#N/A"},{"$error":"#N/A"},{"$error":"#N/A"}]
[{"$f":"données!W914","v":{"$error":"#N/A"}},{"$f":"données!X914","v":{"$error":"#N/A"}},{"$f":"données!Y914","v":{"$error":"#N/A"}},{"$f":"données!AH914","v":1},{"$error":"#N/A"},{"$error":"#N/A"},null,null,null,null,null,null,null,null,null,null,null,null,null,null,null,null,null,{"$error":"#N/A"},{"$error":"#N/A"},{"$error":"#N/A"},{"$error":"#N/A"},{"$error":"#N/A"},{"$error":"#N/A"},{"$error":"#N/A"},{"$error":"#N/A"},{"$error":"#N/A"},{"$error":"#N/A"},{"$error":"#N/A"},{"$error":"#N/A"},{"$error":"#N/A"},{"$error":"#N/A"}]
[{"$f":"données!W915","v":{"$error":"#N/A"}},{"$f":"données!X915","v":{"$error":"#N/A"}},{"$f":"données!Y915","v":{"$error":"#N/A"}},{"$f":"données!AH915","v":7},{"$error":"#N/A"},{"$error":"#N/A"},null,null,null,null,null,null,null,null,null,null,null,null,null,null,null,null,null,{"$error":"#N/A"},{"$error":"#N/A"},{"$error":"#N/A"},{"$error":"#N/A"},{"$error":"#N/A"},{"$error":"#N/A"},{"$error":"#N/A"},{"$error":"#N/A"},{"$error":"#N/A"},{"$error":"#N/A"},{"$error":"#N/A"},{"$error":"#N/A"},{"$error":"#N/A"},{"$error":"#N/A"}]
[{"$f":"données!W916","v":{"$error":"#N/A"}},{"$f":"données!X916","v":{"$error":"#N/A"}},{"$f":"données!Y916","v":{"$error":"#N/A"}},{"$f":"données!AH916","v":2},{"$error":"#N/A"},{"$error":"#N/A"},null,null,null,null,null,null,null,null,null,null,null,null,null,null,null,null,null,{"$error":"#N/A"},{"$error":"#N/A"},{"$error":"#N/A"},{"$error":"#N/A"},{"$error":"#N/A"},{"$error":"#N/A"},{"$error":"#N/A"},{"$error":"#N/A"},{"$error":"#N/A"},{"$error":"#N/A"},{"$error":"#N/A"},{"$error":"#N/A"},{"$error":"#N/A"},{"$error":"#N/A"}]
[{"$f":"données!W917","v":{"$error":"#N/A"}},{"$f":"données!X917","v":{"$error":"#N/A"}},{"$f":"données!Y917","v":{"$error":"#N/A"}},{"$f":"données!AH917","v":3},{"$error":"#N/A"},{"$error":"#N/A"},null,null,null,null,null,null,null,null,null,null,null,null,null,null,null,null,null,{"$error":"#N/A"},{"$error":"#N/A"},{"$error":"#N/A"},{"$error":"#N/A"},{"$error":"#N/A"},{"$error":"#N/A"},{"$error":"#N/A"},{"$error":"#N/A"},{"$error":"#N/A"},{"$error":"#N/A"},{"$error":"#N/A"},{"$error":"#N/A"},{"$error":"#N/A"},{"$error":"#N/A"}]
[{"$f":"données!W918","v":{"$error":"#N/A"}},{"$f":"données!X918","v":{"$error":"#N/A"}},{"$f":"données!Y918","v":{"$error":"#N/A"}},{"$f":"données!AH918","v":7},{"$error":"#N/A"},{"$error":"#N/A"},null,null,null,null,null,null,null,null,null,null,null,null,null,null,null,null,null,{"$error":"#N/A"},{"$error":"#N/A"},{"$error":"#N/A"},{"$error":"#N/A"},{"$error":"#N/A"},{"$error":"#N/A"},{"$error":"#N/A"},{"$error":"#N/A"},{"$error":"#N/A"},{"$error":"#N/A"},{"$error":"#N/A"},{"$error":"#N/A"},{"$error":"#N/A"},{"$error":"#N/A"}]
[{"$f":"données!W919","v":{"$error":"#N/A"}},{"$f":"données!X919","v":{"$error":"#N/A"}},{"$f":"données!Y919","v":{"$error":"#N/A"}},{"$f":"données!AH919","v":1},{"$error":"#N/A"},{"$error":"#N/A"},null,null,null,null,null,null,null,null,null,null,null,null,null,null,null,null,null,{"$error":"#N/A"},{"$error":"#N/A"},{"$error":"#N/A"},{"$error":"#N/A"},{"$error":"#N/A"},{"$error":"#N/A"},{"$error":"#N/A"},{"$error":"#N/A"},{"$error":"#N/A"},{"$error":"#N/A"},{"$error":"#N/A"},{"$error":"#N/A"},{"$error":"#N/A"},{"$error":"#N/A"}]
[{"$f":"données!W920","v":{"$error":"#N/A"}},{"$f":"données!X920","v":{"$error":"#N/A"}},{"$f":"données!Y920","v":{"$error":"#N/A"}},{"$f":"données!AH920","v":3},{"$error":"#N/A"},{"$error":"#N/A"},null,null,null,null,null,null,null,null,null,null,null,null,null,null,null,null,null,{"$error":"#N/A"},{"$error":"#N/A"},{"$error":"#N/A"},{"$error":"#N/A"},{"$error":"#N/A"},{"$error":"#N/A"},{"$error":"#N/A"},{"$error":"#N/A"},{"$error":"#N/A"},{"$error":"#N/A"},{"$error":"#N/A"},{"$error":"#N/A"},{"$error":"#N/A"},{"$error":"#N/A"}]
[{"$f":"données!W921","v":{"$error":"#N/A"}},{"$f":"données!X921","v":{"$error":"#N/A"}},{"$f":"données!Y921","v":{"$error":"#N/A"}},{"$f":"données!AH921","v":1},{"$error":"#N/A"},{"$error":"#N/A"},null,null,null,null,null,null,null,null,null,null,null,null,null,null,null,null,null,{"$error":"#N/A"},{"$error":"#N/A"},{"$error":"#N/A"},{"$error":"#N/A"},{"$error":"#N/A"},{"$error":"#N/A"},{"$error":"#N/A"},{"$error":"#N/A"},{"$error":"#N/A"},{"$error":"#N/A"},{"$error":"#N/A"},{"$error":"#N/A"},{"$error":"#N/A"},{"$error":"#N/A"}]
[{"$f":"données!W922","v":{"$error":"#N/A"}},{"$f":"données!X922","v":{"$error":"#N/A"}},{"$f":"données!Y922","v":{"$error":"#N/A"}},{"$f":"données!AH922","v":3},{"$error":"#N/A"},{"$error":"#N/A"},null,null,null,null,null,null,null,null,null,null,null,null,null,null,null,null,null,{"$error":"#N/A"},{"$error":"#N/A"},{"$error":"#N/A"},{"$error":"#N/A"},{"$error":"#N/A"},{"$error":"#N/A"},{"$error":"#N/A"},{"$error":"#N/A"},{"$error":"#N/A"},{"$error":"#N/A"},{"$error":"#N/A"},{"$error":"#N/A"},{"$error":"#N/A"},{"$error":"#N/A"}]
[{"$f":"données!W923","v":{"$error":"#N/A"}},{"$f":"données!X923","v":{"$error":"#N/A"}},{"$f":"données!Y923","v":{"$error":"#N/A"}},{"$f":"données!AH923","v":5},{"$error":"#N/A"},{"$error":"#N/A"},null,null,null,null,null,null,null,null,null,null,null,null,null,null,null,null,null,{"$error":"#N/A"},{"$error":"#N/A"},{"$error":"#N/A"},{"$error":"#N/A"},{"$error":"#N/A"},{"$error":"#N/A"},{"$error":"#N/A"},{"$error":"#N/A"},{"$error":"#N/A"},{"$error":"#N/A"},{"$error":"#N/A"},{"$error":"#N/A"},{"$error":"#N/A"},{"$error":"#N/A"}]
[{"$f":"données!W924","v":{"$error":"#N/A"}},{"$f":"données!X924","v":{"$error":"#N/A"}},{"$f":"données!Y924","v":{"$error":"#N/A"}},{"$f":"données!AH924","v":6},{"$error":"#N/A"},{"$error":"#N/A"},null,null,null,null,null,null,null,null,null,null,null,null,null,null,null,null,null,{"$error":"#N/A"},{"$error":"#N/A"},{"$error":"#N/A"},{"$error":"#N/A"},{"$error":"#N/A"},{"$error":"#N/A"},{"$error":"#N/A"},{"$error":"#N/A"},{"$error":"#N/A"},{"$error":"#N/A"},{"$error":"#N/A"},{"$error":"#N/A"},{"$error":"#N/A"},{"$error":"#N/A"}]
[{"$f":"données!W925","v":{"$error":"#N/A"}},{"$f":"données!X925","v":{"$error":"#N/A"}},{"$f":"données!Y925","v":{"$error":"#N/A"}},{"$f":"données!AH925","v":5},{"$error":"#N/A"},{"$error":"#N/A"},null,null,null,null,null,null,null,null,null,null,null,null,null,null,null,null,null,{"$error":"#N/A"},{"$error":"#N/A"},{"$error":"#N/A"},{"$error":"#N/A"},{"$error":"#N/A"},{"$error":"#N/A"},{"$error":"#N/A"},{"$error":"#N/A"},{"$error":"#N/A"},{"$error":"#N/A"},{"$error":"#N/A"},{"$error":"#N/A"},{"$error":"#N/A"},{"$error":"#N/A"}]
[{"$f":"données!W926","v":{"$error":"#N/A"}},{"$f":"données!X926","v":{"$error":"#N/A"}},{"$f":"données!Y926","v":{"$error":"#N/A"}},{"$f":"données!AH926","v":1},{"$error":"#N/A"},{"$error":"#N/A"},null,null,null,null,null,null,null,null,null,null,null,null,null,null,null,null,null,{"$error":"#N/A"},{"$error":"#N/A"},{"$error":"#N/A"},{"$error":"#N/A"},{"$error":"#N/A"},{"$error":"#N/A"},{"$error":"#N/A"},{"$error":"#N/A"},{"$error":"#N/A"},{"$error":"#N/A"},{"$error":"#N/A"},{"$error":"#N/A"},{"$error":"#N/A"},{"$error":"#N/A"}]
[{"$f":"données!W927","v":{"$error":"#N/A"}},{"$f":"données!X927","v":{"$error":"#N/A"}},{"$f":"données!Y927","v":{"$error":"#N/A"}},{"$f":"données!AH927","v":3},{"$error":"#N/A"},{"$error":"#N/A"},null,null,null,null,null,null,null,null,null,null,null,null,null,null,null,null,null,{"$error":"#N/A"},{"$error":"#N/A"},{"$error":"#N/A"},{"$error":"#N/A"},{"$error":"#N/A"},{"$error":"#N/A"},{"$error":"#N/A"},{"$error":"#N/A"},{"$error":"#N/A"},{"$error":"#N/A"},{"$error":"#N/A"},{"$error":"#N/A"},{"$error":"#N/A"},{"$error":"#N/A"}]
[{"$f":"données!W928","v":{"$error":"#N/A"}},{"$f":"données!X928","v":{"$error":"#N/A"}},{"$f":"données!Y928","v":{"$error":"#N/A"}},{"$f":"données!AH928","v":7},{"$error":"#N/A"},{"$error":"#N/A"},null,null,null,null,null,null,null,null,null,null,null,null,null,null,null,null,null,{"$error":"#N/A"},{"$error":"#N/A"},{"$error":"#N/A"},{"$error":"#N/A"},{"$error":"#N/A"},{"$error":"#N/A"},{"$error":"#N/A"},{"$error":"#N/A"},{"$error":"#N/A"},{"$error":"#N/A"},{"$error":"#N/A"},{"$error":"#N/A"},{"$error":"#N/A"},{"$error":"#N/A"}]
[{"$f":"données!W929","v":{"$error":"#N/A"}},{"$f":"données!X929","v":{"$error":"#N/A"}},{"$f":"données!Y929","v":{"$error":"#N/A"}},{"$f":"données!AH929","v":1},{"$error":"#N/A"},{"$error":"#N/A"},null,null,null,null,null,null,null,null,null,null,null,null,null,null,null,null,null,{"$error":"#N/A"},{"$error":"#N/A"},{"$error":"#N/A"},{"$error":"#N/A"},{"$error":"#N/A"},{"$error":"#N/A"},{"$error":"#N/A"},{"$error":"#N/A"},{"$error":"#N/A"},{"$error":"#N/A"},{"$error":"#N/A"},{"$error":"#N/A"},{"$error":"#N/A"},{"$error":"#N/A"}]
[{"$f":"données!W930","v":{"$error":"#N/A"}},{"$f":"données!X930","v":{"$error":"#N/A"}},{"$f":"données!Y930","v":{"$error":"#N/A"}},{"$f":"données!AH930","v":5},{"$error":"#N/A"},{"$error":"#N/A"},null,null,null,null,null,null,null,null,null,null,null,null,null,null,null,null,null,{"$error":"#N/A"},{"$error":"#N/A"},{"$error":"#N/A"},{"$error":"#N/A"},{"$error":"#N/A"},{"$error":"#N/A"},{"$error":"#N/A"},{"$error":"#N/A"},{"$error":"#N/A"},{"$error":"#N/A"},{"$error":"#N/A"},{"$error":"#N/A"},{"$error":"#N/A"},{"$error":"#N/A"}]
[{"$f":"données!W931","v":{"$error":"#N/A"}},{"$f":"données!X931","v":{"$error":"#N/A"}},{"$f":"données!Y931","v":{"$error":"#N/A"}},{"$f":"données!AH931","v":2},{"$error":"#N/A"},{"$error":"#N/A"},null,null,null,null,null,null,null,null,null,null,null,null,null,null,null,null,null,{"$error":"#N/A"},{"$error":"#N/A"},{"$error":"#N/A"},{"$error":"#N/A"},{"$error":"#N/A"},{"$error":"#N/A"},{"$error":"#N/A"},{"$error":"#N/A"},{"$error":"#N/A"},{"$error":"#N/A"},{"$error":"#N/A"},{"$error":"#N/A"},{"$error":"#N/A"},{"$error":"#N/A"}]
[{"$f":"données!W932","v":{"$error":"#N/A"}},{"$f":"données!X932","v":{"$error":"#N/A"}},{"$f":"données!Y932","v":{"$error":"#N/A"}},{"$f":"données!AH932","v":4},{"$error":"#N/A"},{"$error":"#N/A"},null,null,null,null,null,null,null,null,null,null,null,null,null,null,null,null,null,{"$error":"#N/A"},{"$error":"#N/A"},{"$error":"#N/A"},{"$error":"#N/A"},{"$error":"#N/A"},{"$error":"#N/A"},{"$error":"#N/A"},{"$error":"#N/A"},{"$error":"#N/A"},{"$error":"#N/A"},{"$error":"#N/A"},{"$error":"#N/A"},{"$error":"#N/A"},{"$error":"#N/A"}]
[{"$f":"données!W933","v":{"$error":"#N/A"}},{"$f":"données!X933","v":{"$error":"#N/A"}},{"$f":"données!Y933","v":{"$error":"#N/A"}},{"$f":"données!AH933","v":2},{"$error":"#N/A"},{"$error":"#N/A"},null,null,null,null,null,null,null,null,null,null,null,null,null,null,null,null,null,{"$error":"#N/A"},{"$error":"#N/A"},{"$error":"#N/A"},{"$error":"#N/A"},{"$error":"#N/A"},{"$error":"#N/A"},{"$error":"#N/A"},{"$error":"#N/A"},{"$error":"#N/A"},{"$error":"#N/A"},{"$error":"#N/A"},{"$error":"#N/A"},{"$error":"#N/A"},{"$error":"#N/A"}]
[{"$f":"données!W934","v":{"$error":"#N/A"}},{"$f":"données!X934","v":{"$error":"#N/A"}},{"$f":"données!Y934","v":{"$error":"#N/A"}},{"$f":"données!AH934","v":3},{"$error":"#N/A"},{"$error":"#N/A"},null,null,null,null,null,null,null,null,null,null,null,null,null,null,null,null,null,{"$error":"#N/A"},{"$error":"#N/A"},{"$error":"#N/A"},{"$error":"#N/A"},{"$error":"#N/A"},{"$error":"#N/A"},{"$error":"#N/A"},{"$error":"#N/A"},{"$error":"#N/A"},{"$error":"#N/A"},{"$error":"#N/A"},{"$error":"#N/A"},{"$error":"#N/A"},{"$error":"#N/A"}]
[{"$f":"données!W935","v":{"$error":"#N/A"}},{"$f":"données!X935","v":{"$error":"#N/A"}},{"$f":"données!Y935","v":{"$error":"#N/A"}},{"$f":"données!AH935","v":1},{"$error":"#N/A"},{"$error":"#N/A"},null,null,null,null,null,null,null,null,null,null,null,null,null,null,null,null,null,{"$error":"#N/A"},{"$error":"#N/A"},{"$error":"#N/A"},{"$error":"#N/A"},{"$error":"#N/A"},{"$error":"#N/A"},{"$error":"#N/A"},{"$error":"#N/A"},{"$error":"#N/A"},{"$error":"#N/A"},{"$error":"#N/A"},{"$error":"#N/A"},{"$error":"#N/A"},{"$error":"#N/A"}]
[{"$f":"données!W936","v":{"$error":"#N/A"}},{"$f":"données!X936","v":{"$error":"#N/A"}},{"$f":"données!Y936","v":{"$error":"#N/A"}},{"$f":"données!AH936","v":7},{"$error":"#N/A"},{"$error":"#N/A"},null,null,null,null,null,null,null,null,null,null,null,null,null,null,null,null,null,{"$error":"#N/A"},{"$error":"#N/A"},{"$error":"#N/A"},{"$error":"#N/A"},{"$error":"#N/A"},{"$error":"#N/A"},{"$error":"#N/A"},{"$error":"#N/A"},{"$error":"#N/A"},{"$error":"#N/A"},{"$error":"#N/A"},{"$error":"#N/A"},{"$error":"#N/A"},{"$error":"#N/A"}]
[{"$f":"données!W937","v":{"$error":"#N/A"}},{"$f":"données!X937","v":{"$error":"#N/A"}},{"$f":"données!Y937","v":{"$error":"#N/A"}},{"$f":"données!AH937","v":3},{"$error":"#N/A"},{"$error":"#N/A"},null,null,null,null,null,null,null,null,null,null,null,null,null,null,null,null,null,{"$error":"#N/A"},{"$error":"#N/A"},{"$error":"#N/A"},{"$error":"#N/A"},{"$error":"#N/A"},{"$error":"#N/A"},{"$error":"#N/A"},{"$error":"#N/A"},{"$error":"#N/A"},{"$error":"#N/A"},{"$error":"#N/A"},{"$error":"#N/A"},{"$error":"#N/A"},{"$error":"#N/A"}]
[{"$f":"données!W938","v":{"$error":"#N/A"}},{"$f":"données!X938","v":{"$error":"#N/A"}},{"$f":"données!Y938","v":{"$error":"#N/A"}},{"$f":"données!AH938","v":7},{"$error":"#N/A"},{"$error":"#N/A"},null,null,null,null,null,null,null,null,null,null,null,null,null,null,null,null,null,{"$error":"#N/A"},{"$error":"#N/A"},{"$error":"#N/A"},{"$error":"#N/A"},{"$error":"#N/A"},{"$error":"#N/A"},{"$error":"#N/A"},{"$error":"#N/A"},{"$error":"#N/A"},{"$error":"#N/A"},{"$error":"#N/A"},{"$error":"#N/A"},{"$error":"#N/A"},{"$error":"#N/A"}]
[{"$f":"données!W939","v":{"$error":"#N/A"}},{"$f":"données!X939","v":{"$error":"#N/A"}},{"$f":"données!Y939","v":{"$error":"#N/A"}},{"$f":"données!AH939","v":7},{"$error":"#N/A"},{"$error":"#N/A"},null,null,null,null,null,null,null,null,null,null,null,null,null,null,null,null,null,{"$error":"#N/A"},{"$error":"#N/A"},{"$error":"#N/A"},{"$error":"#N/A"},{"$error":"#N/A"},{"$error":"#N/A"},{"$error":"#N/A"},{"$error":"#N/A"},{"$error":"#N/A"},{"$error":"#N/A"},{"$error":"#N/A"},{"$error":"#N/A"},{"$error":"#N/A"},{"$error":"#N/A"}]
[{"$f":"données!W940","v":{"$error":"#N/A"}},{"$f":"données!X940","v":{"$error":"#N/A"}},{"$f":"données!Y940","v":{"$error":"#N/A"}},{"$f":"données!AH940","v":2},{"$error":"#N/A"},{"$error":"#N/A"},null,null,null,null,null,null,null,null,null,null,null,null,null,null,null,null,null,{"$error":"#N/A"},{"$error":"#N/A"},{"$error":"#N/A"},{"$error":"#N/A"},{"$error":"#N/A"},{"$error":"#N/A"},{"$error":"#N/A"},{"$error":"#N/A"},{"$error":"#N/A"},{"$error":"#N/A"},{"$error":"#N/A"},{"$error":"#N/A"},{"$error":"#N/A"},{"$error":"#N/A"}]
[{"$f":"données!W941","v":{"$error":"#N/A"}},{"$f":"données!X941","v":{"$error":"#N/A"}},{"$f":"données!Y941","v":{"$error":"#N/A"}},{"$f":"données!AH941","v":4},{"$error":"#N/A"},{"$error":"#N/A"},null,null,null,null,null,null,null,null,null,null,null,null,null,null,null,null,null,{"$error":"#N/A"},{"$error":"#N/A"},{"$error":"#N/A"},{"$error":"#N/A"},{"$error":"#N/A"},{"$error":"#N/A"},{"$error":"#N/A"},{"$error":"#N/A"},{"$error":"#N/A"},{"$error":"#N/A"},{"$error":"#N/A"},{"$error":"#N/A"},{"$error":"#N/A"},{"$error":"#N/A"}]
[{"$f":"données!W942","v":{"$error":"#N/A"}},{"$f":"données!X942","v":{"$error":"#N/A"}},{"$f":"données!Y942","v":{"$error":"#N/A"}},{"$f":"données!AH942","v":2},{"$error":"#N/A"},{"$error":"#N/A"},null,null,null,null,null,null,null,null,null,null,null,null,null,null,null,null,null,{"$error":"#N/A"},{"$error":"#N/A"},{"$error":"#N/A"},{"$error":"#N/A"},{"$error":"#N/A"},{"$error":"#N/A"},{"$error":"#N/A"},{"$error":"#N/A"},{"$error":"#N/A"},{"$error":"#N/A"},{"$error":"#N/A"},{"$error":"#N/A"},{"$error":"#N/A"},{"$error":"#N/A"}]
[{"$f":"données!W943","v":{"$error":"#N/A"}},{"$f":"données!X943","v":{"$error":"#N/A"}},{"$f":"données!Y943","v":{"$error":"#N/A"}},{"$f":"données!AH943","v":7},{"$error":"#N/A"},{"$error":"#N/A"},null,null,null,null,null,null,null,null,null,null,null,null,null,null,null,null,null,{"$error":"#N/A"},{"$error":"#N/A"},{"$error":"#N/A"},{"$error":"#N/A"},{"$error":"#N/A"},{"$error":"#N/A"},{"$error":"#N/A"},{"$error":"#N/A"},{"$error":"#N/A"},{"$error":"#N/A"},{"$error":"#N/A"},{"$error":"#N/A"},{"$error":"#N/A"},{"$error":"#N/A"}]
[{"$f":"données!W944","v":{"$error":"#N/A"}},{"$f":"données!X944","v":{"$error":"#N/A"}},{"$f":"données!Y944","v":{"$error":"#N/A"}},{"$f":"données!AH944","v":7},{"$error":"#N/A"},{"$error":"#N/A"},null,null,null,null,null,null,null,null,null,null,null,null,null,null,null,null,null,{"$error":"#N/A"},{"$error":"#N/A"},{"$error":"#N/A"},{"$error":"#N/A"},{"$error":"#N/A"},{"$error":"#N/A"},{"$error":"#N/A"},{"$error":"#N/A"},{"$error":"#N/A"},{"$error":"#N/A"},{"$error":"#N/A"},{"$error":"#N/A"},{"$error":"#N/A"},{"$error":"#N/A"}]
[{"$f":"données!W945","v":{"$error":"#N/A"}},{"$f":"données!X945","v":{"$error":"#N/A"}},{"$f":"données!Y945","v":{"$error":"#N/A"}},{"$f":"données!AH945","v":2},{"$error":"#N/A"},{"$error":"#N/A"},null,null,null,null,null,null,null,null,null,null,null,null,null,null,null,null,null,{"$error":"#N/A"},{"$error":"#N/A"},{"$error":"#N/A"},{"$error":"#N/A"},{"$error":"#N/A"},{"$error":"#N/A"},{"$error":"#N/A"},{"$error":"#N/A"},{"$error":"#N/A"},{"$error":"#N/A"},{"$error":"#N/A"},{"$error":"#N/A"},{"$error":"#N/A"},{"$error":"#N/A"}]
[{"$f":"données!W946","v":{"$error":"#N/A"}},{"$f":"données!X946","v":{"$error":"#N/A"}},{"$f":"données!Y946","v":{"$error":"#N/A"}},{"$f":"données!AH946","v":3},{"$error":"#N/A"},{"$error":"#N/A"},null,null,null,null,null,null,null,null,null,null,null,null,null,null,null,null,null,{"$error":"#N/A"},{"$error":"#N/A"},{"$error":"#N/A"},{"$error":"#N/A"},{"$error":"#N/A"},{"$error":"#N/A"},{"$error":"#N/A"},{"$error":"#N/A"},{"$error":"#N/A"},{"$error":"#N/A"},{"$error":"#N/A"},{"$error":"#N/A"},{"$error":"#N/A"},{"$error":"#N/A"}]
[{"$f":"données!W947","v":{"$error":"#N/A"}},{"$f":"données!X947","v":{"$error":"#N/A"}},{"$f":"données!Y947","v":{"$error":"#N/A"}},{"$f":"données!AH947","v":3},{"$error":"#N/A"},{"$error":"#N/A"},null,null,null,null,null,null,null,null,null,null,null,null,null,null,null,null,null,{"$error":"#N/A"},{"$error":"#N/A"},{"$error":"#N/A"},{"$error":"#N/A"},{"$error":"#N/A"},{"$error":"#N/A"},{"$error":"#N/A"},{"$error":"#N/A"},{"$error":"#N/A"},{"$error":"#N/A"},{"$error":"#N/A"},{"$error":"#N/A"},{"$error":"#N/A"},{"$error":"#N/A"}]
[{"$f":"données!W948","v":{"$error":"#N/A"}},{"$f":"données!X948","v":{"$error":"#N/A"}},{"$f":"données!Y948","v":{"$error":"#N/A"}},{"$f":"données!AH948","v":5},{"$error":"#N/A"},{"$error":"#N/A"},null,null,null,null,null,null,null,null,null,null,null,null,null,null,null,null,null,{"$error":"#N/A"},{"$error":"#N/A"},{"$error":"#N/A"},{"$error":"#N/A"},{"$error":"#N/A"},{"$error":"#N/A"},{"$error":"#N/A"},{"$error":"#N/A"},{"$error":"#N/A"},{"$error":"#N/A"},{"$error":"#N/A"},{"$error":"#N/A"},{"$error":"#N/A"},{"$error":"#N/A"}]
[{"$f":"données!W949","v":{"$error":"#N/A"}},{"$f":"données!X949","v":{"$error":"#N/A"}},{"$f":"données!Y949","v":{"$error":"#N/A"}},{"$f":"données!AH949","v":7},{"$error":"#N/A"},{"$error":"#N/A"},null,null,null,null,null,null,null,null,null,null,null,null,null,null,null,null,null,{"$error":"#N/A"},{"$error":"#N/A"},{"$error":"#N/A"},{"$error":"#N/A"},{"$error":"#N/A"},{"$error":"#N/A"},{"$error":"#N/A"},{"$error":"#N/A"},{"$error":"#N/A"},{"$error":"#N/A"},{"$error":"#N/A"},{"$error":"#N/A"},{"$error":"#N/A"},{"$error":"#N/A"}]
[{"$f":"données!W950","v":{"$error":"#N/A"}},{"$f":"données!X950","v":{"$error":"#N/A"}},{"$f":"données!Y950","v":{"$error":"#N/A"}},{"$f":"données!AH950","v":4},{"$error":"#N/A"},{"$error":"#N/A"},null,null,null,null,null,null,null,null,null,null,null,null,null,null,null,null,null,{"$error":"#N/A"},{"$error":"#N/A"},{"$error":"#N/A"},{"$error":"#N/A"},{"$error":"#N/A"},{"$error":"#N/A"},{"$error":"#N/A"},{"$error":"#N/A"},{"$error":"#N/A"},{"$error":"#N/A"},{"$error":"#N/A"},{"$error":"#N/A"},{"$error":"#N/A"},{"$error":"#N/A"}]
[{"$f":"données!W951","v":{"$error":"#N/A"}},{"$f":"données!X951","v":{"$error":"#N/A"}},{"$f":"données!Y951","v":{"$error":"#N/A"}},{"$f":"données!AH951","v":3},{"$error":"#N/A"},{"$error":"#N/A"},null,null,null,null,null,null,null,null,null,null,null,null,null,null,null,null,null,{"$error":"#N/A"},{"$error":"#N/A"},{"$error":"#N/A"},{"$error":"#N/A"},{"$error":"#N/A"},{"$error":"#N/A"},{"$error":"#N/A"},{"$error":"#N/A"},{"$error":"#N/A"},{"$error":"#N/A"},{"$error":"#N/A"},{"$error":"#N/A"},{"$error":"#N/A"},{"$error":"#N/A"}]
[{"$f":"données!W952","v":{"$error":"#N/A"}},{"$f":"données!X952","v":{"$error":"#N/A"}},{"$f":"données!Y952","v":{"$error":"#N/A"}},{"$f":"données!AH952","v":5},{"$error":"#N/A"},{"$error":"#N/A"},null,null,null,null,null,null,null,null,null,null,null,null,null,null,null,null,null,{"$error":"#N/A"},{"$error":"#N/A"},{"$error":"#N/A"},{"$error":"#N/A"},{"$error":"#N/A"},{"$error":"#N/A"},{"$error":"#N/A"},{"$error":"#N/A"},{"$error":"#N/A"},{"$error":"#N/A"},{"$error":"#N/A"},{"$error":"#N/A"},{"$error":"#N/A"},{"$error":"#N/A"}]
[{"$f":"données!W953","v":{"$error":"#N/A"}},{"$f":"données!X953","v":{"$error":"#N/A"}},{"$f":"données!Y953","v":{"$error":"#N/A"}},{"$f":"données!AH953","v":7},{"$error":"#N/A"},{"$error":"#N/A"},null,null,null,null,null,null,null,null,null,null,null,null,null,null,null,null,null,{"$error":"#N/A"},{"$error":"#N/A"},{"$error":"#N/A"},{"$error":"#N/A"},{"$error":"#N/A"},{"$error":"#N/A"},{"$error":"#N/A"},{"$error":"#N/A"},{"$error":"#N/A"},{"$error":"#N/A"},{"$error":"#N/A"},{"$error":"#N/A"},{"$error":"#N/A"},{"$error":"#N/A"}]
[{"$f":"données!W954","v":{"$error":"#N/A"}},{"$f":"données!X954","v":{"$error":"#N/A"}},{"$f":"données!Y954","v":{"$error":"#N/A"}},{"$f":"données!AH954","v":3},{"$error":"#N/A"},{"$error":"#N/A"},null,null,null,null,null,null,null,null,null,null,null,null,null,null,null,null,null,{"$f":"IF($D952=X$1,$E952,#N/A)","v":{"$error":"#N/A"}},{"$f":"IF($D952=Y$1,$F952,#N/A)","v":{"$error":"#N/A"}},{"$error":"#N/A"},{"$error":"#N/A"},{"$error":"#N/A"},{"$error":"#N/A"},{"$error":"#N/A"},{"$error":"#N/A"},{"$error":"#N/A"},{"$error":"#N/A"},{"$error":"#N/A"},{"$error":"#N/A"},{"$error":"#N/A"},{"$error":"#N/A"}]
[{"$f":"données!W955","v":{"$error":"#N/A"}},{"$f":"données!X955","v":{"$error":"#N/A"}},{"$f":"données!Y955","v":{"$error":"#N/A"}},{"$f":"données!AH955","v":1},{"$error":"#N/A"},{"$error":"#N/A"},null,null,null,null,null,null,null,null,null,null,null,null,null,null,null,null,null,{"$error":"#N/A"},{"$error":"#N/A"},{"$error":"#N/A"},{"$error":"#N/A"},{"$error":"#N/A"},{"$error":"#N/A"},{"$error":"#N/A"},{"$error":"#N/A"},{"$error":"#N/A"},{"$error":"#N/A"},{"$error":"#N/A"},{"$error":"#N/A"},{"$error":"#N/A"},{"$error":"#N/A"}]
[{"$f":"données!W956","v":{"$error":"#N/A"}},{"$f":"données!X956","v":{"$error":"#N/A"}},{"$f":"données!Y956","v":{"$error":"#N/A"}},{"$f":"données!AH956","v":4},{"$error":"#N/A"},{"$error":"#N/A"},null,null,null,null,null,null,null,null,null,null,null,null,null,null,null,null,null,{"$error":"#N/A"},{"$error":"#N/A"},{"$error":"#N/A"},{"$error":"#N/A"},{"$error":"#N/A"},{"$error":"#N/A"},{"$error":"#N/A"},{"$error":"#N/A"},{"$error":"#N/A"},{"$error":"#N/A"},{"$error":"#N/A"},{"$error":"#N/A"},{"$error":"#N/A"},{"$error":"#N/A"}]
[{"$f":"données!W957","v":{"$error":"#N/A"}},{"$f":"données!X957","v":{"$error":"#N/A"}},{"$f":"données!Y957","v":{"$error":"#N/A"}},{"$f":"données!AH957","v":6},{"$error":"#N/A"},{"$error":"#N/A"},null,null,null,null,null,null,null,null,null,null,null,null,null,null,null,null,null,{"$error":"#N/A"},{"$error":"#N/A"},{"$error":"#N/A"},{"$error":"#N/A"},{"$error":"#N/A"},{"$error":"#N/A"},{"$error":"#N/A"},{"$error":"#N/A"},{"$error":"#N/A"},{"$error":"#N/A"},{"$error":"#N/A"},{"$error":"#N/A"},{"$error":"#N/A"},{"$error":"#N/A"}]
[{"$f":"données!W958","v":{"$error":"#N/A"}},{"$f":"données!X958","v":{"$error":"#N/A"}},{"$f":"données!Y958","v":{"$error":"#N/A"}},{"$f":"données!AH958","v":2},{"$error":"#N/A"},{"$error":"#N/A"},null,null,null,null,null,null,null,null,null,null,null,null,null,null,null,null,null,{"$error":"#N/A"},{"$error":"#N/A"},{"$error":"#N/A"},{"$error":"#N/A"},{"$error":"#N/A"},{"$error":"#N/A"},{"$error":"#N/A"},{"$error":"#N/A"},{"$error":"#N/A"},{"$error":"#N/A"},{"$error":"#N/A"},{"$error":"#N/A"},{"$error":"#N/A"},{"$error":"#N/A"}]
[{"$f":"données!W959","v":{"$error":"#N/A"}},{"$f":"données!X959","v":{"$error":"#N/A"}},{"$f":"données!Y959","v":{"$error":"#N/A"}},{"$f":"données!AH959","v":7},{"$error":"#N/A"},{"$error":"#N/A"},null,null,null,null,null,null,null,null,null,null,null,null,null,null,null,null,null,{"$error":"#N/A"},{"$error":"#N/A"},{"$error":"#N/A"},{"$error":"#N/A"},{"$error":"#N/A"},{"$error":"#N/A"},{"$error":"#N/A"},{"$error":"#N/A"},{"$error":"#N/A"},{"$error":"#N/A"},{"$error":"#N/A"},{"$error":"#N/A"},{"$error":"#N/A"},{"$error":"#N/A"}]
[{"$f":"données!W960","v":{"$error":"#N/A"}},{"$f":"données!X960","v":{"$error":"#N/A"}},{"$f":"données!Y960","v":{"$error":"#N/A"}},{"$f":"données!AH960","v":5},{"$error":"#N/A"},{"$error":"#N/A"},null,null,null,null,null,null,null,null,null,null,null,null,null,null,null,null,null,{"$error":"#N/A"},{"$error":"#N/A"},{"$error":"#N/A"},{"$error":"#N/A"},{"$error":"#N/A"},{"$error":"#N/A"},{"$error":"#N/A"},{"$error":"#N/A"},{"$error":"#N/A"},{"$error":"#N/A"},{"$error":"#N/A"},{"$error":"#N/A"},{"$error":"#N/A"},{"$error":"#N/A"}]
[{"$f":"données!W961","v":{"$error":"#N/A"}},{"$f":"données!X961","v":{"$error":"#N/A"}},{"$f":"données!Y961","v":{"$error":"#N/A"}},{"$f":"données!AH961","v":2},{"$error":"#N/A"},{"$error":"#N/A"},null,null,null,null,null,null,null,null,null,null,null,null,null,null,null,null,null,{"$error":"#N/A"},{"$error":"#N/A"},{"$error":"#N/A"},{"$error":"#N/A"},{"$error":"#N/A"},{"$error":"#N/A"},{"$error":"#N/A"},{"$error":"#N/A"},{"$error":"#N/A"},{"$error":"#N/A"},{"$error":"#N/A"},{"$error":"#N/A"},{"$error":"#N/A"},{"$error":"#N/A"}]
[{"$f":"données!W962","v":{"$error":"#N/A"}},{"$f":"données!X962","v":{"$error":"#N/A"}},{"$f":"données!Y962","v":{"$error":"#N/A"}},{"$f":"données!AH962","v":2},{"$error":"#N/A"},{"$error":"#N/A"},null,null,null,null,null,null,null,null,null,null,null,null,null,null,null,null,null,{"$error":"#N/A"},{"$error":"#N/A"},{"$error":"#N/A"},{"$error":"#N/A"},{"$error":"#N/A"},{"$error":"#N/A"},{"$error":"#N/A"},{"$error":"#N/A"},{"$error":"#N/A"},{"$error":"#N/A"},{"$error":"#N/A"},{"$error":"#N/A"},{"$error":"#N/A"},{"$error":"#N/A"}]
[{"$f":"données!W963","v":{"$error":"#N/A"}},{"$f":"données!X963","v":{"$error":"#N/A"}},{"$f":"données!Y963","v":{"$error":"#N/A"}},{"$f":"données!AH963","v":5},{"$error":"#N/A"},{"$error":"#N/A"},null,null,null,null,null,null,null,null,null,null,null,null,null,null,null,null,null,{"$error":"#N/A"},{"$error":"#N/A"},{"$error":"#N/A"},{"$error":"#N/A"},{"$error":"#N/A"},{"$error":"#N/A"},{"$error":"#N/A"},{"$error":"#N/A"},{"$error":"#N/A"},{"$error":"#N/A"},{"$error":"#N/A"},{"$error":"#N/A"},{"$error":"#N/A"},{"$error":"#N/A"}]
[{"$f":"données!W964","v":{"$error":"#N/A"}},{"$f":"données!X964","v":{"$error":"#N/A"}},{"$f":"données!Y964","v":{"$error":"#N/A"}},{"$f":"données!AH964","v":1},{"$f":"A962+B962*$I$2","v":{"$error":"#N/A"}},{"$f":"C962+B962*$I$3","v":{"$error":"#N/A"}},null,null,null,null,null,null,null,null,null,null,null,null,null,null,null,null,null,{"$error":"#N/A"},{"$error":"#N/A"},{"$f":"IF($D962=Z$1,$E962,#N/A)","v":{"$error":"#N/A"}},{"$f":"IF($D962=AA$1,$F962,#N/A)","v":{"$error":"#N/A"}},{"$f":"IF($D962=AB$1,$E962,#N/A)","v":{"$error":"#N/A"}},{"$f":"IF($D962=AC$1,$F962,#N/A)","v":{"$error":"#N/A"}},{"$f":"IF($D962=AD$1,$E962,#N/A)","v":{"$error":"#N/A"}},{"$f":"IF($D962=AE$1,$F962,#N/A)","v":{"$error":"#N/A"}},{"$f":"IF($D962=AF$1,$E962,#N/A)","v":{"$error":"#N/A"}},{"$f":"IF($D962=AG$1,$F962,#N/A)","v":{"$error":"#N/A"}},{"$f":"IF($D962=AH$1,$E962,#N/A)","v":{"$error":"#N/A"}},{"$f":"IF($D962=AI$1,$F962,#N/A)","v":{"$error":"#N/A"}},{"$f":"IF($D962=AJ$1,$E962,#N/A)","v":{"$error":"#N/A"}},{"$f":"IF($D962=AK$1,$F962,#N/A)","v":{"$error":"#N/A"}}]
[{"$f":"données!W965","v":{"$error":"#N/A"}},{"$f":"données!X965","v":{"$error":"#N/A"}},{"$f":"données!Y965","v":{"$error":"#N/A"}},{"$f":"données!AH965","v":6},{"$error":"#N/A"},{"$error":"#N/A"},null,null,null,null,null,null,null,null,null,null,null,null,null,null,null,null,null,{"$error":"#N/A"},{"$error":"#N/A"},{"$error":"#N/A"},{"$error":"#N/A"},{"$error":"#N/A"},{"$error":"#N/A"},{"$error":"#N/A"},{"$error":"#N/A"},{"$error":"#N/A"},{"$error":"#N/A"},{"$error":"#N/A"},{"$error":"#N/A"},{"$error":"#N/A"},{"$error":"#N/A"}]
[{"$f":"données!W966","v":{"$error":"#N/A"}},{"$f":"données!X966","v":{"$error":"#N/A"}},{"$f":"données!Y966","v":{"$error":"#N/A"}},{"$f":"données!AH966","v":6},{"$error":"#N/A"},{"$error":"#N/A"},null,null,null,null,null,null,null,null,null,null,null,null,null,null,null,null,null,{"$error":"#N/A"},{"$error":"#N/A"},{"$error":"#N/A"},{"$error":"#N/A"},{"$error":"#N/A"},{"$error":"#N/A"},{"$error":"#N/A"},{"$error":"#N/A"},{"$error":"#N/A"},{"$error":"#N/A"},{"$error":"#N/A"},{"$error":"#N/A"},{"$error":"#N/A"},{"$error":"#N/A"}]
[{"$f":"données!W967","v":{"$error":"#N/A"}},{"$f":"données!X967","v":{"$error":"#N/A"}},{"$f":"données!Y967","v":{"$error":"#N/A"}},{"$f":"données!AH967","v":5},{"$error":"#N/A"},{"$error":"#N/A"},null,null,null,null,null,null,null,null,null,null,null,null,null,null,null,null,null,{"$error":"#N/A"},{"$error":"#N/A"},{"$error":"#N/A"},{"$error":"#N/A"},{"$error":"#N/A"},{"$error":"#N/A"},{"$error":"#N/A"},{"$error":"#N/A"},{"$error":"#N/A"},{"$error":"#N/A"},{"$error":"#N/A"},{"$error":"#N/A"},{"$error":"#N/A"},{"$error":"#N/A"}]
[{"$f":"données!W968","v":{"$error":"#N/A"}},{"$f":"données!X968","v":{"$error":"#N/A"}},{"$f":"données!Y968","v":{"$error":"#N/A"}},{"$f":"données!AH968","v":7},{"$error":"#N/A"},{"$error":"#N/A"},null,null,null,null,null,null,null,null,null,null,null,null,null,null,null,null,null,{"$error":"#N/A"},{"$error":"#N/A"},{"$error":"#N/A"},{"$error":"#N/A"},{"$error":"#N/A"},{"$error":"#N/A"},{"$error":"#N/A"},{"$error":"#N/A"},{"$error":"#N/A"},{"$error":"#N/A"},{"$error":"#N/A"},{"$error":"#N/A"},{"$error":"#N/A"},{"$error":"#N/A"}]
[{"$f":"données!W969","v":{"$error":"#N/A"}},{"$f":"données!X969","v":{"$error":"#N/A"}},{"$f":"données!Y969","v":{"$error":"#N/A"}},{"$f":"données!AH969","v":1},{"$error":"#N/A"},{"$error":"#N/A"},null,null,null,null,null,null,null,null,null,null,null,null,null,null,null,null,null,{"$error":"#N/A"},{"$error":"#N/A"},{"$error":"#N/A"},{"$error":"#N/A"},{"$error":"#N/A"},{"$error":"#N/A"},{"$error":"#N/A"},{"$error":"#N/A"},{"$error":"#N/A"},{"$error":"#N/A"},{"$error":"#N/A"},{"$error":"#N/A"},{"$error":"#N/A"},{"$error":"#N/A"}]
[{"$f":"données!W970","v":{"$error":"#N/A"}},{"$f":"données!X970","v":{"$error":"#N/A"}},{"$f":"données!Y970","v":{"$error":"#N/A"}},{"$f":"données!AH970","v":3},{"$error":"#N/A"},{"$error":"#N/A"},null,null,null,null,null,null,null,null,null,null,null,null,null,null,null,null,null,{"$error":"#N/A"},{"$error":"#N/A"},{"$error":"#N/A"},{"$error":"#N/A"},{"$error":"#N/A"},{"$error":"#N/A"},{"$error":"#N/A"},{"$error":"#N/A"},{"$error":"#N/A"},{"$error":"#N/A"},{"$error":"#N/A"},{"$error":"#N/A"},{"$error":"#N/A"},{"$error":"#N/A"}]
[{"$f":"données!W971","v":{"$error":"#N/A"}},{"$f":"données!X971","v":{"$error":"#N/A"}},{"$f":"données!Y971","v":{"$error":"#N/A"}},{"$f":"données!AH971","v":3},{"$error":"#N/A"},{"$error":"#N/A"},null,null,null,null,null,null,null,null,null,null,null,null,null,null,null,null,null,{"$error":"#N/A"},{"$error":"#N/A"},{"$error":"#N/A"},{"$error":"#N/A"},{"$error":"#N/A"},{"$error":"#N/A"},{"$error":"#N/A"},{"$error":"#N/A"},{"$error":"#N/A"},{"$error":"#N/A"},{"$error":"#N/A"},{"$error":"#N/A"},{"$error":"#N/A"},{"$error":"#N/A"}]
[{"$f":"données!W972","v":{"$error":"#N/A"}},{"$f":"données!X972","v":{"$error":"#N/A"}},{"$f":"données!Y972","v":{"$error":"#N/A"}},{"$f":"données!AH972","v":5},{"$error":"#N/A"},{"$error":"#N/A"},null,null,null,null,null,null,null,null,null,null,null,null,null,null,null,null,null,{"$error":"#N/A"},{"$error":"#N/A"},{"$error":"#N/A"},{"$error":"#N/A"},{"$error":"#N/A"},{"$error":"#N/A"},{"$error":"#N/A"},{"$error":"#N/A"},{"$error":"#N/A"},{"$error":"#N/A"},{"$error":"#N/A"},{"$error":"#N/A"},{"$error":"#N/A"},{"$error":"#N/A"}]
[{"$f":"données!W973","v":{"$error":"#N/A"}},{"$f":"données!X973","v":{"$error":"#N/A"}},{"$f":"données!Y973","v":{"$error":"#N/A"}},{"$f":"données!AH973","v":6},{"$error":"#N/A"},{"$error":"#N/A"},null,null,null,null,null,null,null,null,null,null,null,null,null,null,null,null,null,{"$error":"#N/A"},{"$error":"#N/A"},{"$error":"#N/A"},{"$error":"#N/A"},{"$error":"#N/A"},{"$error":"#N/A"},{"$error":"#N/A"},{"$error":"#N/A"},{"$error":"#N/A"},{"$error":"#N/A"},{"$error":"#N/A"},{"$error":"#N/A"},{"$error":"#N/A"},{"$error":"#N/A"}]
[{"$f":"données!W974","v":{"$error":"#N/A"}},{"$f":"données!X974","v":{"$error":"#N/A"}},{"$f":"données!Y974","v":{"$error":"#N/A"}},{"$f":"données!AH974","v":4},{"$error":"#N/A"},{"$error":"#N/A"},null,null,null,null,null,null,null,null,null,null,null,null,null,null,null,null,null,{"$error":"#N/A"},{"$error":"#N/A"},{"$error":"#N/A"},{"$error":"#N/A"},{"$error":"#N/A"},{"$error":"#N/A"},{"$error":"#N/A"},{"$error":"#N/A"},{"$error":"#N/A"},{"$error":"#N/A"},{"$error":"#N/A"},{"$error":"#N/A"},{"$error":"#N/A"},{"$error":"#N/A"}]
[{"$f":"données!W975","v":{"$error":"#N/A"}},{"$f":"données!X975","v":{"$error":"#N/A"}},{"$f":"données!Y975","v":{"$error":"#N/A"}},{"$f":"données!AH975","v":5},{"$error":"#N/A"},{"$error":"#N/A"},null,null,null,null,null,null,null,null,null,null,null,null,null,null,null,null,null,{"$error":"#N/A"},{"$error":"#N/A"},{"$error":"#N/A"},{"$error":"#N/A"},{"$error":"#N/A"},{"$error":"#N/A"},{"$error":"#N/A"},{"$error":"#N/A"},{"$error":"#N/A"},{"$error":"#N/A"},{"$error":"#N/A"},{"$error":"#N/A"},{"$error":"#N/A"},{"$error":"#N/A"}]
[{"$f":"données!W976","v":{"$error":"#N/A"}},{"$f":"données!X976","v":{"$error":"#N/A"}},{"$f":"données!Y976","v":{"$error":"#N/A"}},{"$f":"données!AH976","v":6},{"$error":"#N/A"},{"$error":"#N/A"},null,null,null,null,null,null,null,null,null,null,null,null,null,null,null,null,null,{"$error":"#N/A"},{"$error":"#N/A"},{"$error":"#N/A"},{"$error":"#N/A"},{"$error":"#N/A"},{"$error":"#N/A"},{"$error":"#N/A"},{"$error":"#N/A"},{"$error":"#N/A"},{"$error":"#N/A"},{"$error":"#N/A"},{"$error":"#N/A"},{"$error":"#N/A"},{"$error":"#N/A"}]
[{"$f":"données!W977","v":{"$error":"#N/A"}},{"$f":"données!X977","v":{"$error":"#N/A"}},{"$f":"données!Y977","v":{"$error":"#N/A"}},{"$f":"données!AH977","v":4},{"$error":"#N/A"},{"$error":"#N/A"},null,null,null,null,null,null,null,null,null,null,null,null,null,null,null,null,null,{"$error":"#N/A"},{"$error":"#N/A"},{"$error":"#N/A"},{"$error":"#N/A"},{"$error":"#N/A"},{"$error":"#N/A"},{"$error":"#N/A"},{"$error":"#N/A"},{"$error":"#N/A"},{"$error":"#N/A"},{"$error":"#N/A"},{"$error":"#N/A"},{"$error":"#N/A"},{"$error":"#N/A"}]
[{"$f":"données!W978","v":{"$error":"#N/A"}},{"$f":"données!X978","v":{"$error":"#N/A"}},{"$f":"données!Y978","v":{"$error":"#N/A"}},{"$f":"données!AH978","v":3},{"$error":"#N/A"},{"$error":"#N/A"},null,null,null,null,null,null,null,null,null,null,null,null,null,null,null,null,null,{"$error":"#N/A"},{"$error":"#N/A"},{"$error":"#N/A"},{"$error":"#N/A"},{"$error":"#N/A"},{"$error":"#N/A"},{"$error":"#N/A"},{"$error":"#N/A"},{"$error":"#N/A"},{"$error":"#N/A"},{"$error":"#N/A"},{"$error":"#N/A"},{"$error":"#N/A"},{"$error":"#N/A"}]
[{"$f":"données!W979","v":{"$error":"#N/A"}},{"$f":"données!X979","v":{"$error":"#N/A"}},{"$f":"données!Y979","v":{"$error":"#N/A"}},{"$f":"données!AH979","v":2},{"$error":"#N/A"},{"$error":"#N/A"},null,null,null,null,null,null,null,null,null,null,null,null,null,null,null,null,null,{"$error":"#N/A"},{"$error":"#N/A"},{"$error":"#N/A"},{"$error":"#N/A"},{"$error":"#N/A"},{"$error":"#N/A"},{"$error":"#N/A"},{"$error":"#N/A"},{"$error":"#N/A"},{"$error":"#N/A"},{"$error":"#N/A"},{"$error":"#N/A"},{"$error":"#N/A"},{"$error":"#N/A"}]
[{"$f":"données!W980","v":{"$error":"#N/A"}},{"$f":"données!X980","v":{"$error":"#N/A"}},{"$f":"données!Y980","v":{"$error":"#N/A"}},{"$f":"données!AH980","v":1},{"$error":"#N/A"},{"$error":"#N/A"},null,null,null,null,null,null,null,null,null,null,null,null,null,null,null,null,null,{"$error":"#N/A"},{"$error":"#N/A"},{"$error":"#N/A"},{"$error":"#N/A"},{"$error":"#N/A"},{"$error":"#N/A"},{"$error":"#N/A"},{"$error":"#N/A"},{"$error":"#N/A"},{"$error":"#N/A"},{"$error":"#N/A"},{"$error":"#N/A"},{"$error":"#N/A"},{"$error":"#N/A"}]
[{"$f":"données!W981","v":{"$error":"#N/A"}},{"$f":"données!X981","v":{"$error":"#N/A"}},{"$f":"données!Y981","v":{"$error":"#N/A"}},{"$f":"données!AH981","v":7},{"$error":"#N/A"},{"$error":"#N/A"},null,null,null,null,null,null,null,null,null,null,null,null,null,null,null,null,null,{"$error":"#N/A"},{"$error":"#N/A"},{"$error":"#N/A"},{"$error":"#N/A"},{"$error":"#N/A"},{"$error":"#N/A"},{"$error":"#N/A"},{"$error":"#N/A"},{"$error":"#N/A"},{"$error":"#N/A"},{"$error":"#N/A"},{"$error":"#N/A"},{"$error":"#N/A"},{"$error":"#N/A"}]
[{"$f":"données!W982","v":{"$error":"#N/A"}},{"$f":"données!X982","v":{"$error":"#N/A"}},{"$f":"données!Y982","v":{"$error":"#N/A"}},{"$f":"données!AH982","v":1},{"$error":"#N/A"},{"$error":"#N/A"},null,null,null,null,null,null,null,null,null,null,null,null,null,null,null,null,null,{"$error":"#N/A"},{"$error":"#N/A"},{"$error":"#N/A"},{"$error":"#N/A"},{"$error":"#N/A"},{"$error":"#N/A"},{"$error":"#N/A"},{"$error":"#N/A"},{"$error":"#N/A"},{"$error":"#N/A"},{"$error":"#N/A"},{"$error":"#N/A"},{"$error":"#N/A"},{"$error":"#N/A"}]
[{"$f":"données!W983","v":{"$error":"#N/A"}},{"$f":"données!X983","v":{"$error":"#N/A"}},{"$f":"données!Y983","v":{"$error":"#N/A"}},{"$f":"données!AH983","v":6},{"$error":"#N/A"},{"$error":"#N/A"},null,null,null,null,null,null,null,null,null,null,null,null,null,null,null,null,null,{"$error":"#N/A"},{"$error":"#N/A"},{"$error":"#N/A"},{"$error":"#N/A"},{"$error":"#N/A"},{"$error":"#N/A"},{"$error":"#N/A"},{"$error":"#N/A"},{"$error":"#N/A"},{"$error":"#N/A"},{"$error":"#N/A"},{"$error":"#N/A"},{"$error":"#N/A"},{"$error":"#N/A"}]
[{"$f":"données!W984","v":{"$error":"#N/A"}},{"$f":"données!X984","v":{"$error":"#N/A"}},{"$f":"données!Y984","v":{"$error":"#N/A"}},{"$f":"données!AH984","v":2},{"$error":"#N/A"},{"$error":"#N/A"},null,null,null,null,null,null,null,null,null,null,null,null,null,null,null,null,null,{"$error":"#N/A"},{"$error":"#N/A"},{"$error":"#N/A"},{"$error":"#N/A"},{"$error":"#N/A"},{"$error":"#N/A"},{"$error":"#N/A"},{"$error":"#N/A"},{"$error":"#N/A"},{"$error":"#N/A"},{"$error":"#N/A"},{"$error":"#N/A"},{"$error":"#N/A"},{"$error":"#N/A"}]
[{"$f":"données!W985","v":{"$error":"#N/A"}},{"$f":"données!X985","v":{"$error":"#N/A"}},{"$f":"données!Y985","v":{"$error":"#N/A"}},{"$f":"données!AH985","v":5},{"$error":"#N/A"},{"$error":"#N/A"},null,null,null,null,null,null,null,null,null,null,null,null,null,null,null,null,null,{"$error":"#N/A"},{"$error":"#N/A"},{"$error":"#N/A"},{"$error":"#N/A"},{"$error":"#N/A"},{"$error":"#N/A"},{"$error":"#N/A"},{"$error":"#N/A"},{"$error":"#N/A"},{"$error":"#N/A"},{"$error":"#N/A"},{"$error":"#N/A"},{"$error":"#N/A"},{"$error":"#N/A"}]
[{"$f":"données!W986","v":{"$error":"#N/A"}},{"$f":"données!X986","v":{"$error":"#N/A"}},{"$f":"données!Y986","v":{"$error":"#N/A"}},{"$f":"données!AH986","v":5},{"$error":"#N/A"},{"$error":"#N/A"},null,null,null,null,null,null,null,null,null,null,null,null,null,null,null,null,null,{"$error":"#N/A"},{"$error":"#N/A"},{"$error":"#N/A"},{"$error":"#N/A"},{"$error":"#N/A"},{"$error":"#N/A"},{"$error":"#N/A"},{"$error":"#N/A"},{"$error":"#N/A"},{"$error":"#N/A"},{"$error":"#N/A"},{"$error":"#N/A"},{"$error":"#N/A"},{"$error":"#N/A"}]
[{"$f":"données!W987","v":{"$error":"#N/A"}},{"$f":"données!X987","v":{"$error":"#N/A"}},{"$f":"données!Y987","v":{"$error":"#N/A"}},{"$f":"données!AH987","v":3},{"$error":"#N/A"},{"$error":"#N/A"},null,null,null,null,null,null,null,null,null,null,null,null,null,null,null,null,null,{"$error":"#N/A"},{"$error":"#N/A"},{"$error":"#N/A"},{"$error":"#N/A"},{"$error":"#N/A"},{"$error":"#N/A"},{"$error":"#N/A"},{"$error":"#N/A"},{"$error":"#N/A"},{"$error":"#N/A"},{"$error":"#N/A"},{"$error":"#N/A"},{"$error":"#N/A"},{"$error":"#N/A"}]
[{"$f":"données!W988","v":{"$error":"#N/A"}},{"$f":"données!X988","v":{"$error":"#N/A"}},{"$f":"données!Y988","v":{"$error":"#N/A"}},{"$f":"données!AH988","v":1},{"$error":"#N/A"},{"$error":"#N/A"},null,null,null,null,null,null,null,null,null,null,null,null,null,null,null,null,null,{"$error":"#N/A"},{"$error":"#N/A"},{"$error":"#N/A"},{"$error":"#N/A"},{"$error":"#N/A"},{"$error":"#N/A"},{"$error":"#N/A"},{"$error":"#N/A"},{"$error":"#N/A"},{"$error":"#N/A"},{"$error":"#N/A"},{"$error":"#N/A"},{"$error":"#N/A"},{"$error":"#N/A"}]
[{"$f":"données!W989","v":{"$error":"#N/A"}},{"$f":"données!X989","v":{"$error":"#N/A"}},{"$f":"données!Y989","v":{"$error":"#N/A"}},{"$f":"données!AH989","v":1},{"$error":"#N/A"},{"$error":"#N/A"},null,null,null,null,null,null,null,null,null,null,null,null,null,null,null,null,null,{"$error":"#N/A"},{"$error":"#N/A"},{"$error":"#N/A"},{"$error":"#N/A"},{"$error":"#N/A"},{"$error":"#N/A"},{"$error":"#N/A"},{"$error":"#N/A"},{"$error":"#N/A"},{"$error":"#N/A"},{"$error":"#N/A"},{"$error":"#N/A"},{"$error":"#N/A"},{"$error":"#N/A"}]
[{"$f":"données!W990","v":{"$error":"#N/A"}},{"$f":"données!X990","v":{"$error":"#N/A"}},{"$f":"données!Y990","v":{"$error":"#N/A"}},{"$f":"données!AH990","v":5},{"$error":"#N/A"},{"$error":"#N/A"},null,null,null,null,null,null,null,null,null,null,null,null,null,null,null,null,null,{"$error":"#N/A"},{"$error":"#N/A"},{"$error":"#N/A"},{"$error":"#N/A"},{"$error":"#N/A"},{"$error":"#N/A"},{"$error":"#N/A"},{"$error":"#N/A"},{"$error":"#N/A"},{"$error":"#N/A"},{"$error":"#N/A"},{"$error":"#N/A"},{"$error":"#N/A"},{"$error":"#N/A"}]
[{"$f":"données!W991","v":{"$error":"#N/A"}},{"$f":"données!X991","v":{"$error":"#N/A"}},{"$f":"données!Y991","v":{"$error":"#N/A"}},{"$f":"données!AH991","v":1},{"$error":"#N/A"},{"$error":"#N/A"},null,null,null,null,null,null,null,null,null,null,null,null,null,null,null,null,null,{"$error":"#N/A"},{"$error":"#N/A"},{"$error":"#N/A"},{"$error":"#N/A"},{"$error":"#N/A"},{"$error":"#N/A"},{"$error":"#N/A"},{"$error":"#N/A"},{"$error":"#N/A"},{"$error":"#N/A"},{"$error":"#N/A"},{"$error":"#N/A"},{"$error":"#N/A"},{"$error":"#N/A"}]
[{"$f":"données!W992","v":{"$error":"#N/A"}},{"$f":"données!X992","v":{"$error":"#N/A"}},{"$f":"données!Y992","v":{"$error":"#N/A"}},{"$f":"données!AH992","v":5},{"$error":"#N/A"},{"$error":"#N/A"},null,null,null,null,null,null,null,null,null,null,null,null,null,null,null,null,null,{"$error":"#N/A"},{"$error":"#N/A"},{"$error":"#N/A"},{"$error":"#N/A"},{"$error":"#N/A"},{"$error":"#N/A"},{"$error":"#N/A"},{"$error":"#N/A"},{"$error":"#N/A"},{"$error":"#N/A"},{"$error":"#N/A"},{"$error":"#N/A"},{"$error":"#N/A"},{"$error":"#N/A"}]
[{"$f":"données!W993","v":{"$error":"#N/A"}},{"$f":"données!X993","v":{"$error":"#N/A"}},{"$f":"données!Y993","v":{"$error":"#N/A"}},{"$f":"données!AH993","v":1},{"$error":"#N/A"},{"$error":"#N/A"},null,null,null,null,null,null,null,null,null,null,null,null,null,null,null,null,null,{"$error":"#N/A"},{"$error":"#N/A"},{"$error":"#N/A"},{"$error":"#N/A"},{"$error":"#N/A"},{"$error":"#N/A"},{"$error":"#N/A"},{"$error":"#N/A"},{"$error":"#N/A"},{"$error":"#N/A"},{"$error":"#N/A"},{"$error":"#N/A"},{"$error":"#N/A"},{"$error":"#N/A"}]
[{"$f":"données!W994","v":{"$error":"#N/A"}},{"$f":"données!X994","v":{"$error":"#N/A"}},{"$f":"données!Y994","v":{"$error":"#N/A"}},{"$f":"données!AH994","v":7},{"$error":"#N/A"},{"$error":"#N/A"},null,null,null,null,null,null,null,null,null,null,null,null,null,null,null,null,null,{"$error":"#N/A"},{"$error":"#N/A"},{"$error":"#N/A"},{"$error":"#N/A"},{"$error":"#N/A"},{"$error":"#N/A"},{"$error":"#N/A"},{"$error":"#N/A"},{"$error":"#N/A"},{"$error":"#N/A"},{"$error":"#N/A"},{"$error":"#N/A"},{"$error":"#N/A"},{"$error":"#N/A"}]
[{"$f":"données!W995","v":{"$error":"#N/A"}},{"$f":"données!X995","v":{"$error":"#N/A"}},{"$f":"données!Y995","v":{"$error":"#N/A"}},{"$f":"données!AH995","v":5},{"$error":"#N/A"},{"$error":"#N/A"},null,null,null,null,null,null,null,null,null,null,null,null,null,null,null,null,null,{"$error":"#N/A"},{"$error":"#N/A"},{"$error":"#N/A"},{"$error":"#N/A"},{"$error":"#N/A"},{"$error":"#N/A"},{"$error":"#N/A"},{"$error":"#N/A"},{"$error":"#N/A"},{"$error":"#N/A"},{"$error":"#N/A"},{"$error":"#N/A"},{"$error":"#N/A"},{"$error":"#N/A"}]
[{"$f":"données!W996","v":{"$error":"#N/A"}},{"$f":"données!X996","v":{"$error":"#N/A"}},{"$f":"données!Y996","v":{"$error":"#N/A"}},{"$f":"données!AH996","v":2},{"$error":"#N/A"},{"$error":"#N/A"},null,null,null,null,null,null,null,null,null,null,null,null,null,null,null,null,null,{"$error":"#N/A"},{"$error":"#N/A"},{"$error":"#N/A"},{"$error":"#N/A"},{"$error":"#N/A"},{"$error":"#N/A"},{"$error":"#N/A"},{"$error":"#N/A"},{"$error":"#N/A"},{"$error":"#N/A"},{"$error":"#N/A"},{"$error":"#N/A"},{"$error":"#N/A"},{"$error":"#N/A"}]
[{"$f":"données!W997","v":{"$error":"#N/A"}},{"$f":"données!X997","v":{"$error":"#N/A"}},{"$f":"données!Y997","v":{"$error":"#N/A"}},{"$f":"données!AH997","v":4},{"$error":"#N/A"},{"$error":"#N/A"},null,null,null,null,null,null,null,null,null,null,null,null,null,null,null,null,null,{"$error":"#N/A"},{"$error":"#N/A"},{"$error":"#N/A"},{"$error":"#N/A"},{"$error":"#N/A"},{"$error":"#N/A"},{"$error":"#N/A"},{"$error":"#N/A"},{"$error":"#N/A"},{"$error":"#N/A"},{"$error":"#N/A"},{"$error":"#N/A"},{"$error":"#N/A"},{"$error":"#N/A"}]
[{"$f":"données!W998","v":{"$error":"#N/A"}},{"$f":"données!X998","v":{"$error":"#N/A"}},{"$f":"données!Y998","v":{"$error":"#N/A"}},{"$f":"données!AH998","v":4},{"$error":"#N/A"},{"$error":"#N/A"},null,null,null,null,null,null,null,null,null,null,null,null,null,null,null,null,null,{"$error":"#N/A"},{"$error":"#N/A"},{"$error":"#N/A"},{"$error":"#N/A"},{"$error":"#N/A"},{"$error":"#N/A"},{"$error":"#N/A"},{"$error":"#N/A"},{"$error":"#N/A"},{"$error":"#N/A"},{"$error":"#N/A"},{"$error":"#N/A"},{"$error":"#N/A"},{"$error":"#N/A"}]
[{"$f":"données!W999","v":{"$error":"#N/A"}},{"$f":"données!X999","v":{"$error":"#N/A"}},{"$f":"données!Y999","v":{"$error":"#N/A"}},{"$f":"données!AH999","v":6},{"$error":"#N/A"},{"$error":"#N/A"},null,null,null,null,null,null,null,null,null,null,null,null,null,null,null,null,null,{"$error":"#N/A"},{"$error":"#N/A"},{"$error":"#N/A"},{"$error":"#N/A"},{"$error":"#N/A"},{"$error":"#N/A"},{"$error":"#N/A"},{"$error":"#N/A"},{"$error":"#N/A"},{"$error":"#N/A"},{"$error":"#N/A"},{"$error":"#N/A"},{"$error":"#N/A"},{"$error":"#N/A"}]
[{"$f":"données!W1000","v":{"$error":"#N/A"}},{"$f":"données!X1000","v":{"$error":"#N/A"}},{"$f":"données!Y1000","v":{"$error":"#N/A"}},{"$f":"données!AH1000","v":1},{"$error":"#N/A"},{"$error":"#N/A"},null,null,null,null,null,null,null,null,null,null,null,null,null,null,null,null,null,{"$error":"#N/A"},{"$error":"#N/A"},{"$error":"#N/A"},{"$error":"#N/A"},{"$error":"#N/A"},{"$error":"#N/A"},{"$error":"#N/A"},{"$error":"#N/A"},{"$error":"#N/A"},{"$error":"#N/A"},{"$error":"#N/A"},{"$error":"#N/A"},{"$error":"#N/A"},{"$error":"#N/A"}]
[{"$f":"données!W1001","v":{"$error":"#N/A"}},{"$f":"données!X1001","v":{"$error":"#N/A"}},{"$f":"données!Y1001","v":{"$error":"#N/A"}},{"$f":"données!AH1001","v":1},{"$error":"#N/A"},{"$error":"#N/A"},null,null,null,null,null,null,null,null,null,null,null,null,null,null,null,null,null,{"$error":"#N/A"},{"$error":"#N/A"},{"$error":"#N/A"},{"$error":"#N/A"},{"$error":"#N/A"},{"$error":"#N/A"},{"$error":"#N/A"},{"$error":"#N/A"},{"$error":"#N/A"},{"$error":"#N/A"},{"$error":"#N/A"},{"$error":"#N/A"},{"$error":"#N/A"},{"$error":"#N/A"}]
[{"$f":"données!W1002","v":{"$error":"#N/A"}},{"$f":"données!X1002","v":{"$error":"#N/A"}},{"$f":"données!Y1002","v":{"$error":"#N/A"}},{"$f":"données!AH1002","v":1},{"$error":"#N/A"},{"$error":"#N/A"},null,null,null,null,null,null,null,null,null,null,null,null,null,null,null,null,null,{"$error":"#N/A"},{"$error":"#N/A"},{"$error":"#N/A"},{"$error":"#N/A"},{"$error":"#N/A"},{"$error":"#N/A"},{"$error":"#N/A"},{"$error":"#N/A"},{"$error":"#N/A"},{"$error":"#N/A"},{"$error":"#N/A"},{"$error":"#N/A"},{"$error":"#N/A"},{"$error":"#N/A"}]
[{"$f":"données!W1003","v":{"$error":"#N/A"}},{"$f":"données!X1003","v":{"$error":"#N/A"}},{"$f":"données!Y1003","v":{"$error":"#N/A"}},{"$f":"données!AH1003","v":1},{"$error":"#N/A"},{"$error":"#N/A"},null,null,null,null,null,null,null,null,null,null,null,null,null,null,null,null,null,{"$error":"#N/A"},{"$error":"#N/A"},{"$error":"#N/A"},{"$error":"#N/A"},{"$error":"#N/A"},{"$error":"#N/A"},{"$error":"#N/A"},{"$error":"#N/A"},{"$error":"#N/A"},{"$error":"#N/A"},{"$error":"#N/A"},{"$error":"#N/A"},{"$error":"#N/A"},{"$error":"#N/A"}]

{"sheet":"individus","index":13,"n_rows":1003,"n_cols":7,"rows_kept":1003,"cut":false,"hidden":true,"merged":[]}
[{"$f":"données!A1","v":"nb lignes"},null,{"$f":"calculs!F2","v":1},{"$f":"calculs!G2","v":2},{"$f":"C1","v":1},{"$f":"D1","v":2}]
[{"$f":"données!A2","v":48},null,{"$f":"calculs!E6","v":"information totale 70%"}]
[{"$f":"données!A3","v":"nb colonnes"},null,{"$f":"calculs!F6","v":"axe1 47%"},{"$f":"calculs!G6","v":"axe2 23%"},"cos2 axe x","cos2 axey","somme cos2"]
[{"$f":"données!A4","v":7},{"$f":"données!B4","v":1},{"$f":"INDEX(données!W4:AA4,individus!$C$1)","v":1.4286959208351848},{"$f":"INDEX(données!W4:AA4,individus!$D$1)","v":-1.0451871519398601},{"$f":"INDEX(données!AB4:AF4,individus!$C$1)","v":0.60146458195925334},{"$f":"INDEX(données!AB4:AF4,individus!$D$1)","v":0.32189821904700139},{"$f":"E4+F4","v":0.92336280100625467}]
[null,{"$f":"données!B5","v":2},{"$f":"INDEX(données!W5:AA5,individus!$C$1)","v":1.4107897781723926},{"$f":"INDEX(données!W5:AA5,individus!$D$1)","v":-0.85589446341684794},{"$f":"INDEX(données!AB5:AF5,individus!$C$1)","v":0.65853237230633055},{"$f":"INDEX(données!AB5:AF5,individus!$D$1)","v":0.24237786428909461},{"$f":"E5+F5","v":0.90091023659542513}]
[null,{"$f":"données!B6","v":3},{"$f":"INDEX(données!W6:AA6,individus!$C$1)","v":1.4857934807627537},{"$f":"INDEX(données!W6:AA6,individus!$D$1)","v":-0.9314389823634307},{"$f":"INDEX(données!AB6:AF6,individus!$C$1)","v":0.65657630371455222},{"$f":"INDEX(données!AB6:AF6,individus!$D$1)","v":0.25803411461912457},0.91461041833367673]
[null,{"$f":"données!B7","v":4},{"$f":"INDEX(données!W7:AA7,individus!$C$1)","v":1.2620884841879407},{"$f":"INDEX(données!W7:AA7,individus!$D$1)","v":-0.96396943340801511},{"$f":"INDEX(données!AB7:AF7,individus!$C$1)","v":0.54719332280396271},{"$f":"INDEX(données!AB7:AF7,individus!$D$1)","v":0.31921824613272315},0.86641156893668581]
[null,{"$f":"données!B8","v":5},{"$f":"INDEX(données!W8:AA8,individus!$C$1)","v":1.4008174302000009},{"$f":"INDEX(données!W8:AA8,individus!$D$1)","v":-0.94161178114601696},{"$f":"INDEX(données!AB8:AF8,individus!$C$1)","v":0.6368016846192025},{"$f":"INDEX(données!AB8:AF8,individus!$D$1)","v":0.28772983516531081},0.92453151978451331]
[null,{"$f":"données!B9","v":6},{"$f":"INDEX(données!W9:AA9,individus!$C$1)","v":1.1964581917459098},{"$f":"INDEX(données!W9:AA9,individus!$D$1)","v":-1.0015819734824905},{"$f":"INDEX(données!AB9:AF9,individus!$C$1)","v":0.49530533295227985},{"$f":"INDEX(données!AB9:AF9,individus!$D$1)","v":0.34709707030997011},0.84240240326224991]
[null,{"$f":"données!B10","v":7},{"$f":"INDEX(données!W10:AA10,individus!$C$1)","v":1.59565051366044},{"$f":"INDEX(données!W10:AA10,individus!$D$1)","v":-0.80420655357247695},{"$f":"INDEX(données!AB10:AF10,individus!$C$1)","v":0.73833575486982717},{"$f":"INDEX(données!AB10:AF10,individus!$D$1)","v":0.18754848628641868},0.92588424115624579]
[null,{"$f":"données!B11","v":8},{"$f":"INDEX(données!W11:AA11,individus!$C$1)","v":1.4789910768646215},{"$f":"INDEX(données!W11:AA11,individus!$D$1)","v":-0.8216545753287523},{"$f":"INDEX(données!AB11:AF11,individus!$C$1)","v":0.71715556409161141},{"$f":"INDEX(données!AB11:AF11,individus!$D$1)","v":0.22134046629766435},0.93849603038927576]
[null,{"$f":"données!B12","v":9},{"$f":"INDEX(données!W12:AA12,individus!$C$1)","v":1.3010592911549979},{"$f":"INDEX(données!W12:AA12,individus!$D$1)","v":-0.91567384763065574},{"$f":"INDEX(données!AB12:AF12,individus!$C$1)","v":0.57370617208253216},{"$f":"INDEX(données!AB12:AF12,individus!$D$1)","v":0.28416917498987465},0.85787534707240676]
[null,{"$f":"données!B13","v":10},{"$f":"INDEX(données!W13:AA13,individus!$C$1)","v":1.2322810623528304},{"$f":"INDEX(données!W13:AA13,individus!$D$1)","v":-0.827024133168485},{"$f":"INDEX(données!AB13:AF13,individus!$C$1)","v":0.61761575473205077},{"$f":"INDEX(données!AB13:AF13,individus!$D$1)","v":0.27818594420510184},0.89580169893715267]
[null,{"$f":"données!B14","v":11},{"$f":"INDEX(données!W14:AA14,individus!$C$1)","v":1.2151822409788431},{"$f":"INDEX(données!W14:AA14,individus!$D$1)","v":-0.8942931475729381},{"$f":"INDEX(données!AB14:AF14,individus!$C$1)","v":0.58254610360246584},{"$f":"INDEX(données!AB14:AF14,individus!$D$1)","v":0.31550575095847117},0.89805185456093706]
[null,{"$f":"données!B15","v":12},{"$f":"INDEX(données!W15:AA15,individus!$C$1)","v":1.2209420653857821},{"$f":"INDEX(données!W15:AA15,individus!$D$1)","v":-0.89592497165192764},{"$f":"INDEX(données!AB15:AF15,individus!$C$1)","v":0.59356319391379997},{"$f":"INDEX(données!AB15:AF15,individus!$D$1)","v":0.31960983333107917},0.91317302724487914]
[null,{"$f":"données!B16","v":13},{"$f":"INDEX(données!W16:AA16,individus!$C$1)","v":1.1671391237508075},{"$f":"INDEX(données!W16:AA16,individus!$D$1)","v":-0.96504795595870219},{"$f":"INDEX(données!AB16:AF16,individus!$C$1)","v":0.44453200748715727},{"$f":"INDEX(données!AB16:AF16,individus!$D$1)","v":0.30391740514998433},0.7484494126371416]
[null,{"$f":"données!B17","v":14},{"$f":"INDEX(données!W17:AA17,individus!$C$1)","v":1.1445139913998865},{"$f":"INDEX(données!W17:AA17,individus!$D$1)","v":-0.84401380449289554},{"$f":"INDEX(données!AB17:AF17,individus!$C$1)","v":0.54853451513487428},{"$f":"INDEX(données!AB17:AF17,individus!$D$1)","v":0.29830521587384584},0.84683973100872012]
[null,{"$f":"données!B18","v":15},{"$f":"INDEX(données!W18:AA18,individus!$C$1)","v":1.2337285725019147},{"$f":"INDEX(données!W18:AA18,individus!$D$1)","v":-0.69225921275403135},{"$f":"INDEX(données!AB18:AF18,individus!$C$1)","v":0.63659963458512026},{"$f":"INDEX(données!AB18:AF18,individus!$D$1)","v":0.20043087735688206},0.83703051194200229]
[null,{"$f":"données!B19","v":16},{"$f":"INDEX(données!W19:AA19,individus!$C$1)","v":1.2135409408845637},{"$f":"INDEX(données!W19:AA19,individus!$D$1)","v":-0.81209671354793467},{"$f":"INDEX(données!AB19:AF19,individus!$C$1)","v":0.60631006806639853},{"$f":"INDEX(données!AB19:AF19,individus!$D$1)","v":0.27151974725593386},0.8778298153223324]
[null,{"$f":"données!B20","v":17},{"$f":"INDEX(données!W20:AA20,individus!$C$1)","v":1.2013492107380235},{"$f":"INDEX(données!W20:AA20,individus!$D$1)","v":-0.74380458523351656},{"$f":"INDEX(données!AB20:AF20,individus!$C$1)","v":0.64642420013896862},{"$f":"INDEX(données!AB20:AF20,individus!$D$1)","v":0.24779741666944646},0.89422161680841505]
[null,{"$f":"données!B21","v":18},{"$f":"INDEX(données!W21:AA21,individus!$C$1)","v":1.261485353489054},{"$f":"INDEX(données!W21:AA21,individus!$D$1)","v":-0.64825151655784619},{"$f":"INDEX(données!AB21:AF21,individus!$C$1)","v":0.71736768649126548},{"$f":"INDEX(données!AB21:AF21,individus!$D$1)","v":0.18943685198444465},0.90680453847571019]
[null,{"$f":"données!B22","v":19},{"$f":"INDEX(données!W22:AA22,individus!$C$1)","v":1.3105553831957084},{"$f":"INDEX(données!W22:AA22,individus!$D$1)","v":-0.61807391899495645},{"$f":"INDEX(données!AB22:AF22,individus!$C$1)","v":0.77995684807026511},{"$f":"INDEX(données!AB22:AF22,individus!$D$1)","v":0.17347650109631052},0.95343334916657563]
[null,{"$f":"données!B23","v":20},{"$f":"INDEX(données!W23:AA23,individus!$C$1)","v":0.75629246871029365},{"$f":"INDEX(données!W23:AA23,individus!$D$1)","v":-0.9641514773478469},{"$f":"INDEX(données!AB23:AF23,individus!$C$1)","v":0.27942200509764242},{"$f":"INDEX(données!AB23:AF23,individus!$D$1)","v":0.45412101052509407},0.73354301562273649]
[null,{"$f":"données!B24","v":21},{"$f":"INDEX(données!W24:AA24,individus!$C$1)","v":1.3214709742616979},{"$f":"INDEX(données!W24:AA24,individus!$D$1)","v":-0.58505680169995311},{"$f":"INDEX(données!AB24:AF24,individus!$C$1)","v":0.79066786595037686},{"$f":"INDEX(données!AB24:AF24,individus!$D$1)","v":0.15497972904282856},0.94564759499320539]
[null,{"$f":"données!B25","v":23},{"$f":"INDEX(données!W25:AA25,individus!$C$1)","v":4.1566465216739124E-2},{"$f":"INDEX(données!W25:AA25,individus!$D$1)","v":1.3403219998878257},{"$f":"INDEX(données!AB25:AF25,individus!$C$1)","v":4.1843982997107667E-4},{"$f":"INDEX(données!AB25:AF25,individus!$D$1)","v":0.43507599414033726},0.43549443397030835]
[null,{"$f":"données!B26","v":24},{"$f":"INDEX(données!W26:AA26,individus!$C$1)","v":0.8468244351612717},{"$f":"INDEX(données!W26:AA26,individus!$D$1)","v":1.5005286610826207},{"$f":"INDEX(données!AB26:AF26,individus!$C$1)","v":0.13071675961995977},{"$f":"INDEX(données!AB26:AF26,individus!$D$1)","v":0.41042433342928858},0.5411410930492484]
[null,{"$f":"données!B27","v":25},{"$f":"INDEX(données!W27:AA27,individus!$C$1)","v":0.46698669445391033},{"$f":"INDEX(données!W27:AA27,individus!$D$1)","v":1.5412515024187716},{"$f":"INDEX(données!AB27:AF27,individus!$C$1)","v":4.0532181757718631E-2},{"$f":"INDEX(données!AB27:AF27,individus!$D$1)","v":0.44150740708176178},0.48203958883948039]
[null,{"$f":"données!B28","v":26},{"$f":"INDEX(données!W28:AA28,individus!$C$1)","v":0.61568157965982873},{"$f":"INDEX(données!W28:AA28,individus!$D$1)","v":1.6611122911783154},{"$f":"INDEX(données!AB28:AF28,individus!$C$1)","v":6.6137192749541981E-2},{"$f":"INDEX(données!AB28:AF28,individus!$D$1)","v":0.48142808257607517},0.54756527532561716]
[null,{"$f":"données!B29","v":27},{"$f":"INDEX(données!W29:AA29,individus!$C$1)","v":-0.20970789491506114},{"$f":"INDEX(données!W29:AA29,individus!$D$1)","v":1.0833913061245006},{"$f":"INDEX(données!AB29:AF29,individus!$C$1)","v":1.3584698654032244E-2},{"$f":"INDEX(données!AB29:AF29,individus!$D$1)","v":0.36256939334110994},0.37615409199514216]
[null,{"$f":"données!B30","v":28},{"$f":"INDEX(données!W30:AA30,individus!$C$1)","v":-1.2452950971788723E-2},{"$f":"INDEX(données!W30:AA30,individus!$D$1)","v":1.1965917129942771},{"$f":"INDEX(données!AB30:AF30,individus!$C$1)","v":7.3726712400353951E-5},{"$f":"INDEX(données!AB30:AF30,individus!$D$1)","v":0.68072592934951626},0.68079965606191661]
[null,{"$f":"données!B31","v":29},{"$f":"INDEX(données!W31:AA31,individus!$C$1)","v":-2.4492476243535894},{"$f":"INDEX(données!W31:AA31,individus!$D$1)","v":-2.0248726885891646},{"$f":"INDEX(données!AB31:AF31,individus!$C$1)","v":0.4385559471502764},{"$f":"INDEX(données!AB31:AF31,individus!$D$1)","v":0.29974714766746624},0.7383030948177427]
[null,{"$f":"données!B32","v":31},{"$f":"INDEX(données!W32:AA32,individus!$C$1)","v":-2.4758535686187977},{"$f":"INDEX(données!W32:AA32,individus!$D$1)","v":-2.0487767897480302},{"$f":"INDEX(données!AB32:AF32,individus!$C$1)","v":0.49205575938896917},{"$f":"INDEX(données!AB32:AF32,individus!$D$1)","v":0.33694087534519673},0.82899663473416596]
[null,{"$f":"données!B33","v":32},{"$f":"INDEX(données!W33:AA33,individus!$C$1)","v":-4.0252180964896436},{"$f":"INDEX(données!W33:AA33,individus!$D$1)","v":-1.2590352347978657},{"$f":"INDEX(données!AB33:AF33,individus!$C$1)","v":0.85339038478064644},{"$f":"INDEX(données!AB33:AF33,individus!$D$1)","v":8.3491964694140261E-2},0.93688234947478666]
[null,{"$f":"données!B34","v":33},{"$f":"INDEX(données!W34:AA34,individus!$C$1)","v":-3.5108453761095459},{"$f":"INDEX(données!W34:AA34,individus!$D$1)","v":-0.79315717826524301},{"$f":"INDEX(données!AB34:AF34,individus!$C$1)","v":0.84214814248337466},{"$f":"INDEX(données!AB34:AF34,individus!$D$1)","v":4.2981701883114204E-2},0.88512984436648889]
[null,{"$f":"données!B35","v":37},{"$f":"INDEX(données!W35:AA35,individus!$C$1)","v":-2.2565023558246349},{"$f":"INDEX(données!W35:AA35,individus!$D$1)","v":-1.118291685372351},{"$f":"INDEX(données!AB35:AF35,individus!$C$1)","v":0.41036131009592541},{"$f":"INDEX(données!AB35:AF35,individus!$D$1)","v":0.1007871157062217},0.51114842580214714]
[null,{"$f":"données!B36","v":38},{"$f":"INDEX(données!W36:AA36,individus!$C$1)","v":-2.0039834991267425},{"$f":"INDEX(données!W36:AA36,individus!$D$1)","v":-9.1591973860305043E-2},{"$f":"INDEX(données!AB36:AF36,individus!$C$1)","v":0.46437940826130703},{"$f":"INDEX(données!AB36:AF36,individus!$D$1)","v":9.7006203528378289E-4},0.46534947029659079]
[null,{"$f":"données!B37","v":44},{"$f":"INDEX(données!W37:AA37,individus!$C$1)","v":-4.0312219738564989},{"$f":"INDEX(données!W37:AA37,individus!$D$1)","v":-0.86777156801214395},{"$f":"INDEX(données!AB37:AF37,individus!$C$1)","v":0.87675228698722707},{"$f":"INDEX(données!AB37:AF37,individus!$D$1)","v":4.0626958956988909E-2},0.91737924594421594]
[null,{"$f":"données!B38","v":46},{"$f":"INDEX(données!W38:AA38,individus!$C$1)","v":-3.3320227378329559},{"$f":"INDEX(données!W38:AA38,individus!$D$1)","v":-0.53760525349939092},{"$f":"INDEX(données!AB38:AF38,individus!$C$1)","v":0.86436641386473367},{"$f":"INDEX(données!AB38:AF38,individus!$D$1)","v":2.2501370915443124E-2},0.8868677847801768]
[null,{"$f":"données!B39","v":48},{"$f":"INDEX(données!W39:AA39,individus!$C$1)","v":-4.3276916919830795},{"$f":"INDEX(données!W39:AA39,individus!$D$1)","v":-0.67867939845689496},{"$f":"INDEX(données!AB39:AF39,individus!$C$1)","v":0.88569314547303135},{"$f":"INDEX(données!AB39:AF39,individus!$D$1)","v":2.1782112091934619E-2},0.90747525756496594]
[null,{"$f":"données!B40","v":50},{"$f":"INDEX(données!W40:AA40,individus!$C$1)","v":3.0003892735768978},{"$f":"INDEX(données!W40:AA40,individus!$D$1)","v":0.34753238340455711},{"$f":"INDEX(données!AB40:AF40,individus!$C$1)","v":0.3837270612812318},{"$f":"INDEX(données!AB40:AF40,individus!$D$1)","v":5.1482280545938376E-3},0.38887528933582566]
[null,{"$f":"données!B41","v":51},{"$f":"INDEX(données!W41:AA41,individus!$C$1)","v":2.8014211417811286},{"$f":"INDEX(données!W41:AA41,individus!$D$1)","v":0.12259192027825422},{"$f":"INDEX(données!AB41:AF41,individus!$C$1)","v":0.35254333159160112},{"$f":"INDEX(données!AB41:AF41,individus!$D$1)","v":6.751175477565603E-4},0.35321844913935768]
[null,{"$f":"données!B42","v":53},{"$f":"INDEX(données!W42:AA42,individus!$C$1)","v":-0.29789587986591115},{"$f":"INDEX(données!W42:AA42,individus!$D$1)","v":1.9819933581409015},{"$f":"INDEX(données!AB42:AF42,individus!$C$1)","v":1.6827794441863702E-2},{"$f":"INDEX(données!AB42:AF42,individus!$D$1)","v":0.744907924853351},0.76173571929521466]
[null,{"$f":"données!B43","v":54},{"$f":"INDEX(données!W43:AA43,individus!$C$1)","v":0.17780296417471275},{"$f":"INDEX(données!W43:AA43,individus!$D$1)","v":2.2621012196033603},{"$f":"INDEX(données!AB43:AF43,individus!$C$1)","v":5.1804651228786252E-3},{"$f":"INDEX(données!AB43:AF43,individus!$D$1)","v":0.83852270804425288},0.8437031731671315]
[null,{"$f":"données!B44","v":55},{"$f":"INDEX(données!W44:AA44,individus!$C$1)","v":-0.29611911596011364},{"$f":"INDEX(données!W44:AA44,individus!$D$1)","v":2.0434445856403398},{"$f":"INDEX(données!AB44:AF44,individus!$C$1)","v":1.9103947513136394E-2},{"$f":"INDEX(données!AB44:AF44,individus!$D$1)","v":0.90973720853796902},0.9288411560511054]
[null,{"$f":"données!B45","v":56},{"$f":"INDEX(données!W45:AA45,individus!$C$1)","v":5.0602758831700068E-2},{"$f":"INDEX(données!W45:AA45,individus!$D$1)","v":2.0536014981963753},{"$f":"INDEX(données!AB45:AF45,individus!$C$1)","v":4.301392309549011E-4},{"$f":"INDEX(données!AB45:AF45,individus!$D$1)","v":0.70842358172934938},0.7088537209603043]
[null,{"$f":"données!B46","v":57},{"$f":"INDEX(données!W46:AA46,individus!$C$1)","v":5.4396983488428391E-2},{"$f":"INDEX(données!W46:AA46,individus!$D$1)","v":1.3774755124989468},{"$f":"INDEX(données!AB46:AF46,individus!$C$1)","v":7.7420354092050414E-4},{"$f":"INDEX(données!AB46:AF46,individus!$D$1)","v":0.49644746018398445},0.49722166372490495]
[null,{"$f":"données!B47","v":59},{"$f":"INDEX(données!W47:AA47,individus!$C$1)","v":-1.3389463766332899},{"$f":"INDEX(données!W47:AA47,individus!$D$1)","v":1.6353828012562772},{"$f":"INDEX(données!AB47:AF47,individus!$C$1)","v":0.30689420302419523},{"$f":"INDEX(données!AB47:AF47,individus!$D$1)","v":0.45782675473294143},0.76472095775713667]
[null,{"$f":"données!B48","v":60},{"$f":"INDEX(données!W48:AA48,individus!$C$1)","v":-0.90284149411780268},{"$f":"INDEX(données!W48:AA48,individus!$D$1)","v":1.9990674827136166},{"$f":"INDEX(données!AB48:AF48,individus!$C$1)","v":0.11177209380436022},{"$f":"INDEX(données!AB48:AF48,individus!$D$1)","v":0.54798071502300894},0.6597528088273692]
[null,{"$f":"données!B49","v":61},{"$f":"INDEX(données!W49:AA49,individus!$C$1)","v":-1.0218870522052272},{"$f":"INDEX(données!W49:AA49,individus!$D$1)","v":1.6528138955847249},{"$f":"INDEX(données!AB49:AF49,individus!$C$1)","v":0.16599824201819147},{"$f":"INDEX(données!AB49:AF49,individus!$D$1)","v":0.43425577892479},0.60025402094298141]
[null,{"$f":"données!B50","v":62},{"$f":"INDEX(données!W50:AA50,individus!$C$1)","v":-1.0850016710009789},{"$f":"INDEX(données!W50:AA50,individus!$D$1)","v":1.715116488946721},{"$f":"INDEX(données!AB50:AF50,individus!$C$1)","v":0.23362075527919768},{"$f":"INDEX(données!AB50:AF50,individus!$D$1)","v":0.58376473245986404},0.81738548773906172]
[null,{"$f":"données!B51","v":63},{"$f":"INDEX(données!W51:AA51,individus!$C$1)","v":-1.3170584917107753},{"$f":"INDEX(données!W51:AA51,individus!$D$1)","v":1.6766801519172718},{"$f":"INDEX(données!AB51:AF51,individus!$C$1)","v":0.32015481173588878},{"$f":"INDEX(données!AB51:AF51,individus!$D$1)","v":0.51886019488413426},0.83901500662002304]
[null,{"$f":"données!B52","v":"li 49"},{"$f":"INDEX(données!W52:AA52,individus!$C$1)","v":{"$error":"#N/A"}},{"$f":"INDEX(données!W52:AA52,individus!$D$1)","v":{"$error":"#N/A"}},{"$f":"INDEX(données!AB52:AF52,individus!$C$1)","v":{"$error":"#N/A"}},{"$f":"INDEX(données!AB52:AF52,individus!$D$1)","v":{"$error":"#N/A"}},{"$error":"#N/A"}]
[null,{"$f":"données!B53","v":"li 50"},{"$f":"INDEX(données!W53:AA53,individus!$C$1)","v":{"$error":"#N/A"}},{"$f":"INDEX(données!W53:AA53,individus!$D$1)","v":{"$error":"#N/A"}},{"$f":"INDEX(données!AB53:AF53,individus!$C$1)","v":{"$error":"#N/A"}},{"$f":"INDEX(données!AB53:AF53,individus!$D$1)","v":{"$error":"#N/A"}},{"$error":"#N/A"}]
[null,{"$f":"données!B54","v":"li 51"},{"$f":"INDEX(données!W54:AA54,individus!$C$1)","v":{"$error":"#N/A"}},{"$f":"INDEX(données!W54:AA54,individus!$D$1)","v":{"$error":"#N/A"}},{"$f":"INDEX(données!AB54:AF54,individus!$C$1)","v":{"$error":"#N/A"}},{"$f":"INDEX(données!AB54:AF54,individus!$D$1)","v":{"$error":"#N/A"}},{"$error":"#N/A"}]
[null,{"$f":"données!B55","v":"li 52"},{"$f":"INDEX(données!W55:AA55,individus!$C$1)","v":{"$error":"#N/A"}},{"$f":"INDEX(données!W55:AA55,individus!$D$1)","v":{"$error":"#N/A"}},{"$f":"INDEX(données!AB55:AF55,individus!$C$1)","v":{"$error":"#N/A"}},{"$f":"INDEX(données!AB55:AF55,individus!$D$1)","v":{"$error":"#N/A"}},{"$error":"#N/A"}]
[null,{"$f":"données!B56","v":"li 53"},{"$f":"INDEX(données!W56:AA56,individus!$C$1)","v":{"$error":"#N/A"}},{"$f":"INDEX(données!W56:AA56,individus!$D$1)","v":{"$error":"#N/A"}},{"$f":"INDEX(données!AB56:AF56,individus!$C$1)","v":{"$error":"#N/A"}},{"$f":"INDEX(données!AB56:AF56,individus!$D$1)","v":{"$error":"#N/A"}},{"$error":"#N/A"}]
[null,{"$f":"données!B57","v":"li 54"},{"$f":"INDEX(données!W57:AA57,individus!$C$1)","v":{"$error":"#N/A"}},{"$f":"INDEX(données!W57:AA57,individus!$D$1)","v":{"$error":"#N/A"}},{"$f":"INDEX(données!AB57:AF57,individus!$C$1)","v":{"$error":"#N/A"}},{"$f":"INDEX(données!AB57:AF57,individus!$D$1)","v":{"$error":"#N/A"}},{"$error":"#N/A"}]
[null,{"$f":"données!B58","v":"li 55"},{"$f":"INDEX(données!W58:AA58,individus!$C$1)","v":{"$error":"#N/A"}},{"$f":"INDEX(données!W58:AA58,individus!$D$1)","v":{"$error":"#N/A"}},{"$f":"INDEX(données!AB58:AF58,individus!$C$1)","v":{"$error":"#N/A"}},{"$f":"INDEX(données!AB58:AF58,individus!$D$1)","v":{"$error":"#N/A"}},{"$error":"#N/A"}]
[null,{"$f":"données!B59","v":"li 56"},{"$f":"INDEX(données!W59:AA59,individus!$C$1)","v":{"$error":"#N/A"}},{"$f":"INDEX(données!W59:AA59,individus!$D$1)","v":{"$error":"#N/A"}},{"$f":"INDEX(données!AB59:AF59,individus!$C$1)","v":{"$error":"#N/A"}},{"$f":"INDEX(données!AB59:AF59,individus!$D$1)","v":{"$error":"#N/A"}},{"$error":"#N/A"}]
[null,{"$f":"données!B60","v":"li 57"},{"$f":"INDEX(données!W60:AA60,individus!$C$1)","v":{"$error":"#N/A"}},{"$f":"INDEX(données!W60:AA60,individus!$D$1)","v":{"$error":"#N/A"}},{"$f":"INDEX(données!AB60:AF60,individus!$C$1)","v":{"$error":"#N/A"}},{"$f":"INDEX(données!AB60:AF60,individus!$D$1)","v":{"$error":"#N/A"}},{"$error":"#N/A"}]
[null,{"$f":"données!B61","v":"li 58"},{"$f":"INDEX(données!W61:AA61,individus!$C$1)","v":{"$error":"#N/A"}},{"$f":"INDEX(données!W61:AA61,individus!$D$1)","v":{"$error":"#N/A"}},{"$f":"INDEX(données!AB61:AF61,individus!$C$1)","v":{"$error":"#N/A"}},{"$f":"INDEX(données!AB61:AF61,individus!$D$1)","v":{"$error":"#N/A"}},{"$error":"#N/A"}]
[null,{"$f":"données!B62","v":"li 59"},{"$f":"INDEX(données!W62:AA62,individus!$C$1)","v":{"$error":"#N/A"}},{"$f":"INDEX(données!W62:AA62,individus!$D$1)","v":{"$error":"#N/A"}},{"$f":"INDEX(données!AB62:AF62,individus!$C$1)","v":{"$error":"#N/A"}},{"$f":"INDEX(données!AB62:AF62,individus!$D$1)","v":{"$error":"#N/A"}},{"$error":"#N/A"}]
[null,{"$f":"données!B63","v":"li 60"},{"$f":"INDEX(données!W63:AA63,individus!$C$1)","v":{"$error":"#N/A"}},{"$f":"INDEX(données!W63:AA63,individus!$D$1)","v":{"$error":"#N/A"}},{"$f":"INDEX(données!AB63:AF63,individus!$C$1)","v":{"$error":"#N/A"}},{"$f":"INDEX(données!AB63:AF63,individus!$D$1)","v":{"$error":"#N/A"}},{"$error":"#N/A"}]
[null,{"$f":"données!B64","v":"li 61"},{"$f":"INDEX(données!W64:AA64,individus!$C$1)","v":{"$error":"#N/A"}},{"$f":"INDEX(données!W64:AA64,individus!$D$1)","v":{"$error":"#N/A"}},{"$f":"INDEX(données!AB64:AF64,individus!$C$1)","v":{"$error":"#N/A"}},{"$f":"INDEX(données!AB64:AF64,individus!$D$1)","v":{"$error":"#N/A"}},{"$error":"#N/A"}]
[null,{"$f":"données!B65","v":"li 62"},{"$f":"INDEX(données!W65:AA65,individus!$C$1)","v":{"$error":"#N/A"}},{"$f":"INDEX(données!W65:AA65,individus!$D$1)","v":{"$error":"#N/A"}},{"$f":"INDEX(données!AB65:AF65,individus!$C$1)","v":{"$error":"#N/A"}},{"$f":"INDEX(données!AB65:AF65,individus!$D$1)","v":{"$error":"#N/A"}},{"$error":"#N/A"}]
[null,{"$f":"données!B66","v":"li 63"},{"$f":"INDEX(données!W66:AA66,individus!$C$1)","v":{"$error":"#N/A"}},{"$f":"INDEX(données!W66:AA66,individus!$D$1)","v":{"$error":"#N/A"}},{"$f":"INDEX(données!AB66:AF66,individus!$C$1)","v":{"$error":"#N/A"}},{"$f":"INDEX(données!AB66:AF66,individus!$D$1)","v":{"$error":"#N/A"}},{"$error":"#N/A"}]
[null,{"$f":"données!B67","v":"li 64"},{"$f":"INDEX(données!W67:AA67,individus!$C$1)","v":{"$error":"#N/A"}},{"$f":"INDEX(données!W67:AA67,individus!$D$1)","v":{"$error":"#N/A"}},{"$f":"INDEX(données!AB67:AF67,individus!$C$1)","v":{"$error":"#N/A"}},{"$f":"INDEX(données!AB67:AF67,individus!$D$1)","v":{"$error":"#N/A"}},{"$error":"#N/A"}]
[null,{"$f":"données!B68","v":"li 65"},{"$f":"INDEX(données!W68:AA68,individus!$C$1)","v":{"$error":"#N/A"}},{"$f":"INDEX(données!W68:AA68,individus!$D$1)","v":{"$error":"#N/A"}},{"$f":"INDEX(données!AB68:AF68,individus!$C$1)","v":{"$error":"#N/A"}},{"$f":"INDEX(données!AB68:AF68,individus!$D$1)","v":{"$error":"#N/A"}},{"$error":"#N/A"}]
[null,{"$f":"données!B69","v":"li 66"},{"$f":"INDEX(données!W69:AA69,individus!$C$1)","v":{"$error":"#N/A"}},{"$f":"INDEX(données!W69:AA69,individus!$D$1)","v":{"$error":"#N/A"}},{"$f":"INDEX(données!AB69:AF69,individus!$C$1)","v":{"$error":"#N/A"}},{"$f":"INDEX(données!AB69:AF69,individus!$D$1)","v":{"$error":"#N/A"}},{"$f":"E69+F69","v":{"$error":"#N/A"}}]
[null,{"$f":"données!B70","v":"li 67"},{"$f":"INDEX(données!W70:AA70,individus!$C$1)","v":{"$error":"#N/A"}},{"$f":"INDEX(données!W70:AA70,individus!$D$1)","v":{"$error":"#N/A"}},{"$f":"INDEX(données!AB70:AF70,individus!$C$1)","v":{"$error":"#N/A"}},{"$f":"INDEX(données!AB70:AF70,individus!$D$1)","v":{"$error":"#N/A"}},{"$error":"#N/A"}]
[null,{"$f":"données!B71","v":"li 68"},{"$f":"INDEX(données!W71:AA71,individus!$C$1)","v":{"$error":"#N/A"}},{"$f":"INDEX(données!W71:AA71,individus!$D$1)","v":{"$error":"#N/A"}},{"$f":"INDEX(données!AB71:AF71,individus!$C$1)","v":{"$error":"#N/A"}},{"$f":"INDEX(données!AB71:AF71,individus!$D$1)","v":{"$error":"#N/A"}},{"$error":"#N/A"}]
[null,{"$f":"données!B72","v":"li 69"},{"$f":"INDEX(données!W72:AA72,individus!$C$1)","v":{"$error":"#N/A"}},{"$f":"INDEX(données!W72:AA72,individus!$D$1)","v":{"$error":"#N/A"}},{"$f":"INDEX(données!AB72:AF72,individus!$C$1)","v":{"$error":"#N/A"}},{"$f":"INDEX(données!AB72:AF72,individus!$D$1)","v":{"$error":"#N/A"}},{"$error":"#N/A"}]
[null,{"$f":"données!B73","v":"li 70"},{"$f":"INDEX(données!W73:AA73,individus!$C$1)","v":{"$error":"#N/A"}},{"$f":"INDEX(données!W73:AA73,individus!$D$1)","v":{"$error":"#N/A"}},{"$f":"INDEX(données!AB73:AF73,individus!$C$1)","v":{"$error":"#N/A"}},{"$f":"INDEX(données!AB73:AF73,individus!$D$1)","v":{"$error":"#N/A"}},{"$error":"#N/A"}]
[null,{"$f":"données!B74","v":"li 71"},{"$f":"INDEX(données!W74:AA74,individus!$C$1)","v":{"$error":"#N/A"}},{"$f":"INDEX(données!W74:AA74,individus!$D$1)","v":{"$error":"#N/A"}},{"$f":"INDEX(données!AB74:AF74,individus!$C$1)","v":{"$error":"#N/A"}},{"$f":"INDEX(données!AB74:AF74,individus!$D$1)","v":{"$error":"#N/A"}},{"$error":"#N/A"}]
[null,{"$f":"données!B75","v":"li 72"},{"$f":"INDEX(données!W75:AA75,individus!$C$1)","v":{"$error":"#N/A"}},{"$f":"INDEX(données!W75:AA75,individus!$D$1)","v":{"$error":"#N/A"}},{"$f":"INDEX(données!AB75:AF75,individus!$C$1)","v":{"$error":"#N/A"}},{"$f":"INDEX(données!AB75:AF75,individus!$D$1)","v":{"$error":"#N/A"}},{"$error":"#N/A"}]
[null,{"$f":"données!B76","v":"li 73"},{"$f":"INDEX(données!W76:AA76,individus!$C$1)","v":{"$error":"#N/A"}},{"$f":"INDEX(données!W76:AA76,individus!$D$1)","v":{"$error":"#N/A"}},{"$f":"INDEX(données!AB76:AF76,individus!$C$1)","v":{"$error":"#N/A"}},{"$f":"INDEX(données!AB76:AF76,individus!$D$1)","v":{"$error":"#N/A"}},{"$error":"#N/A"}]
[null,{"$f":"données!B77","v":"li 74"},{"$f":"INDEX(données!W77:AA77,individus!$C$1)","v":{"$error":"#N/A"}},{"$f":"INDEX(données!W77:AA77,individus!$D$1)","v":{"$error":"#N/A"}},{"$f":"INDEX(données!AB77:AF77,individus!$C$1)","v":{"$error":"#N/A"}},{"$f":"INDEX(données!AB77:AF77,individus!$D$1)","v":{"$error":"#N/A"}},{"$error":"#N/A"}]
[null,{"$f":"données!B78","v":"li 75"},{"$f":"INDEX(données!W78:AA78,individus!$C$1)","v":{"$error":"#N/A"}},{"$f":"INDEX(données!W78:AA78,individus!$D$1)","v":{"$error":"#N/A"}},{"$f":"INDEX(données!AB78:AF78,individus!$C$1)","v":{"$error":"#N/A"}},{"$f":"INDEX(données!AB78:AF78,individus!$D$1)","v":{"$error":"#N/A"}},{"$error":"#N/A"}]
[null,{"$f":"données!B79","v":"li 76"},{"$f":"INDEX(données!W79:AA79,individus!$C$1)","v":{"$error":"#N/A"}},{"$f":"INDEX(données!W79:AA79,individus!$D$1)","v":{"$error":"#N/A"}},{"$f":"INDEX(données!AB79:AF79,individus!$C$1)","v":{"$error":"#N/A"}},{"$f":"INDEX(données!AB79:AF79,individus!$D$1)","v":{"$error":"#N/A"}},{"$error":"#N/A"}]
[null,{"$f":"données!B80","v":"li 77"},{"$f":"INDEX(données!W80:AA80,individus!$C$1)","v":{"$error":"#N/A"}},{"$f":"INDEX(données!W80:AA80,individus!$D$1)","v":{"$error":"#N/A"}},{"$f":"INDEX(données!AB80:AF80,individus!$C$1)","v":{"$error":"#N/A"}},{"$f":"INDEX(données!AB80:AF80,individus!$D$1)","v":{"$error":"#N/A"}},{"$error":"#N/A"}]
[null,{"$f":"données!B81","v":"li 78"},{"$f":"INDEX(données!W81:AA81,individus!$C$1)","v":{"$error":"#N/A"}},{"$f":"INDEX(données!W81:AA81,individus!$D$1)","v":{"$error":"#N/A"}},{"$f":"INDEX(données!AB81:AF81,individus!$C$1)","v":{"$error":"#N/A"}},{"$f":"INDEX(données!AB81:AF81,individus!$D$1)","v":{"$error":"#N/A"}},{"$error":"#N/A"}]
[null,{"$f":"données!B82","v":"li 79"},{"$f":"INDEX(données!W82:AA82,individus!$C$1)","v":{"$error":"#N/A"}},{"$f":"INDEX(données!W82:AA82,individus!$D$1)","v":{"$error":"#N/A"}},{"$f":"INDEX(données!AB82:AF82,individus!$C$1)","v":{"$error":"#N/A"}},{"$f":"INDEX(données!AB82:AF82,individus!$D$1)","v":{"$error":"#N/A"}},{"$error":"#N/A"}]
[null,{"$f":"données!B83","v":"li 80"},{"$f":"INDEX(données!W83:AA83,individus!$C$1)","v":{"$error":"#N/A"}},{"$f":"INDEX(données!W83:AA83,individus!$D$1)","v":{"$error":"#N/A"}},{"$f":"INDEX(données!AB83:AF83,individus!$C$1)","v":{"$error":"#N/A"}},{"$f":"INDEX(données!AB83:AF83,individus!$D$1)","v":{"$error":"#N/A"}},{"$error":"#N/A"}]
[null,{"$f":"données!B84","v":"li 81"},{"$f":"INDEX(données!W84:AA84,individus!$C$1)","v":{"$error":"#N/A"}},{"$f":"INDEX(données!W84:AA84,individus!$D$1)","v":{"$error":"#N/A"}},{"$f":"INDEX(données!AB84:AF84,individus!$C$1)","v":{"$error":"#N/A"}},{"$f":"INDEX(données!AB84:AF84,individus!$D$1)","v":{"$error":"#N/A"}},{"$error":"#N/A"}]
[null,{"$f":"données!B85","v":"li 82"},{"$f":"INDEX(données!W85:AA85,individus!$C$1)","v":{"$error":"#N/A"}},{"$f":"INDEX(données!W85:AA85,individus!$D$1)","v":{"$error":"#N/A"}},{"$f":"INDEX(données!AB85:AF85,individus!$C$1)","v":{"$error":"#N/A"}},{"$f":"INDEX(données!AB85:AF85,individus!$D$1)","v":{"$error":"#N/A"}},{"$error":"#N/A"}]
[null,{"$f":"données!B86","v":"li 83"},{"$f":"INDEX(données!W86:AA86,individus!$C$1)","v":{"$error":"#N/A"}},{"$f":"INDEX(données!W86:AA86,individus!$D$1)","v":{"$error":"#N/A"}},{"$f":"INDEX(données!AB86:AF86,individus!$C$1)","v":{"$error":"#N/A"}},{"$f":"INDEX(données!AB86:AF86,individus!$D$1)","v":{"$error":"#N/A"}},{"$error":"#N/A"}]
[null,{"$f":"données!B87","v":"li 84"},{"$f":"INDEX(données!W87:AA87,individus!$C$1)","v":{"$error":"#N/A"}},{"$f":"INDEX(données!W87:AA87,individus!$D$1)","v":{"$error":"#N/A"}},{"$f":"INDEX(données!AB87:AF87,individus!$C$1)","v":{"$error":"#N/A"}},{"$f":"INDEX(données!AB87:AF87,individus!$D$1)","v":{"$error":"#N/A"}},{"$error":"#N/A"}]
[null,{"$f":"données!B88","v":"li 85"},{"$f":"INDEX(données!W88:AA88,individus!$C$1)","v":{"$error":"#N/A"}},{"$f":"INDEX(données!W88:AA88,individus!$D$1)","v":{"$error":"#N/A"}},{"$f":"INDEX(données!AB88:AF88,individus!$C$1)","v":{"$error":"#N/A"}},{"$f":"INDEX(données!AB88:AF88,individus!$D$1)","v":{"$error":"#N/A"}},{"$error":"#N/A"}]
[null,{"$f":"données!B89","v":"li 86"},{"$f":"INDEX(données!W89:AA89,individus!$C$1)","v":{"$error":"#N/A"}},{"$f":"INDEX(données!W89:AA89,individus!$D$1)","v":{"$error":"#N/A"}},{"$f":"INDEX(données!AB89:AF89,individus!$C$1)","v":{"$error":"#N/A"}},{"$f":"INDEX(données!AB89:AF89,individus!$D$1)","v":{"$error":"#N/A"}},{"$error":"#N/A"}]
[null,{"$f":"données!B90","v":"li 87"},{"$f":"INDEX(données!W90:AA90,individus!$C$1)","v":{"$error":"#N/A"}},{"$f":"INDEX(données!W90:AA90,individus!$D$1)","v":{"$error":"#N/A"}},{"$f":"INDEX(données!AB90:AF90,individus!$C$1)","v":{"$error":"#N/A"}},{"$f":"INDEX(données!AB90:AF90,individus!$D$1)","v":{"$error":"#N/A"}},{"$error":"#N/A"}]
[null,{"$f":"données!B91","v":"li 88"},{"$f":"INDEX(données!W91:AA91,individus!$C$1)","v":{"$error":"#N/A"}},{"$f":"INDEX(données!W91:AA91,individus!$D$1)","v":{"$error":"#N/A"}},{"$f":"INDEX(données!AB91:AF91,individus!$C$1)","v":{"$error":"#N/A"}},{"$f":"INDEX(données!AB91:AF91,individus!$D$1)","v":{"$error":"#N/A"}},{"$error":"#N/A"}]
[null,{"$f":"données!B92","v":"li 89"},{"$f":"INDEX(données!W92:AA92,individus!$C$1)","v":{"$error":"#N/A"}},{"$f":"INDEX(données!W92:AA92,individus!$D$1)","v":{"$error":"#N/A"}},{"$f":"INDEX(données!AB92:AF92,individus!$C$1)","v":{"$error":"#N/A"}},{"$f":"INDEX(données!AB92:AF92,individus!$D$1)","v":{"$error":"#N/A"}},{"$error":"#N/A"}]
[null,{"$f":"données!B93","v":"li 90"},{"$f":"INDEX(données!W93:AA93,individus!$C$1)","v":{"$error":"#N/A"}},{"$f":"INDEX(données!W93:AA93,individus!$D$1)","v":{"$error":"#N/A"}},{"$f":"INDEX(données!AB93:AF93,individus!$C$1)","v":{"$error":"#N/A"}},{"$f":"INDEX(données!AB93:AF93,individus!$D$1)","v":{"$error":"#N/A"}},{"$error":"#N/A"}]
[null,{"$f":"données!B94","v":"li 91"},{"$f":"INDEX(données!W94:AA94,individus!$C$1)","v":{"$error":"#N/A"}},{"$f":"INDEX(données!W94:AA94,individus!$D$1)","v":{"$error":"#N/A"}},{"$f":"INDEX(données!AB94:AF94,individus!$C$1)","v":{"$error":"#N/A"}},{"$f":"INDEX(données!AB94:AF94,individus!$D$1)","v":{"$error":"#N/A"}},{"$error":"#N/A"}]
[null,{"$f":"données!B95","v":"li 92"},{"$f":"INDEX(données!W95:AA95,individus!$C$1)","v":{"$error":"#N/A"}},{"$f":"INDEX(données!W95:AA95,individus!$D$1)","v":{"$error":"#N/A"}},{"$f":"INDEX(données!AB95:AF95,individus!$C$1)","v":{"$error":"#N/A"}},{"$f":"INDEX(données!AB95:AF95,individus!$D$1)","v":{"$error":"#N/A"}},{"$error":"#N/A"}]
[null,{"$f":"données!B96","v":"li 93"},{"$f":"INDEX(données!W96:AA96,individus!$C$1)","v":{"$error":"#N/A"}},{"$f":"INDEX(données!W96:AA96,individus!$D$1)","v":{"$error":"#N/A"}},{"$f":"INDEX(données!AB96:AF96,individus!$C$1)","v":{"$error":"#N/A"}},{"$f":"INDEX(données!AB96:AF96,individus!$D$1)","v":{"$error":"#N/A"}},{"$error":"#N/A"}]
[null,{"$f":"données!B97","v":"li 94"},{"$f":"INDEX(données!W97:AA97,individus!$C$1)","v":{"$error":"#N/A"}},{"$f":"INDEX(données!W97:AA97,individus!$D$1)","v":{"$error":"#N/A"}},{"$f":"INDEX(données!AB97:AF97,individus!$C$1)","v":{"$error":"#N/A"}},{"$f":"INDEX(données!AB97:AF97,individus!$D$1)","v":{"$error":"#N/A"}},{"$error":"#N/A"}]
[null,{"$f":"données!B98","v":"li 95"},{"$f":"INDEX(données!W98:AA98,individus!$C$1)","v":{"$error":"#N/A"}},{"$f":"INDEX(données!W98:AA98,individus!$D$1)","v":{"$error":"#N/A"}},{"$f":"INDEX(données!AB98:AF98,individus!$C$1)","v":{"$error":"#N/A"}},{"$f":"INDEX(données!AB98:AF98,individus!$D$1)","v":{"$error":"#N/A"}},{"$error":"#N/A"}]
[null,{"$f":"données!B99","v":"li 96"},{"$f":"INDEX(données!W99:AA99,individus!$C$1)","v":{"$error":"#N/A"}},{"$f":"INDEX(données!W99:AA99,individus!$D$1)","v":{"$error":"#N/A"}},{"$f":"INDEX(données!AB99:AF99,individus!$C$1)","v":{"$error":"#N/A"}},{"$f":"INDEX(données!AB99:AF99,individus!$D$1)","v":{"$error":"#N/A"}},{"$error":"#N/A"}]
[null,{"$f":"données!B100","v":"li 97"},{"$f":"INDEX(données!W100:AA100,individus!$C$1)","v":{"$error":"#N/A"}},{"$f":"INDEX(données!W100:AA100,individus!$D$1)","v":{"$error":"#N/A"}},{"$f":"INDEX(données!AB100:AF100,individus!$C$1)","v":{"$error":"#N/A"}},{"$f":"INDEX(données!AB100:AF100,individus!$D$1)","v":{"$error":"#N/A"}},{"$error":"#N/A"}]
[null,{"$f":"données!B101","v":"li 98"},{"$f":"INDEX(données!W101:AA101,individus!$C$1)","v":{"$error":"#N/A"}},{"$f":"INDEX(données!W101:AA101,individus!$D$1)","v":{"$error":"#N/A"}},{"$f":"INDEX(données!AB101:AF101,individus!$C$1)","v":{"$error":"#N/A"}},{"$f":"INDEX(données!AB101:AF101,individus!$D$1)","v":{"$error":"#N/A"}},{"$error":"#N/A"}]
[null,{"$f":"données!B102","v":"li 99"},{"$f":"INDEX(données!W102:AA102,individus!$C$1)","v":{"$error":"#N/A"}},{"$f":"INDEX(données!W102:AA102,individus!$D$1)","v":{"$error":"#N/A"}},{"$f":"INDEX(données!AB102:AF102,individus!$C$1)","v":{"$error":"#N/A"}},{"$f":"INDEX(données!AB102:AF102,individus!$D$1)","v":{"$error":"#N/A"}},{"$error":"#N/A"}]
[null,{"$f":"données!B103","v":"li 100"},{"$f":"INDEX(données!W103:AA103,individus!$C$1)","v":{"$error":"#N/A"}},{"$f":"INDEX(données!W103:AA103,individus!$D$1)","v":{"$error":"#N/A"}},{"$f":"INDEX(données!AB103:AF103,individus!$C$1)","v":{"$error":"#N/A"}},{"$f":"INDEX(données!AB103:AF103,individus!$D$1)","v":{"$error":"#N/A"}},{"$error":"#N/A"}]
[null,{"$f":"données!B104","v":"li 101"},{"$f":"INDEX(données!W104:AA104,individus!$C$1)","v":{"$error":"#N/A"}},{"$f":"INDEX(données!W104:AA104,individus!$D$1)","v":{"$error":"#N/A"}},{"$f":"INDEX(données!AB104:AF104,individus!$C$1)","v":{"$error":"#N/A"}},{"$f":"INDEX(données!AB104:AF104,individus!$D$1)","v":{"$error":"#N/A"}},{"$error":"#N/A"}]
[null,{"$f":"données!B105","v":"li 102"},{"$f":"INDEX(données!W105:AA105,individus!$C$1)","v":{"$error":"#N/A"}},{"$f":"INDEX(données!W105:AA105,individus!$D$1)","v":{"$error":"#N/A"}},{"$f":"INDEX(données!AB105:AF105,individus!$C$1)","v":{"$error":"#N/A"}},{"$f":"INDEX(données!AB105:AF105,individus!$D$1)","v":{"$error":"#N/A"}},{"$error":"#N/A"}]
[null,{"$f":"données!B106","v":"li 103"},{"$f":"INDEX(données!W106:AA106,individus!$C$1)","v":{"$error":"#N/A"}},{"$f":"INDEX(données!W106:AA106,individus!$D$1)","v":{"$error":"#N/A"}},{"$f":"INDEX(données!AB106:AF106,individus!$C$1)","v":{"$error":"#N/A"}},{"$f":"INDEX(données!AB106:AF106,individus!$D$1)","v":{"$error":"#N/A"}},{"$error":"#N/A"}]
[null,{"$f":"données!B107","v":"li 104"},{"$f":"INDEX(données!W107:AA107,individus!$C$1)","v":{"$error":"#N/A"}},{"$f":"INDEX(données!W107:AA107,individus!$D$1)","v":{"$error":"#N/A"}},{"$f":"INDEX(données!AB107:AF107,individus!$C$1)","v":{"$error":"#N/A"}},{"$f":"INDEX(données!AB107:AF107,individus!$D$1)","v":{"$error":"#N/A"}},{"$error":"#N/A"}]
[null,{"$f":"données!B108","v":"li 105"},{"$f":"INDEX(données!W108:AA108,individus!$C$1)","v":{"$error":"#N/A"}},{"$f":"INDEX(données!W108:AA108,individus!$D$1)","v":{"$error":"#N/A"}},{"$f":"INDEX(données!AB108:AF108,individus!$C$1)","v":{"$error":"#N/A"}},{"$f":"INDEX(données!AB108:AF108,individus!$D$1)","v":{"$error":"#N/A"}},{"$error":"#N/A"}]
[null,{"$f":"données!B109","v":"li 106"},{"$f":"INDEX(données!W109:AA109,individus!$C$1)","v":{"$error":"#N/A"}},{"$f":"INDEX(données!W109:AA109,individus!$D$1)","v":{"$error":"#N/A"}},{"$f":"INDEX(données!AB109:AF109,individus!$C$1)","v":{"$error":"#N/A"}},{"$f":"INDEX(données!AB109:AF109,individus!$D$1)","v":{"$error":"#N/A"}},{"$error":"#N/A"}]
[null,{"$f":"données!B110","v":"li 107"},{"$f":"INDEX(données!W110:AA110,individus!$C$1)","v":{"$error":"#N/A"}},{"$f":"INDEX(données!W110:AA110,individus!$D$1)","v":{"$error":"#N/A"}},{"$f":"INDEX(données!AB110:AF110,individus!$C$1)","v":{"$error":"#N/A"}},{"$f":"INDEX(données!AB110:AF110,individus!$D$1)","v":{"$error":"#N/A"}},{"$error":"#N/A"}]
[null,{"$f":"données!B111","v":"li 108"},{"$f":"INDEX(données!W111:AA111,individus!$C$1)","v":{"$error":"#N/A"}},{"$f":"INDEX(données!W111:AA111,individus!$D$1)","v":{"$error":"#N/A"}},{"$f":"INDEX(données!AB111:AF111,individus!$C$1)","v":{"$error":"#N/A"}},{"$f":"INDEX(données!AB111:AF111,individus!$D$1)","v":{"$error":"#N/A"}},{"$error":"#N/A"}]
[null,{"$f":"données!B112","v":"li 109"},{"$f":"INDEX(données!W112:AA112,individus!$C$1)","v":{"$error":"#N/A"}},{"$f":"INDEX(données!W112:AA112,individus!$D$1)","v":{"$error":"#N/A"}},{"$f":"INDEX(données!AB112:AF112,individus!$C$1)","v":{"$error":"#N/A"}},{"$f":"INDEX(données!AB112:AF112,individus!$D$1)","v":{"$error":"#N/A"}},{"$error":"#N/A"}]
[null,{"$f":"données!B113","v":"li 110"},{"$f":"INDEX(données!W113:AA113,individus!$C$1)","v":{"$error":"#N/A"}},{"$f":"INDEX(données!W113:AA113,individus!$D$1)","v":{"$error":"#N/A"}},{"$f":"INDEX(données!AB113:AF113,individus!$C$1)","v":{"$error":"#N/A"}},{"$f":"INDEX(données!AB113:AF113,individus!$D$1)","v":{"$error":"#N/A"}},{"$error":"#N/A"}]
[null,{"$f":"données!B114","v":"li 111"},{"$f":"INDEX(données!W114:AA114,individus!$C$1)","v":{"$error":"#N/A"}},{"$f":"INDEX(données!W114:AA114,individus!$D$1)","v":{"$error":"#N/A"}},{"$f":"INDEX(données!AB114:AF114,individus!$C$1)","v":{"$error":"#N/A"}},{"$f":"INDEX(données!AB114:AF114,individus!$D$1)","v":{"$error":"#N/A"}},{"$error":"#N/A"}]
[null,{"$f":"données!B115","v":"li 112"},{"$f":"INDEX(données!W115:AA115,individus!$C$1)","v":{"$error":"#N/A"}},{"$f":"INDEX(données!W115:AA115,individus!$D$1)","v":{"$error":"#N/A"}},{"$f":"INDEX(données!AB115:AF115,individus!$C$1)","v":{"$error":"#N/A"}},{"$f":"INDEX(données!AB115:AF115,individus!$D$1)","v":{"$error":"#N/A"}},{"$error":"#N/A"}]
[null,{"$f":"données!B116","v":"li 113"},{"$f":"INDEX(données!W116:AA116,individus!$C$1)","v":{"$error":"#N/A"}},{"$f":"INDEX(données!W116:AA116,individus!$D$1)","v":{"$error":"#N/A"}},{"$f":"INDEX(données!AB116:AF116,individus!$C$1)","v":{"$error":"#N/A"}},{"$f":"INDEX(données!AB116:AF116,individus!$D$1)","v":{"$error":"#N/A"}},{"$error":"#N/A"}]
[null,{"$f":"données!B117","v":"li 114"},{"$f":"INDEX(données!W117:AA117,individus!$C$1)","v":{"$error":"#N/A"}},{"$f":"INDEX(données!W117:AA117,individus!$D$1)","v":{"$error":"#N/A"}},{"$f":"INDEX(données!AB117:AF117,individus!$C$1)","v":{"$error":"#N/A"}},{"$f":"INDEX(données!AB117:AF117,individus!$D$1)","v":{"$error":"#N/A"}},{"$error":"#N/A"}]
[null,{"$f":"données!B118","v":"li 115"},{"$f":"INDEX(données!W118:AA118,individus!$C$1)","v":{"$error":"#N/A"}},{"$f":"INDEX(données!W118:AA118,individus!$D$1)","v":{"$error":"#N/A"}},{"$f":"INDEX(données!AB118:AF118,individus!$C$1)","v":{"$error":"#N/A"}},{"$f":"INDEX(données!AB118:AF118,individus!$D$1)","v":{"$error":"#N/A"}},{"$error":"#N/A"}]
[null,{"$f":"données!B119","v":"li 116"},{"$f":"INDEX(données!W119:AA119,individus!$C$1)","v":{"$error":"#N/A"}},{"$f":"INDEX(données!W119:AA119,individus!$D$1)","v":{"$error":"#N/A"}},{"$f":"INDEX(données!AB119:AF119,individus!$C$1)","v":{"$error":"#N/A"}},{"$f":"INDEX(données!AB119:AF119,individus!$D$1)","v":{"$error":"#N/A"}},{"$error":"#N/A"}]
[null,{"$f":"données!B120","v":"li 117"},{"$f":"INDEX(données!W120:AA120,individus!$C$1)","v":{"$error":"#N/A"}},{"$f":"INDEX(données!W120:AA120,individus!$D$1)","v":{"$error":"#N/A"}},{"$f":"INDEX(données!AB120:AF120,individus!$C$1)","v":{"$error":"#N/A"}},{"$f":"INDEX(données!AB120:AF120,individus!$D$1)","v":{"$error":"#N/A"}},{"$error":"#N/A"}]
[null,{"$f":"données!B121","v":"li 118"},{"$f":"INDEX(données!W121:AA121,individus!$C$1)","v":{"$error":"#N/A"}},{"$f":"INDEX(données!W121:AA121,individus!$D$1)","v":{"$error":"#N/A"}},{"$f":"INDEX(données!AB121:AF121,individus!$C$1)","v":{"$error":"#N/A"}},{"$f":"INDEX(données!AB121:AF121,individus!$D$1)","v":{"$error":"#N/A"}},{"$error":"#N/A"}]
[null,{"$f":"données!B122","v":"li 119"},{"$f":"INDEX(données!W122:AA122,individus!$C$1)","v":{"$error":"#N/A"}},{"$f":"INDEX(données!W122:AA122,individus!$D$1)","v":{"$error":"#N/A"}},{"$f":"INDEX(données!AB122:AF122,individus!$C$1)","v":{"$error":"#N/A"}},{"$f":"INDEX(données!AB122:AF122,individus!$D$1)","v":{"$error":"#N/A"}},{"$error":"#N/A"}]
[null,{"$f":"données!B123","v":"li 120"},{"$f":"INDEX(données!W123:AA123,individus!$C$1)","v":{"$error":"#N/A"}},{"$f":"INDEX(données!W123:AA123,individus!$D$1)","v":{"$error":"#N/A"}},{"$f":"INDEX(données!AB123:AF123,individus!$C$1)","v":{"$error":"#N/A"}},{"$f":"INDEX(données!AB123:AF123,individus!$D$1)","v":{"$error":"#N/A"}},{"$error":"#N/A"}]
[null,{"$f":"données!B124","v":"li 121"},{"$f":"INDEX(données!W124:AA124,individus!$C$1)","v":{"$error":"#N/A"}},{"$f":"INDEX(données!W124:AA124,individus!$D$1)","v":{"$error":"#N/A"}},{"$f":"INDEX(données!AB124:AF124,individus!$C$1)","v":{"$error":"#N/A"}},{"$f":"INDEX(données!AB124:AF124,individus!$D$1)","v":{"$error":"#N/A"}},{"$error":"#N/A"}]
[null,{"$f":"données!B125","v":"li 122"},{"$f":"INDEX(données!W125:AA125,individus!$C$1)","v":{"$error":"#N/A"}},{"$f":"INDEX(données!W125:AA125,individus!$D$1)","v":{"$error":"#N/A"}},{"$f":"INDEX(données!AB125:AF125,individus!$C$1)","v":{"$error":"#N/A"}},{"$f":"INDEX(données!AB125:AF125,individus!$D$1)","v":{"$error":"#N/A"}},{"$error":"#N/A"}]
[null,{"$f":"données!B126","v":"li 123"},{"$f":"INDEX(données!W126:AA126,individus!$C$1)","v":{"$error":"#N/A"}},{"$f":"INDEX(données!W126:AA126,individus!$D$1)","v":{"$error":"#N/A"}},{"$f":"INDEX(données!AB126:AF126,individus!$C$1)","v":{"$error":"#N/A"}},{"$f":"INDEX(données!AB126:AF126,individus!$D$1)","v":{"$error":"#N/A"}},{"$error":"#N/A"}]
[null,{"$f":"données!B127","v":"li 124"},{"$f":"INDEX(données!W127:AA127,individus!$C$1)","v":{"$error":"#N/A"}},{"$f":"INDEX(données!W127:AA127,individus!$D$1)","v":{"$error":"#N/A"}},{"$f":"INDEX(données!AB127:AF127,individus!$C$1)","v":{"$error":"#N/A"}},{"$f":"INDEX(données!AB127:AF127,individus!$D$1)","v":{"$error":"#N/A"}},{"$error":"#N/A"}]
[null,{"$f":"données!B128","v":"li 125"},{"$f":"INDEX(données!W128:AA128,individus!$C$1)","v":{"$error":"#N/A"}},{"$f":"INDEX(données!W128:AA128,individus!$D$1)","v":{"$error":"#N/A"}},{"$f":"INDEX(données!AB128:AF128,individus!$C$1)","v":{"$error":"#N/A"}},{"$f":"INDEX(données!AB128:AF128,individus!$D$1)","v":{"$error":"#N/A"}},{"$error":"#N/A"}]
[null,{"$f":"données!B129","v":"li 126"},{"$f":"INDEX(données!W129:AA129,individus!$C$1)","v":{"$error":"#N/A"}},{"$f":"INDEX(données!W129:AA129,individus!$D$1)","v":{"$error":"#N/A"}},{"$f":"INDEX(données!AB129:AF129,individus!$C$1)","v":{"$error":"#N/A"}},{"$f":"INDEX(données!AB129:AF129,individus!$D$1)","v":{"$error":"#N/A"}},{"$error":"#N/A"}]
[null,{"$f":"données!B130","v":"li 127"},{"$f":"INDEX(données!W130:AA130,individus!$C$1)","v":{"$error":"#N/A"}},{"$f":"INDEX(données!W130:AA130,individus!$D$1)","v":{"$error":"#N/A"}},{"$f":"INDEX(données!AB130:AF130,individus!$C$1)","v":{"$error":"#N/A"}},{"$f":"INDEX(données!AB130:AF130,individus!$D$1)","v":{"$error":"#N/A"}},{"$error":"#N/A"}]
[null,{"$f":"données!B131","v":"li 128"},{"$f":"INDEX(données!W131:AA131,individus!$C$1)","v":{"$error":"#N/A"}},{"$f":"INDEX(données!W131:AA131,individus!$D$1)","v":{"$error":"#N/A"}},{"$f":"INDEX(données!AB131:AF131,individus!$C$1)","v":{"$error":"#N/A"}},{"$f":"INDEX(données!AB131:AF131,individus!$D$1)","v":{"$error":"#N/A"}},{"$error":"#N/A"}]
[null,{"$f":"données!B132","v":"li 129"},{"$f":"INDEX(données!W132:AA132,individus!$C$1)","v":{"$error":"#N/A"}},{"$f":"INDEX(données!W132:AA132,individus!$D$1)","v":{"$error":"#N/A"}},{"$f":"INDEX(données!AB132:AF132,individus!$C$1)","v":{"$error":"#N/A"}},{"$f":"INDEX(données!AB132:AF132,individus!$D$1)","v":{"$error":"#N/A"}},{"$error":"#N/A"}]
[null,{"$f":"données!B133","v":"li 130"},{"$f":"INDEX(données!W133:AA133,individus!$C$1)","v":{"$error":"#N/A"}},{"$f":"INDEX(données!W133:AA133,individus!$D$1)","v":{"$error":"#N/A"}},{"$f":"INDEX(données!AB133:AF133,individus!$C$1)","v":{"$error":"#N/A"}},{"$f":"INDEX(données!AB133:AF133,individus!$D$1)","v":{"$error":"#N/A"}},{"$f":"E133+F133","v":{"$error":"#N/A"}}]
[null,{"$f":"données!B134","v":"li 131"},{"$f":"INDEX(données!W134:AA134,individus!$C$1)","v":{"$error":"#N/A"}},{"$f":"INDEX(données!W134:AA134,individus!$D$1)","v":{"$error":"#N/A"}},{"$f":"INDEX(données!AB134:AF134,individus!$C$1)","v":{"$error":"#N/A"}},{"$f":"INDEX(données!AB134:AF134,individus!$D$1)","v":{"$error":"#N/A"}},{"$error":"#N/A"}]
[null,{"$f":"données!B135","v":"li 132"},{"$f":"INDEX(données!W135:AA135,individus!$C$1)","v":{"$error":"#N/A"}},{"$f":"INDEX(données!W135:AA135,individus!$D$1)","v":{"$error":"#N/A"}},{"$f":"INDEX(données!AB135:AF135,individus!$C$1)","v":{"$error":"#N/A"}},{"$f":"INDEX(données!AB135:AF135,individus!$D$1)","v":{"$error":"#N/A"}},{"$error":"#N/A"}]
[null,{"$f":"données!B136","v":"li 133"},{"$f":"INDEX(données!W136:AA136,individus!$C$1)","v":{"$error":"#N/A"}},{"$f":"INDEX(données!W136:AA136,individus!$D$1)","v":{"$error":"#N/A"}},{"$f":"INDEX(données!AB136:AF136,individus!$C$1)","v":{"$error":"#N/A"}},{"$f":"INDEX(données!AB136:AF136,individus!$D$1)","v":{"$error":"#N/A"}},{"$error":"#N/A"}]
[null,{"$f":"données!B137","v":"li 134"},{"$f":"INDEX(données!W137:AA137,individus!$C$1)","v":{"$error":"#N/A"}},{"$f":"INDEX(données!W137:AA137,individus!$D$1)","v":{"$error":"#N/A"}},{"$f":"INDEX(données!AB137:AF137,individus!$C$1)","v":{"$error":"#N/A"}},{"$f":"INDEX(données!AB137:AF137,individus!$D$1)","v":{"$error":"#N/A"}},{"$error":"#N/A"}]
[null,{"$f":"données!B138","v":"li 135"},{"$f":"INDEX(données!W138:AA138,individus!$C$1)","v":{"$error":"#N/A"}},{"$f":"INDEX(données!W138:AA138,individus!$D$1)","v":{"$error":"#N/A"}},{"$f":"INDEX(données!AB138:AF138,individus!$C$1)","v":{"$error":"#N/A"}},{"$f":"INDEX(données!AB138:AF138,individus!$D$1)","v":{"$error":"#N/A"}},{"$error":"#N/A"}]
[null,{"$f":"données!B139","v":"li 136"},{"$f":"INDEX(données!W139:AA139,individus!$C$1)","v":{"$error":"#N/A"}},{"$f":"INDEX(données!W139:AA139,individus!$D$1)","v":{"$error":"#N/A"}},{"$f":"INDEX(données!AB139:AF139,individus!$C$1)","v":{"$error":"#N/A"}},{"$f":"INDEX(données!AB139:AF139,individus!$D$1)","v":{"$error":"#N/A"}},{"$error":"#N/A"}]
[null,{"$f":"données!B140","v":"li 137"},{"$f":"INDEX(données!W140:AA140,individus!$C$1)","v":{"$error":"#N/A"}},{"$f":"INDEX(données!W140:AA140,individus!$D$1)","v":{"$error":"#N/A"}},{"$f":"INDEX(données!AB140:AF140,individus!$C$1)","v":{"$error":"#N/A"}},{"$f":"INDEX(données!AB140:AF140,individus!$D$1)","v":{"$error":"#N/A"}},{"$error":"#N/A"}]
[null,{"$f":"données!B141","v":"li 138"},{"$f":"INDEX(données!W141:AA141,individus!$C$1)","v":{"$error":"#N/A"}},{"$f":"INDEX(données!W141:AA141,individus!$D$1)","v":{"$error":"#N/A"}},{"$f":"INDEX(données!AB141:AF141,individus!$C$1)","v":{"$error":"#N/A"}},{"$f":"INDEX(données!AB141:AF141,individus!$D$1)","v":{"$error":"#N/A"}},{"$error":"#N/A"}]
[null,{"$f":"données!B142","v":"li 139"},{"$f":"INDEX(données!W142:AA142,individus!$C$1)","v":{"$error":"#N/A"}},{"$f":"INDEX(données!W142:AA142,individus!$D$1)","v":{"$error":"#N/A"}},{"$f":"INDEX(données!AB142:AF142,individus!$C$1)","v":{"$error":"#N/A"}},{"$f":"INDEX(données!AB142:AF142,individus!$D$1)","v":{"$error":"#N/A"}},{"$error":"#N/A"}]
[null,{"$f":"données!B143","v":"li 140"},{"$f":"INDEX(données!W143:AA143,individus!$C$1)","v":{"$error":"#N/A"}},{"$f":"INDEX(données!W143:AA143,individus!$D$1)","v":{"$error":"#N/A"}},{"$f":"INDEX(données!AB143:AF143,individus!$C$1)","v":{"$error":"#N/A"}},{"$f":"INDEX(données!AB143:AF143,individus!$D$1)","v":{"$error":"#N/A"}},{"$error":"#N/A"}]
[null,{"$f":"données!B144","v":"li 141"},{"$f":"INDEX(données!W144:AA144,individus!$C$1)","v":{"$error":"#N/A"}},{"$f":"INDEX(données!W144:AA144,individus!$D$1)","v":{"$error":"#N/A"}},{"$f":"INDEX(données!AB144:AF144,individus!$C$1)","v":{"$error":"#N/A"}},{"$f":"INDEX(données!AB144:AF144,individus!$D$1)","v":{"$error":"#N/A"}},{"$error":"#N/A"}]
[null,{"$f":"données!B145","v":"li 142"},{"$f":"INDEX(données!W145:AA145,individus!$C$1)","v":{"$error":"#N/A"}},{"$f":"INDEX(données!W145:AA145,individus!$D$1)","v":{"$error":"#N/A"}},{"$f":"INDEX(données!AB145:AF145,individus!$C$1)","v":{"$error":"#N/A"}},{"$f":"INDEX(données!AB145:AF145,individus!$D$1)","v":{"$error":"#N/A"}},{"$error":"#N/A"}]
[null,{"$f":"données!B146","v":"li 143"},{"$f":"INDEX(données!W146:AA146,individus!$C$1)","v":{"$error":"#N/A"}},{"$f":"INDEX(données!W146:AA146,individus!$D$1)","v":{"$error":"#N/A"}},{"$f":"INDEX(données!AB146:AF146,individus!$C$1)","v":{"$error":"#N/A"}},{"$f":"INDEX(données!AB146:AF146,individus!$D$1)","v":{"$error":"#N/A"}},{"$error":"#N/A"}]
[null,{"$f":"données!B147","v":"li 144"},{"$f":"INDEX(données!W147:AA147,individus!$C$1)","v":{"$error":"#N/A"}},{"$f":"INDEX(données!W147:AA147,individus!$D$1)","v":{"$error":"#N/A"}},{"$f":"INDEX(données!AB147:AF147,individus!$C$1)","v":{"$error":"#N/A"}},{"$f":"INDEX(données!AB147:AF147,individus!$D$1)","v":{"$error":"#N/A"}},{"$error":"#N/A"}]
[null,{"$f":"données!B148","v":"li 145"},{"$f":"INDEX(données!W148:AA148,individus!$C$1)","v":{"$error":"#N/A"}},{"$f":"INDEX(données!W148:AA148,individus!$D$1)","v":{"$error":"#N/A"}},{"$f":"INDEX(données!AB148:AF148,individus!$C$1)","v":{"$error":"#N/A"}},{"$f":"INDEX(données!AB148:AF148,individus!$D$1)","v":{"$error":"#N/A"}},{"$error":"#N/A"}]
[null,{"$f":"données!B149","v":"li 146"},{"$f":"INDEX(données!W149:AA149,individus!$C$1)","v":{"$error":"#N/A"}},{"$f":"INDEX(données!W149:AA149,individus!$D$1)","v":{"$error":"#N/A"}},{"$f":"INDEX(données!AB149:AF149,individus!$C$1)","v":{"$error":"#N/A"}},{"$f":"INDEX(données!AB149:AF149,individus!$D$1)","v":{"$error":"#N/A"}},{"$error":"#N/A"}]
[null,{"$f":"données!B150","v":"li 147"},{"$f":"INDEX(données!W150:AA150,individus!$C$1)","v":{"$error":"#N/A"}},{"$f":"INDEX(données!W150:AA150,individus!$D$1)","v":{"$error":"#N/A"}},{"$f":"INDEX(données!AB150:AF150,individus!$C$1)","v":{"$error":"#N/A"}},{"$f":"INDEX(données!AB150:AF150,individus!$D$1)","v":{"$error":"#N/A"}},{"$error":"#N/A"}]
[null,{"$f":"données!B151","v":"li 148"},{"$f":"INDEX(données!W151:AA151,individus!$C$1)","v":{"$error":"#N/A"}},{"$f":"INDEX(données!W151:AA151,individus!$D$1)","v":{"$error":"#N/A"}},{"$f":"INDEX(données!AB151:AF151,individus!$C$1)","v":{"$error":"#N/A"}},{"$f":"INDEX(données!AB151:AF151,individus!$D$1)","v":{"$error":"#N/A"}},{"$error":"#N/A"}]
[null,{"$f":"données!B152","v":"li 149"},{"$f":"INDEX(données!W152:AA152,individus!$C$1)","v":{"$error":"#N/A"}},{"$f":"INDEX(données!W152:AA152,individus!$D$1)","v":{"$error":"#N/A"}},{"$f":"INDEX(données!AB152:AF152,individus!$C$1)","v":{"$error":"#N/A"}},{"$f":"INDEX(données!AB152:AF152,individus!$D$1)","v":{"$error":"#N/A"}},{"$error":"#N/A"}]
[null,{"$f":"données!B153","v":"li 150"},{"$f":"INDEX(données!W153:AA153,individus!$C$1)","v":{"$error":"#N/A"}},{"$f":"INDEX(données!W153:AA153,individus!$D$1)","v":{"$error":"#N/A"}},{"$f":"INDEX(données!AB153:AF153,individus!$C$1)","v":{"$error":"#N/A"}},{"$f":"INDEX(données!AB153:AF153,individus!$D$1)","v":{"$error":"#N/A"}},{"$error":"#N/A"}]
[null,{"$f":"données!B154","v":"li 151"},{"$f":"INDEX(données!W154:AA154,individus!$C$1)","v":{"$error":"#N/A"}},{"$f":"INDEX(données!W154:AA154,individus!$D$1)","v":{"$error":"#N/A"}},{"$f":"INDEX(données!AB154:AF154,individus!$C$1)","v":{"$error":"#N/A"}},{"$f":"INDEX(données!AB154:AF154,individus!$D$1)","v":{"$error":"#N/A"}},{"$error":"#N/A"}]
[null,{"$f":"données!B155","v":"li 152"},{"$f":"INDEX(données!W155:AA155,individus!$C$1)","v":{"$error":"#N/A"}},{"$f":"INDEX(données!W155:AA155,individus!$D$1)","v":{"$error":"#N/A"}},{"$f":"INDEX(données!AB155:AF155,individus!$C$1)","v":{"$error":"#N/A"}},{"$f":"INDEX(données!AB155:AF155,individus!$D$1)","v":{"$error":"#N/A"}},{"$error":"#N/A"}]
[null,{"$f":"données!B156","v":"li 153"},{"$f":"INDEX(données!W156:AA156,individus!$C$1)","v":{"$error":"#N/A"}},{"$f":"INDEX(données!W156:AA156,individus!$D$1)","v":{"$error":"#N/A"}},{"$f":"INDEX(données!AB156:AF156,individus!$C$1)","v":{"$error":"#N/A"}},{"$f":"INDEX(données!AB156:AF156,individus!$D$1)","v":{"$error":"#N/A"}},{"$error":"#N/A"}]
[null,{"$f":"données!B157","v":"li 154"},{"$f":"INDEX(données!W157:AA157,individus!$C$1)","v":{"$error":"#N/A"}},{"$f":"INDEX(données!W157:AA157,individus!$D$1)","v":{"$error":"#N/A"}},{"$f":"INDEX(données!AB157:AF157,individus!$C$1)","v":{"$error":"#N/A"}},{"$f":"INDEX(données!AB157:AF157,individus!$D$1)","v":{"$error":"#N/A"}},{"$error":"#N/A"}]
[null,{"$f":"données!B158","v":"li 155"},{"$f":"INDEX(données!W158:AA158,individus!$C$1)","v":{"$error":"#N/A"}},{"$f":"INDEX(données!W158:AA158,individus!$D$1)","v":{"$error":"#N/A"}},{"$f":"INDEX(données!AB158:AF158,individus!$C$1)","v":{"$error":"#N/A"}},{"$f":"INDEX(données!AB158:AF158,individus!$D$1)","v":{"$error":"#N/A"}},{"$error":"#N/A"}]
[null,{"$f":"données!B159","v":"li 156"},{"$f":"INDEX(données!W159:AA159,individus!$C$1)","v":{"$error":"#N/A"}},{"$f":"INDEX(données!W159:AA159,individus!$D$1)","v":{"$error":"#N/A"}},{"$f":"INDEX(données!AB159:AF159,individus!$C$1)","v":{"$error":"#N/A"}},{"$f":"INDEX(données!AB159:AF159,individus!$D$1)","v":{"$error":"#N/A"}},{"$error":"#N/A"}]
[null,{"$f":"données!B160","v":"li 157"},{"$f":"INDEX(données!W160:AA160,individus!$C$1)","v":{"$error":"#N/A"}},{"$f":"INDEX(données!W160:AA160,individus!$D$1)","v":{"$error":"#N/A"}},{"$f":"INDEX(données!AB160:AF160,individus!$C$1)","v":{"$error":"#N/A"}},{"$f":"INDEX(données!AB160:AF160,individus!$D$1)","v":{"$error":"#N/A"}},{"$error":"#N/A"}]
[null,{"$f":"données!B161","v":"li 158"},{"$f":"INDEX(données!W161:AA161,individus!$C$1)","v":{"$error":"#N/A"}},{"$f":"INDEX(données!W161:AA161,individus!$D$1)","v":{"$error":"#N/A"}},{"$f":"INDEX(données!AB161:AF161,individus!$C$1)","v":{"$error":"#N/A"}},{"$f":"INDEX(données!AB161:AF161,individus!$D$1)","v":{"$error":"#N/A"}},{"$error":"#N/A"}]
[null,{"$f":"données!B162","v":"li 159"},{"$f":"INDEX(données!W162:AA162,individus!$C$1)","v":{"$error":"#N/A"}},{"$f":"INDEX(données!W162:AA162,individus!$D$1)","v":{"$error":"#N/A"}},{"$f":"INDEX(données!AB162:AF162,individus!$C$1)","v":{"$error":"#N/A"}},{"$f":"INDEX(données!AB162:AF162,individus!$D$1)","v":{"$error":"#N/A"}},{"$error":"#N/A"}]
[null,{"$f":"données!B163","v":"li 160"},{"$f":"INDEX(données!W163:AA163,individus!$C$1)","v":{"$error":"#N/A"}},{"$f":"INDEX(données!W163:AA163,individus!$D$1)","v":{"$error":"#N/A"}},{"$f":"INDEX(données!AB163:AF163,individus!$C$1)","v":{"$error":"#N/A"}},{"$f":"INDEX(données!AB163:AF163,individus!$D$1)","v":{"$error":"#N/A"}},{"$error":"#N/A"}]
[null,{"$f":"données!B164","v":"li 161"},{"$f":"INDEX(données!W164:AA164,individus!$C$1)","v":{"$error":"#N/A"}},{"$f":"INDEX(données!W164:AA164,individus!$D$1)","v":{"$error":"#N/A"}},{"$f":"INDEX(données!AB164:AF164,individus!$C$1)","v":{"$error":"#N/A"}},{"$f":"INDEX(données!AB164:AF164,individus!$D$1)","v":{"$error":"#N/A"}},{"$error":"#N/A"}]
[null,{"$f":"données!B165","v":"li 162"},{"$f":"INDEX(données!W165:AA165,individus!$C$1)","v":{"$error":"#N/A"}},{"$f":"INDEX(données!W165:AA165,individus!$D$1)","v":{"$error":"#N/A"}},{"$f":"INDEX(données!AB165:AF165,individus!$C$1)","v":{"$error":"#N/A"}},{"$f":"INDEX(données!AB165:AF165,individus!$D$1)","v":{"$error":"#N/A"}},{"$error":"#N/A"}]
[null,{"$f":"données!B166","v":"li 163"},{"$f":"INDEX(données!W166:AA166,individus!$C$1)","v":{"$error":"#N/A"}},{"$f":"INDEX(données!W166:AA166,individus!$D$1)","v":{"$error":"#N/A"}},{"$f":"INDEX(données!AB166:AF166,individus!$C$1)","v":{"$error":"#N/A"}},{"$f":"INDEX(données!AB166:AF166,individus!$D$1)","v":{"$error":"#N/A"}},{"$error":"#N/A"}]
[null,{"$f":"données!B167","v":"li 164"},{"$f":"INDEX(données!W167:AA167,individus!$C$1)","v":{"$error":"#N/A"}},{"$f":"INDEX(données!W167:AA167,individus!$D$1)","v":{"$error":"#N/A"}},{"$f":"INDEX(données!AB167:AF167,individus!$C$1)","v":{"$error":"#N/A"}},{"$f":"INDEX(données!AB167:AF167,individus!$D$1)","v":{"$error":"#N/A"}},{"$error":"#N/A"}]
[null,{"$f":"données!B168","v":"li 165"},{"$f":"INDEX(données!W168:AA168,individus!$C$1)","v":{"$error":"#N/A"}},{"$f":"INDEX(données!W168:AA168,individus!$D$1)","v":{"$error":"#N/A"}},{"$f":"INDEX(données!AB168:AF168,individus!$C$1)","v":{"$error":"#N/A"}},{"$f":"INDEX(données!AB168:AF168,individus!$D$1)","v":{"$error":"#N/A"}},{"$error":"#N/A"}]
[null,{"$f":"données!B169","v":"li 166"},{"$f":"INDEX(données!W169:AA169,individus!$C$1)","v":{"$error":"#N/A"}},{"$f":"INDEX(données!W169:AA169,individus!$D$1)","v":{"$error":"#N/A"}},{"$f":"INDEX(données!AB169:AF169,individus!$C$1)","v":{"$error":"#N/A"}},{"$f":"INDEX(données!AB169:AF169,individus!$D$1)","v":{"$error":"#N/A"}},{"$error":"#N/A"}]
[null,{"$f":"données!B170","v":"li 167"},{"$f":"INDEX(données!W170:AA170,individus!$C$1)","v":{"$error":"#N/A"}},{"$f":"INDEX(données!W170:AA170,individus!$D$1)","v":{"$error":"#N/A"}},{"$f":"INDEX(données!AB170:AF170,individus!$C$1)","v":{"$error":"#N/A"}},{"$f":"INDEX(données!AB170:AF170,individus!$D$1)","v":{"$error":"#N/A"}},{"$error":"#N/A"}]
[null,{"$f":"données!B171","v":"li 168"},{"$f":"INDEX(données!W171:AA171,individus!$C$1)","v":{"$error":"#N/A"}},{"$f":"INDEX(données!W171:AA171,individus!$D$1)","v":{"$error":"#N/A"}},{"$f":"INDEX(données!AB171:AF171,individus!$C$1)","v":{"$error":"#N/A"}},{"$f":"INDEX(données!AB171:AF171,individus!$D$1)","v":{"$error":"#N/A"}},{"$error":"#N/A"}]
[null,{"$f":"données!B172","v":"li 169"},{"$f":"INDEX(données!W172:AA172,individus!$C$1)","v":{"$error":"#N/A"}},{"$f":"INDEX(données!W172:AA172,individus!$D$1)","v":{"$error":"#N/A"}},{"$f":"INDEX(données!AB172:AF172,individus!$C$1)","v":{"$error":"#N/A"}},{"$f":"INDEX(données!AB172:AF172,individus!$D$1)","v":{"$error":"#N/A"}},{"$error":"#N/A"}]
[null,{"$f":"données!B173","v":"li 170"},{"$f":"INDEX(données!W173:AA173,individus!$C$1)","v":{"$error":"#N/A"}},{"$f":"INDEX(données!W173:AA173,individus!$D$1)","v":{"$error":"#N/A"}},{"$f":"INDEX(données!AB173:AF173,individus!$C$1)","v":{"$error":"#N/A"}},{"$f":"INDEX(données!AB173:AF173,individus!$D$1)","v":{"$error":"#N/A"}},{"$error":"#N/A"}]
[null,{"$f":"données!B174","v":"li 171"},{"$f":"INDEX(données!W174:AA174,individus!$C$1)","v":{"$error":"#N/A"}},{"$f":"INDEX(données!W174:AA174,individus!$D$1)","v":{"$error":"#N/A"}},{"$f":"INDEX(données!AB174:AF174,individus!$C$1)","v":{"$error":"#N/A"}},{"$f":"INDEX(données!AB174:AF174,individus!$D$1)","v":{"$error":"#N/A"}},{"$error":"#N/A"}]
[null,{"$f":"données!B175","v":"li 172"},{"$f":"INDEX(données!W175:AA175,individus!$C$1)","v":{"$error":"#N/A"}},{"$f":"INDEX(données!W175:AA175,individus!$D$1)","v":{"$error":"#N/A"}},{"$f":"INDEX(données!AB175:AF175,individus!$C$1)","v":{"$error":"#N/A"}},{"$f":"INDEX(données!AB175:AF175,individus!$D$1)","v":{"$error":"#N/A"}},{"$error":"#N/A"}]
[null,{"$f":"données!B176","v":"li 173"},{"$f":"INDEX(données!W176:AA176,individus!$C$1)","v":{"$error":"#N/A"}},{"$f":"INDEX(données!W176:AA176,individus!$D$1)","v":{"$error":"#N/A"}},{"$f":"INDEX(données!AB176:AF176,individus!$C$1)","v":{"$error":"#N/A"}},{"$f":"INDEX(données!AB176:AF176,individus!$D$1)","v":{"$error":"#N/A"}},{"$error":"#N/A"}]
[null,{"$f":"données!B177","v":"li 174"},{"$f":"INDEX(données!W177:AA177,individus!$C$1)","v":{"$error":"#N/A"}},{"$f":"INDEX(données!W177:AA177,individus!$D$1)","v":{"$error":"#N/A"}},{"$f":"INDEX(données!AB177:AF177,individus!$C$1)","v":{"$error":"#N/A"}},{"$f":"INDEX(données!AB177:AF177,individus!$D$1)","v":{"$error":"#N/A"}},{"$error":"#N/A"}]
[null,{"$f":"données!B178","v":"li 175"},{"$f":"INDEX(données!W178:AA178,individus!$C$1)","v":{"$error":"#N/A"}},{"$f":"INDEX(données!W178:AA178,individus!$D$1)","v":{"$error":"#N/A"}},{"$f":"INDEX(données!AB178:AF178,individus!$C$1)","v":{"$error":"#N/A"}},{"$f":"INDEX(données!AB178:AF178,individus!$D$1)","v":{"$error":"#N/A"}},{"$error":"#N/A"}]
[null,{"$f":"données!B179","v":"li 176"},{"$f":"INDEX(données!W179:AA179,individus!$C$1)","v":{"$error":"#N/A"}},{"$f":"INDEX(données!W179:AA179,individus!$D$1)","v":{"$error":"#N/A"}},{"$f":"INDEX(données!AB179:AF179,individus!$C$1)","v":{"$error":"#N/A"}},{"$f":"INDEX(données!AB179:AF179,individus!$D$1)","v":{"$error":"#N/A"}},{"$error":"#N/A"}]
[null,{"$f":"données!B180","v":"li 177"},{"$f":"INDEX(données!W180:AA180,individus!$C$1)","v":{"$error":"#N/A"}},{"$f":"INDEX(données!W180:AA180,individus!$D$1)","v":{"$error":"#N/A"}},{"$f":"INDEX(données!AB180:AF180,individus!$C$1)","v":{"$error":"#N/A"}},{"$f":"INDEX(données!AB180:AF180,individus!$D$1)","v":{"$error":"#N/A"}},{"$error":"#N/A"}]
[null,{"$f":"données!B181","v":"li 178"},{"$f":"INDEX(données!W181:AA181,individus!$C$1)","v":{"$error":"#N/A"}},{"$f":"INDEX(données!W181:AA181,individus!$D$1)","v":{"$error":"#N/A"}},{"$f":"INDEX(données!AB181:AF181,individus!$C$1)","v":{"$error":"#N/A"}},{"$f":"INDEX(données!AB181:AF181,individus!$D$1)","v":{"$error":"#N/A"}},{"$error":"#N/A"}]
[null,{"$f":"données!B182","v":"li 179"},{"$f":"INDEX(données!W182:AA182,individus!$C$1)","v":{"$error":"#N/A"}},{"$f":"INDEX(données!W182:AA182,individus!$D$1)","v":{"$error":"#N/A"}},{"$f":"INDEX(données!AB182:AF182,individus!$C$1)","v":{"$error":"#N/A"}},{"$f":"INDEX(données!AB182:AF182,individus!$D$1)","v":{"$error":"#N/A"}},{"$error":"#N/A"}]
[null,{"$f":"données!B183","v":"li 180"},{"$f":"INDEX(données!W183:AA183,individus!$C$1)","v":{"$error":"#N/A"}},{"$f":"INDEX(données!W183:AA183,individus!$D$1)","v":{"$error":"#N/A"}},{"$f":"INDEX(données!AB183:AF183,individus!$C$1)","v":{"$error":"#N/A"}},{"$f":"INDEX(données!AB183:AF183,individus!$D$1)","v":{"$error":"#N/A"}},{"$error":"#N/A"}]
[null,{"$f":"données!B184","v":"li 181"},{"$f":"INDEX(données!W184:AA184,individus!$C$1)","v":{"$error":"#N/A"}},{"$f":"INDEX(données!W184:AA184,individus!$D$1)","v":{"$error":"#N/A"}},{"$f":"INDEX(données!AB184:AF184,individus!$C$1)","v":{"$error":"#N/A"}},{"$f":"INDEX(données!AB184:AF184,individus!$D$1)","v":{"$error":"#N/A"}},{"$error":"#N/A"}]
[null,{"$f":"données!B185","v":"li 182"},{"$f":"INDEX(données!W185:AA185,individus!$C$1)","v":{"$error":"#N/A"}},{"$f":"INDEX(données!W185:AA185,individus!$D$1)","v":{"$error":"#N/A"}},{"$f":"INDEX(données!AB185:AF185,individus!$C$1)","v":{"$error":"#N/A"}},{"$f":"INDEX(données!AB185:AF185,individus!$D$1)","v":{"$error":"#N/A"}},{"$error":"#N/A"}]
[null,{"$f":"données!B186","v":"li 183"},{"$f":"INDEX(données!W186:AA186,individus!$C$1)","v":{"$error":"#N/A"}},{"$f":"INDEX(données!W186:AA186,individus!$D$1)","v":{"$error":"#N/A"}},{"$f":"INDEX(données!AB186:AF186,individus!$C$1)","v":{"$error":"#N/A"}},{"$f":"INDEX(données!AB186:AF186,individus!$D$1)","v":{"$error":"#N/A"}},{"$error":"#N/A"}]
[null,{"$f":"données!B187","v":"li 184"},{"$f":"INDEX(données!W187:AA187,individus!$C$1)","v":{"$error":"#N/A"}},{"$f":"INDEX(données!W187:AA187,individus!$D$1)","v":{"$error":"#N/A"}},{"$f":"INDEX(données!AB187:AF187,individus!$C$1)","v":{"$error":"#N/A"}},{"$f":"INDEX(données!AB187:AF187,individus!$D$1)","v":{"$error":"#N/A"}},{"$error":"#N/A"}]
[null,{"$f":"données!B188","v":"li 185"},{"$f":"INDEX(données!W188:AA188,individus!$C$1)","v":{"$error":"#N/A"}},{"$f":"INDEX(données!W188:AA188,individus!$D$1)","v":{"$error":"#N/A"}},{"$f":"INDEX(données!AB188:AF188,individus!$C$1)","v":{"$error":"#N/A"}},{"$f":"INDEX(données!AB188:AF188,individus!$D$1)","v":{"$error":"#N/A"}},{"$error":"#N/A"}]
[null,{"$f":"données!B189","v":"li 186"},{"$f":"INDEX(données!W189:AA189,individus!$C$1)","v":{"$error":"#N/A"}},{"$f":"INDEX(données!W189:AA189,individus!$D$1)","v":{"$error":"#N/A"}},{"$f":"INDEX(données!AB189:AF189,individus!$C$1)","v":{"$error":"#N/A"}},{"$f":"INDEX(données!AB189:AF189,individus!$D$1)","v":{"$error":"#N/A"}},{"$error":"#N/A"}]
[null,{"$f":"données!B190","v":"li 187"},{"$f":"INDEX(données!W190:AA190,individus!$C$1)","v":{"$error":"#N/A"}},{"$f":"INDEX(données!W190:AA190,individus!$D$1)","v":{"$error":"#N/A"}},{"$f":"INDEX(données!AB190:AF190,individus!$C$1)","v":{"$error":"#N/A"}},{"$f":"INDEX(données!AB190:AF190,individus!$D$1)","v":{"$error":"#N/A"}},{"$error":"#N/A"}]
[null,{"$f":"données!B191","v":"li 188"},{"$f":"INDEX(données!W191:AA191,individus!$C$1)","v":{"$error":"#N/A"}},{"$f":"INDEX(données!W191:AA191,individus!$D$1)","v":{"$error":"#N/A"}},{"$f":"INDEX(données!AB191:AF191,individus!$C$1)","v":{"$error":"#N/A"}},{"$f":"INDEX(données!AB191:AF191,individus!$D$1)","v":{"$error":"#N/A"}},{"$error":"#N/A"}]
[null,{"$f":"données!B192","v":"li 189"},{"$f":"INDEX(données!W192:AA192,individus!$C$1)","v":{"$error":"#N/A"}},{"$f":"INDEX(données!W192:AA192,individus!$D$1)","v":{"$error":"#N/A"}},{"$f":"INDEX(données!AB192:AF192,individus!$C$1)","v":{"$error":"#N/A"}},{"$f":"INDEX(données!AB192:AF192,individus!$D$1)","v":{"$error":"#N/A"}},{"$error":"#N/A"}]
[null,{"$f":"données!B193","v":"li 190"},{"$f":"INDEX(données!W193:AA193,individus!$C$1)","v":{"$error":"#N/A"}},{"$f":"INDEX(données!W193:AA193,individus!$D$1)","v":{"$error":"#N/A"}},{"$f":"INDEX(données!AB193:AF193,individus!$C$1)","v":{"$error":"#N/A"}},{"$f":"INDEX(données!AB193:AF193,individus!$D$1)","v":{"$error":"#N/A"}},{"$error":"#N/A"}]
[null,{"$f":"données!B194","v":"li 191"},{"$f":"INDEX(données!W194:AA194,individus!$C$1)","v":{"$error":"#N/A"}},{"$f":"INDEX(données!W194:AA194,individus!$D$1)","v":{"$error":"#N/A"}},{"$f":"INDEX(données!AB194:AF194,individus!$C$1)","v":{"$error":"#N/A"}},{"$f":"INDEX(données!AB194:AF194,individus!$D$1)","v":{"$error":"#N/A"}},{"$error":"#N/A"}]
[null,{"$f":"données!B195","v":"li 192"},{"$f":"INDEX(données!W195:AA195,individus!$C$1)","v":{"$error":"#N/A"}},{"$f":"INDEX(données!W195:AA195,individus!$D$1)","v":{"$error":"#N/A"}},{"$f":"INDEX(données!AB195:AF195,individus!$C$1)","v":{"$error":"#N/A"}},{"$f":"INDEX(données!AB195:AF195,individus!$D$1)","v":{"$error":"#N/A"}},{"$error":"#N/A"}]
[null,{"$f":"données!B196","v":"li 193"},{"$f":"INDEX(données!W196:AA196,individus!$C$1)","v":{"$error":"#N/A"}},{"$f":"INDEX(données!W196:AA196,individus!$D$1)","v":{"$error":"#N/A"}},{"$f":"INDEX(données!AB196:AF196,individus!$C$1)","v":{"$error":"#N/A"}},{"$f":"INDEX(données!AB196:AF196,individus!$D$1)","v":{"$error":"#N/A"}},{"$error":"#N/A"}]
[null,{"$f":"données!B197","v":"li 194"},{"$f":"INDEX(données!W197:AA197,individus!$C$1)","v":{"$error":"#N/A"}},{"$f":"INDEX(données!W197:AA197,individus!$D$1)","v":{"$error":"#N/A"}},{"$f":"INDEX(données!AB197:AF197,individus!$C$1)","v":{"$error":"#N/A"}},{"$f":"INDEX(données!AB197:AF197,individus!$D$1)","v":{"$error":"#N/A"}},{"$f":"E197+F197","v":{"$error":"#N/A"}}]
[null,{"$f":"données!B198","v":"li 195"},{"$f":"INDEX(données!W198:AA198,individus!$C$1)","v":{"$error":"#N/A"}},{"$f":"INDEX(données!W198:AA198,individus!$D$1)","v":{"$error":"#N/A"}},{"$f":"INDEX(données!AB198:AF198,individus!$C$1)","v":{"$error":"#N/A"}},{"$f":"INDEX(données!AB198:AF198,individus!$D$1)","v":{"$error":"#N/A"}},{"$error":"#N/A"}]
[null,{"$f":"données!B199","v":"li 196"},{"$f":"INDEX(données!W199:AA199,individus!$C$1)","v":{"$error":"#N/A"}},{"$f":"INDEX(données!W199:AA199,individus!$D$1)","v":{"$error":"#N/A"}},{"$f":"INDEX(données!AB199:AF199,individus!$C$1)","v":{"$error":"#N/A"}},{"$f":"INDEX(données!AB199:AF199,individus!$D$1)","v":{"$error":"#N/A"}},{"$error":"#N/A"}]
[null,{"$f":"données!B200","v":"li 197"},{"$f":"INDEX(données!W200:AA200,individus!$C$1)","v":{"$error":"#N/A"}},{"$f":"INDEX(données!W200:AA200,individus!$D$1)","v":{"$error":"#N/A"}},{"$f":"INDEX(données!AB200:AF200,individus!$C$1)","v":{"$error":"#N/A"}},{"$f":"INDEX(données!AB200:AF200,individus!$D$1)","v":{"$error":"#N/A"}},{"$error":"#N/A"}]
[null,{"$f":"données!B201","v":"li 198"},{"$f":"INDEX(données!W201:AA201,individus!$C$1)","v":{"$error":"#N/A"}},{"$f":"INDEX(données!W201:AA201,individus!$D$1)","v":{"$error":"#N/A"}},{"$f":"INDEX(données!AB201:AF201,individus!$C$1)","v":{"$error":"#N/A"}},{"$f":"INDEX(données!AB201:AF201,individus!$D$1)","v":{"$error":"#N/A"}},{"$error":"#N/A"}]
[null,{"$f":"données!B202","v":"li 199"},{"$f":"INDEX(données!W202:AA202,individus!$C$1)","v":{"$error":"#N/A"}},{"$f":"INDEX(données!W202:AA202,individus!$D$1)","v":{"$error":"#N/A"}},{"$f":"INDEX(données!AB202:AF202,individus!$C$1)","v":{"$error":"#N/A"}},{"$f":"INDEX(données!AB202:AF202,individus!$D$1)","v":{"$error":"#N/A"}},{"$error":"#N/A"}]
[null,{"$f":"données!B203","v":"li 200"},{"$f":"INDEX(données!W203:AA203,individus!$C$1)","v":{"$error":"#N/A"}},{"$f":"INDEX(données!W203:AA203,individus!$D$1)","v":{"$error":"#N/A"}},{"$f":"INDEX(données!AB203:AF203,individus!$C$1)","v":{"$error":"#N/A"}},{"$f":"INDEX(données!AB203:AF203,individus!$D$1)","v":{"$error":"#N/A"}},{"$error":"#N/A"}]
[null,{"$f":"données!B204","v":"li 201"},{"$f":"INDEX(données!W204:AA204,individus!$C$1)","v":{"$error":"#N/A"}},{"$f":"INDEX(données!W204:AA204,individus!$D$1)","v":{"$error":"#N/A"}},{"$f":"INDEX(données!AB204:AF204,individus!$C$1)","v":{"$error":"#N/A"}},{"$f":"INDEX(données!AB204:AF204,individus!$D$1)","v":{"$error":"#N/A"}},{"$error":"#N/A"}]
[null,{"$f":"données!B205","v":"li 202"},{"$f":"INDEX(données!W205:AA205,individus!$C$1)","v":{"$error":"#N/A"}},{"$f":"INDEX(données!W205:AA205,individus!$D$1)","v":{"$error":"#N/A"}},{"$f":"INDEX(données!AB205:AF205,individus!$C$1)","v":{"$error":"#N/A"}},{"$f":"INDEX(données!AB205:AF205,individus!$D$1)","v":{"$error":"#N/A"}},{"$error":"#N/A"}]
[null,{"$f":"données!B206","v":"li 203"},{"$f":"INDEX(données!W206:AA206,individus!$C$1)","v":{"$error":"#N/A"}},{"$f":"INDEX(données!W206:AA206,individus!$D$1)","v":{"$error":"#N/A"}},{"$f":"INDEX(données!AB206:AF206,individus!$C$1)","v":{"$error":"#N/A"}},{"$f":"INDEX(données!AB206:AF206,individus!$D$1)","v":{"$error":"#N/A"}},{"$error":"#N/A"}]
[null,{"$f":"données!B207","v":"li 204"},{"$f":"INDEX(données!W207:AA207,individus!$C$1)","v":{"$error":"#N/A"}},{"$f":"INDEX(données!W207:AA207,individus!$D$1)","v":{"$error":"#N/A"}},{"$f":"INDEX(données!AB207:AF207,individus!$C$1)","v":{"$error":"#N/A"}},{"$f":"INDEX(données!AB207:AF207,individus!$D$1)","v":{"$error":"#N/A"}},{"$error":"#N/A"}]
[null,{"$f":"données!B208","v":"li 205"},{"$f":"INDEX(données!W208:AA208,individus!$C$1)","v":{"$error":"#N/A"}},{"$f":"INDEX(données!W208:AA208,individus!$D$1)","v":{"$error":"#N/A"}},{"$f":"INDEX(données!AB208:AF208,individus!$C$1)","v":{"$error":"#N/A"}},{"$f":"INDEX(données!AB208:AF208,individus!$D$1)","v":{"$error":"#N/A"}},{"$error":"#N/A"}]
[null,{"$f":"données!B209","v":"li 206"},{"$f":"INDEX(données!W209:AA209,individus!$C$1)","v":{"$error":"#N/A"}},{"$f":"INDEX(données!W209:AA209,individus!$D$1)","v":{"$error":"#N/A"}},{"$f":"INDEX(données!AB209:AF209,individus!$C$1)","v":{"$error":"#N/A"}},{"$f":"INDEX(données!AB209:AF209,individus!$D$1)","v":{"$error":"#N/A"}},{"$error":"#N/A"}]
[null,{"$f":"données!B210","v":"li 207"},{"$f":"INDEX(données!W210:AA210,individus!$C$1)","v":{"$error":"#N/A"}},{"$f":"INDEX(données!W210:AA210,individus!$D$1)","v":{"$error":"#N/A"}},{"$f":"INDEX(données!AB210:AF210,individus!$C$1)","v":{"$error":"#N/A"}},{"$f":"INDEX(données!AB210:AF210,individus!$D$1)","v":{"$error":"#N/A"}},{"$error":"#N/A"}]
[null,{"$f":"données!B211","v":"li 208"},{"$f":"INDEX(données!W211:AA211,individus!$C$1)","v":{"$error":"#N/A"}},{"$f":"INDEX(données!W211:AA211,individus!$D$1)","v":{"$error":"#N/A"}},{"$f":"INDEX(données!AB211:AF211,individus!$C$1)","v":{"$error":"#N/A"}},{"$f":"INDEX(données!AB211:AF211,individus!$D$1)","v":{"$error":"#N/A"}},{"$error":"#N/A"}]
[null,{"$f":"données!B212","v":"li 209"},{"$f":"INDEX(données!W212:AA212,individus!$C$1)","v":{"$error":"#N/A"}},{"$f":"INDEX(données!W212:AA212,individus!$D$1)","v":{"$error":"#N/A"}},{"$f":"INDEX(données!AB212:AF212,individus!$C$1)","v":{"$error":"#N/A"}},{"$f":"INDEX(données!AB212:AF212,individus!$D$1)","v":{"$error":"#N/A"}},{"$error":"#N/A"}]
[null,{"$f":"données!B213","v":"li 210"},{"$f":"INDEX(données!W213:AA213,individus!$C$1)","v":{"$error":"#N/A"}},{"$f":"INDEX(données!W213:AA213,individus!$D$1)","v":{"$error":"#N/A"}},{"$f":"INDEX(données!AB213:AF213,individus!$C$1)","v":{"$error":"#N/A"}},{"$f":"INDEX(données!AB213:AF213,individus!$D$1)","v":{"$error":"#N/A"}},{"$error":"#N/A"}]
[null,{"$f":"données!B214","v":"li 211"},{"$f":"INDEX(données!W214:AA214,individus!$C$1)","v":{"$error":"#N/A"}},{"$f":"INDEX(données!W214:AA214,individus!$D$1)","v":{"$error":"#N/A"}},{"$f":"INDEX(données!AB214:AF214,individus!$C$1)","v":{"$error":"#N/A"}},{"$f":"INDEX(données!AB214:AF214,individus!$D$1)","v":{"$error":"#N/A"}},{"$error":"#N/A"}]
[null,{"$f":"données!B215","v":"li 212"},{"$f":"INDEX(données!W215:AA215,individus!$C$1)","v":{"$error":"#N/A"}},{"$f":"INDEX(données!W215:AA215,individus!$D$1)","v":{"$error":"#N/A"}},{"$f":"INDEX(données!AB215:AF215,individus!$C$1)","v":{"$error":"#N/A"}},{"$f":"INDEX(données!AB215:AF215,individus!$D$1)","v":{"$error":"#N/A"}},{"$error":"#N/A"}]
[null,{"$f":"données!B216","v":"li 213"},{"$f":"INDEX(données!W216:AA216,individus!$C$1)","v":{"$error":"#N/A"}},{"$f":"INDEX(données!W216:AA216,individus!$D$1)","v":{"$error":"#N/A"}},{"$f":"INDEX(données!AB216:AF216,individus!$C$1)","v":{"$error":"#N/A"}},{"$f":"INDEX(données!AB216:AF216,individus!$D$1)","v":{"$error":"#N/A"}},{"$error":"#N/A"}]
[null,{"$f":"données!B217","v":"li 214"},{"$f":"INDEX(données!W217:AA217,individus!$C$1)","v":{"$error":"#N/A"}},{"$f":"INDEX(données!W217:AA217,individus!$D$1)","v":{"$error":"#N/A"}},{"$f":"INDEX(données!AB217:AF217,individus!$C$1)","v":{"$error":"#N/A"}},{"$f":"INDEX(données!AB217:AF217,individus!$D$1)","v":{"$error":"#N/A"}},{"$error":"#N/A"}]
[null,{"$f":"données!B218","v":"li 215"},{"$f":"INDEX(données!W218:AA218,individus!$C$1)","v":{"$error":"#N/A"}},{"$f":"INDEX(données!W218:AA218,individus!$D$1)","v":{"$error":"#N/A"}},{"$f":"INDEX(données!AB218:AF218,individus!$C$1)","v":{"$error":"#N/A"}},{"$f":"INDEX(données!AB218:AF218,individus!$D$1)","v":{"$error":"#N/A"}},{"$error":"#N/A"}]
[null,{"$f":"données!B219","v":"li 216"},{"$f":"INDEX(données!W219:AA219,individus!$C$1)","v":{"$error":"#N/A"}},{"$f":"INDEX(données!W219:AA219,individus!$D$1)","v":{"$error":"#N/A"}},{"$f":"INDEX(données!AB219:AF219,individus!$C$1)","v":{"$error":"#N/A"}},{"$f":"INDEX(données!AB219:AF219,individus!$D$1)","v":{"$error":"#N/A"}},{"$error":"#N/A"}]
[null,{"$f":"données!B220","v":"li 217"},{"$f":"INDEX(données!W220:AA220,individus!$C$1)","v":{"$error":"#N/A"}},{"$f":"INDEX(données!W220:AA220,individus!$D$1)","v":{"$error":"#N/A"}},{"$f":"INDEX(données!AB220:AF220,individus!$C$1)","v":{"$error":"#N/A"}},{"$f":"INDEX(données!AB220:AF220,individus!$D$1)","v":{"$error":"#N/A"}},{"$error":"#N/A"}]
[null,{"$f":"données!B221","v":"li 218"},{"$f":"INDEX(données!W221:AA221,individus!$C$1)","v":{"$error":"#N/A"}},{"$f":"INDEX(données!W221:AA221,individus!$D$1)","v":{"$error":"#N/A"}},{"$f":"INDEX(données!AB221:AF221,individus!$C$1)","v":{"$error":"#N/A"}},{"$f":"INDEX(données!AB221:AF221,individus!$D$1)","v":{"$error":"#N/A"}},{"$error":"#N/A"}]
[null,{"$f":"données!B222","v":"li 219"},{"$f":"INDEX(données!W222:AA222,individus!$C$1)","v":{"$error":"#N/A"}},{"$f":"INDEX(données!W222:AA222,individus!$D$1)","v":{"$error":"#N/A"}},{"$f":"INDEX(données!AB222:AF222,individus!$C$1)","v":{"$error":"#N/A"}},{"$f":"INDEX(données!AB222:AF222,individus!$D$1)","v":{"$error":"#N/A"}},{"$error":"#N/A"}]
[null,{"$f":"données!B223","v":"li 220"},{"$f":"INDEX(données!W223:AA223,individus!$C$1)","v":{"$error":"#N/A"}},{"$f":"INDEX(données!W223:AA223,individus!$D$1)","v":{"$error":"#N/A"}},{"$f":"INDEX(données!AB223:AF223,individus!$C$1)","v":{"$error":"#N/A"}},{"$f":"INDEX(données!AB223:AF223,individus!$D$1)","v":{"$error":"#N/A"}},{"$error":"#N/A"}]
[null,{"$f":"données!B224","v":"li 221"},{"$f":"INDEX(données!W224:AA224,individus!$C$1)","v":{"$error":"#N/A"}},{"$f":"INDEX(données!W224:AA224,individus!$D$1)","v":{"$error":"#N/A"}},{"$f":"INDEX(données!AB224:AF224,individus!$C$1)","v":{"$error":"#N/A"}},{"$f":"INDEX(données!AB224:AF224,individus!$D$1)","v":{"$error":"#N/A"}},{"$error":"#N/A"}]
[null,{"$f":"données!B225","v":"li 222"},{"$f":"INDEX(données!W225:AA225,individus!$C$1)","v":{"$error":"#N/A"}},{"$f":"INDEX(données!W225:AA225,individus!$D$1)","v":{"$error":"#N/A"}},{"$f":"INDEX(données!AB225:AF225,individus!$C$1)","v":{"$error":"#N/A"}},{"$f":"INDEX(données!AB225:AF225,individus!$D$1)","v":{"$error":"#N/A"}},{"$error":"#N/A"}]
[null,{"$f":"données!B226","v":"li 223"},{"$f":"INDEX(données!W226:AA226,individus!$C$1)","v":{"$error":"#N/A"}},{"$f":"INDEX(données!W226:AA226,individus!$D$1)","v":{"$error":"#N/A"}},{"$f":"INDEX(données!AB226:AF226,individus!$C$1)","v":{"$error":"#N/A"}},{"$f":"INDEX(données!AB226:AF226,individus!$D$1)","v":{"$error":"#N/A"}},{"$error":"#N/A"}]
[null,{"$f":"données!B227","v":"li 224"},{"$f":"INDEX(données!W227:AA227,individus!$C$1)","v":{"$error":"#N/A"}},{"$f":"INDEX(données!W227:AA227,individus!$D$1)","v":{"$error":"#N/A"}},{"$f":"INDEX(données!AB227:AF227,individus!$C$1)","v":{"$error":"#N/A"}},{"$f":"INDEX(données!AB227:AF227,individus!$D$1)","v":{"$error":"#N/A"}},{"$error":"#N/A"}]
[null,{"$f":"données!B228","v":"li 225"},{"$f":"INDEX(données!W228:AA228,individus!$C$1)","v":{"$error":"#N/A"}},{"$f":"INDEX(données!W228:AA228,individus!$D$1)","v":{"$error":"#N/A"}},{"$f":"INDEX(données!AB228:AF228,individus!$C$1)","v":{"$error":"#N/A"}},{"$f":"INDEX(données!AB228:AF228,individus!$D$1)","v":{"$error":"#N/A"}},{"$error":"#N/A"}]
[null,{"$f":"données!B229","v":"li 226"},{"$f":"INDEX(données!W229:AA229,individus!$C$1)","v":{"$error":"#N/A"}},{"$f":"INDEX(données!W229:AA229,individus!$D$1)","v":{"$error":"#N/A"}},{"$f":"INDEX(données!AB229:AF229,individus!$C$1)","v":{"$error":"#N/A"}},{"$f":"INDEX(données!AB229:AF229,individus!$D$1)","v":{"$error":"#N/A"}},{"$error":"#N/A"}]
[null,{"$f":"données!B230","v":"li 227"},{"$f":"INDEX(données!W230:AA230,individus!$C$1)","v":{"$error":"#N/A"}},{"$f":"INDEX(données!W230:AA230,individus!$D$1)","v":{"$error":"#N/A"}},{"$f":"INDEX(données!AB230:AF230,individus!$C$1)","v":{"$error":"#N/A"}},{"$f":"INDEX(données!AB230:AF230,individus!$D$1)","v":{"$error":"#N/A"}},{"$error":"#N/A"}]
[null,{"$f":"données!B231","v":"li 228"},{"$f":"INDEX(données!W231:AA231,individus!$C$1)","v":{"$error":"#N/A"}},{"$f":"INDEX(données!W231:AA231,individus!$D$1)","v":{"$error":"#N/A"}},{"$f":"INDEX(données!AB231:AF231,individus!$C$1)","v":{"$error":"#N/A"}},{"$f":"INDEX(données!AB231:AF231,individus!$D$1)","v":{"$error":"#N/A"}},{"$error":"#N/A"}]
[null,{"$f":"données!B232","v":"li 229"},{"$f":"INDEX(données!W232:AA232,individus!$C$1)","v":{"$error":"#N/A"}},{"$f":"INDEX(données!W232:AA232,individus!$D$1)","v":{"$error":"#N/A"}},{"$f":"INDEX(données!AB232:AF232,individus!$C$1)","v":{"$error":"#N/A"}},{"$f":"INDEX(données!AB232:AF232,individus!$D$1)","v":{"$error":"#N/A"}},{"$error":"#N/A"}]
[null,{"$f":"données!B233","v":"li 230"},{"$f":"INDEX(données!W233:AA233,individus!$C$1)","v":{"$error":"#N/A"}},{"$f":"INDEX(données!W233:AA233,individus!$D$1)","v":{"$error":"#N/A"}},{"$f":"INDEX(données!AB233:AF233,individus!$C$1)","v":{"$error":"#N/A"}},{"$f":"INDEX(données!AB233:AF233,individus!$D$1)","v":{"$error":"#N/A"}},{"$error":"#N/A"}]
[null,{"$f":"données!B234","v":"li 231"},{"$f":"INDEX(données!W234:AA234,individus!$C$1)","v":{"$error":"#N/A"}},{"$f":"INDEX(données!W234:AA234,individus!$D$1)","v":{"$error":"#N/A"}},{"$f":"INDEX(données!AB234:AF234,individus!$C$1)","v":{"$error":"#N/A"}},{"$f":"INDEX(données!AB234:AF234,individus!$D$1)","v":{"$error":"#N/A"}},{"$error":"#N/A"}]
[null,{"$f":"données!B235","v":"li 232"},{"$f":"INDEX(données!W235:AA235,individus!$C$1)","v":{"$error":"#N/A"}},{"$f":"INDEX(données!W235:AA235,individus!$D$1)","v":{"$error":"#N/A"}},{"$f":"INDEX(données!AB235:AF235,individus!$C$1)","v":{"$error":"#N/A"}},{"$f":"INDEX(données!AB235:AF235,individus!$D$1)","v":{"$error":"#N/A"}},{"$error":"#N/A"}]
[null,{"$f":"données!B236","v":"li 233"},{"$f":"INDEX(données!W236:AA236,individus!$C$1)","v":{"$error":"#N/A"}},{"$f":"INDEX(données!W236:AA236,individus!$D$1)","v":{"$error":"#N/A"}},{"$f":"INDEX(données!AB236:AF236,individus!$C$1)","v":{"$error":"#N/A"}},{"$f":"INDEX(données!AB236:AF236,individus!$D$1)","v":{"$error":"#N/A"}},{"$error":"#N/A"}]
[null,{"$f":"données!B237","v":"li 234"},{"$f":"INDEX(données!W237:AA237,individus!$C$1)","v":{"$error":"#N/A"}},{"$f":"INDEX(données!W237:AA237,individus!$D$1)","v":{"$error":"#N/A"}},{"$f":"INDEX(données!AB237:AF237,individus!$C$1)","v":{"$error":"#N/A"}},{"$f":"INDEX(données!AB237:AF237,individus!$D$1)","v":{"$error":"#N/A"}},{"$error":"#N/A"}]
[null,{"$f":"données!B238","v":"li 235"},{"$f":"INDEX(données!W238:AA238,individus!$C$1)","v":{"$error":"#N/A"}},{"$f":"INDEX(données!W238:AA238,individus!$D$1)","v":{"$error":"#N/A"}},{"$f":"INDEX(données!AB238:AF238,individus!$C$1)","v":{"$error":"#N/A"}},{"$f":"INDEX(données!AB238:AF238,individus!$D$1)","v":{"$error":"#N/A"}},{"$error":"#N/A"}]
[null,{"$f":"données!B239","v":"li 236"},{"$f":"INDEX(données!W239:AA239,individus!$C$1)","v":{"$error":"#N/A"}},{"$f":"INDEX(données!W239:AA239,individus!$D$1)","v":{"$error":"#N/A"}},{"$f":"INDEX(données!AB239:AF239,individus!$C$1)","v":{"$error":"#N/A"}},{"$f":"INDEX(données!AB239:AF239,individus!$D$1)","v":{"$error":"#N/A"}},{"$error":"#N/A"}]
[null,{"$f":"données!B240","v":"li 237"},{"$f":"INDEX(données!W240:AA240,individus!$C$1)","v":{"$error":"#N/A"}},{"$f":"INDEX(données!W240:AA240,individus!$D$1)","v":{"$error":"#N/A"}},{"$f":"INDEX(données!AB240:AF240,individus!$C$1)","v":{"$error":"#N/A"}},{"$f":"INDEX(données!AB240:AF240,individus!$D$1)","v":{"$error":"#N/A"}},{"$error":"#N/A"}]
[null,{"$f":"données!B241","v":"li 238"},{"$f":"INDEX(données!W241:AA241,individus!$C$1)","v":{"$error":"#N/A"}},{"$f":"INDEX(données!W241:AA241,individus!$D$1)","v":{"$error":"#N/A"}},{"$f":"INDEX(données!AB241:AF241,individus!$C$1)","v":{"$error":"#N/A"}},{"$f":"INDEX(données!AB241:AF241,individus!$D$1)","v":{"$error":"#N/A"}},{"$error":"#N/A"}]
[null,{"$f":"données!B242","v":"li 239"},{"$f":"INDEX(données!W242:AA242,individus!$C$1)","v":{"$error":"#N/A"}},{"$f":"INDEX(données!W242:AA242,individus!$D$1)","v":{"$error":"#N/A"}},{"$f":"INDEX(données!AB242:AF242,individus!$C$1)","v":{"$error":"#N/A"}},{"$f":"INDEX(données!AB242:AF242,individus!$D$1)","v":{"$error":"#N/A"}},{"$error":"#N/A"}]
[null,{"$f":"données!B243","v":"li 240"},{"$f":"INDEX(données!W243:AA243,individus!$C$1)","v":{"$error":"#N/A"}},{"$f":"INDEX(données!W243:AA243,individus!$D$1)","v":{"$error":"#N/A"}},{"$f":"INDEX(données!AB243:AF243,individus!$C$1)","v":{"$error":"#N/A"}},{"$f":"INDEX(données!AB243:AF243,individus!$D$1)","v":{"$error":"#N/A"}},{"$error":"#N/A"}]
[null,{"$f":"données!B244","v":"li 241"},{"$f":"INDEX(données!W244:AA244,individus!$C$1)","v":{"$error":"#N/A"}},{"$f":"INDEX(données!W244:AA244,individus!$D$1)","v":{"$error":"#N/A"}},{"$f":"INDEX(données!AB244:AF244,individus!$C$1)","v":{"$error":"#N/A"}},{"$f":"INDEX(données!AB244:AF244,individus!$D$1)","v":{"$error":"#N/A"}},{"$error":"#N/A"}]
[null,{"$f":"données!B245","v":"li 242"},{"$f":"INDEX(données!W245:AA245,individus!$C$1)","v":{"$error":"#N/A"}},{"$f":"INDEX(données!W245:AA245,individus!$D$1)","v":{"$error":"#N/A"}},{"$f":"INDEX(données!AB245:AF245,individus!$C$1)","v":{"$error":"#N/A"}},{"$f":"INDEX(données!AB245:AF245,individus!$D$1)","v":{"$error":"#N/A"}},{"$error":"#N/A"}]
[null,{"$f":"données!B246","v":"li 243"},{"$f":"INDEX(données!W246:AA246,individus!$C$1)","v":{"$error":"#N/A"}},{"$f":"INDEX(données!W246:AA246,individus!$D$1)","v":{"$error":"#N/A"}},{"$f":"INDEX(données!AB246:AF246,individus!$C$1)","v":{"$error":"#N/A"}},{"$f":"INDEX(données!AB246:AF246,individus!$D$1)","v":{"$error":"#N/A"}},{"$error":"#N/A"}]
[null,{"$f":"données!B247","v":"li 244"},{"$f":"INDEX(données!W247:AA247,individus!$C$1)","v":{"$error":"#N/A"}},{"$f":"INDEX(données!W247:AA247,individus!$D$1)","v":{"$error":"#N/A"}},{"$f":"INDEX(données!AB247:AF247,individus!$C$1)","v":{"$error":"#N/A"}},{"$f":"INDEX(données!AB247:AF247,individus!$D$1)","v":{"$error":"#N/A"}},{"$error":"#N/A"}]
[null,{"$f":"données!B248","v":"li 245"},{"$f":"INDEX(données!W248:AA248,individus!$C$1)","v":{"$error":"#N/A"}},{"$f":"INDEX(données!W248:AA248,individus!$D$1)","v":{"$error":"#N/A"}},{"$f":"INDEX(données!AB248:AF248,individus!$C$1)","v":{"$error":"#N/A"}},{"$f":"INDEX(données!AB248:AF248,individus!$D$1)","v":{"$error":"#N/A"}},{"$error":"#N/A"}]
[null,{"$f":"données!B249","v":"li 246"},{"$f":"INDEX(données!W249:AA249,individus!$C$1)","v":{"$error":"#N/A"}},{"$f":"INDEX(données!W249:AA249,individus!$D$1)","v":{"$error":"#N/A"}},{"$f":"INDEX(données!AB249:AF249,individus!$C$1)","v":{"$error":"#N/A"}},{"$f":"INDEX(données!AB249:AF249,individus!$D$1)","v":{"$error":"#N/A"}},{"$error":"#N/A"}]
[null,{"$f":"données!B250","v":"li 247"},{"$f":"INDEX(données!W250:AA250,individus!$C$1)","v":{"$error":"#N/A"}},{"$f":"INDEX(données!W250:AA250,individus!$D$1)","v":{"$error":"#N/A"}},{"$f":"INDEX(données!AB250:AF250,individus!$C$1)","v":{"$error":"#N/A"}},{"$f":"INDEX(données!AB250:AF250,individus!$D$1)","v":{"$error":"#N/A"}},{"$error":"#N/A"}]
[null,{"$f":"données!B251","v":"li 248"},{"$f":"INDEX(données!W251:AA251,individus!$C$1)","v":{"$error":"#N/A"}},{"$f":"INDEX(données!W251:AA251,individus!$D$1)","v":{"$error":"#N/A"}},{"$f":"INDEX(données!AB251:AF251,individus!$C$1)","v":{"$error":"#N/A"}},{"$f":"INDEX(données!AB251:AF251,individus!$D$1)","v":{"$error":"#N/A"}},{"$error":"#N/A"}]
[null,{"$f":"données!B252","v":"li 249"},{"$f":"INDEX(données!W252:AA252,individus!$C$1)","v":{"$error":"#N/A"}},{"$f":"INDEX(données!W252:AA252,individus!$D$1)","v":{"$error":"#N/A"}},{"$f":"INDEX(données!AB252:AF252,individus!$C$1)","v":{"$error":"#N/A"}},{"$f":"INDEX(données!AB252:AF252,individus!$D$1)","v":{"$error":"#N/A"}},{"$error":"#N/A"}]
[null,{"$f":"données!B253","v":"li 250"},{"$f":"INDEX(données!W253:AA253,individus!$C$1)","v":{"$error":"#N/A"}},{"$f":"INDEX(données!W253:AA253,individus!$D$1)","v":{"$error":"#N/A"}},{"$f":"INDEX(données!AB253:AF253,individus!$C$1)","v":{"$error":"#N/A"}},{"$f":"INDEX(données!AB253:AF253,individus!$D$1)","v":{"$error":"#N/A"}},{"$error":"#N/A"}]
[null,{"$f":"données!B254","v":"li 251"},{"$f":"INDEX(données!W254:AA254,individus!$C$1)","v":{"$error":"#N/A"}},{"$f":"INDEX(données!W254:AA254,individus!$D$1)","v":{"$error":"#N/A"}},{"$f":"INDEX(données!AB254:AF254,individus!$C$1)","v":{"$error":"#N/A"}},{"$f":"INDEX(données!AB254:AF254,individus!$D$1)","v":{"$error":"#N/A"}},{"$error":"#N/A"}]
[null,{"$f":"données!B255","v":"li 252"},{"$f":"INDEX(données!W255:AA255,individus!$C$1)","v":{"$error":"#N/A"}},{"$f":"INDEX(données!W255:AA255,individus!$D$1)","v":{"$error":"#N/A"}},{"$f":"INDEX(données!AB255:AF255,individus!$C$1)","v":{"$error":"#N/A"}},{"$f":"INDEX(données!AB255:AF255,individus!$D$1)","v":{"$error":"#N/A"}},{"$error":"#N/A"}]
[null,{"$f":"données!B256","v":"li 253"},{"$f":"INDEX(données!W256:AA256,individus!$C$1)","v":{"$error":"#N/A"}},{"$f":"INDEX(données!W256:AA256,individus!$D$1)","v":{"$error":"#N/A"}},{"$f":"INDEX(données!AB256:AF256,individus!$C$1)","v":{"$error":"#N/A"}},{"$f":"INDEX(données!AB256:AF256,individus!$D$1)","v":{"$error":"#N/A"}},{"$error":"#N/A"}]
[null,{"$f":"données!B257","v":"li 254"},{"$f":"INDEX(données!W257:AA257,individus!$C$1)","v":{"$error":"#N/A"}},{"$f":"INDEX(données!W257:AA257,individus!$D$1)","v":{"$error":"#N/A"}},{"$f":"INDEX(données!AB257:AF257,individus!$C$1)","v":{"$error":"#N/A"}},{"$f":"INDEX(données!AB257:AF257,individus!$D$1)","v":{"$error":"#N/A"}},{"$error":"#N/A"}]
[null,{"$f":"données!B258","v":"li 255"},{"$f":"INDEX(données!W258:AA258,individus!$C$1)","v":{"$error":"#N/A"}},{"$f":"INDEX(données!W258:AA258,individus!$D$1)","v":{"$error":"#N/A"}},{"$f":"INDEX(données!AB258:AF258,individus!$C$1)","v":{"$error":"#N/A"}},{"$f":"INDEX(données!AB258:AF258,individus!$D$1)","v":{"$error":"#N/A"}},{"$error":"#N/A"}]
[null,{"$f":"données!B259","v":"li 256"},{"$f":"INDEX(données!W259:AA259,individus!$C$1)","v":{"$error":"#N/A"}},{"$f":"INDEX(données!W259:AA259,individus!$D$1)","v":{"$error":"#N/A"}},{"$f":"INDEX(données!AB259:AF259,individus!$C$1)","v":{"$error":"#N/A"}},{"$f":"INDEX(données!AB259:AF259,individus!$D$1)","v":{"$error":"#N/A"}},{"$error":"#N/A"}]
[null,{"$f":"données!B260","v":"li 257"},{"$f":"INDEX(données!W260:AA260,individus!$C$1)","v":{"$error":"#N/A"}},{"$f":"INDEX(données!W260:AA260,individus!$D$1)","v":{"$error":"#N/A"}},{"$f":"INDEX(données!AB260:AF260,individus!$C$1)","v":{"$error":"#N/A"}},{"$f":"INDEX(données!AB260:AF260,individus!$D$1)","v":{"$error":"#N/A"}},{"$error":"#N/A"}]
[null,{"$f":"données!B261","v":"li 258"},{"$f":"INDEX(données!W261:AA261,individus!$C$1)","v":{"$error":"#N/A"}},{"$f":"INDEX(données!W261:AA261,individus!$D$1)","v":{"$error":"#N/A"}},{"$f":"INDEX(données!AB261:AF261,individus!$C$1)","v":{"$error":"#N/A"}},{"$f":"INDEX(données!AB261:AF261,individus!$D$1)","v":{"$error":"#N/A"}},{"$f":"E261+F261","v":{"$error":"#N/A"}}]
[null,{"$f":"données!B262","v":"li 259"},{"$f":"INDEX(données!W262:AA262,individus!$C$1)","v":{"$error":"#N/A"}},{"$f":"INDEX(données!W262:AA262,individus!$D$1)","v":{"$error":"#N/A"}},{"$f":"INDEX(données!AB262:AF262,individus!$C$1)","v":{"$error":"#N/A"}},{"$f":"INDEX(données!AB262:AF262,individus!$D$1)","v":{"$error":"#N/A"}},{"$error":"#N/A"}]
[null,{"$f":"données!B263","v":"li 260"},{"$f":"INDEX(données!W263:AA263,individus!$C$1)","v":{"$error":"#N/A"}},{"$f":"INDEX(données!W263:AA263,individus!$D$1)","v":{"$error":"#N/A"}},{"$f":"INDEX(données!AB263:AF263,individus!$C$1)","v":{"$error":"#N/A"}},{"$f":"INDEX(données!AB263:AF263,individus!$D$1)","v":{"$error":"#N/A"}},{"$error":"#N/A"}]
[null,{"$f":"données!B264","v":"li 261"},{"$f":"INDEX(données!W264:AA264,individus!$C$1)","v":{"$error":"#N/A"}},{"$f":"INDEX(données!W264:AA264,individus!$D$1)","v":{"$error":"#N/A"}},{"$f":"INDEX(données!AB264:AF264,individus!$C$1)","v":{"$error":"#N/A"}},{"$f":"INDEX(données!AB264:AF264,individus!$D$1)","v":{"$error":"#N/A"}},{"$error":"#N/A"}]
[null,{"$f":"données!B265","v":"li 262"},{"$f":"INDEX(données!W265:AA265,individus!$C$1)","v":{"$error":"#N/A"}},{"$f":"INDEX(données!W265:AA265,individus!$D$1)","v":{"$error":"#N/A"}},{"$f":"INDEX(données!AB265:AF265,individus!$C$1)","v":{"$error":"#N/A"}},{"$f":"INDEX(données!AB265:AF265,individus!$D$1)","v":{"$error":"#N/A"}},{"$error":"#N/A"}]
[null,{"$f":"données!B266","v":"li 263"},{"$f":"INDEX(données!W266:AA266,individus!$C$1)","v":{"$error":"#N/A"}},{"$f":"INDEX(données!W266:AA266,individus!$D$1)","v":{"$error":"#N/A"}},{"$f":"INDEX(données!AB266:AF266,individus!$C$1)","v":{"$error":"#N/A"}},{"$f":"INDEX(données!AB266:AF266,individus!$D$1)","v":{"$error":"#N/A"}},{"$error":"#N/A"}]
[null,{"$f":"données!B267","v":"li 264"},{"$f":"INDEX(données!W267:AA267,individus!$C$1)","v":{"$error":"#N/A"}},{"$f":"INDEX(données!W267:AA267,individus!$D$1)","v":{"$error":"#N/A"}},{"$f":"INDEX(données!AB267:AF267,individus!$C$1)","v":{"$error":"#N/A"}},{"$f":"INDEX(données!AB267:AF267,individus!$D$1)","v":{"$error":"#N/A"}},{"$error":"#N/A"}]
[null,{"$f":"données!B268","v":"li 265"},{"$f":"INDEX(données!W268:AA268,individus!$C$1)","v":{"$error":"#N/A"}},{"$f":"INDEX(données!W268:AA268,individus!$D$1)","v":{"$error":"#N/A"}},{"$f":"INDEX(données!AB268:AF268,individus!$C$1)","v":{"$error":"#N/A"}},{"$f":"INDEX(données!AB268:AF268,individus!$D$1)","v":{"$error":"#N/A"}},{"$error":"#N/A"}]
[null,{"$f":"données!B269","v":"li 266"},{"$f":"INDEX(données!W269:AA269,individus!$C$1)","v":{"$error":"#N/A"}},{"$f":"INDEX(données!W269:AA269,individus!$D$1)","v":{"$error":"#N/A"}},{"$f":"INDEX(données!AB269:AF269,individus!$C$1)","v":{"$error":"#N/A"}},{"$f":"INDEX(données!AB269:AF269,individus!$D$1)","v":{"$error":"#N/A"}},{"$error":"#N/A"}]
[null,{"$f":"données!B270","v":"li 267"},{"$f":"INDEX(données!W270:AA270,individus!$C$1)","v":{"$error":"#N/A"}},{"$f":"INDEX(données!W270:AA270,individus!$D$1)","v":{"$error":"#N/A"}},{"$f":"INDEX(données!AB270:AF270,individus!$C$1)","v":{"$error":"#N/A"}},{"$f":"INDEX(données!AB270:AF270,individus!$D$1)","v":{"$error":"#N/A"}},{"$error":"#N/A"}]
[null,{"$f":"données!B271","v":"li 268"},{"$f":"INDEX(données!W271:AA271,individus!$C$1)","v":{"$error":"#N/A"}},{"$f":"INDEX(données!W271:AA271,individus!$D$1)","v":{"$error":"#N/A"}},{"$f":"INDEX(données!AB271:AF271,individus!$C$1)","v":{"$error":"#N/A"}},{"$f":"INDEX(données!AB271:AF271,individus!$D$1)","v":{"$error":"#N/A"}},{"$error":"#N/A"}]
[null,{"$f":"données!B272","v":"li 269"},{"$f":"INDEX(données!W272:AA272,individus!$C$1)","v":{"$error":"#N/A"}},{"$f":"INDEX(données!W272:AA272,individus!$D$1)","v":{"$error":"#N/A"}},{"$f":"INDEX(données!AB272:AF272,individus!$C$1)","v":{"$error":"#N/A"}},{"$f":"INDEX(données!AB272:AF272,individus!$D$1)","v":{"$error":"#N/A"}},{"$error":"#N/A"}]
[null,{"$f":"données!B273","v":"li 270"},{"$f":"INDEX(données!W273:AA273,individus!$C$1)","v":{"$error":"#N/A"}},{"$f":"INDEX(données!W273:AA273,individus!$D$1)","v":{"$error":"#N/A"}},{"$f":"INDEX(données!AB273:AF273,individus!$C$1)","v":{"$error":"#N/A"}},{"$f":"INDEX(données!AB273:AF273,individus!$D$1)","v":{"$error":"#N/A"}},{"$error":"#N/A"}]
[null,{"$f":"données!B274","v":"li 271"},{"$f":"INDEX(données!W274:AA274,individus!$C$1)","v":{"$error":"#N/A"}},{"$f":"INDEX(données!W274:AA274,individus!$D$1)","v":{"$error":"#N/A"}},{"$f":"INDEX(données!AB274:AF274,individus!$C$1)","v":{"$error":"#N/A"}},{"$f":"INDEX(données!AB274:AF274,individus!$D$1)","v":{"$error":"#N/A"}},{"$error":"#N/A"}]
[null,{"$f":"données!B275","v":"li 272"},{"$f":"INDEX(données!W275:AA275,individus!$C$1)","v":{"$error":"#N/A"}},{"$f":"INDEX(données!W275:AA275,individus!$D$1)","v":{"$error":"#N/A"}},{"$f":"INDEX(données!AB275:AF275,individus!$C$1)","v":{"$error":"#N/A"}},{"$f":"INDEX(données!AB275:AF275,individus!$D$1)","v":{"$error":"#N/A"}},{"$error":"#N/A"}]
[null,{"$f":"données!B276","v":"li 273"},{"$f":"INDEX(données!W276:AA276,individus!$C$1)","v":{"$error":"#N/A"}},{"$f":"INDEX(données!W276:AA276,individus!$D$1)","v":{"$error":"#N/A"}},{"$f":"INDEX(données!AB276:AF276,individus!$C$1)","v":{"$error":"#N/A"}},{"$f":"INDEX(données!AB276:AF276,individus!$D$1)","v":{"$error":"#N/A"}},{"$error":"#N/A"}]
[null,{"$f":"données!B277","v":"li 274"},{"$f":"INDEX(données!W277:AA277,individus!$C$1)","v":{"$error":"#N/A"}},{"$f":"INDEX(données!W277:AA277,individus!$D$1)","v":{"$error":"#N/A"}},{"$f":"INDEX(données!AB277:AF277,individus!$C$1)","v":{"$error":"#N/A"}},{"$f":"INDEX(données!AB277:AF277,individus!$D$1)","v":{"$error":"#N/A"}},{"$error":"#N/A"}]
[null,{"$f":"données!B278","v":"li 275"},{"$f":"INDEX(données!W278:AA278,individus!$C$1)","v":{"$error":"#N/A"}},{"$f":"INDEX(données!W278:AA278,individus!$D$1)","v":{"$error":"#N/A"}},{"$f":"INDEX(données!AB278:AF278,individus!$C$1)","v":{"$error":"#N/A"}},{"$f":"INDEX(données!AB278:AF278,individus!$D$1)","v":{"$error":"#N/A"}},{"$error":"#N/A"}]
[null,{"$f":"données!B279","v":"li 276"},{"$f":"INDEX(données!W279:AA279,individus!$C$1)","v":{"$error":"#N/A"}},{"$f":"INDEX(données!W279:AA279,individus!$D$1)","v":{"$error":"#N/A"}},{"$f":"INDEX(données!AB279:AF279,individus!$C$1)","v":{"$error":"#N/A"}},{"$f":"INDEX(données!AB279:AF279,individus!$D$1)","v":{"$error":"#N/A"}},{"$error":"#N/A"}]
[null,{"$f":"données!B280","v":"li 277"},{"$f":"INDEX(données!W280:AA280,individus!$C$1)","v":{"$error":"#N/A"}},{"$f":"INDEX(données!W280:AA280,individus!$D$1)","v":{"$error":"#N/A"}},{"$f":"INDEX(données!AB280:AF280,individus!$C$1)","v":{"$error":"#N/A"}},{"$f":"INDEX(données!AB280:AF280,individus!$D$1)","v":{"$error":"#N/A"}},{"$error":"#N/A"}]
[null,{"$f":"données!B281","v":"li 278"},{"$f":"INDEX(données!W281:AA281,individus!$C$1)","v":{"$error":"#N/A"}},{"$f":"INDEX(données!W281:AA281,individus!$D$1)","v":{"$error":"#N/A"}},{"$f":"INDEX(données!AB281:AF281,individus!$C$1)","v":{"$error":"#N/A"}},{"$f":"INDEX(données!AB281:AF281,individus!$D$1)","v":{"$error":"#N/A"}},{"$error":"#N/A"}]
[null,{"$f":"données!B282","v":"li 279"},{"$f":"INDEX(données!W282:AA282,individus!$C$1)","v":{"$error":"#N/A"}},{"$f":"INDEX(données!W282:AA282,individus!$D$1)","v":{"$error":"#N/A"}},{"$f":"INDEX(données!AB282:AF282,individus!$C$1)","v":{"$error":"#N/A"}},{"$f":"INDEX(données!AB282:AF282,individus!$D$1)","v":{"$error":"#N/A"}},{"$error":"#N/A"}]
[null,{"$f":"données!B283","v":"li 280"},{"$f":"INDEX(données!W283:AA283,individus!$C$1)","v":{"$error":"#N/A"}},{"$f":"INDEX(données!W283:AA283,individus!$D$1)","v":{"$error":"#N/A"}},{"$f":"INDEX(données!AB283:AF283,individus!$C$1)","v":{"$error":"#N/A"}},{"$f":"INDEX(données!AB283:AF283,individus!$D$1)","v":{"$error":"#N/A"}},{"$error":"#N/A"}]
[null,{"$f":"données!B284","v":"li 281"},{"$f":"INDEX(données!W284:AA284,individus!$C$1)","v":{"$error":"#N/A"}},{"$f":"INDEX(données!W284:AA284,individus!$D$1)","v":{"$error":"#N/A"}},{"$f":"INDEX(données!AB284:AF284,individus!$C$1)","v":{"$error":"#N/A"}},{"$f":"INDEX(données!AB284:AF284,individus!$D$1)","v":{"$error":"#N/A"}},{"$error":"#N/A"}]
[null,{"$f":"données!B285","v":"li 282"},{"$f":"INDEX(données!W285:AA285,individus!$C$1)","v":{"$error":"#N/A"}},{"$f":"INDEX(données!W285:AA285,individus!$D$1)","v":{"$error":"#N/A"}},{"$f":"INDEX(données!AB285:AF285,individus!$C$1)","v":{"$error":"#N/A"}},{"$f":"INDEX(données!AB285:AF285,individus!$D$1)","v":{"$error":"#N/A"}},{"$error":"#N/A"}]
[null,{"$f":"données!B286","v":"li 283"},{"$f":"INDEX(données!W286:AA286,individus!$C$1)","v":{"$error":"#N/A"}},{"$f":"INDEX(données!W286:AA286,individus!$D$1)","v":{"$error":"#N/A"}},{"$f":"INDEX(données!AB286:AF286,individus!$C$1)","v":{"$error":"#N/A"}},{"$f":"INDEX(données!AB286:AF286,individus!$D$1)","v":{"$error":"#N/A"}},{"$error":"#N/A"}]
[null,{"$f":"données!B287","v":"li 284"},{"$f":"INDEX(données!W287:AA287,individus!$C$1)","v":{"$error":"#N/A"}},{"$f":"INDEX(données!W287:AA287,individus!$D$1)","v":{"$error":"#N/A"}},{"$f":"INDEX(données!AB287:AF287,individus!$C$1)","v":{"$error":"#N/A"}},{"$f":"INDEX(données!AB287:AF287,individus!$D$1)","v":{"$error":"#N/A"}},{"$error":"#N/A"}]
[null,{"$f":"données!B288","v":"li 285"},{"$f":"INDEX(données!W288:AA288,individus!$C$1)","v":{"$error":"#N/A"}},{"$f":"INDEX(données!W288:AA288,individus!$D$1)","v":{"$error":"#N/A"}},{"$f":"INDEX(données!AB288:AF288,individus!$C$1)","v":{"$error":"#N/A"}},{"$f":"INDEX(données!AB288:AF288,individus!$D$1)","v":{"$error":"#N/A"}},{"$error":"#N/A"}]
[null,{"$f":"données!B289","v":"li 286"},{"$f":"INDEX(données!W289:AA289,individus!$C$1)","v":{"$error":"#N/A"}},{"$f":"INDEX(données!W289:AA289,individus!$D$1)","v":{"$error":"#N/A"}},{"$f":"INDEX(données!AB289:AF289,individus!$C$1)","v":{"$error":"#N/A"}},{"$f":"INDEX(données!AB289:AF289,individus!$D$1)","v":{"$error":"#N/A"}},{"$error":"#N/A"}]
[null,{"$f":"données!B290","v":"li 287"},{"$f":"INDEX(données!W290:AA290,individus!$C$1)","v":{"$error":"#N/A"}},{"$f":"INDEX(données!W290:AA290,individus!$D$1)","v":{"$error":"#N/A"}},{"$f":"INDEX(données!AB290:AF290,individus!$C$1)","v":{"$error":"#N/A"}},{"$f":"INDEX(données!AB290:AF290,individus!$D$1)","v":{"$error":"#N/A"}},{"$error":"#N/A"}]
[null,{"$f":"données!B291","v":"li 288"},{"$f":"INDEX(données!W291:AA291,individus!$C$1)","v":{"$error":"#N/A"}},{"$f":"INDEX(données!W291:AA291,individus!$D$1)","v":{"$error":"#N/A"}},{"$f":"INDEX(données!AB291:AF291,individus!$C$1)","v":{"$error":"#N/A"}},{"$f":"INDEX(données!AB291:AF291,individus!$D$1)","v":{"$error":"#N/A"}},{"$error":"#N/A"}]
[null,{"$f":"données!B292","v":"li 289"},{"$f":"INDEX(données!W292:AA292,individus!$C$1)","v":{"$error":"#N/A"}},{"$f":"INDEX(données!W292:AA292,individus!$D$1)","v":{"$error":"#N/A"}},{"$f":"INDEX(données!AB292:AF292,individus!$C$1)","v":{"$error":"#N/A"}},{"$f":"INDEX(données!AB292:AF292,individus!$D$1)","v":{"$error":"#N/A"}},{"$error":"#N/A"}]
[null,{"$f":"données!B293","v":"li 290"},{"$f":"INDEX(données!W293:AA293,individus!$C$1)","v":{"$error":"#N/A"}},{"$f":"INDEX(données!W293:AA293,individus!$D$1)","v":{"$error":"#N/A"}},{"$f":"INDEX(données!AB293:AF293,individus!$C$1)","v":{"$error":"#N/A"}},{"$f":"INDEX(données!AB293:AF293,individus!$D$1)","v":{"$error":"#N/A"}},{"$error":"#N/A"}]
[null,{"$f":"données!B294","v":"li 291"},{"$f":"INDEX(données!W294:AA294,individus!$C$1)","v":{"$error":"#N/A"}},{"$f":"INDEX(données!W294:AA294,individus!$D$1)","v":{"$error":"#N/A"}},{"$f":"INDEX(données!AB294:AF294,individus!$C$1)","v":{"$error":"#N/A"}},{"$f":"INDEX(données!AB294:AF294,individus!$D$1)","v":{"$error":"#N/A"}},{"$error":"#N/A"}]
[null,{"$f":"données!B295","v":"li 292"},{"$f":"INDEX(données!W295:AA295,individus!$C$1)","v":{"$error":"#N/A"}},{"$f":"INDEX(données!W295:AA295,individus!$D$1)","v":{"$error":"#N/A"}},{"$f":"INDEX(données!AB295:AF295,individus!$C$1)","v":{"$error":"#N/A"}},{"$f":"INDEX(données!AB295:AF295,individus!$D$1)","v":{"$error":"#N/A"}},{"$error":"#N/A"}]
[null,{"$f":"données!B296","v":"li 293"},{"$f":"INDEX(données!W296:AA296,individus!$C$1)","v":{"$error":"#N/A"}},{"$f":"INDEX(données!W296:AA296,individus!$D$1)","v":{"$error":"#N/A"}},{"$f":"INDEX(données!AB296:AF296,individus!$C$1)","v":{"$error":"#N/A"}},{"$f":"INDEX(données!AB296:AF296,individus!$D$1)","v":{"$error":"#N/A"}},{"$error":"#N/A"}]
[null,{"$f":"données!B297","v":"li 294"},{"$f":"INDEX(données!W297:AA297,individus!$C$1)","v":{"$error":"#N/A"}},{"$f":"INDEX(données!W297:AA297,individus!$D$1)","v":{"$error":"#N/A"}},{"$f":"INDEX(données!AB297:AF297,individus!$C$1)","v":{"$error":"#N/A"}},{"$f":"INDEX(données!AB297:AF297,individus!$D$1)","v":{"$error":"#N/A"}},{"$error":"#N/A"}]
[null,{"$f":"données!B298","v":"li 295"},{"$f":"INDEX(données!W298:AA298,individus!$C$1)","v":{"$error":"#N/A"}},{"$f":"INDEX(données!W298:AA298,individus!$D$1)","v":{"$error":"#N/A"}},{"$f":"INDEX(données!AB298:AF298,individus!$C$1)","v":{"$error":"#N/A"}},{"$f":"INDEX(données!AB298:AF298,individus!$D$1)","v":{"$error":"#N/A"}},{"$error":"#N/A"}]
[null,{"$f":"données!B299","v":"li 296"},{"$f":"INDEX(données!W299:AA299,individus!$C$1)","v":{"$error":"#N/A"}},{"$f":"INDEX(données!W299:AA299,individus!$D$1)","v":{"$error":"#N/A"}},{"$f":"INDEX(données!AB299:AF299,individus!$C$1)","v":{"$error":"#N/A"}},{"$f":"INDEX(données!AB299:AF299,individus!$D$1)","v":{"$error":"#N/A"}},{"$error":"#N/A"}]
[null,{"$f":"données!B300","v":"li 297"},{"$f":"INDEX(données!W300:AA300,individus!$C$1)","v":{"$error":"#N/A"}},{"$f":"INDEX(données!W300:AA300,individus!$D$1)","v":{"$error":"#N/A"}},{"$f":"INDEX(données!AB300:AF300,individus!$C$1)","v":{"$error":"#N/A"}},{"$f":"INDEX(données!AB300:AF300,individus!$D$1)","v":{"$error":"#N/A"}},{"$error":"#N/A"}]
[null,{"$f":"données!B301","v":"li 298"},{"$f":"INDEX(données!W301:AA301,individus!$C$1)","v":{"$error":"#N/A"}},{"$f":"INDEX(données!W301:AA301,individus!$D$1)","v":{"$error":"#N/A"}},{"$f":"INDEX(données!AB301:AF301,individus!$C$1)","v":{"$error":"#N/A"}},{"$f":"INDEX(données!AB301:AF301,individus!$D$1)","v":{"$error":"#N/A"}},{"$error":"#N/A"}]
[null,{"$f":"données!B302","v":"li 299"},{"$f":"INDEX(données!W302:AA302,individus!$C$1)","v":{"$error":"#N/A"}},{"$f":"INDEX(données!W302:AA302,individus!$D$1)","v":{"$error":"#N/A"}},{"$f":"INDEX(données!AB302:AF302,individus!$C$1)","v":{"$error":"#N/A"}},{"$f":"INDEX(données!AB302:AF302,individus!$D$1)","v":{"$error":"#N/A"}},{"$error":"#N/A"}]
[null,{"$f":"données!B303","v":"li 300"},{"$f":"INDEX(données!W303:AA303,individus!$C$1)","v":{"$error":"#N/A"}},{"$f":"INDEX(données!W303:AA303,individus!$D$1)","v":{"$error":"#N/A"}},{"$f":"INDEX(données!AB303:AF303,individus!$C$1)","v":{"$error":"#N/A"}},{"$f":"INDEX(données!AB303:AF303,individus!$D$1)","v":{"$error":"#N/A"}},{"$error":"#N/A"}]
[null,{"$f":"données!B304","v":"li 301"},{"$f":"INDEX(données!W304:AA304,individus!$C$1)","v":{"$error":"#N/A"}},{"$f":"INDEX(données!W304:AA304,individus!$D$1)","v":{"$error":"#N/A"}},{"$f":"INDEX(données!AB304:AF304,individus!$C$1)","v":{"$error":"#N/A"}},{"$f":"INDEX(données!AB304:AF304,individus!$D$1)","v":{"$error":"#N/A"}},{"$error":"#N/A"}]
[null,{"$f":"données!B305","v":"li 302"},{"$f":"INDEX(données!W305:AA305,individus!$C$1)","v":{"$error":"#N/A"}},{"$f":"INDEX(données!W305:AA305,individus!$D$1)","v":{"$error":"#N/A"}},{"$f":"INDEX(données!AB305:AF305,individus!$C$1)","v":{"$error":"#N/A"}},{"$f":"INDEX(données!AB305:AF305,individus!$D$1)","v":{"$error":"#N/A"}},{"$error":"#N/A"}]
[null,{"$f":"données!B306","v":"li 303"},{"$f":"INDEX(données!W306:AA306,individus!$C$1)","v":{"$error":"#N/A"}},{"$f":"INDEX(données!W306:AA306,individus!$D$1)","v":{"$error":"#N/A"}},{"$f":"INDEX(données!AB306:AF306,individus!$C$1)","v":{"$error":"#N/A"}},{"$f":"INDEX(données!AB306:AF306,individus!$D$1)","v":{"$error":"#N/A"}},{"$error":"#N/A"}]
[null,{"$f":"données!B307","v":"li 304"},{"$f":"INDEX(données!W307:AA307,individus!$C$1)","v":{"$error":"#N/A"}},{"$f":"INDEX(données!W307:AA307,individus!$D$1)","v":{"$error":"#N/A"}},{"$f":"INDEX(données!AB307:AF307,individus!$C$1)","v":{"$error":"#N/A"}},{"$f":"INDEX(données!AB307:AF307,individus!$D$1)","v":{"$error":"#N/A"}},{"$error":"#N/A"}]
[null,{"$f":"données!B308","v":"li 305"},{"$f":"INDEX(données!W308:AA308,individus!$C$1)","v":{"$error":"#N/A"}},{"$f":"INDEX(données!W308:AA308,individus!$D$1)","v":{"$error":"#N/A"}},{"$f":"INDEX(données!AB308:AF308,individus!$C$1)","v":{"$error":"#N/A"}},{"$f":"INDEX(données!AB308:AF308,individus!$D$1)","v":{"$error":"#N/A"}},{"$error":"#N/A"}]
[null,{"$f":"données!B309","v":"li 306"},{"$f":"INDEX(données!W309:AA309,individus!$C$1)","v":{"$error":"#N/A"}},{"$f":"INDEX(données!W309:AA309,individus!$D$1)","v":{"$error":"#N/A"}},{"$f":"INDEX(données!AB309:AF309,individus!$C$1)","v":{"$error":"#N/A"}},{"$f":"INDEX(données!AB309:AF309,individus!$D$1)","v":{"$error":"#N/A"}},{"$error":"#N/A"}]
[null,{"$f":"données!B310","v":"li 307"},{"$f":"INDEX(données!W310:AA310,individus!$C$1)","v":{"$error":"#N/A"}},{"$f":"INDEX(données!W310:AA310,individus!$D$1)","v":{"$error":"#N/A"}},{"$f":"INDEX(données!AB310:AF310,individus!$C$1)","v":{"$error":"#N/A"}},{"$f":"INDEX(données!AB310:AF310,individus!$D$1)","v":{"$error":"#N/A"}},{"$error":"#N/A"}]
[null,{"$f":"données!B311","v":"li 308"},{"$f":"INDEX(données!W311:AA311,individus!$C$1)","v":{"$error":"#N/A"}},{"$f":"INDEX(données!W311:AA311,individus!$D$1)","v":{"$error":"#N/A"}},{"$f":"INDEX(données!AB311:AF311,individus!$C$1)","v":{"$error":"#N/A"}},{"$f":"INDEX(données!AB311:AF311,individus!$D$1)","v":{"$error":"#N/A"}},{"$error":"#N/A"}]
[null,{"$f":"données!B312","v":"li 309"},{"$f":"INDEX(données!W312:AA312,individus!$C$1)","v":{"$error":"#N/A"}},{"$f":"INDEX(données!W312:AA312,individus!$D$1)","v":{"$error":"#N/A"}},{"$f":"INDEX(données!AB312:AF312,individus!$C$1)","v":{"$error":"#N/A"}},{"$f":"INDEX(données!AB312:AF312,individus!$D$1)","v":{"$error":"#N/A"}},{"$error":"#N/A"}]
[null,{"$f":"données!B313","v":"li 310"},{"$f":"INDEX(données!W313:AA313,individus!$C$1)","v":{"$error":"#N/A"}},{"$f":"INDEX(données!W313:AA313,individus!$D$1)","v":{"$error":"#N/A"}},{"$f":"INDEX(données!AB313:AF313,individus!$C$1)","v":{"$error":"#N/A"}},{"$f":"INDEX(données!AB313:AF313,individus!$D$1)","v":{"$error":"#N/A"}},{"$error":"#N/A"}]
[null,{"$f":"données!B314","v":"li 311"},{"$f":"INDEX(données!W314:AA314,individus!$C$1)","v":{"$error":"#N/A"}},{"$f":"INDEX(données!W314:AA314,individus!$D$1)","v":{"$error":"#N/A"}},{"$f":"INDEX(données!AB314:AF314,individus!$C$1)","v":{"$error":"#N/A"}},{"$f":"INDEX(données!AB314:AF314,individus!$D$1)","v":{"$error":"#N/A"}},{"$error":"#N/A"}]
[null,{"$f":"données!B315","v":"li 312"},{"$f":"INDEX(données!W315:AA315,individus!$C$1)","v":{"$error":"#N/A"}},{"$f":"INDEX(données!W315:AA315,individus!$D$1)","v":{"$error":"#N/A"}},{"$f":"INDEX(données!AB315:AF315,individus!$C$1)","v":{"$error":"#N/A"}},{"$f":"INDEX(données!AB315:AF315,individus!$D$1)","v":{"$error":"#N/A"}},{"$error":"#N/A"}]
[null,{"$f":"données!B316","v":"li 313"},{"$f":"INDEX(données!W316:AA316,individus!$C$1)","v":{"$error":"#N/A"}},{"$f":"INDEX(données!W316:AA316,individus!$D$1)","v":{"$error":"#N/A"}},{"$f":"INDEX(données!AB316:AF316,individus!$C$1)","v":{"$error":"#N/A"}},{"$f":"INDEX(données!AB316:AF316,individus!$D$1)","v":{"$error":"#N/A"}},{"$error":"#N/A"}]
[null,{"$f":"données!B317","v":"li 314"},{"$f":"INDEX(données!W317:AA317,individus!$C$1)","v":{"$error":"#N/A"}},{"$f":"INDEX(données!W317:AA317,individus!$D$1)","v":{"$error":"#N/A"}},{"$f":"INDEX(données!AB317:AF317,individus!$C$1)","v":{"$error":"#N/A"}},{"$f":"INDEX(données!AB317:AF317,individus!$D$1)","v":{"$error":"#N/A"}},{"$error":"#N/A"}]
[null,{"$f":"données!B318","v":"li 315"},{"$f":"INDEX(données!W318:AA318,individus!$C$1)","v":{"$error":"#N/A"}},{"$f":"INDEX(données!W318:AA318,individus!$D$1)","v":{"$error":"#N/A"}},{"$f":"INDEX(données!AB318:AF318,individus!$C$1)","v":{"$error":"#N/A"}},{"$f":"INDEX(données!AB318:AF318,individus!$D$1)","v":{"$error":"#N/A"}},{"$error":"#N/A"}]
[null,{"$f":"données!B319","v":"li 316"},{"$f":"INDEX(données!W319:AA319,individus!$C$1)","v":{"$error":"#N/A"}},{"$f":"INDEX(données!W319:AA319,individus!$D$1)","v":{"$error":"#N/A"}},{"$f":"INDEX(données!AB319:AF319,individus!$C$1)","v":{"$error":"#N/A"}},{"$f":"INDEX(données!AB319:AF319,individus!$D$1)","v":{"$error":"#N/A"}},{"$error":"#N/A"}]
[null,{"$f":"données!B320","v":"li 317"},{"$f":"INDEX(données!W320:AA320,individus!$C$1)","v":{"$error":"#N/A"}},{"$f":"INDEX(données!W320:AA320,individus!$D$1)","v":{"$error":"#N/A"}},{"$f":"INDEX(données!AB320:AF320,individus!$C$1)","v":{"$error":"#N/A"}},{"$f":"INDEX(données!AB320:AF320,individus!$D$1)","v":{"$error":"#N/A"}},{"$error":"#N/A"}]
[null,{"$f":"données!B321","v":"li 318"},{"$f":"INDEX(données!W321:AA321,individus!$C$1)","v":{"$error":"#N/A"}},{"$f":"INDEX(données!W321:AA321,individus!$D$1)","v":{"$error":"#N/A"}},{"$f":"INDEX(données!AB321:AF321,individus!$C$1)","v":{"$error":"#N/A"}},{"$f":"INDEX(données!AB321:AF321,individus!$D$1)","v":{"$error":"#N/A"}},{"$error":"#N/A"}]
[null,{"$f":"données!B322","v":"li 319"},{"$f":"INDEX(données!W322:AA322,individus!$C$1)","v":{"$error":"#N/A"}},{"$f":"INDEX(données!W322:AA322,individus!$D$1)","v":{"$error":"#N/A"}},{"$f":"INDEX(données!AB322:AF322,individus!$C$1)","v":{"$error":"#N/A"}},{"$f":"INDEX(données!AB322:AF322,individus!$D$1)","v":{"$error":"#N/A"}},{"$error":"#N/A"}]
[null,{"$f":"données!B323","v":"li 320"},{"$f":"INDEX(données!W323:AA323,individus!$C$1)","v":{"$error":"#N/A"}},{"$f":"INDEX(données!W323:AA323,individus!$D$1)","v":{"$error":"#N/A"}},{"$f":"INDEX(données!AB323:AF323,individus!$C$1)","v":{"$error":"#N/A"}},{"$f":"INDEX(données!AB323:AF323,individus!$D$1)","v":{"$error":"#N/A"}},{"$error":"#N/A"}]
[null,{"$f":"données!B324","v":"li 321"},{"$f":"INDEX(données!W324:AA324,individus!$C$1)","v":{"$error":"#N/A"}},{"$f":"INDEX(données!W324:AA324,individus!$D$1)","v":{"$error":"#N/A"}},{"$f":"INDEX(données!AB324:AF324,individus!$C$1)","v":{"$error":"#N/A"}},{"$f":"INDEX(données!AB324:AF324,individus!$D$1)","v":{"$error":"#N/A"}},{"$error":"#N/A"}]
[null,{"$f":"données!B325","v":"li 322"},{"$f":"INDEX(données!W325:AA325,individus!$C$1)","v":{"$error":"#N/A"}},{"$f":"INDEX(données!W325:AA325,individus!$D$1)","v":{"$error":"#N/A"}},{"$f":"INDEX(données!AB325:AF325,individus!$C$1)","v":{"$error":"#N/A"}},{"$f":"INDEX(données!AB325:AF325,individus!$D$1)","v":{"$error":"#N/A"}},{"$f":"E325+F325","v":{"$error":"#N/A"}}]
[null,{"$f":"données!B326","v":"li 323"},{"$f":"INDEX(données!W326:AA326,individus!$C$1)","v":{"$error":"#N/A"}},{"$f":"INDEX(données!W326:AA326,individus!$D$1)","v":{"$error":"#N/A"}},{"$f":"INDEX(données!AB326:AF326,individus!$C$1)","v":{"$error":"#N/A"}},{"$f":"INDEX(données!AB326:AF326,individus!$D$1)","v":{"$error":"#N/A"}},{"$error":"#N/A"}]
[null,{"$f":"données!B327","v":"li 324"},{"$f":"INDEX(données!W327:AA327,individus!$C$1)","v":{"$error":"#N/A"}},{"$f":"INDEX(données!W327:AA327,individus!$D$1)","v":{"$error":"#N/A"}},{"$f":"INDEX(données!AB327:AF327,individus!$C$1)","v":{"$error":"#N/A"}},{"$f":"INDEX(données!AB327:AF327,individus!$D$1)","v":{"$error":"#N/A"}},{"$error":"#N/A"}]
[null,{"$f":"données!B328","v":"li 325"},{"$f":"INDEX(données!W328:AA328,individus!$C$1)","v":{"$error":"#N/A"}},{"$f":"INDEX(données!W328:AA328,individus!$D$1)","v":{"$error":"#N/A"}},{"$f":"INDEX(données!AB328:AF328,individus!$C$1)","v":{"$error":"#N/A"}},{"$f":"INDEX(données!AB328:AF328,individus!$D$1)","v":{"$error":"#N/A"}},{"$error":"#N/A"}]
[null,{"$f":"données!B329","v":"li 326"},{"$f":"INDEX(données!W329:AA329,individus!$C$1)","v":{"$error":"#N/A"}},{"$f":"INDEX(données!W329:AA329,individus!$D$1)","v":{"$error":"#N/A"}},{"$f":"INDEX(données!AB329:AF329,individus!$C$1)","v":{"$error":"#N/A"}},{"$f":"INDEX(données!AB329:AF329,individus!$D$1)","v":{"$error":"#N/A"}},{"$error":"#N/A"}]
[null,{"$f":"données!B330","v":"li 327"},{"$f":"INDEX(données!W330:AA330,individus!$C$1)","v":{"$error":"#N/A"}},{"$f":"INDEX(données!W330:AA330,individus!$D$1)","v":{"$error":"#N/A"}},{"$f":"INDEX(données!AB330:AF330,individus!$C$1)","v":{"$error":"#N/A"}},{"$f":"INDEX(données!AB330:AF330,individus!$D$1)","v":{"$error":"#N/A"}},{"$error":"#N/A"}]
[null,{"$f":"données!B331","v":"li 328"},{"$f":"INDEX(données!W331:AA331,individus!$C$1)","v":{"$error":"#N/A"}},{"$f":"INDEX(données!W331:AA331,individus!$D$1)","v":{"$error":"#N/A"}},{"$f":"INDEX(données!AB331:AF331,individus!$C$1)","v":{"$error":"#N/A"}},{"$f":"INDEX(données!AB331:AF331,individus!$D$1)","v":{"$error":"#N/A"}},{"$error":"#N/A"}]
[null,{"$f":"données!B332","v":"li 329"},{"$f":"INDEX(données!W332:AA332,individus!$C$1)","v":{"$error":"#N/A"}},{"$f":"INDEX(données!W332:AA332,individus!$D$1)","v":{"$error":"#N/A"}},{"$f":"INDEX(données!AB332:AF332,individus!$C$1)","v":{"$error":"#N/A"}},{"$f":"INDEX(données!AB332:AF332,individus!$D$1)","v":{"$error":"#N/A"}},{"$error":"#N/A"}]
[null,{"$f":"données!B333","v":"li 330"},{"$f":"INDEX(données!W333:AA333,individus!$C$1)","v":{"$error":"#N/A"}},{"$f":"INDEX(données!W333:AA333,individus!$D$1)","v":{"$error":"#N/A"}},{"$f":"INDEX(données!AB333:AF333,individus!$C$1)","v":{"$error":"#N/A"}},{"$f":"INDEX(données!AB333:AF333,individus!$D$1)","v":{"$error":"#N/A"}},{"$error":"#N/A"}]
[null,{"$f":"données!B334","v":"li 331"},{"$f":"INDEX(données!W334:AA334,individus!$C$1)","v":{"$error":"#N/A"}},{"$f":"INDEX(données!W334:AA334,individus!$D$1)","v":{"$error":"#N/A"}},{"$f":"INDEX(données!AB334:AF334,individus!$C$1)","v":{"$error":"#N/A"}},{"$f":"INDEX(données!AB334:AF334,individus!$D$1)","v":{"$error":"#N/A"}},{"$error":"#N/A"}]
[null,{"$f":"données!B335","v":"li 332"},{"$f":"INDEX(données!W335:AA335,individus!$C$1)","v":{"$error":"#N/A"}},{"$f":"INDEX(données!W335:AA335,individus!$D$1)","v":{"$error":"#N/A"}},{"$f":"INDEX(données!AB335:AF335,individus!$C$1)","v":{"$error":"#N/A"}},{"$f":"INDEX(données!AB335:AF335,individus!$D$1)","v":{"$error":"#N/A"}},{"$error":"#N/A"}]
[null,{"$f":"données!B336","v":"li 333"},{"$f":"INDEX(données!W336:AA336,individus!$C$1)","v":{"$error":"#N/A"}},{"$f":"INDEX(données!W336:AA336,individus!$D$1)","v":{"$error":"#N/A"}},{"$f":"INDEX(données!AB336:AF336,individus!$C$1)","v":{"$error":"#N/A"}},{"$f":"INDEX(données!AB336:AF336,individus!$D$1)","v":{"$error":"#N/A"}},{"$error":"#N/A"}]
[null,{"$f":"données!B337","v":"li 334"},{"$f":"INDEX(données!W337:AA337,individus!$C$1)","v":{"$error":"#N/A"}},{"$f":"INDEX(données!W337:AA337,individus!$D$1)","v":{"$error":"#N/A"}},{"$f":"INDEX(données!AB337:AF337,individus!$C$1)","v":{"$error":"#N/A"}},{"$f":"INDEX(données!AB337:AF337,individus!$D$1)","v":{"$error":"#N/A"}},{"$error":"#N/A"}]
[null,{"$f":"données!B338","v":"li 335"},{"$f":"INDEX(données!W338:AA338,individus!$C$1)","v":{"$error":"#N/A"}},{"$f":"INDEX(données!W338:AA338,individus!$D$1)","v":{"$error":"#N/A"}},{"$f":"INDEX(données!AB338:AF338,individus!$C$1)","v":{"$error":"#N/A"}},{"$f":"INDEX(données!AB338:AF338,individus!$D$1)","v":{"$error":"#N/A"}},{"$error":"#N/A"}]
[null,{"$f":"données!B339","v":"li 336"},{"$f":"INDEX(données!W339:AA339,individus!$C$1)","v":{"$error":"#N/A"}},{"$f":"INDEX(données!W339:AA339,individus!$D$1)","v":{"$error":"#N/A"}},{"$f":"INDEX(données!AB339:AF339,individus!$C$1)","v":{"$error":"#N/A"}},{"$f":"INDEX(données!AB339:AF339,individus!$D$1)","v":{"$error":"#N/A"}},{"$error":"#N/A"}]
[null,{"$f":"données!B340","v":"li 337"},{"$f":"INDEX(données!W340:AA340,individus!$C$1)","v":{"$error":"#N/A"}},{"$f":"INDEX(données!W340:AA340,individus!$D$1)","v":{"$error":"#N/A"}},{"$f":"INDEX(données!AB340:AF340,individus!$C$1)","v":{"$error":"#N/A"}},{"$f":"INDEX(données!AB340:AF340,individus!$D$1)","v":{"$error":"#N/A"}},{"$error":"#N/A"}]
[null,{"$f":"données!B341","v":"li 338"},{"$f":"INDEX(données!W341:AA341,individus!$C$1)","v":{"$error":"#N/A"}},{"$f":"INDEX(données!W341:AA341,individus!$D$1)","v":{"$error":"#N/A"}},{"$f":"INDEX(données!AB341:AF341,individus!$C$1)","v":{"$error":"#N/A"}},{"$f":"INDEX(données!AB341:AF341,individus!$D$1)","v":{"$error":"#N/A"}},{"$error":"#N/A"}]
[null,{"$f":"données!B342","v":"li 339"},{"$f":"INDEX(données!W342:AA342,individus!$C$1)","v":{"$error":"#N/A"}},{"$f":"INDEX(données!W342:AA342,individus!$D$1)","v":{"$error":"#N/A"}},{"$f":"INDEX(données!AB342:AF342,individus!$C$1)","v":{"$error":"#N/A"}},{"$f":"INDEX(données!AB342:AF342,individus!$D$1)","v":{"$error":"#N/A"}},{"$error":"#N/A"}]
[null,{"$f":"données!B343","v":"li 340"},{"$f":"INDEX(données!W343:AA343,individus!$C$1)","v":{"$error":"#N/A"}},{"$f":"INDEX(données!W343:AA343,individus!$D$1)","v":{"$error":"#N/A"}},{"$f":"INDEX(données!AB343:AF343,individus!$C$1)","v":{"$error":"#N/A"}},{"$f":"INDEX(données!AB343:AF343,individus!$D$1)","v":{"$error":"#N/A"}},{"$error":"#N/A"}]
[null,{"$f":"données!B344","v":"li 341"},{"$f":"INDEX(données!W344:AA344,individus!$C$1)","v":{"$error":"#N/A"}},{"$f":"INDEX(données!W344:AA344,individus!$D$1)","v":{"$error":"#N/A"}},{"$f":"INDEX(données!AB344:AF344,individus!$C$1)","v":{"$error":"#N/A"}},{"$f":"INDEX(données!AB344:AF344,individus!$D$1)","v":{"$error":"#N/A"}},{"$error":"#N/A"}]
[null,{"$f":"données!B345","v":"li 342"},{"$f":"INDEX(données!W345:AA345,individus!$C$1)","v":{"$error":"#N/A"}},{"$f":"INDEX(données!W345:AA345,individus!$D$1)","v":{"$error":"#N/A"}},{"$f":"INDEX(données!AB345:AF345,individus!$C$1)","v":{"$error":"#N/A"}},{"$f":"INDEX(données!AB345:AF345,individus!$D$1)","v":{"$error":"#N/A"}},{"$error":"#N/A"}]
[null,{"$f":"données!B346","v":"li 343"},{"$f":"INDEX(données!W346:AA346,individus!$C$1)","v":{"$error":"#N/A"}},{"$f":"INDEX(données!W346:AA346,individus!$D$1)","v":{"$error":"#N/A"}},{"$f":"INDEX(données!AB346:AF346,individus!$C$1)","v":{"$error":"#N/A"}},{"$f":"INDEX(données!AB346:AF346,individus!$D$1)","v":{"$error":"#N/A"}},{"$error":"#N/A"}]
[null,{"$f":"données!B347","v":"li 344"},{"$f":"INDEX(données!W347:AA347,individus!$C$1)","v":{"$error":"#N/A"}},{"$f":"INDEX(données!W347:AA347,individus!$D$1)","v":{"$error":"#N/A"}},{"$f":"INDEX(données!AB347:AF347,individus!$C$1)","v":{"$error":"#N/A"}},{"$f":"INDEX(données!AB347:AF347,individus!$D$1)","v":{"$error":"#N/A"}},{"$error":"#N/A"}]
[null,{"$f":"données!B348","v":"li 345"},{"$f":"INDEX(données!W348:AA348,individus!$C$1)","v":{"$error":"#N/A"}},{"$f":"INDEX(données!W348:AA348,individus!$D$1)","v":{"$error":"#N/A"}},{"$f":"INDEX(données!AB348:AF348,individus!$C$1)","v":{"$error":"#N/A"}},{"$f":"INDEX(données!AB348:AF348,individus!$D$1)","v":{"$error":"#N/A"}},{"$error":"#N/A"}]
[null,{"$f":"données!B349","v":"li 346"},{"$f":"INDEX(données!W349:AA349,individus!$C$1)","v":{"$error":"#N/A"}},{"$f":"INDEX(données!W349:AA349,individus!$D$1)","v":{"$error":"#N/A"}},{"$f":"INDEX(données!AB349:AF349,individus!$C$1)","v":{"$error":"#N/A"}},{"$f":"INDEX(données!AB349:AF349,individus!$D$1)","v":{"$error":"#N/A"}},{"$error":"#N/A"}]
[null,{"$f":"données!B350","v":"li 347"},{"$f":"INDEX(données!W350:AA350,individus!$C$1)","v":{"$error":"#N/A"}},{"$f":"INDEX(données!W350:AA350,individus!$D$1)","v":{"$error":"#N/A"}},{"$f":"INDEX(données!AB350:AF350,individus!$C$1)","v":{"$error":"#N/A"}},{"$f":"INDEX(données!AB350:AF350,individus!$D$1)","v":{"$error":"#N/A"}},{"$error":"#N/A"}]
[null,{"$f":"données!B351","v":"li 348"},{"$f":"INDEX(données!W351:AA351,individus!$C$1)","v":{"$error":"#N/A"}},{"$f":"INDEX(données!W351:AA351,individus!$D$1)","v":{"$error":"#N/A"}},{"$f":"INDEX(données!AB351:AF351,individus!$C$1)","v":{"$error":"#N/A"}},{"$f":"INDEX(données!AB351:AF351,individus!$D$1)","v":{"$error":"#N/A"}},{"$error":"#N/A"}]
[null,{"$f":"données!B352","v":"li 349"},{"$f":"INDEX(données!W352:AA352,individus!$C$1)","v":{"$error":"#N/A"}},{"$f":"INDEX(données!W352:AA352,individus!$D$1)","v":{"$error":"#N/A"}},{"$f":"INDEX(données!AB352:AF352,individus!$C$1)","v":{"$error":"#N/A"}},{"$f":"INDEX(données!AB352:AF352,individus!$D$1)","v":{"$error":"#N/A"}},{"$error":"#N/A"}]
[null,{"$f":"données!B353","v":"li 350"},{"$f":"INDEX(données!W353:AA353,individus!$C$1)","v":{"$error":"#N/A"}},{"$f":"INDEX(données!W353:AA353,individus!$D$1)","v":{"$error":"#N/A"}},{"$f":"INDEX(données!AB353:AF353,individus!$C$1)","v":{"$error":"#N/A"}},{"$f":"INDEX(données!AB353:AF353,individus!$D$1)","v":{"$error":"#N/A"}},{"$error":"#N/A"}]
[null,{"$f":"données!B354","v":"li 351"},{"$f":"INDEX(données!W354:AA354,individus!$C$1)","v":{"$error":"#N/A"}},{"$f":"INDEX(données!W354:AA354,individus!$D$1)","v":{"$error":"#N/A"}},{"$f":"INDEX(données!AB354:AF354,individus!$C$1)","v":{"$error":"#N/A"}},{"$f":"INDEX(données!AB354:AF354,individus!$D$1)","v":{"$error":"#N/A"}},{"$error":"#N/A"}]
[null,{"$f":"données!B355","v":"li 352"},{"$f":"INDEX(données!W355:AA355,individus!$C$1)","v":{"$error":"#N/A"}},{"$f":"INDEX(données!W355:AA355,individus!$D$1)","v":{"$error":"#N/A"}},{"$f":"INDEX(données!AB355:AF355,individus!$C$1)","v":{"$error":"#N/A"}},{"$f":"INDEX(données!AB355:AF355,individus!$D$1)","v":{"$error":"#N/A"}},{"$error":"#N/A"}]
[null,{"$f":"données!B356","v":"li 353"},{"$f":"INDEX(données!W356:AA356,individus!$C$1)","v":{"$error":"#N/A"}},{"$f":"INDEX(données!W356:AA356,individus!$D$1)","v":{"$error":"#N/A"}},{"$f":"INDEX(données!AB356:AF356,individus!$C$1)","v":{"$error":"#N/A"}},{"$f":"INDEX(données!AB356:AF356,individus!$D$1)","v":{"$error":"#N/A"}},{"$error":"#N/A"}]
[null,{"$f":"données!B357","v":"li 354"},{"$f":"INDEX(données!W357:AA357,individus!$C$1)","v":{"$error":"#N/A"}},{"$f":"INDEX(données!W357:AA357,individus!$D$1)","v":{"$error":"#N/A"}},{"$f":"INDEX(données!AB357:AF357,individus!$C$1)","v":{"$error":"#N/A"}},{"$f":"INDEX(données!AB357:AF357,individus!$D$1)","v":{"$error":"#N/A"}},{"$error":"#N/A"}]
[null,{"$f":"données!B358","v":"li 355"},{"$f":"INDEX(données!W358:AA358,individus!$C$1)","v":{"$error":"#N/A"}},{"$f":"INDEX(données!W358:AA358,individus!$D$1)","v":{"$error":"#N/A"}},{"$f":"INDEX(données!AB358:AF358,individus!$C$1)","v":{"$error":"#N/A"}},{"$f":"INDEX(données!AB358:AF358,individus!$D$1)","v":{"$error":"#N/A"}},{"$error":"#N/A"}]
[null,{"$f":"données!B359","v":"li 356"},{"$f":"INDEX(données!W359:AA359,individus!$C$1)","v":{"$error":"#N/A"}},{"$f":"INDEX(données!W359:AA359,individus!$D$1)","v":{"$error":"#N/A"}},{"$f":"INDEX(données!AB359:AF359,individus!$C$1)","v":{"$error":"#N/A"}},{"$f":"INDEX(données!AB359:AF359,individus!$D$1)","v":{"$error":"#N/A"}},{"$error":"#N/A"}]
[null,{"$f":"données!B360","v":"li 357"},{"$f":"INDEX(données!W360:AA360,individus!$C$1)","v":{"$error":"#N/A"}},{"$f":"INDEX(données!W360:AA360,individus!$D$1)","v":{"$error":"#N/A"}},{"$f":"INDEX(données!AB360:AF360,individus!$C$1)","v":{"$error":"#N/A"}},{"$f":"INDEX(données!AB360:AF360,individus!$D$1)","v":{"$error":"#N/A"}},{"$error":"#N/A"}]
[null,{"$f":"données!B361","v":"li 358"},{"$f":"INDEX(données!W361:AA361,individus!$C$1)","v":{"$error":"#N/A"}},{"$f":"INDEX(données!W361:AA361,individus!$D$1)","v":{"$error":"#N/A"}},{"$f":"INDEX(données!AB361:AF361,individus!$C$1)","v":{"$error":"#N/A"}},{"$f":"INDEX(données!AB361:AF361,individus!$D$1)","v":{"$error":"#N/A"}},{"$error":"#N/A"}]
[null,{"$f":"données!B362","v":"li 359"},{"$f":"INDEX(données!W362:AA362,individus!$C$1)","v":{"$error":"#N/A"}},{"$f":"INDEX(données!W362:AA362,individus!$D$1)","v":{"$error":"#N/A"}},{"$f":"INDEX(données!AB362:AF362,individus!$C$1)","v":{"$error":"#N/A"}},{"$f":"INDEX(données!AB362:AF362,individus!$D$1)","v":{"$error":"#N/A"}},{"$error":"#N/A"}]
[null,{"$f":"données!B363","v":"li 360"},{"$f":"INDEX(données!W363:AA363,individus!$C$1)","v":{"$error":"#N/A"}},{"$f":"INDEX(données!W363:AA363,individus!$D$1)","v":{"$error":"#N/A"}},{"$f":"INDEX(données!AB363:AF363,individus!$C$1)","v":{"$error":"#N/A"}},{"$f":"INDEX(données!AB363:AF363,individus!$D$1)","v":{"$error":"#N/A"}},{"$error":"#N/A"}]
[null,{"$f":"données!B364","v":"li 361"},{"$f":"INDEX(données!W364:AA364,individus!$C$1)","v":{"$error":"#N/A"}},{"$f":"INDEX(données!W364:AA364,individus!$D$1)","v":{"$error":"#N/A"}},{"$f":"INDEX(données!AB364:AF364,individus!$C$1)","v":{"$error":"#N/A"}},{"$f":"INDEX(données!AB364:AF364,individus!$D$1)","v":{"$error":"#N/A"}},{"$error":"#N/A"}]
[null,{"$f":"données!B365","v":"li 362"},{"$f":"INDEX(données!W365:AA365,individus!$C$1)","v":{"$error":"#N/A"}},{"$f":"INDEX(données!W365:AA365,individus!$D$1)","v":{"$error":"#N/A"}},{"$f":"INDEX(données!AB365:AF365,individus!$C$1)","v":{"$error":"#N/A"}},{"$f":"INDEX(données!AB365:AF365,individus!$D$1)","v":{"$error":"#N/A"}},{"$error":"#N/A"}]
[null,{"$f":"données!B366","v":"li 363"},{"$f":"INDEX(données!W366:AA366,individus!$C$1)","v":{"$error":"#N/A"}},{"$f":"INDEX(données!W366:AA366,individus!$D$1)","v":{"$error":"#N/A"}},{"$f":"INDEX(données!AB366:AF366,individus!$C$1)","v":{"$error":"#N/A"}},{"$f":"INDEX(données!AB366:AF366,individus!$D$1)","v":{"$error":"#N/A"}},{"$error":"#N/A"}]
[null,{"$f":"données!B367","v":"li 364"},{"$f":"INDEX(données!W367:AA367,individus!$C$1)","v":{"$error":"#N/A"}},{"$f":"INDEX(données!W367:AA367,individus!$D$1)","v":{"$error":"#N/A"}},{"$f":"INDEX(données!AB367:AF367,individus!$C$1)","v":{"$error":"#N/A"}},{"$f":"INDEX(données!AB367:AF367,individus!$D$1)","v":{"$error":"#N/A"}},{"$error":"#N/A"}]
[null,{"$f":"données!B368","v":"li 365"},{"$f":"INDEX(données!W368:AA368,individus!$C$1)","v":{"$error":"#N/A"}},{"$f":"INDEX(données!W368:AA368,individus!$D$1)","v":{"$error":"#N/A"}},{"$f":"INDEX(données!AB368:AF368,individus!$C$1)","v":{"$error":"#N/A"}},{"$f":"INDEX(données!AB368:AF368,individus!$D$1)","v":{"$error":"#N/A"}},{"$error":"#N/A"}]
[null,{"$f":"données!B369","v":"li 366"},{"$f":"INDEX(données!W369:AA369,individus!$C$1)","v":{"$error":"#N/A"}},{"$f":"INDEX(données!W369:AA369,individus!$D$1)","v":{"$error":"#N/A"}},{"$f":"INDEX(données!AB369:AF369,individus!$C$1)","v":{"$error":"#N/A"}},{"$f":"INDEX(données!AB369:AF369,individus!$D$1)","v":{"$error":"#N/A"}},{"$error":"#N/A"}]
[null,{"$f":"données!B370","v":"li 367"},{"$f":"INDEX(données!W370:AA370,individus!$C$1)","v":{"$error":"#N/A"}},{"$f":"INDEX(données!W370:AA370,individus!$D$1)","v":{"$error":"#N/A"}},{"$f":"INDEX(données!AB370:AF370,individus!$C$1)","v":{"$error":"#N/A"}},{"$f":"INDEX(données!AB370:AF370,individus!$D$1)","v":{"$error":"#N/A"}},{"$error":"#N/A"}]
[null,{"$f":"données!B371","v":"li 368"},{"$f":"INDEX(données!W371:AA371,individus!$C$1)","v":{"$error":"#N/A"}},{"$f":"INDEX(données!W371:AA371,individus!$D$1)","v":{"$error":"#N/A"}},{"$f":"INDEX(données!AB371:AF371,individus!$C$1)","v":{"$error":"#N/A"}},{"$f":"INDEX(données!AB371:AF371,individus!$D$1)","v":{"$error":"#N/A"}},{"$error":"#N/A"}]
[null,{"$f":"données!B372","v":"li 369"},{"$f":"INDEX(données!W372:AA372,individus!$C$1)","v":{"$error":"#N/A"}},{"$f":"INDEX(données!W372:AA372,individus!$D$1)","v":{"$error":"#N/A"}},{"$f":"INDEX(données!AB372:AF372,individus!$C$1)","v":{"$error":"#N/A"}},{"$f":"INDEX(données!AB372:AF372,individus!$D$1)","v":{"$error":"#N/A"}},{"$error":"#N/A"}]
[null,{"$f":"données!B373","v":"li 370"},{"$f":"INDEX(données!W373:AA373,individus!$C$1)","v":{"$error":"#N/A"}},{"$f":"INDEX(données!W373:AA373,individus!$D$1)","v":{"$error":"#N/A"}},{"$f":"INDEX(données!AB373:AF373,individus!$C$1)","v":{"$error":"#N/A"}},{"$f":"INDEX(données!AB373:AF373,individus!$D$1)","v":{"$error":"#N/A"}},{"$error":"#N/A"}]
[null,{"$f":"données!B374","v":"li 371"},{"$f":"INDEX(données!W374:AA374,individus!$C$1)","v":{"$error":"#N/A"}},{"$f":"INDEX(données!W374:AA374,individus!$D$1)","v":{"$error":"#N/A"}},{"$f":"INDEX(données!AB374:AF374,individus!$C$1)","v":{"$error":"#N/A"}},{"$f":"INDEX(données!AB374:AF374,individus!$D$1)","v":{"$error":"#N/A"}},{"$error":"#N/A"}]
[null,{"$f":"données!B375","v":"li 372"},{"$f":"INDEX(données!W375:AA375,individus!$C$1)","v":{"$error":"#N/A"}},{"$f":"INDEX(données!W375:AA375,individus!$D$1)","v":{"$error":"#N/A"}},{"$f":"INDEX(données!AB375:AF375,individus!$C$1)","v":{"$error":"#N/A"}},{"$f":"INDEX(données!AB375:AF375,individus!$D$1)","v":{"$error":"#N/A"}},{"$error":"#N/A"}]
[null,{"$f":"données!B376","v":"li 373"},{"$f":"INDEX(données!W376:AA376,individus!$C$1)","v":{"$error":"#N/A"}},{"$f":"INDEX(données!W376:AA376,individus!$D$1)","v":{"$error":"#N/A"}},{"$f":"INDEX(données!AB376:AF376,individus!$C$1)","v":{"$error":"#N/A"}},{"$f":"INDEX(données!AB376:AF376,individus!$D$1)","v":{"$error":"#N/A"}},{"$error":"#N/A"}]
[null,{"$f":"données!B377","v":"li 374"},{"$f":"INDEX(données!W377:AA377,individus!$C$1)","v":{"$error":"#N/A"}},{"$f":"INDEX(données!W377:AA377,individus!$D$1)","v":{"$error":"#N/A"}},{"$f":"INDEX(données!AB377:AF377,individus!$C$1)","v":{"$error":"#N/A"}},{"$f":"INDEX(données!AB377:AF377,individus!$D$1)","v":{"$error":"#N/A"}},{"$error":"#N/A"}]
[null,{"$f":"données!B378","v":"li 375"},{"$f":"INDEX(données!W378:AA378,individus!$C$1)","v":{"$error":"#N/A"}},{"$f":"INDEX(données!W378:AA378,individus!$D$1)","v":{"$error":"#N/A"}},{"$f":"INDEX(données!AB378:AF378,individus!$C$1)","v":{"$error":"#N/A"}},{"$f":"INDEX(données!AB378:AF378,individus!$D$1)","v":{"$error":"#N/A"}},{"$error":"#N/A"}]
[null,{"$f":"données!B379","v":"li 376"},{"$f":"INDEX(données!W379:AA379,individus!$C$1)","v":{"$error":"#N/A"}},{"$f":"INDEX(données!W379:AA379,individus!$D$1)","v":{"$error":"#N/A"}},{"$f":"INDEX(données!AB379:AF379,individus!$C$1)","v":{"$error":"#N/A"}},{"$f":"INDEX(données!AB379:AF379,individus!$D$1)","v":{"$error":"#N/A"}},{"$error":"#N/A"}]
[null,{"$f":"données!B380","v":"li 377"},{"$f":"INDEX(données!W380:AA380,individus!$C$1)","v":{"$error":"#N/A"}},{"$f":"INDEX(données!W380:AA380,individus!$D$1)","v":{"$error":"#N/A"}},{"$f":"INDEX(données!AB380:AF380,individus!$C$1)","v":{"$error":"#N/A"}},{"$f":"INDEX(données!AB380:AF380,individus!$D$1)","v":{"$error":"#N/A"}},{"$error":"#N/A"}]
[null,{"$f":"données!B381","v":"li 378"},{"$f":"INDEX(données!W381:AA381,individus!$C$1)","v":{"$error":"#N/A"}},{"$f":"INDEX(données!W381:AA381,individus!$D$1)","v":{"$error":"#N/A"}},{"$f":"INDEX(données!AB381:AF381,individus!$C$1)","v":{"$error":"#N/A"}},{"$f":"INDEX(données!AB381:AF381,individus!$D$1)","v":{"$error":"#N/A"}},{"$error":"#N/A"}]
[null,{"$f":"données!B382","v":"li 379"},{"$f":"INDEX(données!W382:AA382,individus!$C$1)","v":{"$error":"#N/A"}},{"$f":"INDEX(données!W382:AA382,individus!$D$1)","v":{"$error":"#N/A"}},{"$f":"INDEX(données!AB382:AF382,individus!$C$1)","v":{"$error":"#N/A"}},{"$f":"INDEX(données!AB382:AF382,individus!$D$1)","v":{"$error":"#N/A"}},{"$error":"#N/A"}]
[null,{"$f":"données!B383","v":"li 380"},{"$f":"INDEX(données!W383:AA383,individus!$C$1)","v":{"$error":"#N/A"}},{"$f":"INDEX(données!W383:AA383,individus!$D$1)","v":{"$error":"#N/A"}},{"$f":"INDEX(données!AB383:AF383,individus!$C$1)","v":{"$error":"#N/A"}},{"$f":"INDEX(données!AB383:AF383,individus!$D$1)","v":{"$error":"#N/A"}},{"$error":"#N/A"}]
[null,{"$f":"données!B384","v":"li 381"},{"$f":"INDEX(données!W384:AA384,individus!$C$1)","v":{"$error":"#N/A"}},{"$f":"INDEX(données!W384:AA384,individus!$D$1)","v":{"$error":"#N/A"}},{"$f":"INDEX(données!AB384:AF384,individus!$C$1)","v":{"$error":"#N/A"}},{"$f":"INDEX(données!AB384:AF384,individus!$D$1)","v":{"$error":"#N/A"}},{"$error":"#N/A"}]
[null,{"$f":"données!B385","v":"li 382"},{"$f":"INDEX(données!W385:AA385,individus!$C$1)","v":{"$error":"#N/A"}},{"$f":"INDEX(données!W385:AA385,individus!$D$1)","v":{"$error":"#N/A"}},{"$f":"INDEX(données!AB385:AF385,individus!$C$1)","v":{"$error":"#N/A"}},{"$f":"INDEX(données!AB385:AF385,individus!$D$1)","v":{"$error":"#N/A"}},{"$error":"#N/A"}]
[null,{"$f":"données!B386","v":"li 383"},{"$f":"INDEX(données!W386:AA386,individus!$C$1)","v":{"$error":"#N/A"}},{"$f":"INDEX(données!W386:AA386,individus!$D$1)","v":{"$error":"#N/A"}},{"$f":"INDEX(données!AB386:AF386,individus!$C$1)","v":{"$error":"#N/A"}},{"$f":"INDEX(données!AB386:AF386,individus!$D$1)","v":{"$error":"#N/A"}},{"$error":"#N/A"}]
[null,{"$f":"données!B387","v":"li 384"},{"$f":"INDEX(données!W387:AA387,individus!$C$1)","v":{"$error":"#N/A"}},{"$f":"INDEX(données!W387:AA387,individus!$D$1)","v":{"$error":"#N/A"}},{"$f":"INDEX(données!AB387:AF387,individus!$C$1)","v":{"$error":"#N/A"}},{"$f":"INDEX(données!AB387:AF387,individus!$D$1)","v":{"$error":"#N/A"}},{"$error":"#N/A"}]
[null,{"$f":"données!B388","v":"li 385"},{"$f":"INDEX(données!W388:AA388,individus!$C$1)","v":{"$error":"#N/A"}},{"$f":"INDEX(données!W388:AA388,individus!$D$1)","v":{"$error":"#N/A"}},{"$f":"INDEX(données!AB388:AF388,individus!$C$1)","v":{"$error":"#N/A"}},{"$f":"INDEX(données!AB388:AF388,individus!$D$1)","v":{"$error":"#N/A"}},{"$error":"#N/A"}]
[null,{"$f":"données!B389","v":"li 386"},{"$f":"INDEX(données!W389:AA389,individus!$C$1)","v":{"$error":"#N/A"}},{"$f":"INDEX(données!W389:AA389,individus!$D$1)","v":{"$error":"#N/A"}},{"$f":"INDEX(données!AB389:AF389,individus!$C$1)","v":{"$error":"#N/A"}},{"$f":"INDEX(données!AB389:AF389,individus!$D$1)","v":{"$error":"#N/A"}},{"$f":"E389+F389","v":{"$error":"#N/A"}}]
[null,{"$f":"données!B390","v":"li 387"},{"$f":"INDEX(données!W390:AA390,individus!$C$1)","v":{"$error":"#N/A"}},{"$f":"INDEX(données!W390:AA390,individus!$D$1)","v":{"$error":"#N/A"}},{"$f":"INDEX(données!AB390:AF390,individus!$C$1)","v":{"$error":"#N/A"}},{"$f":"INDEX(données!AB390:AF390,individus!$D$1)","v":{"$error":"#N/A"}},{"$error":"#N/A"}]
[null,{"$f":"données!B391","v":"li 388"},{"$f":"INDEX(données!W391:AA391,individus!$C$1)","v":{"$error":"#N/A"}},{"$f":"INDEX(données!W391:AA391,individus!$D$1)","v":{"$error":"#N/A"}},{"$f":"INDEX(données!AB391:AF391,individus!$C$1)","v":{"$error":"#N/A"}},{"$f":"INDEX(données!AB391:AF391,individus!$D$1)","v":{"$error":"#N/A"}},{"$error":"#N/A"}]
[null,{"$f":"données!B392","v":"li 389"},{"$f":"INDEX(données!W392:AA392,individus!$C$1)","v":{"$error":"#N/A"}},{"$f":"INDEX(données!W392:AA392,individus!$D$1)","v":{"$error":"#N/A"}},{"$f":"INDEX(données!AB392:AF392,individus!$C$1)","v":{"$error":"#N/A"}},{"$f":"INDEX(données!AB392:AF392,individus!$D$1)","v":{"$error":"#N/A"}},{"$error":"#N/A"}]
[null,{"$f":"données!B393","v":"li 390"},{"$f":"INDEX(données!W393:AA393,individus!$C$1)","v":{"$error":"#N/A"}},{"$f":"INDEX(données!W393:AA393,individus!$D$1)","v":{"$error":"#N/A"}},{"$f":"INDEX(données!AB393:AF393,individus!$C$1)","v":{"$error":"#N/A"}},{"$f":"INDEX(données!AB393:AF393,individus!$D$1)","v":{"$error":"#N/A"}},{"$error":"#N/A"}]
[null,{"$f":"données!B394","v":"li 391"},{"$f":"INDEX(données!W394:AA394,individus!$C$1)","v":{"$error":"#N/A"}},{"$f":"INDEX(données!W394:AA394,individus!$D$1)","v":{"$error":"#N/A"}},{"$f":"INDEX(données!AB394:AF394,individus!$C$1)","v":{"$error":"#N/A"}},{"$f":"INDEX(données!AB394:AF394,individus!$D$1)","v":{"$error":"#N/A"}},{"$error":"#N/A"}]
[null,{"$f":"données!B395","v":"li 392"},{"$f":"INDEX(données!W395:AA395,individus!$C$1)","v":{"$error":"#N/A"}},{"$f":"INDEX(données!W395:AA395,individus!$D$1)","v":{"$error":"#N/A"}},{"$f":"INDEX(données!AB395:AF395,individus!$C$1)","v":{"$error":"#N/A"}},{"$f":"INDEX(données!AB395:AF395,individus!$D$1)","v":{"$error":"#N/A"}},{"$error":"#N/A"}]
[null,{"$f":"données!B396","v":"li 393"},{"$f":"INDEX(données!W396:AA396,individus!$C$1)","v":{"$error":"#N/A"}},{"$f":"INDEX(données!W396:AA396,individus!$D$1)","v":{"$error":"#N/A"}},{"$f":"INDEX(données!AB396:AF396,individus!$C$1)","v":{"$error":"#N/A"}},{"$f":"INDEX(données!AB396:AF396,individus!$D$1)","v":{"$error":"#N/A"}},{"$error":"#N/A"}]
[null,{"$f":"données!B397","v":"li 394"},{"$f":"INDEX(données!W397:AA397,individus!$C$1)","v":{"$error":"#N/A"}},{"$f":"INDEX(données!W397:AA397,individus!$D$1)","v":{"$error":"#N/A"}},{"$f":"INDEX(données!AB397:AF397,individus!$C$1)","v":{"$error":"#N/A"}},{"$f":"INDEX(données!AB397:AF397,individus!$D$1)","v":{"$error":"#N/A"}},{"$error":"#N/A"}]
[null,{"$f":"données!B398","v":"li 395"},{"$f":"INDEX(données!W398:AA398,individus!$C$1)","v":{"$error":"#N/A"}},{"$f":"INDEX(données!W398:AA398,individus!$D$1)","v":{"$error":"#N/A"}},{"$f":"INDEX(données!AB398:AF398,individus!$C$1)","v":{"$error":"#N/A"}},{"$f":"INDEX(données!AB398:AF398,individus!$D$1)","v":{"$error":"#N/A"}},{"$error":"#N/A"}]
[null,{"$f":"données!B399","v":"li 396"},{"$f":"INDEX(données!W399:AA399,individus!$C$1)","v":{"$error":"#N/A"}},{"$f":"INDEX(données!W399:AA399,individus!$D$1)","v":{"$error":"#N/A"}},{"$f":"INDEX(données!AB399:AF399,individus!$C$1)","v":{"$error":"#N/A"}},{"$f":"INDEX(données!AB399:AF399,individus!$D$1)","v":{"$error":"#N/A"}},{"$error":"#N/A"}]
[null,{"$f":"données!B400","v":"li 397"},{"$f":"INDEX(données!W400:AA400,individus!$C$1)","v":{"$error":"#N/A"}},{"$f":"INDEX(données!W400:AA400,individus!$D$1)","v":{"$error":"#N/A"}},{"$f":"INDEX(données!AB400:AF400,individus!$C$1)","v":{"$error":"#N/A"}},{"$f":"INDEX(données!AB400:AF400,individus!$D$1)","v":{"$error":"#N/A"}},{"$error":"#N/A"}]
[null,{"$f":"données!B401","v":"li 398"},{"$f":"INDEX(données!W401:AA401,individus!$C$1)","v":{"$error":"#N/A"}},{"$f":"INDEX(données!W401:AA401,individus!$D$1)","v":{"$error":"#N/A"}},{"$f":"INDEX(données!AB401:AF401,individus!$C$1)","v":{"$error":"#N/A"}},{"$f":"INDEX(données!AB401:AF401,individus!$D$1)","v":{"$error":"#N/A"}},{"$error":"#N/A"}]
[null,{"$f":"données!B402","v":"li 399"},{"$f":"INDEX(données!W402:AA402,individus!$C$1)","v":{"$error":"#N/A"}},{"$f":"INDEX(données!W402:AA402,individus!$D$1)","v":{"$error":"#N/A"}},{"$f":"INDEX(données!AB402:AF402,individus!$C$1)","v":{"$error":"#N/A"}},{"$f":"INDEX(données!AB402:AF402,individus!$D$1)","v":{"$error":"#N/A"}},{"$error":"#N/A"}]
[null,{"$f":"données!B403","v":"li 400"},{"$f":"INDEX(données!W403:AA403,individus!$C$1)","v":{"$error":"#N/A"}},{"$f":"INDEX(données!W403:AA403,individus!$D$1)","v":{"$error":"#N/A"}},{"$f":"INDEX(données!AB403:AF403,individus!$C$1)","v":{"$error":"#N/A"}},{"$f":"INDEX(données!AB403:AF403,individus!$D$1)","v":{"$error":"#N/A"}},{"$error":"#N/A"}]
[null,{"$f":"données!B404","v":"li 401"},{"$f":"INDEX(données!W404:AA404,individus!$C$1)","v":{"$error":"#N/A"}},{"$f":"INDEX(données!W404:AA404,individus!$D$1)","v":{"$error":"#N/A"}},{"$f":"INDEX(données!AB404:AF404,individus!$C$1)","v":{"$error":"#N/A"}},{"$f":"INDEX(données!AB404:AF404,individus!$D$1)","v":{"$error":"#N/A"}},{"$error":"#N/A"}]
[null,{"$f":"données!B405","v":"li 402"},{"$f":"INDEX(données!W405:AA405,individus!$C$1)","v":{"$error":"#N/A"}},{"$f":"INDEX(données!W405:AA405,individus!$D$1)","v":{"$error":"#N/A"}},{"$f":"INDEX(données!AB405:AF405,individus!$C$1)","v":{"$error":"#N/A"}},{"$f":"INDEX(données!AB405:AF405,individus!$D$1)","v":{"$error":"#N/A"}},{"$error":"#N/A"}]
[null,{"$f":"données!B406","v":"li 403"},{"$f":"INDEX(données!W406:AA406,individus!$C$1)","v":{"$error":"#N/A"}},{"$f":"INDEX(données!W406:AA406,individus!$D$1)","v":{"$error":"#N/A"}},{"$f":"INDEX(données!AB406:AF406,individus!$C$1)","v":{"$error":"#N/A"}},{"$f":"INDEX(données!AB406:AF406,individus!$D$1)","v":{"$error":"#N/A"}},{"$error":"#N/A"}]
[null,{"$f":"données!B407","v":"li 404"},{"$f":"INDEX(données!W407:AA407,individus!$C$1)","v":{"$error":"#N/A"}},{"$f":"INDEX(données!W407:AA407,individus!$D$1)","v":{"$error":"#N/A"}},{"$f":"INDEX(données!AB407:AF407,individus!$C$1)","v":{"$error":"#N/A"}},{"$f":"INDEX(données!AB407:AF407,individus!$D$1)","v":{"$error":"#N/A"}},{"$error":"#N/A"}]
[null,{"$f":"données!B408","v":"li 405"},{"$f":"INDEX(données!W408:AA408,individus!$C$1)","v":{"$error":"#N/A"}},{"$f":"INDEX(données!W408:AA408,individus!$D$1)","v":{"$error":"#N/A"}},{"$f":"INDEX(données!AB408:AF408,individus!$C$1)","v":{"$error":"#N/A"}},{"$f":"INDEX(données!AB408:AF408,individus!$D$1)","v":{"$error":"#N/A"}},{"$error":"#N/A"}]
[null,{"$f":"données!B409","v":"li 406"},{"$f":"INDEX(données!W409:AA409,individus!$C$1)","v":{"$error":"#N/A"}},{"$f":"INDEX(données!W409:AA409,individus!$D$1)","v":{"$error":"#N/A"}},{"$f":"INDEX(données!AB409:AF409,individus!$C$1)","v":{"$error":"#N/A"}},{"$f":"INDEX(données!AB409:AF409,individus!$D$1)","v":{"$error":"#N/A"}},{"$error":"#N/A"}]
[null,{"$f":"données!B410","v":"li 407"},{"$f":"INDEX(données!W410:AA410,individus!$C$1)","v":{"$error":"#N/A"}},{"$f":"INDEX(données!W410:AA410,individus!$D$1)","v":{"$error":"#N/A"}},{"$f":"INDEX(données!AB410:AF410,individus!$C$1)","v":{"$error":"#N/A"}},{"$f":"INDEX(données!AB410:AF410,individus!$D$1)","v":{"$error":"#N/A"}},{"$error":"#N/A"}]
[null,{"$f":"données!B411","v":"li 408"},{"$f":"INDEX(données!W411:AA411,individus!$C$1)","v":{"$error":"#N/A"}},{"$f":"INDEX(données!W411:AA411,individus!$D$1)","v":{"$error":"#N/A"}},{"$f":"INDEX(données!AB411:AF411,individus!$C$1)","v":{"$error":"#N/A"}},{"$f":"INDEX(données!AB411:AF411,individus!$D$1)","v":{"$error":"#N/A"}},{"$error":"#N/A"}]
[null,{"$f":"données!B412","v":"li 409"},{"$f":"INDEX(données!W412:AA412,individus!$C$1)","v":{"$error":"#N/A"}},{"$f":"INDEX(données!W412:AA412,individus!$D$1)","v":{"$error":"#N/A"}},{"$f":"INDEX(données!AB412:AF412,individus!$C$1)","v":{"$error":"#N/A"}},{"$f":"INDEX(données!AB412:AF412,individus!$D$1)","v":{"$error":"#N/A"}},{"$error":"#N/A"}]
[null,{"$f":"données!B413","v":"li 410"},{"$f":"INDEX(données!W413:AA413,individus!$C$1)","v":{"$error":"#N/A"}},{"$f":"INDEX(données!W413:AA413,individus!$D$1)","v":{"$error":"#N/A"}},{"$f":"INDEX(données!AB413:AF413,individus!$C$1)","v":{"$error":"#N/A"}},{"$f":"INDEX(données!AB413:AF413,individus!$D$1)","v":{"$error":"#N/A"}},{"$error":"#N/A"}]
[null,{"$f":"données!B414","v":"li 411"},{"$f":"INDEX(données!W414:AA414,individus!$C$1)","v":{"$error":"#N/A"}},{"$f":"INDEX(données!W414:AA414,individus!$D$1)","v":{"$error":"#N/A"}},{"$f":"INDEX(données!AB414:AF414,individus!$C$1)","v":{"$error":"#N/A"}},{"$f":"INDEX(données!AB414:AF414,individus!$D$1)","v":{"$error":"#N/A"}},{"$error":"#N/A"}]
[null,{"$f":"données!B415","v":"li 412"},{"$f":"INDEX(données!W415:AA415,individus!$C$1)","v":{"$error":"#N/A"}},{"$f":"INDEX(données!W415:AA415,individus!$D$1)","v":{"$error":"#N/A"}},{"$f":"INDEX(données!AB415:AF415,individus!$C$1)","v":{"$error":"#N/A"}},{"$f":"INDEX(données!AB415:AF415,individus!$D$1)","v":{"$error":"#N/A"}},{"$error":"#N/A"}]
[null,{"$f":"données!B416","v":"li 413"},{"$f":"INDEX(données!W416:AA416,individus!$C$1)","v":{"$error":"#N/A"}},{"$f":"INDEX(données!W416:AA416,individus!$D$1)","v":{"$error":"#N/A"}},{"$f":"INDEX(données!AB416:AF416,individus!$C$1)","v":{"$error":"#N/A"}},{"$f":"INDEX(données!AB416:AF416,individus!$D$1)","v":{"$error":"#N/A"}},{"$error":"#N/A"}]
[null,{"$f":"données!B417","v":"li 414"},{"$f":"INDEX(données!W417:AA417,individus!$C$1)","v":{"$error":"#N/A"}},{"$f":"INDEX(données!W417:AA417,individus!$D$1)","v":{"$error":"#N/A"}},{"$f":"INDEX(données!AB417:AF417,individus!$C$1)","v":{"$error":"#N/A"}},{"$f":"INDEX(données!AB417:AF417,individus!$D$1)","v":{"$error":"#N/A"}},{"$error":"#N/A"}]
[null,{"$f":"données!B418","v":"li 415"},{"$f":"INDEX(données!W418:AA418,individus!$C$1)","v":{"$error":"#N/A"}},{"$f":"INDEX(données!W418:AA418,individus!$D$1)","v":{"$error":"#N/A"}},{"$f":"INDEX(données!AB418:AF418,individus!$C$1)","v":{"$error":"#N/A"}},{"$f":"INDEX(données!AB418:AF418,individus!$D$1)","v":{"$error":"#N/A"}},{"$error":"#N/A"}]
[null,{"$f":"données!B419","v":"li 416"},{"$f":"INDEX(données!W419:AA419,individus!$C$1)","v":{"$error":"#N/A"}},{"$f":"INDEX(données!W419:AA419,individus!$D$1)","v":{"$error":"#N/A"}},{"$f":"INDEX(données!AB419:AF419,individus!$C$1)","v":{"$error":"#N/A"}},{"$f":"INDEX(données!AB419:AF419,individus!$D$1)","v":{"$error":"#N/A"}},{"$error":"#N/A"}]
[null,{"$f":"données!B420","v":"li 417"},{"$f":"INDEX(données!W420:AA420,individus!$C$1)","v":{"$error":"#N/A"}},{"$f":"INDEX(données!W420:AA420,individus!$D$1)","v":{"$error":"#N/A"}},{"$f":"INDEX(données!AB420:AF420,individus!$C$1)","v":{"$error":"#N/A"}},{"$f":"INDEX(données!AB420:AF420,individus!$D$1)","v":{"$error":"#N/A"}},{"$error":"#N/A"}]
[null,{"$f":"données!B421","v":"li 418"},{"$f":"INDEX(données!W421:AA421,individus!$C$1)","v":{"$error":"#N/A"}},{"$f":"INDEX(données!W421:AA421,individus!$D$1)","v":{"$error":"#N/A"}},{"$f":"INDEX(données!AB421:AF421,individus!$C$1)","v":{"$error":"#N/A"}},{"$f":"INDEX(données!AB421:AF421,individus!$D$1)","v":{"$error":"#N/A"}},{"$error":"#N/A"}]
[null,{"$f":"données!B422","v":"li 419"},{"$f":"INDEX(données!W422:AA422,individus!$C$1)","v":{"$error":"#N/A"}},{"$f":"INDEX(données!W422:AA422,individus!$D$1)","v":{"$error":"#N/A"}},{"$f":"INDEX(données!AB422:AF422,individus!$C$1)","v":{"$error":"#N/A"}},{"$f":"INDEX(données!AB422:AF422,individus!$D$1)","v":{"$error":"#N/A"}},{"$error":"#N/A"}]
[null,{"$f":"données!B423","v":"li 420"},{"$f":"INDEX(données!W423:AA423,individus!$C$1)","v":{"$error":"#N/A"}},{"$f":"INDEX(données!W423:AA423,individus!$D$1)","v":{"$error":"#N/A"}},{"$f":"INDEX(données!AB423:AF423,individus!$C$1)","v":{"$error":"#N/A"}},{"$f":"INDEX(données!AB423:AF423,individus!$D$1)","v":{"$error":"#N/A"}},{"$error":"#N/A"}]
[null,{"$f":"données!B424","v":"li 421"},{"$f":"INDEX(données!W424:AA424,individus!$C$1)","v":{"$error":"#N/A"}},{"$f":"INDEX(données!W424:AA424,individus!$D$1)","v":{"$error":"#N/A"}},{"$f":"INDEX(données!AB424:AF424,individus!$C$1)","v":{"$error":"#N/A"}},{"$f":"INDEX(données!AB424:AF424,individus!$D$1)","v":{"$error":"#N/A"}},{"$error":"#N/A"}]
[null,{"$f":"données!B425","v":"li 422"},{"$f":"INDEX(données!W425:AA425,individus!$C$1)","v":{"$error":"#N/A"}},{"$f":"INDEX(données!W425:AA425,individus!$D$1)","v":{"$error":"#N/A"}},{"$f":"INDEX(données!AB425:AF425,individus!$C$1)","v":{"$error":"#N/A"}},{"$f":"INDEX(données!AB425:AF425,individus!$D$1)","v":{"$error":"#N/A"}},{"$error":"#N/A"}]
[null,{"$f":"données!B426","v":"li 423"},{"$f":"INDEX(données!W426:AA426,individus!$C$1)","v":{"$error":"#N/A"}},{"$f":"INDEX(données!W426:AA426,individus!$D$1)","v":{"$error":"#N/A"}},{"$f":"INDEX(données!AB426:AF426,individus!$C$1)","v":{"$error":"#N/A"}},{"$f":"INDEX(données!AB426:AF426,individus!$D$1)","v":{"$error":"#N/A"}},{"$error":"#N/A"}]
[null,{"$f":"données!B427","v":"li 424"},{"$f":"INDEX(données!W427:AA427,individus!$C$1)","v":{"$error":"#N/A"}},{"$f":"INDEX(données!W427:AA427,individus!$D$1)","v":{"$error":"#N/A"}},{"$f":"INDEX(données!AB427:AF427,individus!$C$1)","v":{"$error":"#N/A"}},{"$f":"INDEX(données!AB427:AF427,individus!$D$1)","v":{"$error":"#N/A"}},{"$error":"#N/A"}]
[null,{"$f":"données!B428","v":"li 425"},{"$f":"INDEX(données!W428:AA428,individus!$C$1)","v":{"$error":"#N/A"}},{"$f":"INDEX(données!W428:AA428,individus!$D$1)","v":{"$error":"#N/A"}},{"$f":"INDEX(données!AB428:AF428,individus!$C$1)","v":{"$error":"#N/A"}},{"$f":"INDEX(données!AB428:AF428,individus!$D$1)","v":{"$error":"#N/A"}},{"$error":"#N/A"}]
[null,{"$f":"données!B429","v":"li 426"},{"$f":"INDEX(données!W429:AA429,individus!$C$1)","v":{"$error":"#N/A"}},{"$f":"INDEX(données!W429:AA429,individus!$D$1)","v":{"$error":"#N/A"}},{"$f":"INDEX(données!AB429:AF429,individus!$C$1)","v":{"$error":"#N/A"}},{"$f":"INDEX(données!AB429:AF429,individus!$D$1)","v":{"$error":"#N/A"}},{"$error":"#N/A"}]
[null,{"$f":"données!B430","v":"li 427"},{"$f":"INDEX(données!W430:AA430,individus!$C$1)","v":{"$error":"#N/A"}},{"$f":"INDEX(données!W430:AA430,individus!$D$1)","v":{"$error":"#N/A"}},{"$f":"INDEX(données!AB430:AF430,individus!$C$1)","v":{"$error":"#N/A"}},{"$f":"INDEX(données!AB430:AF430,individus!$D$1)","v":{"$error":"#N/A"}},{"$error":"#N/A"}]
[null,{"$f":"données!B431","v":"li 428"},{"$f":"INDEX(données!W431:AA431,individus!$C$1)","v":{"$error":"#N/A"}},{"$f":"INDEX(données!W431:AA431,individus!$D$1)","v":{"$error":"#N/A"}},{"$f":"INDEX(données!AB431:AF431,individus!$C$1)","v":{"$error":"#N/A"}},{"$f":"INDEX(données!AB431:AF431,individus!$D$1)","v":{"$error":"#N/A"}},{"$error":"#N/A"}]
[null,{"$f":"données!B432","v":"li 429"},{"$f":"INDEX(données!W432:AA432,individus!$C$1)","v":{"$error":"#N/A"}},{"$f":"INDEX(données!W432:AA432,individus!$D$1)","v":{"$error":"#N/A"}},{"$f":"INDEX(données!AB432:AF432,individus!$C$1)","v":{"$error":"#N/A"}},{"$f":"INDEX(données!AB432:AF432,individus!$D$1)","v":{"$error":"#N/A"}},{"$error":"#N/A"}]
[null,{"$f":"données!B433","v":"li 430"},{"$f":"INDEX(données!W433:AA433,individus!$C$1)","v":{"$error":"#N/A"}},{"$f":"INDEX(données!W433:AA433,individus!$D$1)","v":{"$error":"#N/A"}},{"$f":"INDEX(données!AB433:AF433,individus!$C$1)","v":{"$error":"#N/A"}},{"$f":"INDEX(données!AB433:AF433,individus!$D$1)","v":{"$error":"#N/A"}},{"$error":"#N/A"}]
[null,{"$f":"données!B434","v":"li 431"},{"$f":"INDEX(données!W434:AA434,individus!$C$1)","v":{"$error":"#N/A"}},{"$f":"INDEX(données!W434:AA434,individus!$D$1)","v":{"$error":"#N/A"}},{"$f":"INDEX(données!AB434:AF434,individus!$C$1)","v":{"$error":"#N/A"}},{"$f":"INDEX(données!AB434:AF434,individus!$D$1)","v":{"$error":"#N/A"}},{"$error":"#N/A"}]
[null,{"$f":"données!B435","v":"li 432"},{"$f":"INDEX(données!W435:AA435,individus!$C$1)","v":{"$error":"#N/A"}},{"$f":"INDEX(données!W435:AA435,individus!$D$1)","v":{"$error":"#N/A"}},{"$f":"INDEX(données!AB435:AF435,individus!$C$1)","v":{"$error":"#N/A"}},{"$f":"INDEX(données!AB435:AF435,individus!$D$1)","v":{"$error":"#N/A"}},{"$error":"#N/A"}]
[null,{"$f":"données!B436","v":"li 433"},{"$f":"INDEX(données!W436:AA436,individus!$C$1)","v":{"$error":"#N/A"}},{"$f":"INDEX(données!W436:AA436,individus!$D$1)","v":{"$error":"#N/A"}},{"$f":"INDEX(données!AB436:AF436,individus!$C$1)","v":{"$error":"#N/A"}},{"$f":"INDEX(données!AB436:AF436,individus!$D$1)","v":{"$error":"#N/A"}},{"$error":"#N/A"}]
[null,{"$f":"données!B437","v":"li 434"},{"$f":"INDEX(données!W437:AA437,individus!$C$1)","v":{"$error":"#N/A"}},{"$f":"INDEX(données!W437:AA437,individus!$D$1)","v":{"$error":"#N/A"}},{"$f":"INDEX(données!AB437:AF437,individus!$C$1)","v":{"$error":"#N/A"}},{"$f":"INDEX(données!AB437:AF437,individus!$D$1)","v":{"$error":"#N/A"}},{"$error":"#N/A"}]
[null,{"$f":"données!B438","v":"li 435"},{"$f":"INDEX(données!W438:AA438,individus!$C$1)","v":{"$error":"#N/A"}},{"$f":"INDEX(données!W438:AA438,individus!$D$1)","v":{"$error":"#N/A"}},{"$f":"INDEX(données!AB438:AF438,individus!$C$1)","v":{"$error":"#N/A"}},{"$f":"INDEX(données!AB438:AF438,individus!$D$1)","v":{"$error":"#N/A"}},{"$error":"#N/A"}]
[null,{"$f":"données!B439","v":"li 436"},{"$f":"INDEX(données!W439:AA439,individus!$C$1)","v":{"$error":"#N/A"}},{"$f":"INDEX(données!W439:AA439,individus!$D$1)","v":{"$error":"#N/A"}},{"$f":"INDEX(données!AB439:AF439,individus!$C$1)","v":{"$error":"#N/A"}},{"$f":"INDEX(données!AB439:AF439,individus!$D$1)","v":{"$error":"#N/A"}},{"$error":"#N/A"}]
[null,{"$f":"données!B440","v":"li 437"},{"$f":"INDEX(données!W440:AA440,individus!$C$1)","v":{"$error":"#N/A"}},{"$f":"INDEX(données!W440:AA440,individus!$D$1)","v":{"$error":"#N/A"}},{"$f":"INDEX(données!AB440:AF440,individus!$C$1)","v":{"$error":"#N/A"}},{"$f":"INDEX(données!AB440:AF440,individus!$D$1)","v":{"$error":"#N/A"}},{"$error":"#N/A"}]
[null,{"$f":"données!B441","v":"li 438"},{"$f":"INDEX(données!W441:AA441,individus!$C$1)","v":{"$error":"#N/A"}},{"$f":"INDEX(données!W441:AA441,individus!$D$1)","v":{"$error":"#N/A"}},{"$f":"INDEX(données!AB441:AF441,individus!$C$1)","v":{"$error":"#N/A"}},{"$f":"INDEX(données!AB441:AF441,individus!$D$1)","v":{"$error":"#N/A"}},{"$error":"#N/A"}]
[null,{"$f":"données!B442","v":"li 439"},{"$f":"INDEX(données!W442:AA442,individus!$C$1)","v":{"$error":"#N/A"}},{"$f":"INDEX(données!W442:AA442,individus!$D$1)","v":{"$error":"#N/A"}},{"$f":"INDEX(données!AB442:AF442,individus!$C$1)","v":{"$error":"#N/A"}},{"$f":"INDEX(données!AB442:AF442,individus!$D$1)","v":{"$error":"#N/A"}},{"$error":"#N/A"}]
[null,{"$f":"données!B443","v":"li 440"},{"$f":"INDEX(données!W443:AA443,individus!$C$1)","v":{"$error":"#N/A"}},{"$f":"INDEX(données!W443:AA443,individus!$D$1)","v":{"$error":"#N/A"}},{"$f":"INDEX(données!AB443:AF443,individus!$C$1)","v":{"$error":"#N/A"}},{"$f":"INDEX(données!AB443:AF443,individus!$D$1)","v":{"$error":"#N/A"}},{"$error":"#N/A"}]
[null,{"$f":"données!B444","v":"li 441"},{"$f":"INDEX(données!W444:AA444,individus!$C$1)","v":{"$error":"#N/A"}},{"$f":"INDEX(données!W444:AA444,individus!$D$1)","v":{"$error":"#N/A"}},{"$f":"INDEX(données!AB444:AF444,individus!$C$1)","v":{"$error":"#N/A"}},{"$f":"INDEX(données!AB444:AF444,individus!$D$1)","v":{"$error":"#N/A"}},{"$error":"#N/A"}]
[null,{"$f":"données!B445","v":"li 442"},{"$f":"INDEX(données!W445:AA445,individus!$C$1)","v":{"$error":"#N/A"}},{"$f":"INDEX(données!W445:AA445,individus!$D$1)","v":{"$error":"#N/A"}},{"$f":"INDEX(données!AB445:AF445,individus!$C$1)","v":{"$error":"#N/A"}},{"$f":"INDEX(données!AB445:AF445,individus!$D$1)","v":{"$error":"#N/A"}},{"$error":"#N/A"}]
[null,{"$f":"données!B446","v":"li 443"},{"$f":"INDEX(données!W446:AA446,individus!$C$1)","v":{"$error":"#N/A"}},{"$f":"INDEX(données!W446:AA446,individus!$D$1)","v":{"$error":"#N/A"}},{"$f":"INDEX(données!AB446:AF446,individus!$C$1)","v":{"$error":"#N/A"}},{"$f":"INDEX(données!AB446:AF446,individus!$D$1)","v":{"$error":"#N/A"}},{"$error":"#N/A"}]
[null,{"$f":"données!B447","v":"li 444"},{"$f":"INDEX(données!W447:AA447,individus!$C$1)","v":{"$error":"#N/A"}},{"$f":"INDEX(données!W447:AA447,individus!$D$1)","v":{"$error":"#N/A"}},{"$f":"INDEX(données!AB447:AF447,individus!$C$1)","v":{"$error":"#N/A"}},{"$f":"INDEX(données!AB447:AF447,individus!$D$1)","v":{"$error":"#N/A"}},{"$error":"#N/A"}]
[null,{"$f":"données!B448","v":"li 445"},{"$f":"INDEX(données!W448:AA448,individus!$C$1)","v":{"$error":"#N/A"}},{"$f":"INDEX(données!W448:AA448,individus!$D$1)","v":{"$error":"#N/A"}},{"$f":"INDEX(données!AB448:AF448,individus!$C$1)","v":{"$error":"#N/A"}},{"$f":"INDEX(données!AB448:AF448,individus!$D$1)","v":{"$error":"#N/A"}},{"$error":"#N/A"}]
[null,{"$f":"données!B449","v":"li 446"},{"$f":"INDEX(données!W449:AA449,individus!$C$1)","v":{"$error":"#N/A"}},{"$f":"INDEX(données!W449:AA449,individus!$D$1)","v":{"$error":"#N/A"}},{"$f":"INDEX(données!AB449:AF449,individus!$C$1)","v":{"$error":"#N/A"}},{"$f":"INDEX(données!AB449:AF449,individus!$D$1)","v":{"$error":"#N/A"}},{"$error":"#N/A"}]
[null,{"$f":"données!B450","v":"li 447"},{"$f":"INDEX(données!W450:AA450,individus!$C$1)","v":{"$error":"#N/A"}},{"$f":"INDEX(données!W450:AA450,individus!$D$1)","v":{"$error":"#N/A"}},{"$f":"INDEX(données!AB450:AF450,individus!$C$1)","v":{"$error":"#N/A"}},{"$f":"INDEX(données!AB450:AF450,individus!$D$1)","v":{"$error":"#N/A"}},{"$error":"#N/A"}]
[null,{"$f":"données!B451","v":"li 448"},{"$f":"INDEX(données!W451:AA451,individus!$C$1)","v":{"$error":"#N/A"}},{"$f":"INDEX(données!W451:AA451,individus!$D$1)","v":{"$error":"#N/A"}},{"$f":"INDEX(données!AB451:AF451,individus!$C$1)","v":{"$error":"#N/A"}},{"$f":"INDEX(données!AB451:AF451,individus!$D$1)","v":{"$error":"#N/A"}},{"$error":"#N/A"}]
[null,{"$f":"données!B452","v":"li 449"},{"$f":"INDEX(données!W452:AA452,individus!$C$1)","v":{"$error":"#N/A"}},{"$f":"INDEX(données!W452:AA452,individus!$D$1)","v":{"$error":"#N/A"}},{"$f":"INDEX(données!AB452:AF452,individus!$C$1)","v":{"$error":"#N/A"}},{"$f":"INDEX(données!AB452:AF452,individus!$D$1)","v":{"$error":"#N/A"}},{"$error":"#N/A"}]
[null,{"$f":"données!B453","v":"li 450"},{"$f":"INDEX(données!W453:AA453,individus!$C$1)","v":{"$error":"#N/A"}},{"$f":"INDEX(données!W453:AA453,individus!$D$1)","v":{"$error":"#N/A"}},{"$f":"INDEX(données!AB453:AF453,individus!$C$1)","v":{"$error":"#N/A"}},{"$f":"INDEX(données!AB453:AF453,individus!$D$1)","v":{"$error":"#N/A"}},{"$f":"E453+F453","v":{"$error":"#N/A"}}]
[null,{"$f":"données!B454","v":"li 451"},{"$f":"INDEX(données!W454:AA454,individus!$C$1)","v":{"$error":"#N/A"}},{"$f":"INDEX(données!W454:AA454,individus!$D$1)","v":{"$error":"#N/A"}},{"$f":"INDEX(données!AB454:AF454,individus!$C$1)","v":{"$error":"#N/A"}},{"$f":"INDEX(données!AB454:AF454,individus!$D$1)","v":{"$error":"#N/A"}},{"$error":"#N/A"}]
[null,{"$f":"données!B455","v":"li 452"},{"$f":"INDEX(données!W455:AA455,individus!$C$1)","v":{"$error":"#N/A"}},{"$f":"INDEX(données!W455:AA455,individus!$D$1)","v":{"$error":"#N/A"}},{"$f":"INDEX(données!AB455:AF455,individus!$C$1)","v":{"$error":"#N/A"}},{"$f":"INDEX(données!AB455:AF455,individus!$D$1)","v":{"$error":"#N/A"}},{"$error":"#N/A"}]
[null,{"$f":"données!B456","v":"li 453"},{"$f":"INDEX(données!W456:AA456,individus!$C$1)","v":{"$error":"#N/A"}},{"$f":"INDEX(données!W456:AA456,individus!$D$1)","v":{"$error":"#N/A"}},{"$f":"INDEX(données!AB456:AF456,individus!$C$1)","v":{"$error":"#N/A"}},{"$f":"INDEX(données!AB456:AF456,individus!$D$1)","v":{"$error":"#N/A"}},{"$error":"#N/A"}]
[null,{"$f":"données!B457","v":"li 454"},{"$f":"INDEX(données!W457:AA457,individus!$C$1)","v":{"$error":"#N/A"}},{"$f":"INDEX(données!W457:AA457,individus!$D$1)","v":{"$error":"#N/A"}},{"$f":"INDEX(données!AB457:AF457,individus!$C$1)","v":{"$error":"#N/A"}},{"$f":"INDEX(données!AB457:AF457,individus!$D$1)","v":{"$error":"#N/A"}},{"$error":"#N/A"}]
[null,{"$f":"données!B458","v":"li 455"},{"$f":"INDEX(données!W458:AA458,individus!$C$1)","v":{"$error":"#N/A"}},{"$f":"INDEX(données!W458:AA458,individus!$D$1)","v":{"$error":"#N/A"}},{"$f":"INDEX(données!AB458:AF458,individus!$C$1)","v":{"$error":"#N/A"}},{"$f":"INDEX(données!AB458:AF458,individus!$D$1)","v":{"$error":"#N/A"}},{"$error":"#N/A"}]
[null,{"$f":"données!B459","v":"li 456"},{"$f":"INDEX(données!W459:AA459,individus!$C$1)","v":{"$error":"#N/A"}},{"$f":"INDEX(données!W459:AA459,individus!$D$1)","v":{"$error":"#N/A"}},{"$f":"INDEX(données!AB459:AF459,individus!$C$1)","v":{"$error":"#N/A"}},{"$f":"INDEX(données!AB459:AF459,individus!$D$1)","v":{"$error":"#N/A"}},{"$error":"#N/A"}]
[null,{"$f":"données!B460","v":"li 457"},{"$f":"INDEX(données!W460:AA460,individus!$C$1)","v":{"$error":"#N/A"}},{"$f":"INDEX(données!W460:AA460,individus!$D$1)","v":{"$error":"#N/A"}},{"$f":"INDEX(données!AB460:AF460,individus!$C$1)","v":{"$error":"#N/A"}},{"$f":"INDEX(données!AB460:AF460,individus!$D$1)","v":{"$error":"#N/A"}},{"$error":"#N/A"}]
[null,{"$f":"données!B461","v":"li 458"},{"$f":"INDEX(données!W461:AA461,individus!$C$1)","v":{"$error":"#N/A"}},{"$f":"INDEX(données!W461:AA461,individus!$D$1)","v":{"$error":"#N/A"}},{"$f":"INDEX(données!AB461:AF461,individus!$C$1)","v":{"$error":"#N/A"}},{"$f":"INDEX(données!AB461:AF461,individus!$D$1)","v":{"$error":"#N/A"}},{"$error":"#N/A"}]
[null,{"$f":"données!B462","v":"li 459"},{"$f":"INDEX(données!W462:AA462,individus!$C$1)","v":{"$error":"#N/A"}},{"$f":"INDEX(données!W462:AA462,individus!$D$1)","v":{"$error":"#N/A"}},{"$f":"INDEX(données!AB462:AF462,individus!$C$1)","v":{"$error":"#N/A"}},{"$f":"INDEX(données!AB462:AF462,individus!$D$1)","v":{"$error":"#N/A"}},{"$error":"#N/A"}]
[null,{"$f":"données!B463","v":"li 460"},{"$f":"INDEX(données!W463:AA463,individus!$C$1)","v":{"$error":"#N/A"}},{"$f":"INDEX(données!W463:AA463,individus!$D$1)","v":{"$error":"#N/A"}},{"$f":"INDEX(données!AB463:AF463,individus!$C$1)","v":{"$error":"#N/A"}},{"$f":"INDEX(données!AB463:AF463,individus!$D$1)","v":{"$error":"#N/A"}},{"$error":"#N/A"}]
[null,{"$f":"données!B464","v":"li 461"},{"$f":"INDEX(données!W464:AA464,individus!$C$1)","v":{"$error":"#N/A"}},{"$f":"INDEX(données!W464:AA464,individus!$D$1)","v":{"$error":"#N/A"}},{"$f":"INDEX(données!AB464:AF464,individus!$C$1)","v":{"$error":"#N/A"}},{"$f":"INDEX(données!AB464:AF464,individus!$D$1)","v":{"$error":"#N/A"}},{"$error":"#N/A"}]
[null,{"$f":"données!B465","v":"li 462"},{"$f":"INDEX(données!W465:AA465,individus!$C$1)","v":{"$error":"#N/A"}},{"$f":"INDEX(données!W465:AA465,individus!$D$1)","v":{"$error":"#N/A"}},{"$f":"INDEX(données!AB465:AF465,individus!$C$1)","v":{"$error":"#N/A"}},{"$f":"INDEX(données!AB465:AF465,individus!$D$1)","v":{"$error":"#N/A"}},{"$error":"#N/A"}]
[null,{"$f":"données!B466","v":"li 463"},{"$f":"INDEX(données!W466:AA466,individus!$C$1)","v":{"$error":"#N/A"}},{"$f":"INDEX(données!W466:AA466,individus!$D$1)","v":{"$error":"#N/A"}},{"$f":"INDEX(données!AB466:AF466,individus!$C$1)","v":{"$error":"#N/A"}},{"$f":"INDEX(données!AB466:AF466,individus!$D$1)","v":{"$error":"#N/A"}},{"$error":"#N/A"}]
[null,{"$f":"données!B467","v":"li 464"},{"$f":"INDEX(données!W467:AA467,individus!$C$1)","v":{"$error":"#N/A"}},{"$f":"INDEX(données!W467:AA467,individus!$D$1)","v":{"$error":"#N/A"}},{"$f":"INDEX(données!AB467:AF467,individus!$C$1)","v":{"$error":"#N/A"}},{"$f":"INDEX(données!AB467:AF467,individus!$D$1)","v":{"$error":"#N/A"}},{"$error":"#N/A"}]
[null,{"$f":"données!B468","v":"li 465"},{"$f":"INDEX(données!W468:AA468,individus!$C$1)","v":{"$error":"#N/A"}},{"$f":"INDEX(données!W468:AA468,individus!$D$1)","v":{"$error":"#N/A"}},{"$f":"INDEX(données!AB468:AF468,individus!$C$1)","v":{"$error":"#N/A"}},{"$f":"INDEX(données!AB468:AF468,individus!$D$1)","v":{"$error":"#N/A"}},{"$error":"#N/A"}]
[null,{"$f":"données!B469","v":"li 466"},{"$f":"INDEX(données!W469:AA469,individus!$C$1)","v":{"$error":"#N/A"}},{"$f":"INDEX(données!W469:AA469,individus!$D$1)","v":{"$error":"#N/A"}},{"$f":"INDEX(données!AB469:AF469,individus!$C$1)","v":{"$error":"#N/A"}},{"$f":"INDEX(données!AB469:AF469,individus!$D$1)","v":{"$error":"#N/A"}},{"$error":"#N/A"}]
[null,{"$f":"données!B470","v":"li 467"},{"$f":"INDEX(données!W470:AA470,individus!$C$1)","v":{"$error":"#N/A"}},{"$f":"INDEX(données!W470:AA470,individus!$D$1)","v":{"$error":"#N/A"}},{"$f":"INDEX(données!AB470:AF470,individus!$C$1)","v":{"$error":"#N/A"}},{"$f":"INDEX(données!AB470:AF470,individus!$D$1)","v":{"$error":"#N/A"}},{"$error":"#N/A"}]
[null,{"$f":"données!B471","v":"li 468"},{"$f":"INDEX(données!W471:AA471,individus!$C$1)","v":{"$error":"#N/A"}},{"$f":"INDEX(données!W471:AA471,individus!$D$1)","v":{"$error":"#N/A"}},{"$f":"INDEX(données!AB471:AF471,individus!$C$1)","v":{"$error":"#N/A"}},{"$f":"INDEX(données!AB471:AF471,individus!$D$1)","v":{"$error":"#N/A"}},{"$error":"#N/A"}]
[null,{"$f":"données!B472","v":"li 469"},{"$f":"INDEX(données!W472:AA472,individus!$C$1)","v":{"$error":"#N/A"}},{"$f":"INDEX(données!W472:AA472,individus!$D$1)","v":{"$error":"#N/A"}},{"$f":"INDEX(données!AB472:AF472,individus!$C$1)","v":{"$error":"#N/A"}},{"$f":"INDEX(données!AB472:AF472,individus!$D$1)","v":{"$error":"#N/A"}},{"$error":"#N/A"}]
[null,{"$f":"données!B473","v":"li 470"},{"$f":"INDEX(données!W473:AA473,individus!$C$1)","v":{"$error":"#N/A"}},{"$f":"INDEX(données!W473:AA473,individus!$D$1)","v":{"$error":"#N/A"}},{"$f":"INDEX(données!AB473:AF473,individus!$C$1)","v":{"$error":"#N/A"}},{"$f":"INDEX(données!AB473:AF473,individus!$D$1)","v":{"$error":"#N/A"}},{"$error":"#N/A"}]
[null,{"$f":"données!B474","v":"li 471"},{"$f":"INDEX(données!W474:AA474,individus!$C$1)","v":{"$error":"#N/A"}},{"$f":"INDEX(données!W474:AA474,individus!$D$1)","v":{"$error":"#N/A"}},{"$f":"INDEX(données!AB474:AF474,individus!$C$1)","v":{"$error":"#N/A"}},{"$f":"INDEX(données!AB474:AF474,individus!$D$1)","v":{"$error":"#N/A"}},{"$error":"#N/A"}]
[null,{"$f":"données!B475","v":"li 472"},{"$f":"INDEX(données!W475:AA475,individus!$C$1)","v":{"$error":"#N/A"}},{"$f":"INDEX(données!W475:AA475,individus!$D$1)","v":{"$error":"#N/A"}},{"$f":"INDEX(données!AB475:AF475,individus!$C$1)","v":{"$error":"#N/A"}},{"$f":"INDEX(données!AB475:AF475,individus!$D$1)","v":{"$error":"#N/A"}},{"$error":"#N/A"}]
[null,{"$f":"données!B476","v":"li 473"},{"$f":"INDEX(données!W476:AA476,individus!$C$1)","v":{"$error":"#N/A"}},{"$f":"INDEX(données!W476:AA476,individus!$D$1)","v":{"$error":"#N/A"}},{"$f":"INDEX(données!AB476:AF476,individus!$C$1)","v":{"$error":"#N/A"}},{"$f":"INDEX(données!AB476:AF476,individus!$D$1)","v":{"$error":"#N/A"}},{"$error":"#N/A"}]
[null,{"$f":"données!B477","v":"li 474"},{"$f":"INDEX(données!W477:AA477,individus!$C$1)","v":{"$error":"#N/A"}},{"$f":"INDEX(données!W477:AA477,individus!$D$1)","v":{"$error":"#N/A"}},{"$f":"INDEX(données!AB477:AF477,individus!$C$1)","v":{"$error":"#N/A"}},{"$f":"INDEX(données!AB477:AF477,individus!$D$1)","v":{"$error":"#N/A"}},{"$error":"#N/A"}]
[null,{"$f":"données!B478","v":"li 475"},{"$f":"INDEX(données!W478:AA478,individus!$C$1)","v":{"$error":"#N/A"}},{"$f":"INDEX(données!W478:AA478,individus!$D$1)","v":{"$error":"#N/A"}},{"$f":"INDEX(données!AB478:AF478,individus!$C$1)","v":{"$error":"#N/A"}},{"$f":"INDEX(données!AB478:AF478,individus!$D$1)","v":{"$error":"#N/A"}},{"$error":"#N/A"}]
[null,{"$f":"données!B479","v":"li 476"},{"$f":"INDEX(données!W479:AA479,individus!$C$1)","v":{"$error":"#N/A"}},{"$f":"INDEX(données!W479:AA479,individus!$D$1)","v":{"$error":"#N/A"}},{"$f":"INDEX(données!AB479:AF479,individus!$C$1)","v":{"$error":"#N/A"}},{"$f":"INDEX(données!AB479:AF479,individus!$D$1)","v":{"$error":"#N/A"}},{"$error":"#N/A"}]
[null,{"$f":"données!B480","v":"li 477"},{"$f":"INDEX(données!W480:AA480,individus!$C$1)","v":{"$error":"#N/A"}},{"$f":"INDEX(données!W480:AA480,individus!$D$1)","v":{"$error":"#N/A"}},{"$f":"INDEX(données!AB480:AF480,individus!$C$1)","v":{"$error":"#N/A"}},{"$f":"INDEX(données!AB480:AF480,individus!$D$1)","v":{"$error":"#N/A"}},{"$error":"#N/A"}]
[null,{"$f":"données!B481","v":"li 478"},{"$f":"INDEX(données!W481:AA481,individus!$C$1)","v":{"$error":"#N/A"}},{"$f":"INDEX(données!W481:AA481,individus!$D$1)","v":{"$error":"#N/A"}},{"$f":"INDEX(données!AB481:AF481,individus!$C$1)","v":{"$error":"#N/A"}},{"$f":"INDEX(données!AB481:AF481,individus!$D$1)","v":{"$error":"#N/A"}},{"$error":"#N/A"}]
[null,{"$f":"données!B482","v":"li 479"},{"$f":"INDEX(données!W482:AA482,individus!$C$1)","v":{"$error":"#N/A"}},{"$f":"INDEX(données!W482:AA482,individus!$D$1)","v":{"$error":"#N/A"}},{"$f":"INDEX(données!AB482:AF482,individus!$C$1)","v":{"$error":"#N/A"}},{"$f":"INDEX(données!AB482:AF482,individus!$D$1)","v":{"$error":"#N/A"}},{"$error":"#N/A"}]
[null,{"$f":"données!B483","v":"li 480"},{"$f":"INDEX(données!W483:AA483,individus!$C$1)","v":{"$error":"#N/A"}},{"$f":"INDEX(données!W483:AA483,individus!$D$1)","v":{"$error":"#N/A"}},{"$f":"INDEX(données!AB483:AF483,individus!$C$1)","v":{"$error":"#N/A"}},{"$f":"INDEX(données!AB483:AF483,individus!$D$1)","v":{"$error":"#N/A"}},{"$error":"#N/A"}]
[null,{"$f":"données!B484","v":"li 481"},{"$f":"INDEX(données!W484:AA484,individus!$C$1)","v":{"$error":"#N/A"}},{"$f":"INDEX(données!W484:AA484,individus!$D$1)","v":{"$error":"#N/A"}},{"$f":"INDEX(données!AB484:AF484,individus!$C$1)","v":{"$error":"#N/A"}},{"$f":"INDEX(données!AB484:AF484,individus!$D$1)","v":{"$error":"#N/A"}},{"$error":"#N/A"}]
[null,{"$f":"données!B485","v":"li 482"},{"$f":"INDEX(données!W485:AA485,individus!$C$1)","v":{"$error":"#N/A"}},{"$f":"INDEX(données!W485:AA485,individus!$D$1)","v":{"$error":"#N/A"}},{"$f":"INDEX(données!AB485:AF485,individus!$C$1)","v":{"$error":"#N/A"}},{"$f":"INDEX(données!AB485:AF485,individus!$D$1)","v":{"$error":"#N/A"}},{"$error":"#N/A"}]
[null,{"$f":"données!B486","v":"li 483"},{"$f":"INDEX(données!W486:AA486,individus!$C$1)","v":{"$error":"#N/A"}},{"$f":"INDEX(données!W486:AA486,individus!$D$1)","v":{"$error":"#N/A"}},{"$f":"INDEX(données!AB486:AF486,individus!$C$1)","v":{"$error":"#N/A"}},{"$f":"INDEX(données!AB486:AF486,individus!$D$1)","v":{"$error":"#N/A"}},{"$error":"#N/A"}]
[null,{"$f":"données!B487","v":"li 484"},{"$f":"INDEX(données!W487:AA487,individus!$C$1)","v":{"$error":"#N/A"}},{"$f":"INDEX(données!W487:AA487,individus!$D$1)","v":{"$error":"#N/A"}},{"$f":"INDEX(données!AB487:AF487,individus!$C$1)","v":{"$error":"#N/A"}},{"$f":"INDEX(données!AB487:AF487,individus!$D$1)","v":{"$error":"#N/A"}},{"$error":"#N/A"}]
[null,{"$f":"données!B488","v":"li 485"},{"$f":"INDEX(données!W488:AA488,individus!$C$1)","v":{"$error":"#N/A"}},{"$f":"INDEX(données!W488:AA488,individus!$D$1)","v":{"$error":"#N/A"}},{"$f":"INDEX(données!AB488:AF488,individus!$C$1)","v":{"$error":"#N/A"}},{"$f":"INDEX(données!AB488:AF488,individus!$D$1)","v":{"$error":"#N/A"}},{"$error":"#N/A"}]
[null,{"$f":"données!B489","v":"li 486"},{"$f":"INDEX(données!W489:AA489,individus!$C$1)","v":{"$error":"#N/A"}},{"$f":"INDEX(données!W489:AA489,individus!$D$1)","v":{"$error":"#N/A"}},{"$f":"INDEX(données!AB489:AF489,individus!$C$1)","v":{"$error":"#N/A"}},{"$f":"INDEX(données!AB489:AF489,individus!$D$1)","v":{"$error":"#N/A"}},{"$error":"#N/A"}]
[null,{"$f":"données!B490","v":"li 487"},{"$f":"INDEX(données!W490:AA490,individus!$C$1)","v":{"$error":"#N/A"}},{"$f":"INDEX(données!W490:AA490,individus!$D$1)","v":{"$error":"#N/A"}},{"$f":"INDEX(données!AB490:AF490,individus!$C$1)","v":{"$error":"#N/A"}},{"$f":"INDEX(données!AB490:AF490,individus!$D$1)","v":{"$error":"#N/A"}},{"$error":"#N/A"}]
[null,{"$f":"données!B491","v":"li 488"},{"$f":"INDEX(données!W491:AA491,individus!$C$1)","v":{"$error":"#N/A"}},{"$f":"INDEX(données!W491:AA491,individus!$D$1)","v":{"$error":"#N/A"}},{"$f":"INDEX(données!AB491:AF491,individus!$C$1)","v":{"$error":"#N/A"}},{"$f":"INDEX(données!AB491:AF491,individus!$D$1)","v":{"$error":"#N/A"}},{"$error":"#N/A"}]
[null,{"$f":"données!B492","v":"li 489"},{"$f":"INDEX(données!W492:AA492,individus!$C$1)","v":{"$error":"#N/A"}},{"$f":"INDEX(données!W492:AA492,individus!$D$1)","v":{"$error":"#N/A"}},{"$f":"INDEX(données!AB492:AF492,individus!$C$1)","v":{"$error":"#N/A"}},{"$f":"INDEX(données!AB492:AF492,individus!$D$1)","v":{"$error":"#N/A"}},{"$error":"#N/A"}]
[null,{"$f":"données!B493","v":"li 490"},{"$f":"INDEX(données!W493:AA493,individus!$C$1)","v":{"$error":"#N/A"}},{"$f":"INDEX(données!W493:AA493,individus!$D$1)","v":{"$error":"#N/A"}},{"$f":"INDEX(données!AB493:AF493,individus!$C$1)","v":{"$error":"#N/A"}},{"$f":"INDEX(données!AB493:AF493,individus!$D$1)","v":{"$error":"#N/A"}},{"$error":"#N/A"}]
[null,{"$f":"données!B494","v":"li 491"},{"$f":"INDEX(données!W494:AA494,individus!$C$1)","v":{"$error":"#N/A"}},{"$f":"INDEX(données!W494:AA494,individus!$D$1)","v":{"$error":"#N/A"}},{"$f":"INDEX(données!AB494:AF494,individus!$C$1)","v":{"$error":"#N/A"}},{"$f":"INDEX(données!AB494:AF494,individus!$D$1)","v":{"$error":"#N/A"}},{"$error":"#N/A"}]
[null,{"$f":"données!B495","v":"li 492"},{"$f":"INDEX(données!W495:AA495,individus!$C$1)","v":{"$error":"#N/A"}},{"$f":"INDEX(données!W495:AA495,individus!$D$1)","v":{"$error":"#N/A"}},{"$f":"INDEX(données!AB495:AF495,individus!$C$1)","v":{"$error":"#N/A"}},{"$f":"INDEX(données!AB495:AF495,individus!$D$1)","v":{"$error":"#N/A"}},{"$error":"#N/A"}]
[null,{"$f":"données!B496","v":"li 493"},{"$f":"INDEX(données!W496:AA496,individus!$C$1)","v":{"$error":"#N/A"}},{"$f":"INDEX(données!W496:AA496,individus!$D$1)","v":{"$error":"#N/A"}},{"$f":"INDEX(données!AB496:AF496,individus!$C$1)","v":{"$error":"#N/A"}},{"$f":"INDEX(données!AB496:AF496,individus!$D$1)","v":{"$error":"#N/A"}},{"$error":"#N/A"}]
[null,{"$f":"données!B497","v":"li 494"},{"$f":"INDEX(données!W497:AA497,individus!$C$1)","v":{"$error":"#N/A"}},{"$f":"INDEX(données!W497:AA497,individus!$D$1)","v":{"$error":"#N/A"}},{"$f":"INDEX(données!AB497:AF497,individus!$C$1)","v":{"$error":"#N/A"}},{"$f":"INDEX(données!AB497:AF497,individus!$D$1)","v":{"$error":"#N/A"}},{"$error":"#N/A"}]
[null,{"$f":"données!B498","v":"li 495"},{"$f":"INDEX(données!W498:AA498,individus!$C$1)","v":{"$error":"#N/A"}},{"$f":"INDEX(données!W498:AA498,individus!$D$1)","v":{"$error":"#N/A"}},{"$f":"INDEX(données!AB498:AF498,individus!$C$1)","v":{"$error":"#N/A"}},{"$f":"INDEX(données!AB498:AF498,individus!$D$1)","v":{"$error":"#N/A"}},{"$error":"#N/A"}]
[null,{"$f":"données!B499","v":"li 496"},{"$f":"INDEX(données!W499:AA499,individus!$C$1)","v":{"$error":"#N/A"}},{"$f":"INDEX(données!W499:AA499,individus!$D$1)","v":{"$error":"#N/A"}},{"$f":"INDEX(données!AB499:AF499,individus!$C$1)","v":{"$error":"#N/A"}},{"$f":"INDEX(données!AB499:AF499,individus!$D$1)","v":{"$error":"#N/A"}},{"$error":"#N/A"}]
[null,{"$f":"données!B500","v":"li 497"},{"$f":"INDEX(données!W500:AA500,individus!$C$1)","v":{"$error":"#N/A"}},{"$f":"INDEX(données!W500:AA500,individus!$D$1)","v":{"$error":"#N/A"}},{"$f":"INDEX(données!AB500:AF500,individus!$C$1)","v":{"$error":"#N/A"}},{"$f":"INDEX(données!AB500:AF500,individus!$D$1)","v":{"$error":"#N/A"}},{"$error":"#N/A"}]
[null,{"$f":"données!B501","v":"li 498"},{"$f":"INDEX(données!W501:AA501,individus!$C$1)","v":{"$error":"#N/A"}},{"$f":"INDEX(données!W501:AA501,individus!$D$1)","v":{"$error":"#N/A"}},{"$f":"INDEX(données!AB501:AF501,individus!$C$1)","v":{"$error":"#N/A"}},{"$f":"INDEX(données!AB501:AF501,individus!$D$1)","v":{"$error":"#N/A"}},{"$error":"#N/A"}]
[null,{"$f":"données!B502","v":"li 499"},{"$f":"INDEX(données!W502:AA502,individus!$C$1)","v":{"$error":"#N/A"}},{"$f":"INDEX(données!W502:AA502,individus!$D$1)","v":{"$error":"#N/A"}},{"$f":"INDEX(données!AB502:AF502,individus!$C$1)","v":{"$error":"#N/A"}},{"$f":"INDEX(données!AB502:AF502,individus!$D$1)","v":{"$error":"#N/A"}},{"$error":"#N/A"}]
[null,{"$f":"données!B503","v":"li 500"},{"$f":"INDEX(données!W503:AA503,individus!$C$1)","v":{"$error":"#N/A"}},{"$f":"INDEX(données!W503:AA503,individus!$D$1)","v":{"$error":"#N/A"}},{"$f":"INDEX(données!AB503:AF503,individus!$C$1)","v":{"$error":"#N/A"}},{"$f":"INDEX(données!AB503:AF503,individus!$D$1)","v":{"$error":"#N/A"}},{"$error":"#N/A"}]
[null,{"$f":"données!B504","v":"li 501"},{"$f":"INDEX(données!W504:AA504,individus!$C$1)","v":{"$error":"#N/A"}},{"$f":"INDEX(données!W504:AA504,individus!$D$1)","v":{"$error":"#N/A"}},{"$f":"INDEX(données!AB504:AF504,individus!$C$1)","v":{"$error":"#N/A"}},{"$f":"INDEX(données!AB504:AF504,individus!$D$1)","v":{"$error":"#N/A"}},{"$error":"#N/A"}]
[null,{"$f":"données!B505","v":"li 502"},{"$f":"INDEX(données!W505:AA505,individus!$C$1)","v":{"$error":"#N/A"}},{"$f":"INDEX(données!W505:AA505,individus!$D$1)","v":{"$error":"#N/A"}},{"$f":"INDEX(données!AB505:AF505,individus!$C$1)","v":{"$error":"#N/A"}},{"$f":"INDEX(données!AB505:AF505,individus!$D$1)","v":{"$error":"#N/A"}},{"$error":"#N/A"}]
[null,{"$f":"données!B506","v":"li 503"},{"$f":"INDEX(données!W506:AA506,individus!$C$1)","v":{"$error":"#N/A"}},{"$f":"INDEX(données!W506:AA506,individus!$D$1)","v":{"$error":"#N/A"}},{"$f":"INDEX(données!AB506:AF506,individus!$C$1)","v":{"$error":"#N/A"}},{"$f":"INDEX(données!AB506:AF506,individus!$D$1)","v":{"$error":"#N/A"}},{"$error":"#N/A"}]
[null,{"$f":"données!B507","v":"li 504"},{"$f":"INDEX(données!W507:AA507,individus!$C$1)","v":{"$error":"#N/A"}},{"$f":"INDEX(données!W507:AA507,individus!$D$1)","v":{"$error":"#N/A"}},{"$f":"INDEX(données!AB507:AF507,individus!$C$1)","v":{"$error":"#N/A"}},{"$f":"INDEX(données!AB507:AF507,individus!$D$1)","v":{"$error":"#N/A"}},{"$error":"#N/A"}]
[null,{"$f":"données!B508","v":"li 505"},{"$f":"INDEX(données!W508:AA508,individus!$C$1)","v":{"$error":"#N/A"}},{"$f":"INDEX(données!W508:AA508,individus!$D$1)","v":{"$error":"#N/A"}},{"$f":"INDEX(données!AB508:AF508,individus!$C$1)","v":{"$error":"#N/A"}},{"$f":"INDEX(données!AB508:AF508,individus!$D$1)","v":{"$error":"#N/A"}},{"$error":"#N/A"}]
[null,{"$f":"données!B509","v":"li 506"},{"$f":"INDEX(données!W509:AA509,individus!$C$1)","v":{"$error":"#N/A"}},{"$f":"INDEX(données!W509:AA509,individus!$D$1)","v":{"$error":"#N/A"}},{"$f":"INDEX(données!AB509:AF509,individus!$C$1)","v":{"$error":"#N/A"}},{"$f":"INDEX(données!AB509:AF509,individus!$D$1)","v":{"$error":"#N/A"}},{"$error":"#N/A"}]
[null,{"$f":"données!B510","v":"li 507"},{"$f":"INDEX(données!W510:AA510,individus!$C$1)","v":{"$error":"#N/A"}},{"$f":"INDEX(données!W510:AA510,individus!$D$1)","v":{"$error":"#N/A"}},{"$f":"INDEX(données!AB510:AF510,individus!$C$1)","v":{"$error":"#N/A"}},{"$f":"INDEX(données!AB510:AF510,individus!$D$1)","v":{"$error":"#N/A"}},{"$error":"#N/A"}]
[null,{"$f":"données!B511","v":"li 508"},{"$f":"INDEX(données!W511:AA511,individus!$C$1)","v":{"$error":"#N/A"}},{"$f":"INDEX(données!W511:AA511,individus!$D$1)","v":{"$error":"#N/A"}},{"$f":"INDEX(données!AB511:AF511,individus!$C$1)","v":{"$error":"#N/A"}},{"$f":"INDEX(données!AB511:AF511,individus!$D$1)","v":{"$error":"#N/A"}},{"$error":"#N/A"}]
[null,{"$f":"données!B512","v":"li 509"},{"$f":"INDEX(données!W512:AA512,individus!$C$1)","v":{"$error":"#N/A"}},{"$f":"INDEX(données!W512:AA512,individus!$D$1)","v":{"$error":"#N/A"}},{"$f":"INDEX(données!AB512:AF512,individus!$C$1)","v":{"$error":"#N/A"}},{"$f":"INDEX(données!AB512:AF512,individus!$D$1)","v":{"$error":"#N/A"}},{"$error":"#N/A"}]
[null,{"$f":"données!B513","v":"li 510"},{"$f":"INDEX(données!W513:AA513,individus!$C$1)","v":{"$error":"#N/A"}},{"$f":"INDEX(données!W513:AA513,individus!$D$1)","v":{"$error":"#N/A"}},{"$f":"INDEX(données!AB513:AF513,individus!$C$1)","v":{"$error":"#N/A"}},{"$f":"INDEX(données!AB513:AF513,individus!$D$1)","v":{"$error":"#N/A"}},{"$error":"#N/A"}]
[null,{"$f":"données!B514","v":"li 511"},{"$f":"INDEX(données!W514:AA514,individus!$C$1)","v":{"$error":"#N/A"}},{"$f":"INDEX(données!W514:AA514,individus!$D$1)","v":{"$error":"#N/A"}},{"$f":"INDEX(données!AB514:AF514,individus!$C$1)","v":{"$error":"#N/A"}},{"$f":"INDEX(données!AB514:AF514,individus!$D$1)","v":{"$error":"#N/A"}},{"$error":"#N/A"}]
[null,{"$f":"données!B515","v":"li 512"},{"$f":"INDEX(données!W515:AA515,individus!$C$1)","v":{"$error":"#N/A"}},{"$f":"INDEX(données!W515:AA515,individus!$D$1)","v":{"$error":"#N/A"}},{"$f":"INDEX(données!AB515:AF515,individus!$C$1)","v":{"$error":"#N/A"}},{"$f":"INDEX(données!AB515:AF515,individus!$D$1)","v":{"$error":"#N/A"}},{"$error":"#N/A"}]
[null,{"$f":"données!B516","v":"li 513"},{"$f":"INDEX(données!W516:AA516,individus!$C$1)","v":{"$error":"#N/A"}},{"$f":"INDEX(données!W516:AA516,individus!$D$1)","v":{"$error":"#N/A"}},{"$f":"INDEX(données!AB516:AF516,individus!$C$1)","v":{"$error":"#N/A"}},{"$f":"INDEX(données!AB516:AF516,individus!$D$1)","v":{"$error":"#N/A"}},{"$error":"#N/A"}]
[null,{"$f":"données!B517","v":"li 514"},{"$f":"INDEX(données!W517:AA517,individus!$C$1)","v":{"$error":"#N/A"}},{"$f":"INDEX(données!W517:AA517,individus!$D$1)","v":{"$error":"#N/A"}},{"$f":"INDEX(données!AB517:AF517,individus!$C$1)","v":{"$error":"#N/A"}},{"$f":"INDEX(données!AB517:AF517,individus!$D$1)","v":{"$error":"#N/A"}},{"$f":"E517+F517","v":{"$error":"#N/A"}}]
[null,{"$f":"données!B518","v":"li 515"},{"$f":"INDEX(données!W518:AA518,individus!$C$1)","v":{"$error":"#N/A"}},{"$f":"INDEX(données!W518:AA518,individus!$D$1)","v":{"$error":"#N/A"}},{"$f":"INDEX(données!AB518:AF518,individus!$C$1)","v":{"$error":"#N/A"}},{"$f":"INDEX(données!AB518:AF518,individus!$D$1)","v":{"$error":"#N/A"}},{"$error":"#N/A"}]
[null,{"$f":"données!B519","v":"li 516"},{"$f":"INDEX(données!W519:AA519,individus!$C$1)","v":{"$error":"#N/A"}},{"$f":"INDEX(données!W519:AA519,individus!$D$1)","v":{"$error":"#N/A"}},{"$f":"INDEX(données!AB519:AF519,individus!$C$1)","v":{"$error":"#N/A"}},{"$f":"INDEX(données!AB519:AF519,individus!$D$1)","v":{"$error":"#N/A"}},{"$error":"#N/A"}]
[null,{"$f":"données!B520","v":"li 517"},{"$f":"INDEX(données!W520:AA520,individus!$C$1)","v":{"$error":"#N/A"}},{"$f":"INDEX(données!W520:AA520,individus!$D$1)","v":{"$error":"#N/A"}},{"$f":"INDEX(données!AB520:AF520,individus!$C$1)","v":{"$error":"#N/A"}},{"$f":"INDEX(données!AB520:AF520,individus!$D$1)","v":{"$error":"#N/A"}},{"$error":"#N/A"}]
[null,{"$f":"données!B521","v":"li 518"},{"$f":"INDEX(données!W521:AA521,individus!$C$1)","v":{"$error":"#N/A"}},{"$f":"INDEX(données!W521:AA521,individus!$D$1)","v":{"$error":"#N/A"}},{"$f":"INDEX(données!AB521:AF521,individus!$C$1)","v":{"$error":"#N/A"}},{"$f":"INDEX(données!AB521:AF521,individus!$D$1)","v":{"$error":"#N/A"}},{"$error":"#N/A"}]
[null,{"$f":"données!B522","v":"li 519"},{"$f":"INDEX(données!W522:AA522,individus!$C$1)","v":{"$error":"#N/A"}},{"$f":"INDEX(données!W522:AA522,individus!$D$1)","v":{"$error":"#N/A"}},{"$f":"INDEX(données!AB522:AF522,individus!$C$1)","v":{"$error":"#N/A"}},{"$f":"INDEX(données!AB522:AF522,individus!$D$1)","v":{"$error":"#N/A"}},{"$error":"#N/A"}]
[null,{"$f":"données!B523","v":"li 520"},{"$f":"INDEX(données!W523:AA523,individus!$C$1)","v":{"$error":"#N/A"}},{"$f":"INDEX(données!W523:AA523,individus!$D$1)","v":{"$error":"#N/A"}},{"$f":"INDEX(données!AB523:AF523,individus!$C$1)","v":{"$error":"#N/A"}},{"$f":"INDEX(données!AB523:AF523,individus!$D$1)","v":{"$error":"#N/A"}},{"$error":"#N/A"}]
[null,{"$f":"données!B524","v":"li 521"},{"$f":"INDEX(données!W524:AA524,individus!$C$1)","v":{"$error":"#N/A"}},{"$f":"INDEX(données!W524:AA524,individus!$D$1)","v":{"$error":"#N/A"}},{"$f":"INDEX(données!AB524:AF524,individus!$C$1)","v":{"$error":"#N/A"}},{"$f":"INDEX(données!AB524:AF524,individus!$D$1)","v":{"$error":"#N/A"}},{"$error":"#N/A"}]
[null,{"$f":"données!B525","v":"li 522"},{"$f":"INDEX(données!W525:AA525,individus!$C$1)","v":{"$error":"#N/A"}},{"$f":"INDEX(données!W525:AA525,individus!$D$1)","v":{"$error":"#N/A"}},{"$f":"INDEX(données!AB525:AF525,individus!$C$1)","v":{"$error":"#N/A"}},{"$f":"INDEX(données!AB525:AF525,individus!$D$1)","v":{"$error":"#N/A"}},{"$error":"#N/A"}]
[null,{"$f":"données!B526","v":"li 523"},{"$f":"INDEX(données!W526:AA526,individus!$C$1)","v":{"$error":"#N/A"}},{"$f":"INDEX(données!W526:AA526,individus!$D$1)","v":{"$error":"#N/A"}},{"$f":"INDEX(données!AB526:AF526,individus!$C$1)","v":{"$error":"#N/A"}},{"$f":"INDEX(données!AB526:AF526,individus!$D$1)","v":{"$error":"#N/A"}},{"$error":"#N/A"}]
[null,{"$f":"données!B527","v":"li 524"},{"$f":"INDEX(données!W527:AA527,individus!$C$1)","v":{"$error":"#N/A"}},{"$f":"INDEX(données!W527:AA527,individus!$D$1)","v":{"$error":"#N/A"}},{"$f":"INDEX(données!AB527:AF527,individus!$C$1)","v":{"$error":"#N/A"}},{"$f":"INDEX(données!AB527:AF527,individus!$D$1)","v":{"$error":"#N/A"}},{"$error":"#N/A"}]
[null,{"$f":"données!B528","v":"li 525"},{"$f":"INDEX(données!W528:AA528,individus!$C$1)","v":{"$error":"#N/A"}},{"$f":"INDEX(données!W528:AA528,individus!$D$1)","v":{"$error":"#N/A"}},{"$f":"INDEX(données!AB528:AF528,individus!$C$1)","v":{"$error":"#N/A"}},{"$f":"INDEX(données!AB528:AF528,individus!$D$1)","v":{"$error":"#N/A"}},{"$error":"#N/A"}]
[null,{"$f":"données!B529","v":"li 526"},{"$f":"INDEX(données!W529:AA529,individus!$C$1)","v":{"$error":"#N/A"}},{"$f":"INDEX(données!W529:AA529,individus!$D$1)","v":{"$error":"#N/A"}},{"$f":"INDEX(données!AB529:AF529,individus!$C$1)","v":{"$error":"#N/A"}},{"$f":"INDEX(données!AB529:AF529,individus!$D$1)","v":{"$error":"#N/A"}},{"$error":"#N/A"}]
[null,{"$f":"données!B530","v":"li 527"},{"$f":"INDEX(données!W530:AA530,individus!$C$1)","v":{"$error":"#N/A"}},{"$f":"INDEX(données!W530:AA530,individus!$D$1)","v":{"$error":"#N/A"}},{"$f":"INDEX(données!AB530:AF530,individus!$C$1)","v":{"$error":"#N/A"}},{"$f":"INDEX(données!AB530:AF530,individus!$D$1)","v":{"$error":"#N/A"}},{"$error":"#N/A"}]
[null,{"$f":"données!B531","v":"li 528"},{"$f":"INDEX(données!W531:AA531,individus!$C$1)","v":{"$error":"#N/A"}},{"$f":"INDEX(données!W531:AA531,individus!$D$1)","v":{"$error":"#N/A"}},{"$f":"INDEX(données!AB531:AF531,individus!$C$1)","v":{"$error":"#N/A"}},{"$f":"INDEX(données!AB531:AF531,individus!$D$1)","v":{"$error":"#N/A"}},{"$error":"#N/A"}]
[null,{"$f":"données!B532","v":"li 529"},{"$f":"INDEX(données!W532:AA532,individus!$C$1)","v":{"$error":"#N/A"}},{"$f":"INDEX(données!W532:AA532,individus!$D$1)","v":{"$error":"#N/A"}},{"$f":"INDEX(données!AB532:AF532,individus!$C$1)","v":{"$error":"#N/A"}},{"$f":"INDEX(données!AB532:AF532,individus!$D$1)","v":{"$error":"#N/A"}},{"$error":"#N/A"}]
[null,{"$f":"données!B533","v":"li 530"},{"$f":"INDEX(données!W533:AA533,individus!$C$1)","v":{"$error":"#N/A"}},{"$f":"INDEX(données!W533:AA533,individus!$D$1)","v":{"$error":"#N/A"}},{"$f":"INDEX(données!AB533:AF533,individus!$C$1)","v":{"$error":"#N/A"}},{"$f":"INDEX(données!AB533:AF533,individus!$D$1)","v":{"$error":"#N/A"}},{"$error":"#N/A"}]
[null,{"$f":"données!B534","v":"li 531"},{"$f":"INDEX(données!W534:AA534,individus!$C$1)","v":{"$error":"#N/A"}},{"$f":"INDEX(données!W534:AA534,individus!$D$1)","v":{"$error":"#N/A"}},{"$f":"INDEX(données!AB534:AF534,individus!$C$1)","v":{"$error":"#N/A"}},{"$f":"INDEX(données!AB534:AF534,individus!$D$1)","v":{"$error":"#N/A"}},{"$error":"#N/A"}]
[null,{"$f":"données!B535","v":"li 532"},{"$f":"INDEX(données!W535:AA535,individus!$C$1)","v":{"$error":"#N/A"}},{"$f":"INDEX(données!W535:AA535,individus!$D$1)","v":{"$error":"#N/A"}},{"$f":"INDEX(données!AB535:AF535,individus!$C$1)","v":{"$error":"#N/A"}},{"$f":"INDEX(données!AB535:AF535,individus!$D$1)","v":{"$error":"#N/A"}},{"$error":"#N/A"}]
[null,{"$f":"données!B536","v":"li 533"},{"$f":"INDEX(données!W536:AA536,individus!$C$1)","v":{"$error":"#N/A"}},{"$f":"INDEX(données!W536:AA536,individus!$D$1)","v":{"$error":"#N/A"}},{"$f":"INDEX(données!AB536:AF536,individus!$C$1)","v":{"$error":"#N/A"}},{"$f":"INDEX(données!AB536:AF536,individus!$D$1)","v":{"$error":"#N/A"}},{"$error":"#N/A"}]
[null,{"$f":"données!B537","v":"li 534"},{"$f":"INDEX(données!W537:AA537,individus!$C$1)","v":{"$error":"#N/A"}},{"$f":"INDEX(données!W537:AA537,individus!$D$1)","v":{"$error":"#N/A"}},{"$f":"INDEX(données!AB537:AF537,individus!$C$1)","v":{"$error":"#N/A"}},{"$f":"INDEX(données!AB537:AF537,individus!$D$1)","v":{"$error":"#N/A"}},{"$error":"#N/A"}]
[null,{"$f":"données!B538","v":"li 535"},{"$f":"INDEX(données!W538:AA538,individus!$C$1)","v":{"$error":"#N/A"}},{"$f":"INDEX(données!W538:AA538,individus!$D$1)","v":{"$error":"#N/A"}},{"$f":"INDEX(données!AB538:AF538,individus!$C$1)","v":{"$error":"#N/A"}},{"$f":"INDEX(données!AB538:AF538,individus!$D$1)","v":{"$error":"#N/A"}},{"$error":"#N/A"}]
[null,{"$f":"données!B539","v":"li 536"},{"$f":"INDEX(données!W539:AA539,individus!$C$1)","v":{"$error":"#N/A"}},{"$f":"INDEX(données!W539:AA539,individus!$D$1)","v":{"$error":"#N/A"}},{"$f":"INDEX(données!AB539:AF539,individus!$C$1)","v":{"$error":"#N/A"}},{"$f":"INDEX(données!AB539:AF539,individus!$D$1)","v":{"$error":"#N/A"}},{"$error":"#N/A"}]
[null,{"$f":"données!B540","v":"li 537"},{"$f":"INDEX(données!W540:AA540,individus!$C$1)","v":{"$error":"#N/A"}},{"$f":"INDEX(données!W540:AA540,individus!$D$1)","v":{"$error":"#N/A"}},{"$f":"INDEX(données!AB540:AF540,individus!$C$1)","v":{"$error":"#N/A"}},{"$f":"INDEX(données!AB540:AF540,individus!$D$1)","v":{"$error":"#N/A"}},{"$error":"#N/A"}]
[null,{"$f":"données!B541","v":"li 538"},{"$f":"INDEX(données!W541:AA541,individus!$C$1)","v":{"$error":"#N/A"}},{"$f":"INDEX(données!W541:AA541,individus!$D$1)","v":{"$error":"#N/A"}},{"$f":"INDEX(données!AB541:AF541,individus!$C$1)","v":{"$error":"#N/A"}},{"$f":"INDEX(données!AB541:AF541,individus!$D$1)","v":{"$error":"#N/A"}},{"$error":"#N/A"}]
[null,{"$f":"données!B542","v":"li 539"},{"$f":"INDEX(données!W542:AA542,individus!$C$1)","v":{"$error":"#N/A"}},{"$f":"INDEX(données!W542:AA542,individus!$D$1)","v":{"$error":"#N/A"}},{"$f":"INDEX(données!AB542:AF542,individus!$C$1)","v":{"$error":"#N/A"}},{"$f":"INDEX(données!AB542:AF542,individus!$D$1)","v":{"$error":"#N/A"}},{"$error":"#N/A"}]
[null,{"$f":"données!B543","v":"li 540"},{"$f":"INDEX(données!W543:AA543,individus!$C$1)","v":{"$error":"#N/A"}},{"$f":"INDEX(données!W543:AA543,individus!$D$1)","v":{"$error":"#N/A"}},{"$f":"INDEX(données!AB543:AF543,individus!$C$1)","v":{"$error":"#N/A"}},{"$f":"INDEX(données!AB543:AF543,individus!$D$1)","v":{"$error":"#N/A"}},{"$error":"#N/A"}]
[null,{"$f":"données!B544","v":"li 541"},{"$f":"INDEX(données!W544:AA544,individus!$C$1)","v":{"$error":"#N/A"}},{"$f":"INDEX(données!W544:AA544,individus!$D$1)","v":{"$error":"#N/A"}},{"$f":"INDEX(données!AB544:AF544,individus!$C$1)","v":{"$error":"#N/A"}},{"$f":"INDEX(données!AB544:AF544,individus!$D$1)","v":{"$error":"#N/A"}},{"$error":"#N/A"}]
[null,{"$f":"données!B545","v":"li 542"},{"$f":"INDEX(données!W545:AA545,individus!$C$1)","v":{"$error":"#N/A"}},{"$f":"INDEX(données!W545:AA545,individus!$D$1)","v":{"$error":"#N/A"}},{"$f":"INDEX(données!AB545:AF545,individus!$C$1)","v":{"$error":"#N/A"}},{"$f":"INDEX(données!AB545:AF545,individus!$D$1)","v":{"$error":"#N/A"}},{"$error":"#N/A"}]
[null,{"$f":"données!B546","v":"li 543"},{"$f":"INDEX(données!W546:AA546,individus!$C$1)","v":{"$error":"#N/A"}},{"$f":"INDEX(données!W546:AA546,individus!$D$1)","v":{"$error":"#N/A"}},{"$f":"INDEX(données!AB546:AF546,individus!$C$1)","v":{"$error":"#N/A"}},{"$f":"INDEX(données!AB546:AF546,individus!$D$1)","v":{"$error":"#N/A"}},{"$error":"#N/A"}]
[null,{"$f":"données!B547","v":"li 544"},{"$f":"INDEX(données!W547:AA547,individus!$C$1)","v":{"$error":"#N/A"}},{"$f":"INDEX(données!W547:AA547,individus!$D$1)","v":{"$error":"#N/A"}},{"$f":"INDEX(données!AB547:AF547,individus!$C$1)","v":{"$error":"#N/A"}},{"$f":"INDEX(données!AB547:AF547,individus!$D$1)","v":{"$error":"#N/A"}},{"$error":"#N/A"}]
[null,{"$f":"données!B548","v":"li 545"},{"$f":"INDEX(données!W548:AA548,individus!$C$1)","v":{"$error":"#N/A"}},{"$f":"INDEX(données!W548:AA548,individus!$D$1)","v":{"$error":"#N/A"}},{"$f":"INDEX(données!AB548:AF548,individus!$C$1)","v":{"$error":"#N/A"}},{"$f":"INDEX(données!AB548:AF548,individus!$D$1)","v":{"$error":"#N/A"}},{"$error":"#N/A"}]
[null,{"$f":"données!B549","v":"li 546"},{"$f":"INDEX(données!W549:AA549,individus!$C$1)","v":{"$error":"#N/A"}},{"$f":"INDEX(données!W549:AA549,individus!$D$1)","v":{"$error":"#N/A"}},{"$f":"INDEX(données!AB549:AF549,individus!$C$1)","v":{"$error":"#N/A"}},{"$f":"INDEX(données!AB549:AF549,individus!$D$1)","v":{"$error":"#N/A"}},{"$error":"#N/A"}]
[null,{"$f":"données!B550","v":"li 547"},{"$f":"INDEX(données!W550:AA550,individus!$C$1)","v":{"$error":"#N/A"}},{"$f":"INDEX(données!W550:AA550,individus!$D$1)","v":{"$error":"#N/A"}},{"$f":"INDEX(données!AB550:AF550,individus!$C$1)","v":{"$error":"#N/A"}},{"$f":"INDEX(données!AB550:AF550,individus!$D$1)","v":{"$error":"#N/A"}},{"$error":"#N/A"}]
[null,{"$f":"données!B551","v":"li 548"},{"$f":"INDEX(données!W551:AA551,individus!$C$1)","v":{"$error":"#N/A"}},{"$f":"INDEX(données!W551:AA551,individus!$D$1)","v":{"$error":"#N/A"}},{"$f":"INDEX(données!AB551:AF551,individus!$C$1)","v":{"$error":"#N/A"}},{"$f":"INDEX(données!AB551:AF551,individus!$D$1)","v":{"$error":"#N/A"}},{"$error":"#N/A"}]
[null,{"$f":"données!B552","v":"li 549"},{"$f":"INDEX(données!W552:AA552,individus!$C$1)","v":{"$error":"#N/A"}},{"$f":"INDEX(données!W552:AA552,individus!$D$1)","v":{"$error":"#N/A"}},{"$f":"INDEX(données!AB552:AF552,individus!$C$1)","v":{"$error":"#N/A"}},{"$f":"INDEX(données!AB552:AF552,individus!$D$1)","v":{"$error":"#N/A"}},{"$error":"#N/A"}]
[null,{"$f":"données!B553","v":"li 550"},{"$f":"INDEX(données!W553:AA553,individus!$C$1)","v":{"$error":"#N/A"}},{"$f":"INDEX(données!W553:AA553,individus!$D$1)","v":{"$error":"#N/A"}},{"$f":"INDEX(données!AB553:AF553,individus!$C$1)","v":{"$error":"#N/A"}},{"$f":"INDEX(données!AB553:AF553,individus!$D$1)","v":{"$error":"#N/A"}},{"$error":"#N/A"}]
[null,{"$f":"données!B554","v":"li 551"},{"$f":"INDEX(données!W554:AA554,individus!$C$1)","v":{"$error":"#N/A"}},{"$f":"INDEX(données!W554:AA554,individus!$D$1)","v":{"$error":"#N/A"}},{"$f":"INDEX(données!AB554:AF554,individus!$C$1)","v":{"$error":"#N/A"}},{"$f":"INDEX(données!AB554:AF554,individus!$D$1)","v":{"$error":"#N/A"}},{"$error":"#N/A"}]
[null,{"$f":"données!B555","v":"li 552"},{"$f":"INDEX(données!W555:AA555,individus!$C$1)","v":{"$error":"#N/A"}},{"$f":"INDEX(données!W555:AA555,individus!$D$1)","v":{"$error":"#N/A"}},{"$f":"INDEX(données!AB555:AF555,individus!$C$1)","v":{"$error":"#N/A"}},{"$f":"INDEX(données!AB555:AF555,individus!$D$1)","v":{"$error":"#N/A"}},{"$error":"#N/A"}]
[null,{"$f":"données!B556","v":"li 553"},{"$f":"INDEX(données!W556:AA556,individus!$C$1)","v":{"$error":"#N/A"}},{"$f":"INDEX(données!W556:AA556,individus!$D$1)","v":{"$error":"#N/A"}},{"$f":"INDEX(données!AB556:AF556,individus!$C$1)","v":{"$error":"#N/A"}},{"$f":"INDEX(données!AB556:AF556,individus!$D$1)","v":{"$error":"#N/A"}},{"$error":"#N/A"}]
[null,{"$f":"données!B557","v":"li 554"},{"$f":"INDEX(données!W557:AA557,individus!$C$1)","v":{"$error":"#N/A"}},{"$f":"INDEX(données!W557:AA557,individus!$D$1)","v":{"$error":"#N/A"}},{"$f":"INDEX(données!AB557:AF557,individus!$C$1)","v":{"$error":"#N/A"}},{"$f":"INDEX(données!AB557:AF557,individus!$D$1)","v":{"$error":"#N/A"}},{"$error":"#N/A"}]
[null,{"$f":"données!B558","v":"li 555"},{"$f":"INDEX(données!W558:AA558,individus!$C$1)","v":{"$error":"#N/A"}},{"$f":"INDEX(données!W558:AA558,individus!$D$1)","v":{"$error":"#N/A"}},{"$f":"INDEX(données!AB558:AF558,individus!$C$1)","v":{"$error":"#N/A"}},{"$f":"INDEX(données!AB558:AF558,individus!$D$1)","v":{"$error":"#N/A"}},{"$error":"#N/A"}]
[null,{"$f":"données!B559","v":"li 556"},{"$f":"INDEX(données!W559:AA559,individus!$C$1)","v":{"$error":"#N/A"}},{"$f":"INDEX(données!W559:AA559,individus!$D$1)","v":{"$error":"#N/A"}},{"$f":"INDEX(données!AB559:AF559,individus!$C$1)","v":{"$error":"#N/A"}},{"$f":"INDEX(données!AB559:AF559,individus!$D$1)","v":{"$error":"#N/A"}},{"$error":"#N/A"}]
[null,{"$f":"données!B560","v":"li 557"},{"$f":"INDEX(données!W560:AA560,individus!$C$1)","v":{"$error":"#N/A"}},{"$f":"INDEX(données!W560:AA560,individus!$D$1)","v":{"$error":"#N/A"}},{"$f":"INDEX(données!AB560:AF560,individus!$C$1)","v":{"$error":"#N/A"}},{"$f":"INDEX(données!AB560:AF560,individus!$D$1)","v":{"$error":"#N/A"}},{"$error":"#N/A"}]
[null,{"$f":"données!B561","v":"li 558"},{"$f":"INDEX(données!W561:AA561,individus!$C$1)","v":{"$error":"#N/A"}},{"$f":"INDEX(données!W561:AA561,individus!$D$1)","v":{"$error":"#N/A"}},{"$f":"INDEX(données!AB561:AF561,individus!$C$1)","v":{"$error":"#N/A"}},{"$f":"INDEX(données!AB561:AF561,individus!$D$1)","v":{"$error":"#N/A"}},{"$error":"#N/A"}]
[null,{"$f":"données!B562","v":"li 559"},{"$f":"INDEX(données!W562:AA562,individus!$C$1)","v":{"$error":"#N/A"}},{"$f":"INDEX(données!W562:AA562,individus!$D$1)","v":{"$error":"#N/A"}},{"$f":"INDEX(données!AB562:AF562,individus!$C$1)","v":{"$error":"#N/A"}},{"$f":"INDEX(données!AB562:AF562,individus!$D$1)","v":{"$error":"#N/A"}},{"$error":"#N/A"}]
[null,{"$f":"données!B563","v":"li 560"},{"$f":"INDEX(données!W563:AA563,individus!$C$1)","v":{"$error":"#N/A"}},{"$f":"INDEX(données!W563:AA563,individus!$D$1)","v":{"$error":"#N/A"}},{"$f":"INDEX(données!AB563:AF563,individus!$C$1)","v":{"$error":"#N/A"}},{"$f":"INDEX(données!AB563:AF563,individus!$D$1)","v":{"$error":"#N/A"}},{"$error":"#N/A"}]
[null,{"$f":"données!B564","v":"li 561"},{"$f":"INDEX(données!W564:AA564,individus!$C$1)","v":{"$error":"#N/A"}},{"$f":"INDEX(données!W564:AA564,individus!$D$1)","v":{"$error":"#N/A"}},{"$f":"INDEX(données!AB564:AF564,individus!$C$1)","v":{"$error":"#N/A"}},{"$f":"INDEX(données!AB564:AF564,individus!$D$1)","v":{"$error":"#N/A"}},{"$error":"#N/A"}]
[null,{"$f":"données!B565","v":"li 562"},{"$f":"INDEX(données!W565:AA565,individus!$C$1)","v":{"$error":"#N/A"}},{"$f":"INDEX(données!W565:AA565,individus!$D$1)","v":{"$error":"#N/A"}},{"$f":"INDEX(données!AB565:AF565,individus!$C$1)","v":{"$error":"#N/A"}},{"$f":"INDEX(données!AB565:AF565,individus!$D$1)","v":{"$error":"#N/A"}},{"$error":"#N/A"}]
[null,{"$f":"données!B566","v":"li 563"},{"$f":"INDEX(données!W566:AA566,individus!$C$1)","v":{"$error":"#N/A"}},{"$f":"INDEX(données!W566:AA566,individus!$D$1)","v":{"$error":"#N/A"}},{"$f":"INDEX(données!AB566:AF566,individus!$C$1)","v":{"$error":"#N/A"}},{"$f":"INDEX(données!AB566:AF566,individus!$D$1)","v":{"$error":"#N/A"}},{"$error":"#N/A"}]
[null,{"$f":"données!B567","v":"li 564"},{"$f":"INDEX(données!W567:AA567,individus!$C$1)","v":{"$error":"#N/A"}},{"$f":"INDEX(données!W567:AA567,individus!$D$1)","v":{"$error":"#N/A"}},{"$f":"INDEX(données!AB567:AF567,individus!$C$1)","v":{"$error":"#N/A"}},{"$f":"INDEX(données!AB567:AF567,individus!$D$1)","v":{"$error":"#N/A"}},{"$error":"#N/A"}]
[null,{"$f":"données!B568","v":"li 565"},{"$f":"INDEX(données!W568:AA568,individus!$C$1)","v":{"$error":"#N/A"}},{"$f":"INDEX(données!W568:AA568,individus!$D$1)","v":{"$error":"#N/A"}},{"$f":"INDEX(données!AB568:AF568,individus!$C$1)","v":{"$error":"#N/A"}},{"$f":"INDEX(données!AB568:AF568,individus!$D$1)","v":{"$error":"#N/A"}},{"$error":"#N/A"}]
[null,{"$f":"données!B569","v":"li 566"},{"$f":"INDEX(données!W569:AA569,individus!$C$1)","v":{"$error":"#N/A"}},{"$f":"INDEX(données!W569:AA569,individus!$D$1)","v":{"$error":"#N/A"}},{"$f":"INDEX(données!AB569:AF569,individus!$C$1)","v":{"$error":"#N/A"}},{"$f":"INDEX(données!AB569:AF569,individus!$D$1)","v":{"$error":"#N/A"}},{"$error":"#N/A"}]
[null,{"$f":"données!B570","v":"li 567"},{"$f":"INDEX(données!W570:AA570,individus!$C$1)","v":{"$error":"#N/A"}},{"$f":"INDEX(données!W570:AA570,individus!$D$1)","v":{"$error":"#N/A"}},{"$f":"INDEX(données!AB570:AF570,individus!$C$1)","v":{"$error":"#N/A"}},{"$f":"INDEX(données!AB570:AF570,individus!$D$1)","v":{"$error":"#N/A"}},{"$error":"#N/A"}]
[null,{"$f":"données!B571","v":"li 568"},{"$f":"INDEX(données!W571:AA571,individus!$C$1)","v":{"$error":"#N/A"}},{"$f":"INDEX(données!W571:AA571,individus!$D$1)","v":{"$error":"#N/A"}},{"$f":"INDEX(données!AB571:AF571,individus!$C$1)","v":{"$error":"#N/A"}},{"$f":"INDEX(données!AB571:AF571,individus!$D$1)","v":{"$error":"#N/A"}},{"$error":"#N/A"}]
[null,{"$f":"données!B572","v":"li 569"},{"$f":"INDEX(données!W572:AA572,individus!$C$1)","v":{"$error":"#N/A"}},{"$f":"INDEX(données!W572:AA572,individus!$D$1)","v":{"$error":"#N/A"}},{"$f":"INDEX(données!AB572:AF572,individus!$C$1)","v":{"$error":"#N/A"}},{"$f":"INDEX(données!AB572:AF572,individus!$D$1)","v":{"$error":"#N/A"}},{"$error":"#N/A"}]
[null,{"$f":"données!B573","v":"li 570"},{"$f":"INDEX(données!W573:AA573,individus!$C$1)","v":{"$error":"#N/A"}},{"$f":"INDEX(données!W573:AA573,individus!$D$1)","v":{"$error":"#N/A"}},{"$f":"INDEX(données!AB573:AF573,individus!$C$1)","v":{"$error":"#N/A"}},{"$f":"INDEX(données!AB573:AF573,individus!$D$1)","v":{"$error":"#N/A"}},{"$error":"#N/A"}]
[null,{"$f":"données!B574","v":"li 571"},{"$f":"INDEX(données!W574:AA574,individus!$C$1)","v":{"$error":"#N/A"}},{"$f":"INDEX(données!W574:AA574,individus!$D$1)","v":{"$error":"#N/A"}},{"$f":"INDEX(données!AB574:AF574,individus!$C$1)","v":{"$error":"#N/A"}},{"$f":"INDEX(données!AB574:AF574,individus!$D$1)","v":{"$error":"#N/A"}},{"$error":"#N/A"}]
[null,{"$f":"données!B575","v":"li 572"},{"$f":"INDEX(données!W575:AA575,individus!$C$1)","v":{"$error":"#N/A"}},{"$f":"INDEX(données!W575:AA575,individus!$D$1)","v":{"$error":"#N/A"}},{"$f":"INDEX(données!AB575:AF575,individus!$C$1)","v":{"$error":"#N/A"}},{"$f":"INDEX(données!AB575:AF575,individus!$D$1)","v":{"$error":"#N/A"}},{"$error":"#N/A"}]
[null,{"$f":"données!B576","v":"li 573"},{"$f":"INDEX(données!W576:AA576,individus!$C$1)","v":{"$error":"#N/A"}},{"$f":"INDEX(données!W576:AA576,individus!$D$1)","v":{"$error":"#N/A"}},{"$f":"INDEX(données!AB576:AF576,individus!$C$1)","v":{"$error":"#N/A"}},{"$f":"INDEX(données!AB576:AF576,individus!$D$1)","v":{"$error":"#N/A"}},{"$error":"#N/A"}]
[null,{"$f":"données!B577","v":"li 574"},{"$f":"INDEX(données!W577:AA577,individus!$C$1)","v":{"$error":"#N/A"}},{"$f":"INDEX(données!W577:AA577,individus!$D$1)","v":{"$error":"#N/A"}},{"$f":"INDEX(données!AB577:AF577,individus!$C$1)","v":{"$error":"#N/A"}},{"$f":"INDEX(données!AB577:AF577,individus!$D$1)","v":{"$error":"#N/A"}},{"$error":"#N/A"}]
[null,{"$f":"données!B578","v":"li 575"},{"$f":"INDEX(données!W578:AA578,individus!$C$1)","v":{"$error":"#N/A"}},{"$f":"INDEX(données!W578:AA578,individus!$D$1)","v":{"$error":"#N/A"}},{"$f":"INDEX(données!AB578:AF578,individus!$C$1)","v":{"$error":"#N/A"}},{"$f":"INDEX(données!AB578:AF578,individus!$D$1)","v":{"$error":"#N/A"}},{"$error":"#N/A"}]
[null,{"$f":"données!B579","v":"li 576"},{"$f":"INDEX(données!W579:AA579,individus!$C$1)","v":{"$error":"#N/A"}},{"$f":"INDEX(données!W579:AA579,individus!$D$1)","v":{"$error":"#N/A"}},{"$f":"INDEX(données!AB579:AF579,individus!$C$1)","v":{"$error":"#N/A"}},{"$f":"INDEX(données!AB579:AF579,individus!$D$1)","v":{"$error":"#N/A"}},{"$error":"#N/A"}]
[null,{"$f":"données!B580","v":"li 577"},{"$f":"INDEX(données!W580:AA580,individus!$C$1)","v":{"$error":"#N/A"}},{"$f":"INDEX(données!W580:AA580,individus!$D$1)","v":{"$error":"#N/A"}},{"$f":"INDEX(données!AB580:AF580,individus!$C$1)","v":{"$error":"#N/A"}},{"$f":"INDEX(données!AB580:AF580,individus!$D$1)","v":{"$error":"#N/A"}},{"$error":"#N/A"}]
[null,{"$f":"données!B581","v":"li 578"},{"$f":"INDEX(données!W581:AA581,individus!$C$1)","v":{"$error":"#N/A"}},{"$f":"INDEX(données!W581:AA581,individus!$D$1)","v":{"$error":"#N/A"}},{"$f":"INDEX(données!AB581:AF581,individus!$C$1)","v":{"$error":"#N/A"}},{"$f":"INDEX(données!AB581:AF581,individus!$D$1)","v":{"$error":"#N/A"}},{"$f":"E581+F581","v":{"$error":"#N/A"}}]
[null,{"$f":"données!B582","v":"li 579"},{"$f":"INDEX(données!W582:AA582,individus!$C$1)","v":{"$error":"#N/A"}},{"$f":"INDEX(données!W582:AA582,individus!$D$1)","v":{"$error":"#N/A"}},{"$f":"INDEX(données!AB582:AF582,individus!$C$1)","v":{"$error":"#N/A"}},{"$f":"INDEX(données!AB582:AF582,individus!$D$1)","v":{"$error":"#N/A"}},{"$error":"#N/A"}]
[null,{"$f":"données!B583","v":"li 580"},{"$f":"INDEX(données!W583:AA583,individus!$C$1)","v":{"$error":"#N/A"}},{"$f":"INDEX(données!W583:AA583,individus!$D$1)","v":{"$error":"#N/A"}},{"$f":"INDEX(données!AB583:AF583,individus!$C$1)","v":{"$error":"#N/A"}},{"$f":"INDEX(données!AB583:AF583,individus!$D$1)","v":{"$error":"#N/A"}},{"$error":"#N/A"}]
[null,{"$f":"données!B584","v":"li 581"},{"$f":"INDEX(données!W584:AA584,individus!$C$1)","v":{"$error":"#N/A"}},{"$f":"INDEX(données!W584:AA584,individus!$D$1)","v":{"$error":"#N/A"}},{"$f":"INDEX(données!AB584:AF584,individus!$C$1)","v":{"$error":"#N/A"}},{"$f":"INDEX(données!AB584:AF584,individus!$D$1)","v":{"$error":"#N/A"}},{"$error":"#N/A"}]
[null,{"$f":"données!B585","v":"li 582"},{"$f":"INDEX(données!W585:AA585,individus!$C$1)","v":{"$error":"#N/A"}},{"$f":"INDEX(données!W585:AA585,individus!$D$1)","v":{"$error":"#N/A"}},{"$f":"INDEX(données!AB585:AF585,individus!$C$1)","v":{"$error":"#N/A"}},{"$f":"INDEX(données!AB585:AF585,individus!$D$1)","v":{"$error":"#N/A"}},{"$error":"#N/A"}]
[null,{"$f":"données!B586","v":"li 583"},{"$f":"INDEX(données!W586:AA586,individus!$C$1)","v":{"$error":"#N/A"}},{"$f":"INDEX(données!W586:AA586,individus!$D$1)","v":{"$error":"#N/A"}},{"$f":"INDEX(données!AB586:AF586,individus!$C$1)","v":{"$error":"#N/A"}},{"$f":"INDEX(données!AB586:AF586,individus!$D$1)","v":{"$error":"#N/A"}},{"$error":"#N/A"}]
[null,{"$f":"données!B587","v":"li 584"},{"$f":"INDEX(données!W587:AA587,individus!$C$1)","v":{"$error":"#N/A"}},{"$f":"INDEX(données!W587:AA587,individus!$D$1)","v":{"$error":"#N/A"}},{"$f":"INDEX(données!AB587:AF587,individus!$C$1)","v":{"$error":"#N/A"}},{"$f":"INDEX(données!AB587:AF587,individus!$D$1)","v":{"$error":"#N/A"}},{"$error":"#N/A"}]
[null,{"$f":"données!B588","v":"li 585"},{"$f":"INDEX(données!W588:AA588,individus!$C$1)","v":{"$error":"#N/A"}},{"$f":"INDEX(données!W588:AA588,individus!$D$1)","v":{"$error":"#N/A"}},{"$f":"INDEX(données!AB588:AF588,individus!$C$1)","v":{"$error":"#N/A"}},{"$f":"INDEX(données!AB588:AF588,individus!$D$1)","v":{"$error":"#N/A"}},{"$error":"#N/A"}]
[null,{"$f":"données!B589","v":"li 586"},{"$f":"INDEX(données!W589:AA589,individus!$C$1)","v":{"$error":"#N/A"}},{"$f":"INDEX(données!W589:AA589,individus!$D$1)","v":{"$error":"#N/A"}},{"$f":"INDEX(données!AB589:AF589,individus!$C$1)","v":{"$error":"#N/A"}},{"$f":"INDEX(données!AB589:AF589,individus!$D$1)","v":{"$error":"#N/A"}},{"$error":"#N/A"}]
[null,{"$f":"données!B590","v":"li 587"},{"$f":"INDEX(données!W590:AA590,individus!$C$1)","v":{"$error":"#N/A"}},{"$f":"INDEX(données!W590:AA590,individus!$D$1)","v":{"$error":"#N/A"}},{"$f":"INDEX(données!AB590:AF590,individus!$C$1)","v":{"$error":"#N/A"}},{"$f":"INDEX(données!AB590:AF590,individus!$D$1)","v":{"$error":"#N/A"}},{"$error":"#N/A"}]
[null,{"$f":"données!B591","v":"li 588"},{"$f":"INDEX(données!W591:AA591,individus!$C$1)","v":{"$error":"#N/A"}},{"$f":"INDEX(données!W591:AA591,individus!$D$1)","v":{"$error":"#N/A"}},{"$f":"INDEX(données!AB591:AF591,individus!$C$1)","v":{"$error":"#N/A"}},{"$f":"INDEX(données!AB591:AF591,individus!$D$1)","v":{"$error":"#N/A"}},{"$error":"#N/A"}]
[null,{"$f":"données!B592","v":"li 589"},{"$f":"INDEX(données!W592:AA592,individus!$C$1)","v":{"$error":"#N/A"}},{"$f":"INDEX(données!W592:AA592,individus!$D$1)","v":{"$error":"#N/A"}},{"$f":"INDEX(données!AB592:AF592,individus!$C$1)","v":{"$error":"#N/A"}},{"$f":"INDEX(données!AB592:AF592,individus!$D$1)","v":{"$error":"#N/A"}},{"$error":"#N/A"}]
[null,{"$f":"données!B593","v":"li 590"},{"$f":"INDEX(données!W593:AA593,individus!$C$1)","v":{"$error":"#N/A"}},{"$f":"INDEX(données!W593:AA593,individus!$D$1)","v":{"$error":"#N/A"}},{"$f":"INDEX(données!AB593:AF593,individus!$C$1)","v":{"$error":"#N/A"}},{"$f":"INDEX(données!AB593:AF593,individus!$D$1)","v":{"$error":"#N/A"}},{"$error":"#N/A"}]
[null,{"$f":"données!B594","v":"li 591"},{"$f":"INDEX(données!W594:AA594,individus!$C$1)","v":{"$error":"#N/A"}},{"$f":"INDEX(données!W594:AA594,individus!$D$1)","v":{"$error":"#N/A"}},{"$f":"INDEX(données!AB594:AF594,individus!$C$1)","v":{"$error":"#N/A"}},{"$f":"INDEX(données!AB594:AF594,individus!$D$1)","v":{"$error":"#N/A"}},{"$error":"#N/A"}]
[null,{"$f":"données!B595","v":"li 592"},{"$f":"INDEX(données!W595:AA595,individus!$C$1)","v":{"$error":"#N/A"}},{"$f":"INDEX(données!W595:AA595,individus!$D$1)","v":{"$error":"#N/A"}},{"$f":"INDEX(données!AB595:AF595,individus!$C$1)","v":{"$error":"#N/A"}},{"$f":"INDEX(données!AB595:AF595,individus!$D$1)","v":{"$error":"#N/A"}},{"$error":"#N/A"}]
[null,{"$f":"données!B596","v":"li 593"},{"$f":"INDEX(données!W596:AA596,individus!$C$1)","v":{"$error":"#N/A"}},{"$f":"INDEX(données!W596:AA596,individus!$D$1)","v":{"$error":"#N/A"}},{"$f":"INDEX(données!AB596:AF596,individus!$C$1)","v":{"$error":"#N/A"}},{"$f":"INDEX(données!AB596:AF596,individus!$D$1)","v":{"$error":"#N/A"}},{"$error":"#N/A"}]
[null,{"$f":"données!B597","v":"li 594"},{"$f":"INDEX(données!W597:AA597,individus!$C$1)","v":{"$error":"#N/A"}},{"$f":"INDEX(données!W597:AA597,individus!$D$1)","v":{"$error":"#N/A"}},{"$f":"INDEX(données!AB597:AF597,individus!$C$1)","v":{"$error":"#N/A"}},{"$f":"INDEX(données!AB597:AF597,individus!$D$1)","v":{"$error":"#N/A"}},{"$error":"#N/A"}]
[null,{"$f":"données!B598","v":"li 595"},{"$f":"INDEX(données!W598:AA598,individus!$C$1)","v":{"$error":"#N/A"}},{"$f":"INDEX(données!W598:AA598,individus!$D$1)","v":{"$error":"#N/A"}},{"$f":"INDEX(données!AB598:AF598,individus!$C$1)","v":{"$error":"#N/A"}},{"$f":"INDEX(données!AB598:AF598,individus!$D$1)","v":{"$error":"#N/A"}},{"$error":"#N/A"}]
[null,{"$f":"données!B599","v":"li 596"},{"$f":"INDEX(données!W599:AA599,individus!$C$1)","v":{"$error":"#N/A"}},{"$f":"INDEX(données!W599:AA599,individus!$D$1)","v":{"$error":"#N/A"}},{"$f":"INDEX(données!AB599:AF599,individus!$C$1)","v":{"$error":"#N/A"}},{"$f":"INDEX(données!AB599:AF599,individus!$D$1)","v":{"$error":"#N/A"}},{"$error":"#N/A"}]
[null,{"$f":"données!B600","v":"li 597"},{"$f":"INDEX(données!W600:AA600,individus!$C$1)","v":{"$error":"#N/A"}},{"$f":"INDEX(données!W600:AA600,individus!$D$1)","v":{"$error":"#N/A"}},{"$f":"INDEX(données!AB600:AF600,individus!$C$1)","v":{"$error":"#N/A"}},{"$f":"INDEX(données!AB600:AF600,individus!$D$1)","v":{"$error":"#N/A"}},{"$error":"#N/A"}]
[null,{"$f":"données!B601","v":"li 598"},{"$f":"INDEX(données!W601:AA601,individus!$C$1)","v":{"$error":"#N/A"}},{"$f":"INDEX(données!W601:AA601,individus!$D$1)","v":{"$error":"#N/A"}},{"$f":"INDEX(données!AB601:AF601,individus!$C$1)","v":{"$error":"#N/A"}},{"$f":"INDEX(données!AB601:AF601,individus!$D$1)","v":{"$error":"#N/A"}},{"$error":"#N/A"}]
[null,{"$f":"données!B602","v":"li 599"},{"$f":"INDEX(données!W602:AA602,individus!$C$1)","v":{"$error":"#N/A"}},{"$f":"INDEX(données!W602:AA602,individus!$D$1)","v":{"$error":"#N/A"}},{"$f":"INDEX(données!AB602:AF602,individus!$C$1)","v":{"$error":"#N/A"}},{"$f":"INDEX(données!AB602:AF602,individus!$D$1)","v":{"$error":"#N/A"}},{"$error":"#N/A"}]
[null,{"$f":"données!B603","v":"li 600"},{"$f":"INDEX(données!W603:AA603,individus!$C$1)","v":{"$error":"#N/A"}},{"$f":"INDEX(données!W603:AA603,individus!$D$1)","v":{"$error":"#N/A"}},{"$f":"INDEX(données!AB603:AF603,individus!$C$1)","v":{"$error":"#N/A"}},{"$f":"INDEX(données!AB603:AF603,individus!$D$1)","v":{"$error":"#N/A"}},{"$error":"#N/A"}]
[null,{"$f":"données!B604","v":"li 601"},{"$f":"INDEX(données!W604:AA604,individus!$C$1)","v":{"$error":"#N/A"}},{"$f":"INDEX(données!W604:AA604,individus!$D$1)","v":{"$error":"#N/A"}},{"$f":"INDEX(données!AB604:AF604,individus!$C$1)","v":{"$error":"#N/A"}},{"$f":"INDEX(données!AB604:AF604,individus!$D$1)","v":{"$error":"#N/A"}},{"$error":"#N/A"}]
[null,{"$f":"données!B605","v":"li 602"},{"$f":"INDEX(données!W605:AA605,individus!$C$1)","v":{"$error":"#N/A"}},{"$f":"INDEX(données!W605:AA605,individus!$D$1)","v":{"$error":"#N/A"}},{"$f":"INDEX(données!AB605:AF605,individus!$C$1)","v":{"$error":"#N/A"}},{"$f":"INDEX(données!AB605:AF605,individus!$D$1)","v":{"$error":"#N/A"}},{"$error":"#N/A"}]
[null,{"$f":"données!B606","v":"li 603"},{"$f":"INDEX(données!W606:AA606,individus!$C$1)","v":{"$error":"#N/A"}},{"$f":"INDEX(données!W606:AA606,individus!$D$1)","v":{"$error":"#N/A"}},{"$f":"INDEX(données!AB606:AF606,individus!$C$1)","v":{"$error":"#N/A"}},{"$f":"INDEX(données!AB606:AF606,individus!$D$1)","v":{"$error":"#N/A"}},{"$error":"#N/A"}]
[null,{"$f":"données!B607","v":"li 604"},{"$f":"INDEX(données!W607:AA607,individus!$C$1)","v":{"$error":"#N/A"}},{"$f":"INDEX(données!W607:AA607,individus!$D$1)","v":{"$error":"#N/A"}},{"$f":"INDEX(données!AB607:AF607,individus!$C$1)","v":{"$error":"#N/A"}},{"$f":"INDEX(données!AB607:AF607,individus!$D$1)","v":{"$error":"#N/A"}},{"$error":"#N/A"}]
[null,{"$f":"données!B608","v":"li 605"},{"$f":"INDEX(données!W608:AA608,individus!$C$1)","v":{"$error":"#N/A"}},{"$f":"INDEX(données!W608:AA608,individus!$D$1)","v":{"$error":"#N/A"}},{"$f":"INDEX(données!AB608:AF608,individus!$C$1)","v":{"$error":"#N/A"}},{"$f":"INDEX(données!AB608:AF608,individus!$D$1)","v":{"$error":"#N/A"}},{"$error":"#N/A"}]
[null,{"$f":"données!B609","v":"li 606"},{"$f":"INDEX(données!W609:AA609,individus!$C$1)","v":{"$error":"#N/A"}},{"$f":"INDEX(données!W609:AA609,individus!$D$1)","v":{"$error":"#N/A"}},{"$f":"INDEX(données!AB609:AF609,individus!$C$1)","v":{"$error":"#N/A"}},{"$f":"INDEX(données!AB609:AF609,individus!$D$1)","v":{"$error":"#N/A"}},{"$error":"#N/A"}]
[null,{"$f":"données!B610","v":"li 607"},{"$f":"INDEX(données!W610:AA610,individus!$C$1)","v":{"$error":"#N/A"}},{"$f":"INDEX(données!W610:AA610,individus!$D$1)","v":{"$error":"#N/A"}},{"$f":"INDEX(données!AB610:AF610,individus!$C$1)","v":{"$error":"#N/A"}},{"$f":"INDEX(données!AB610:AF610,individus!$D$1)","v":{"$error":"#N/A"}},{"$error":"#N/A"}]
[null,{"$f":"données!B611","v":"li 608"},{"$f":"INDEX(données!W611:AA611,individus!$C$1)","v":{"$error":"#N/A"}},{"$f":"INDEX(données!W611:AA611,individus!$D$1)","v":{"$error":"#N/A"}},{"$f":"INDEX(données!AB611:AF611,individus!$C$1)","v":{"$error":"#N/A"}},{"$f":"INDEX(données!AB611:AF611,individus!$D$1)","v":{"$error":"#N/A"}},{"$error":"#N/A"}]
[null,{"$f":"données!B612","v":"li 609"},{"$f":"INDEX(données!W612:AA612,individus!$C$1)","v":{"$error":"#N/A"}},{"$f":"INDEX(données!W612:AA612,individus!$D$1)","v":{"$error":"#N/A"}},{"$f":"INDEX(données!AB612:AF612,individus!$C$1)","v":{"$error":"#N/A"}},{"$f":"INDEX(données!AB612:AF612,individus!$D$1)","v":{"$error":"#N/A"}},{"$error":"#N/A"}]
[null,{"$f":"données!B613","v":"li 610"},{"$f":"INDEX(données!W613:AA613,individus!$C$1)","v":{"$error":"#N/A"}},{"$f":"INDEX(données!W613:AA613,individus!$D$1)","v":{"$error":"#N/A"}},{"$f":"INDEX(données!AB613:AF613,individus!$C$1)","v":{"$error":"#N/A"}},{"$f":"INDEX(données!AB613:AF613,individus!$D$1)","v":{"$error":"#N/A"}},{"$error":"#N/A"}]
[null,{"$f":"données!B614","v":"li 611"},{"$f":"INDEX(données!W614:AA614,individus!$C$1)","v":{"$error":"#N/A"}},{"$f":"INDEX(données!W614:AA614,individus!$D$1)","v":{"$error":"#N/A"}},{"$f":"INDEX(données!AB614:AF614,individus!$C$1)","v":{"$error":"#N/A"}},{"$f":"INDEX(données!AB614:AF614,individus!$D$1)","v":{"$error":"#N/A"}},{"$error":"#N/A"}]
[null,{"$f":"données!B615","v":"li 612"},{"$f":"INDEX(données!W615:AA615,individus!$C$1)","v":{"$error":"#N/A"}},{"$f":"INDEX(données!W615:AA615,individus!$D$1)","v":{"$error":"#N/A"}},{"$f":"INDEX(données!AB615:AF615,individus!$C$1)","v":{"$error":"#N/A"}},{"$f":"INDEX(données!AB615:AF615,individus!$D$1)","v":{"$error":"#N/A"}},{"$error":"#N/A"}]
[null,{"$f":"données!B616","v":"li 613"},{"$f":"INDEX(données!W616:AA616,individus!$C$1)","v":{"$error":"#N/A"}},{"$f":"INDEX(données!W616:AA616,individus!$D$1)","v":{"$error":"#N/A"}},{"$f":"INDEX(données!AB616:AF616,individus!$C$1)","v":{"$error":"#N/A"}},{"$f":"INDEX(données!AB616:AF616,individus!$D$1)","v":{"$error":"#N/A"}},{"$error":"#N/A"}]
[null,{"$f":"données!B617","v":"li 614"},{"$f":"INDEX(données!W617:AA617,individus!$C$1)","v":{"$error":"#N/A"}},{"$f":"INDEX(données!W617:AA617,individus!$D$1)","v":{"$error":"#N/A"}},{"$f":"INDEX(données!AB617:AF617,individus!$C$1)","v":{"$error":"#N/A"}},{"$f":"INDEX(données!AB617:AF617,individus!$D$1)","v":{"$error":"#N/A"}},{"$error":"#N/A"}]
[null,{"$f":"données!B618","v":"li 615"},{"$f":"INDEX(données!W618:AA618,individus!$C$1)","v":{"$error":"#N/A"}},{"$f":"INDEX(données!W618:AA618,individus!$D$1)","v":{"$error":"#N/A"}},{"$f":"INDEX(données!AB618:AF618,individus!$C$1)","v":{"$error":"#N/A"}},{"$f":"INDEX(données!AB618:AF618,individus!$D$1)","v":{"$error":"#N/A"}},{"$error":"#N/A"}]
[null,{"$f":"données!B619","v":"li 616"},{"$f":"INDEX(données!W619:AA619,individus!$C$1)","v":{"$error":"#N/A"}},{"$f":"INDEX(données!W619:AA619,individus!$D$1)","v":{"$error":"#N/A"}},{"$f":"INDEX(données!AB619:AF619,individus!$C$1)","v":{"$error":"#N/A"}},{"$f":"INDEX(données!AB619:AF619,individus!$D$1)","v":{"$error":"#N/A"}},{"$error":"#N/A"}]
[null,{"$f":"données!B620","v":"li 617"},{"$f":"INDEX(données!W620:AA620,individus!$C$1)","v":{"$error":"#N/A"}},{"$f":"INDEX(données!W620:AA620,individus!$D$1)","v":{"$error":"#N/A"}},{"$f":"INDEX(données!AB620:AF620,individus!$C$1)","v":{"$error":"#N/A"}},{"$f":"INDEX(données!AB620:AF620,individus!$D$1)","v":{"$error":"#N/A"}},{"$error":"#N/A"}]
[null,{"$f":"données!B621","v":"li 618"},{"$f":"INDEX(données!W621:AA621,individus!$C$1)","v":{"$error":"#N/A"}},{"$f":"INDEX(données!W621:AA621,individus!$D$1)","v":{"$error":"#N/A"}},{"$f":"INDEX(données!AB621:AF621,individus!$C$1)","v":{"$error":"#N/A"}},{"$f":"INDEX(données!AB621:AF621,individus!$D$1)","v":{"$error":"#N/A"}},{"$error":"#N/A"}]
[null,{"$f":"données!B622","v":"li 619"},{"$f":"INDEX(données!W622:AA622,individus!$C$1)","v":{"$error":"#N/A"}},{"$f":"INDEX(données!W622:AA622,individus!$D$1)","v":{"$error":"#N/A"}},{"$f":"INDEX(données!AB622:AF622,individus!$C$1)","v":{"$error":"#N/A"}},{"$f":"INDEX(données!AB622:AF622,individus!$D$1)","v":{"$error":"#N/A"}},{"$error":"#N/A"}]
[null,{"$f":"données!B623","v":"li 620"},{"$f":"INDEX(données!W623:AA623,individus!$C$1)","v":{"$error":"#N/A"}},{"$f":"INDEX(données!W623:AA623,individus!$D$1)","v":{"$error":"#N/A"}},{"$f":"INDEX(données!AB623:AF623,individus!$C$1)","v":{"$error":"#N/A"}},{"$f":"INDEX(données!AB623:AF623,individus!$D$1)","v":{"$error":"#N/A"}},{"$error":"#N/A"}]
[null,{"$f":"données!B624","v":"li 621"},{"$f":"INDEX(données!W624:AA624,individus!$C$1)","v":{"$error":"#N/A"}},{"$f":"INDEX(données!W624:AA624,individus!$D$1)","v":{"$error":"#N/A"}},{"$f":"INDEX(données!AB624:AF624,individus!$C$1)","v":{"$error":"#N/A"}},{"$f":"INDEX(données!AB624:AF624,individus!$D$1)","v":{"$error":"#N/A"}},{"$error":"#N/A"}]
[null,{"$f":"données!B625","v":"li 622"},{"$f":"INDEX(données!W625:AA625,individus!$C$1)","v":{"$error":"#N/A"}},{"$f":"INDEX(données!W625:AA625,individus!$D$1)","v":{"$error":"#N/A"}},{"$f":"INDEX(données!AB625:AF625,individus!$C$1)","v":{"$error":"#N/A"}},{"$f":"INDEX(données!AB625:AF625,individus!$D$1)","v":{"$error":"#N/A"}},{"$error":"#N/A"}]
[null,{"$f":"données!B626","v":"li 623"},{"$f":"INDEX(données!W626:AA626,individus!$C$1)","v":{"$error":"#N/A"}},{"$f":"INDEX(données!W626:AA626,individus!$D$1)","v":{"$error":"#N/A"}},{"$f":"INDEX(données!AB626:AF626,individus!$C$1)","v":{"$error":"#N/A"}},{"$f":"INDEX(données!AB626:AF626,individus!$D$1)","v":{"$error":"#N/A"}},{"$error":"#N/A"}]
[null,{"$f":"données!B627","v":"li 624"},{"$f":"INDEX(données!W627:AA627,individus!$C$1)","v":{"$error":"#N/A"}},{"$f":"INDEX(données!W627:AA627,individus!$D$1)","v":{"$error":"#N/A"}},{"$f":"INDEX(données!AB627:AF627,individus!$C$1)","v":{"$error":"#N/A"}},{"$f":"INDEX(données!AB627:AF627,individus!$D$1)","v":{"$error":"#N/A"}},{"$error":"#N/A"}]
[null,{"$f":"données!B628","v":"li 625"},{"$f":"INDEX(données!W628:AA628,individus!$C$1)","v":{"$error":"#N/A"}},{"$f":"INDEX(données!W628:AA628,individus!$D$1)","v":{"$error":"#N/A"}},{"$f":"INDEX(données!AB628:AF628,individus!$C$1)","v":{"$error":"#N/A"}},{"$f":"INDEX(données!AB628:AF628,individus!$D$1)","v":{"$error":"#N/A"}},{"$error":"#N/A"}]
[null,{"$f":"données!B629","v":"li 626"},{"$f":"INDEX(données!W629:AA629,individus!$C$1)","v":{"$error":"#N/A"}},{"$f":"INDEX(données!W629:AA629,individus!$D$1)","v":{"$error":"#N/A"}},{"$f":"INDEX(données!AB629:AF629,individus!$C$1)","v":{"$error":"#N/A"}},{"$f":"INDEX(données!AB629:AF629,individus!$D$1)","v":{"$error":"#N/A"}},{"$error":"#N/A"}]
[null,{"$f":"données!B630","v":"li 627"},{"$f":"INDEX(données!W630:AA630,individus!$C$1)","v":{"$error":"#N/A"}},{"$f":"INDEX(données!W630:AA630,individus!$D$1)","v":{"$error":"#N/A"}},{"$f":"INDEX(données!AB630:AF630,individus!$C$1)","v":{"$error":"#N/A"}},{"$f":"INDEX(données!AB630:AF630,individus!$D$1)","v":{"$error":"#N/A"}},{"$error":"#N/A"}]
[null,{"$f":"données!B631","v":"li 628"},{"$f":"INDEX(données!W631:AA631,individus!$C$1)","v":{"$error":"#N/A"}},{"$f":"INDEX(données!W631:AA631,individus!$D$1)","v":{"$error":"#N/A"}},{"$f":"INDEX(données!AB631:AF631,individus!$C$1)","v":{"$error":"#N/A"}},{"$f":"INDEX(données!AB631:AF631,individus!$D$1)","v":{"$error":"#N/A"}},{"$error":"#N/A"}]
[null,{"$f":"données!B632","v":"li 629"},{"$f":"INDEX(données!W632:AA632,individus!$C$1)","v":{"$error":"#N/A"}},{"$f":"INDEX(données!W632:AA632,individus!$D$1)","v":{"$error":"#N/A"}},{"$f":"INDEX(données!AB632:AF632,individus!$C$1)","v":{"$error":"#N/A"}},{"$f":"INDEX(données!AB632:AF632,individus!$D$1)","v":{"$error":"#N/A"}},{"$error":"#N/A"}]
[null,{"$f":"données!B633","v":"li 630"},{"$f":"INDEX(données!W633:AA633,individus!$C$1)","v":{"$error":"#N/A"}},{"$f":"INDEX(données!W633:AA633,individus!$D$1)","v":{"$error":"#N/A"}},{"$f":"INDEX(données!AB633:AF633,individus!$C$1)","v":{"$error":"#N/A"}},{"$f":"INDEX(données!AB633:AF633,individus!$D$1)","v":{"$error":"#N/A"}},{"$error":"#N/A"}]
[null,{"$f":"données!B634","v":"li 631"},{"$f":"INDEX(données!W634:AA634,individus!$C$1)","v":{"$error":"#N/A"}},{"$f":"INDEX(données!W634:AA634,individus!$D$1)","v":{"$error":"#N/A"}},{"$f":"INDEX(données!AB634:AF634,individus!$C$1)","v":{"$error":"#N/A"}},{"$f":"INDEX(données!AB634:AF634,individus!$D$1)","v":{"$error":"#N/A"}},{"$error":"#N/A"}]
[null,{"$f":"données!B635","v":"li 632"},{"$f":"INDEX(données!W635:AA635,individus!$C$1)","v":{"$error":"#N/A"}},{"$f":"INDEX(données!W635:AA635,individus!$D$1)","v":{"$error":"#N/A"}},{"$f":"INDEX(données!AB635:AF635,individus!$C$1)","v":{"$error":"#N/A"}},{"$f":"INDEX(données!AB635:AF635,individus!$D$1)","v":{"$error":"#N/A"}},{"$error":"#N/A"}]
[null,{"$f":"données!B636","v":"li 633"},{"$f":"INDEX(données!W636:AA636,individus!$C$1)","v":{"$error":"#N/A"}},{"$f":"INDEX(données!W636:AA636,individus!$D$1)","v":{"$error":"#N/A"}},{"$f":"INDEX(données!AB636:AF636,individus!$C$1)","v":{"$error":"#N/A"}},{"$f":"INDEX(données!AB636:AF636,individus!$D$1)","v":{"$error":"#N/A"}},{"$error":"#N/A"}]
[null,{"$f":"données!B637","v":"li 634"},{"$f":"INDEX(données!W637:AA637,individus!$C$1)","v":{"$error":"#N/A"}},{"$f":"INDEX(données!W637:AA637,individus!$D$1)","v":{"$error":"#N/A"}},{"$f":"INDEX(données!AB637:AF637,individus!$C$1)","v":{"$error":"#N/A"}},{"$f":"INDEX(données!AB637:AF637,individus!$D$1)","v":{"$error":"#N/A"}},{"$error":"#N/A"}]
[null,{"$f":"données!B638","v":"li 635"},{"$f":"INDEX(données!W638:AA638,individus!$C$1)","v":{"$error":"#N/A"}},{"$f":"INDEX(données!W638:AA638,individus!$D$1)","v":{"$error":"#N/A"}},{"$f":"INDEX(données!AB638:AF638,individus!$C$1)","v":{"$error":"#N/A"}},{"$f":"INDEX(données!AB638:AF638,individus!$D$1)","v":{"$error":"#N/A"}},{"$error":"#N/A"}]
[null,{"$f":"données!B639","v":"li 636"},{"$f":"INDEX(données!W639:AA639,individus!$C$1)","v":{"$error":"#N/A"}},{"$f":"INDEX(données!W639:AA639,individus!$D$1)","v":{"$error":"#N/A"}},{"$f":"INDEX(données!AB639:AF639,individus!$C$1)","v":{"$error":"#N/A"}},{"$f":"INDEX(données!AB639:AF639,individus!$D$1)","v":{"$error":"#N/A"}},{"$error":"#N/A"}]
[null,{"$f":"données!B640","v":"li 637"},{"$f":"INDEX(données!W640:AA640,individus!$C$1)","v":{"$error":"#N/A"}},{"$f":"INDEX(données!W640:AA640,individus!$D$1)","v":{"$error":"#N/A"}},{"$f":"INDEX(données!AB640:AF640,individus!$C$1)","v":{"$error":"#N/A"}},{"$f":"INDEX(données!AB640:AF640,individus!$D$1)","v":{"$error":"#N/A"}},{"$error":"#N/A"}]
[null,{"$f":"données!B641","v":"li 638"},{"$f":"INDEX(données!W641:AA641,individus!$C$1)","v":{"$error":"#N/A"}},{"$f":"INDEX(données!W641:AA641,individus!$D$1)","v":{"$error":"#N/A"}},{"$f":"INDEX(données!AB641:AF641,individus!$C$1)","v":{"$error":"#N/A"}},{"$f":"INDEX(données!AB641:AF641,individus!$D$1)","v":{"$error":"#N/A"}},{"$error":"#N/A"}]
[null,{"$f":"données!B642","v":"li 639"},{"$f":"INDEX(données!W642:AA642,individus!$C$1)","v":{"$error":"#N/A"}},{"$f":"INDEX(données!W642:AA642,individus!$D$1)","v":{"$error":"#N/A"}},{"$f":"INDEX(données!AB642:AF642,individus!$C$1)","v":{"$error":"#N/A"}},{"$f":"INDEX(données!AB642:AF642,individus!$D$1)","v":{"$error":"#N/A"}},{"$error":"#N/A"}]
[null,{"$f":"données!B643","v":"li 640"},{"$f":"INDEX(données!W643:AA643,individus!$C$1)","v":{"$error":"#N/A"}},{"$f":"INDEX(données!W643:AA643,individus!$D$1)","v":{"$error":"#N/A"}},{"$f":"INDEX(données!AB643:AF643,individus!$C$1)","v":{"$error":"#N/A"}},{"$f":"INDEX(données!AB643:AF643,individus!$D$1)","v":{"$error":"#N/A"}},{"$error":"#N/A"}]
[null,{"$f":"données!B644","v":"li 641"},{"$f":"INDEX(données!W644:AA644,individus!$C$1)","v":{"$error":"#N/A"}},{"$f":"INDEX(données!W644:AA644,individus!$D$1)","v":{"$error":"#N/A"}},{"$f":"INDEX(données!AB644:AF644,individus!$C$1)","v":{"$error":"#N/A"}},{"$f":"INDEX(données!AB644:AF644,individus!$D$1)","v":{"$error":"#N/A"}},{"$error":"#N/A"}]
[null,{"$f":"données!B645","v":"li 642"},{"$f":"INDEX(données!W645:AA645,individus!$C$1)","v":{"$error":"#N/A"}},{"$f":"INDEX(données!W645:AA645,individus!$D$1)","v":{"$error":"#N/A"}},{"$f":"INDEX(données!AB645:AF645,individus!$C$1)","v":{"$error":"#N/A"}},{"$f":"INDEX(données!AB645:AF645,individus!$D$1)","v":{"$error":"#N/A"}},{"$f":"E645+F645","v":{"$error":"#N/A"}}]
[null,{"$f":"données!B646","v":"li 643"},{"$f":"INDEX(données!W646:AA646,individus!$C$1)","v":{"$error":"#N/A"}},{"$f":"INDEX(données!W646:AA646,individus!$D$1)","v":{"$error":"#N/A"}},{"$f":"INDEX(données!AB646:AF646,individus!$C$1)","v":{"$error":"#N/A"}},{"$f":"INDEX(données!AB646:AF646,individus!$D$1)","v":{"$error":"#N/A"}},{"$error":"#N/A"}]
[null,{"$f":"données!B647","v":"li 644"},{"$f":"INDEX(données!W647:AA647,individus!$C$1)","v":{"$error":"#N/A"}},{"$f":"INDEX(données!W647:AA647,individus!$D$1)","v":{"$error":"#N/A"}},{"$f":"INDEX(données!AB647:AF647,individus!$C$1)","v":{"$error":"#N/A"}},{"$f":"INDEX(données!AB647:AF647,individus!$D$1)","v":{"$error":"#N/A"}},{"$error":"#N/A"}]
[null,{"$f":"données!B648","v":"li 645"},{"$f":"INDEX(données!W648:AA648,individus!$C$1)","v":{"$error":"#N/A"}},{"$f":"INDEX(données!W648:AA648,individus!$D$1)","v":{"$error":"#N/A"}},{"$f":"INDEX(données!AB648:AF648,individus!$C$1)","v":{"$error":"#N/A"}},{"$f":"INDEX(données!AB648:AF648,individus!$D$1)","v":{"$error":"#N/A"}},{"$error":"#N/A"}]
[null,{"$f":"données!B649","v":"li 646"},{"$f":"INDEX(données!W649:AA649,individus!$C$1)","v":{"$error":"#N/A"}},{"$f":"INDEX(données!W649:AA649,individus!$D$1)","v":{"$error":"#N/A"}},{"$f":"INDEX(données!AB649:AF649,individus!$C$1)","v":{"$error":"#N/A"}},{"$f":"INDEX(données!AB649:AF649,individus!$D$1)","v":{"$error":"#N/A"}},{"$error":"#N/A"}]
[null,{"$f":"données!B650","v":"li 647"},{"$f":"INDEX(données!W650:AA650,individus!$C$1)","v":{"$error":"#N/A"}},{"$f":"INDEX(données!W650:AA650,individus!$D$1)","v":{"$error":"#N/A"}},{"$f":"INDEX(données!AB650:AF650,individus!$C$1)","v":{"$error":"#N/A"}},{"$f":"INDEX(données!AB650:AF650,individus!$D$1)","v":{"$error":"#N/A"}},{"$error":"#N/A"}]
[null,{"$f":"données!B651","v":"li 648"},{"$f":"INDEX(données!W651:AA651,individus!$C$1)","v":{"$error":"#N/A"}},{"$f":"INDEX(données!W651:AA651,individus!$D$1)","v":{"$error":"#N/A"}},{"$f":"INDEX(données!AB651:AF651,individus!$C$1)","v":{"$error":"#N/A"}},{"$f":"INDEX(données!AB651:AF651,individus!$D$1)","v":{"$error":"#N/A"}},{"$error":"#N/A"}]
[null,{"$f":"données!B652","v":"li 649"},{"$f":"INDEX(données!W652:AA652,individus!$C$1)","v":{"$error":"#N/A"}},{"$f":"INDEX(données!W652:AA652,individus!$D$1)","v":{"$error":"#N/A"}},{"$f":"INDEX(données!AB652:AF652,individus!$C$1)","v":{"$error":"#N/A"}},{"$f":"INDEX(données!AB652:AF652,individus!$D$1)","v":{"$error":"#N/A"}},{"$error":"#N/A"}]
[null,{"$f":"données!B653","v":"li 650"},{"$f":"INDEX(données!W653:AA653,individus!$C$1)","v":{"$error":"#N/A"}},{"$f":"INDEX(données!W653:AA653,individus!$D$1)","v":{"$error":"#N/A"}},{"$f":"INDEX(données!AB653:AF653,individus!$C$1)","v":{"$error":"#N/A"}},{"$f":"INDEX(données!AB653:AF653,individus!$D$1)","v":{"$error":"#N/A"}},{"$error":"#N/A"}]
[null,{"$f":"données!B654","v":"li 651"},{"$f":"INDEX(données!W654:AA654,individus!$C$1)","v":{"$error":"#N/A"}},{"$f":"INDEX(données!W654:AA654,individus!$D$1)","v":{"$error":"#N/A"}},{"$f":"INDEX(données!AB654:AF654,individus!$C$1)","v":{"$error":"#N/A"}},{"$f":"INDEX(données!AB654:AF654,individus!$D$1)","v":{"$error":"#N/A"}},{"$error":"#N/A"}]
[null,{"$f":"données!B655","v":"li 652"},{"$f":"INDEX(données!W655:AA655,individus!$C$1)","v":{"$error":"#N/A"}},{"$f":"INDEX(données!W655:AA655,individus!$D$1)","v":{"$error":"#N/A"}},{"$f":"INDEX(données!AB655:AF655,individus!$C$1)","v":{"$error":"#N/A"}},{"$f":"INDEX(données!AB655:AF655,individus!$D$1)","v":{"$error":"#N/A"}},{"$error":"#N/A"}]
[null,{"$f":"données!B656","v":"li 653"},{"$f":"INDEX(données!W656:AA656,individus!$C$1)","v":{"$error":"#N/A"}},{"$f":"INDEX(données!W656:AA656,individus!$D$1)","v":{"$error":"#N/A"}},{"$f":"INDEX(données!AB656:AF656,individus!$C$1)","v":{"$error":"#N/A"}},{"$f":"INDEX(données!AB656:AF656,individus!$D$1)","v":{"$error":"#N/A"}},{"$error":"#N/A"}]
[null,{"$f":"données!B657","v":"li 654"},{"$f":"INDEX(données!W657:AA657,individus!$C$1)","v":{"$error":"#N/A"}},{"$f":"INDEX(données!W657:AA657,individus!$D$1)","v":{"$error":"#N/A"}},{"$f":"INDEX(données!AB657:AF657,individus!$C$1)","v":{"$error":"#N/A"}},{"$f":"INDEX(données!AB657:AF657,individus!$D$1)","v":{"$error":"#N/A"}},{"$error":"#N/A"}]
[null,{"$f":"données!B658","v":"li 655"},{"$f":"INDEX(données!W658:AA658,individus!$C$1)","v":{"$error":"#N/A"}},{"$f":"INDEX(données!W658:AA658,individus!$D$1)","v":{"$error":"#N/A"}},{"$f":"INDEX(données!AB658:AF658,individus!$C$1)","v":{"$error":"#N/A"}},{"$f":"INDEX(données!AB658:AF658,individus!$D$1)","v":{"$error":"#N/A"}},{"$error":"#N/A"}]
[null,{"$f":"données!B659","v":"li 656"},{"$f":"INDEX(données!W659:AA659,individus!$C$1)","v":{"$error":"#N/A"}},{"$f":"INDEX(données!W659:AA659,individus!$D$1)","v":{"$error":"#N/A"}},{"$f":"INDEX(données!AB659:AF659,individus!$C$1)","v":{"$error":"#N/A"}},{"$f":"INDEX(données!AB659:AF659,individus!$D$1)","v":{"$error":"#N/A"}},{"$error":"#N/A"}]
[null,{"$f":"données!B660","v":"li 657"},{"$f":"INDEX(données!W660:AA660,individus!$C$1)","v":{"$error":"#N/A"}},{"$f":"INDEX(données!W660:AA660,individus!$D$1)","v":{"$error":"#N/A"}},{"$f":"INDEX(données!AB660:AF660,individus!$C$1)","v":{"$error":"#N/A"}},{"$f":"INDEX(données!AB660:AF660,individus!$D$1)","v":{"$error":"#N/A"}},{"$error":"#N/A"}]
[null,{"$f":"données!B661","v":"li 658"},{"$f":"INDEX(données!W661:AA661,individus!$C$1)","v":{"$error":"#N/A"}},{"$f":"INDEX(données!W661:AA661,individus!$D$1)","v":{"$error":"#N/A"}},{"$f":"INDEX(données!AB661:AF661,individus!$C$1)","v":{"$error":"#N/A"}},{"$f":"INDEX(données!AB661:AF661,individus!$D$1)","v":{"$error":"#N/A"}},{"$error":"#N/A"}]
[null,{"$f":"données!B662","v":"li 659"},{"$f":"INDEX(données!W662:AA662,individus!$C$1)","v":{"$error":"#N/A"}},{"$f":"INDEX(données!W662:AA662,individus!$D$1)","v":{"$error":"#N/A"}},{"$f":"INDEX(données!AB662:AF662,individus!$C$1)","v":{"$error":"#N/A"}},{"$f":"INDEX(données!AB662:AF662,individus!$D$1)","v":{"$error":"#N/A"}},{"$error":"#N/A"}]
[null,{"$f":"données!B663","v":"li 660"},{"$f":"INDEX(données!W663:AA663,individus!$C$1)","v":{"$error":"#N/A"}},{"$f":"INDEX(données!W663:AA663,individus!$D$1)","v":{"$error":"#N/A"}},{"$f":"INDEX(données!AB663:AF663,individus!$C$1)","v":{"$error":"#N/A"}},{"$f":"INDEX(données!AB663:AF663,individus!$D$1)","v":{"$error":"#N/A"}},{"$error":"#N/A"}]
[null,{"$f":"données!B664","v":"li 661"},{"$f":"INDEX(données!W664:AA664,individus!$C$1)","v":{"$error":"#N/A"}},{"$f":"INDEX(données!W664:AA664,individus!$D$1)","v":{"$error":"#N/A"}},{"$f":"INDEX(données!AB664:AF664,individus!$C$1)","v":{"$error":"#N/A"}},{"$f":"INDEX(données!AB664:AF664,individus!$D$1)","v":{"$error":"#N/A"}},{"$error":"#N/A"}]
[null,{"$f":"données!B665","v":"li 662"},{"$f":"INDEX(données!W665:AA665,individus!$C$1)","v":{"$error":"#N/A"}},{"$f":"INDEX(données!W665:AA665,individus!$D$1)","v":{"$error":"#N/A"}},{"$f":"INDEX(données!AB665:AF665,individus!$C$1)","v":{"$error":"#N/A"}},{"$f":"INDEX(données!AB665:AF665,individus!$D$1)","v":{"$error":"#N/A"}},{"$error":"#N/A"}]
[null,{"$f":"données!B666","v":"li 663"},{"$f":"INDEX(données!W666:AA666,individus!$C$1)","v":{"$error":"#N/A"}},{"$f":"INDEX(données!W666:AA666,individus!$D$1)","v":{"$error":"#N/A"}},{"$f":"INDEX(données!AB666:AF666,individus!$C$1)","v":{"$error":"#N/A"}},{"$f":"INDEX(données!AB666:AF666,individus!$D$1)","v":{"$error":"#N/A"}},{"$error":"#N/A"}]
[null,{"$f":"données!B667","v":"li 664"},{"$f":"INDEX(données!W667:AA667,individus!$C$1)","v":{"$error":"#N/A"}},{"$f":"INDEX(données!W667:AA667,individus!$D$1)","v":{"$error":"#N/A"}},{"$f":"INDEX(données!AB667:AF667,individus!$C$1)","v":{"$error":"#N/A"}},{"$f":"INDEX(données!AB667:AF667,individus!$D$1)","v":{"$error":"#N/A"}},{"$error":"#N/A"}]
[null,{"$f":"données!B668","v":"li 665"},{"$f":"INDEX(données!W668:AA668,individus!$C$1)","v":{"$error":"#N/A"}},{"$f":"INDEX(données!W668:AA668,individus!$D$1)","v":{"$error":"#N/A"}},{"$f":"INDEX(données!AB668:AF668,individus!$C$1)","v":{"$error":"#N/A"}},{"$f":"INDEX(données!AB668:AF668,individus!$D$1)","v":{"$error":"#N/A"}},{"$error":"#N/A"}]
[null,{"$f":"données!B669","v":"li 666"},{"$f":"INDEX(données!W669:AA669,individus!$C$1)","v":{"$error":"#N/A"}},{"$f":"INDEX(données!W669:AA669,individus!$D$1)","v":{"$error":"#N/A"}},{"$f":"INDEX(données!AB669:AF669,individus!$C$1)","v":{"$error":"#N/A"}},{"$f":"INDEX(données!AB669:AF669,individus!$D$1)","v":{"$error":"#N/A"}},{"$error":"#N/A"}]
[null,{"$f":"données!B670","v":"li 667"},{"$f":"INDEX(données!W670:AA670,individus!$C$1)","v":{"$error":"#N/A"}},{"$f":"INDEX(données!W670:AA670,individus!$D$1)","v":{"$error":"#N/A"}},{"$f":"INDEX(données!AB670:AF670,individus!$C$1)","v":{"$error":"#N/A"}},{"$f":"INDEX(données!AB670:AF670,individus!$D$1)","v":{"$error":"#N/A"}},{"$error":"#N/A"}]
[null,{"$f":"données!B671","v":"li 668"},{"$f":"INDEX(données!W671:AA671,individus!$C$1)","v":{"$error":"#N/A"}},{"$f":"INDEX(données!W671:AA671,individus!$D$1)","v":{"$error":"#N/A"}},{"$f":"INDEX(données!AB671:AF671,individus!$C$1)","v":{"$error":"#N/A"}},{"$f":"INDEX(données!AB671:AF671,individus!$D$1)","v":{"$error":"#N/A"}},{"$error":"#N/A"}]
[null,{"$f":"données!B672","v":"li 669"},{"$f":"INDEX(données!W672:AA672,individus!$C$1)","v":{"$error":"#N/A"}},{"$f":"INDEX(données!W672:AA672,individus!$D$1)","v":{"$error":"#N/A"}},{"$f":"INDEX(données!AB672:AF672,individus!$C$1)","v":{"$error":"#N/A"}},{"$f":"INDEX(données!AB672:AF672,individus!$D$1)","v":{"$error":"#N/A"}},{"$error":"#N/A"}]
[null,{"$f":"données!B673","v":"li 670"},{"$f":"INDEX(données!W673:AA673,individus!$C$1)","v":{"$error":"#N/A"}},{"$f":"INDEX(données!W673:AA673,individus!$D$1)","v":{"$error":"#N/A"}},{"$f":"INDEX(données!AB673:AF673,individus!$C$1)","v":{"$error":"#N/A"}},{"$f":"INDEX(données!AB673:AF673,individus!$D$1)","v":{"$error":"#N/A"}},{"$error":"#N/A"}]
[null,{"$f":"données!B674","v":"li 671"},{"$f":"INDEX(données!W674:AA674,individus!$C$1)","v":{"$error":"#N/A"}},{"$f":"INDEX(données!W674:AA674,individus!$D$1)","v":{"$error":"#N/A"}},{"$f":"INDEX(données!AB674:AF674,individus!$C$1)","v":{"$error":"#N/A"}},{"$f":"INDEX(données!AB674:AF674,individus!$D$1)","v":{"$error":"#N/A"}},{"$error":"#N/A"}]
[null,{"$f":"données!B675","v":"li 672"},{"$f":"INDEX(données!W675:AA675,individus!$C$1)","v":{"$error":"#N/A"}},{"$f":"INDEX(données!W675:AA675,individus!$D$1)","v":{"$error":"#N/A"}},{"$f":"INDEX(données!AB675:AF675,individus!$C$1)","v":{"$error":"#N/A"}},{"$f":"INDEX(données!AB675:AF675,individus!$D$1)","v":{"$error":"#N/A"}},{"$error":"#N/A"}]
[null,{"$f":"données!B676","v":"li 673"},{"$f":"INDEX(données!W676:AA676,individus!$C$1)","v":{"$error":"#N/A"}},{"$f":"INDEX(données!W676:AA676,individus!$D$1)","v":{"$error":"#N/A"}},{"$f":"INDEX(données!AB676:AF676,individus!$C$1)","v":{"$error":"#N/A"}},{"$f":"INDEX(données!AB676:AF676,individus!$D$1)","v":{"$error":"#N/A"}},{"$error":"#N/A"}]
[null,{"$f":"données!B677","v":"li 674"},{"$f":"INDEX(données!W677:AA677,individus!$C$1)","v":{"$error":"#N/A"}},{"$f":"INDEX(données!W677:AA677,individus!$D$1)","v":{"$error":"#N/A"}},{"$f":"INDEX(données!AB677:AF677,individus!$C$1)","v":{"$error":"#N/A"}},{"$f":"INDEX(données!AB677:AF677,individus!$D$1)","v":{"$error":"#N/A"}},{"$error":"#N/A"}]
[null,{"$f":"données!B678","v":"li 675"},{"$f":"INDEX(données!W678:AA678,individus!$C$1)","v":{"$error":"#N/A"}},{"$f":"INDEX(données!W678:AA678,individus!$D$1)","v":{"$error":"#N/A"}},{"$f":"INDEX(données!AB678:AF678,individus!$C$1)","v":{"$error":"#N/A"}},{"$f":"INDEX(données!AB678:AF678,individus!$D$1)","v":{"$error":"#N/A"}},{"$error":"#N/A"}]
[null,{"$f":"données!B679","v":"li 676"},{"$f":"INDEX(données!W679:AA679,individus!$C$1)","v":{"$error":"#N/A"}},{"$f":"INDEX(données!W679:AA679,individus!$D$1)","v":{"$error":"#N/A"}},{"$f":"INDEX(données!AB679:AF679,individus!$C$1)","v":{"$error":"#N/A"}},{"$f":"INDEX(données!AB679:AF679,individus!$D$1)","v":{"$error":"#N/A"}},{"$error":"#N/A"}]
[null,{"$f":"données!B680","v":"li 677"},{"$f":"INDEX(données!W680:AA680,individus!$C$1)","v":{"$error":"#N/A"}},{"$f":"INDEX(données!W680:AA680,individus!$D$1)","v":{"$error":"#N/A"}},{"$f":"INDEX(données!AB680:AF680,individus!$C$1)","v":{"$error":"#N/A"}},{"$f":"INDEX(données!AB680:AF680,individus!$D$1)","v":{"$error":"#N/A"}},{"$error":"#N/A"}]
[null,{"$f":"données!B681","v":"li 678"},{"$f":"INDEX(données!W681:AA681,individus!$C$1)","v":{"$error":"#N/A"}},{"$f":"INDEX(données!W681:AA681,individus!$D$1)","v":{"$error":"#N/A"}},{"$f":"INDEX(données!AB681:AF681,individus!$C$1)","v":{"$error":"#N/A"}},{"$f":"INDEX(données!AB681:AF681,individus!$D$1)","v":{"$error":"#N/A"}},{"$error":"#N/A"}]
[null,{"$f":"données!B682","v":"li 679"},{"$f":"INDEX(données!W682:AA682,individus!$C$1)","v":{"$error":"#N/A"}},{"$f":"INDEX(données!W682:AA682,individus!$D$1)","v":{"$error":"#N/A"}},{"$f":"INDEX(données!AB682:AF682,individus!$C$1)","v":{"$error":"#N/A"}},{"$f":"INDEX(données!AB682:AF682,individus!$D$1)","v":{"$error":"#N/A"}},{"$error":"#N/A"}]
[null,{"$f":"données!B683","v":"li 680"},{"$f":"INDEX(données!W683:AA683,individus!$C$1)","v":{"$error":"#N/A"}},{"$f":"INDEX(données!W683:AA683,individus!$D$1)","v":{"$error":"#N/A"}},{"$f":"INDEX(données!AB683:AF683,individus!$C$1)","v":{"$error":"#N/A"}},{"$f":"INDEX(données!AB683:AF683,individus!$D$1)","v":{"$error":"#N/A"}},{"$error":"#N/A"}]
[null,{"$f":"données!B684","v":"li 681"},{"$f":"INDEX(données!W684:AA684,individus!$C$1)","v":{"$error":"#N/A"}},{"$f":"INDEX(données!W684:AA684,individus!$D$1)","v":{"$error":"#N/A"}},{"$f":"INDEX(données!AB684:AF684,individus!$C$1)","v":{"$error":"#N/A"}},{"$f":"INDEX(données!AB684:AF684,individus!$D$1)","v":{"$error":"#N/A"}},{"$error":"#N/A"}]
[null,{"$f":"données!B685","v":"li 682"},{"$f":"INDEX(données!W685:AA685,individus!$C$1)","v":{"$error":"#N/A"}},{"$f":"INDEX(données!W685:AA685,individus!$D$1)","v":{"$error":"#N/A"}},{"$f":"INDEX(données!AB685:AF685,individus!$C$1)","v":{"$error":"#N/A"}},{"$f":"INDEX(données!AB685:AF685,individus!$D$1)","v":{"$error":"#N/A"}},{"$error":"#N/A"}]
[null,{"$f":"données!B686","v":"li 683"},{"$f":"INDEX(données!W686:AA686,individus!$C$1)","v":{"$error":"#N/A"}},{"$f":"INDEX(données!W686:AA686,individus!$D$1)","v":{"$error":"#N/A"}},{"$f":"INDEX(données!AB686:AF686,individus!$C$1)","v":{"$error":"#N/A"}},{"$f":"INDEX(données!AB686:AF686,individus!$D$1)","v":{"$error":"#N/A"}},{"$error":"#N/A"}]
[null,{"$f":"données!B687","v":"li 684"},{"$f":"INDEX(données!W687:AA687,individus!$C$1)","v":{"$error":"#N/A"}},{"$f":"INDEX(données!W687:AA687,individus!$D$1)","v":{"$error":"#N/A"}},{"$f":"INDEX(données!AB687:AF687,individus!$C$1)","v":{"$error":"#N/A"}},{"$f":"INDEX(données!AB687:AF687,individus!$D$1)","v":{"$error":"#N/A"}},{"$error":"#N/A"}]
[null,{"$f":"données!B688","v":"li 685"},{"$f":"INDEX(données!W688:AA688,individus!$C$1)","v":{"$error":"#N/A"}},{"$f":"INDEX(données!W688:AA688,individus!$D$1)","v":{"$error":"#N/A"}},{"$f":"INDEX(données!AB688:AF688,individus!$C$1)","v":{"$error":"#N/A"}},{"$f":"INDEX(données!AB688:AF688,individus!$D$1)","v":{"$error":"#N/A"}},{"$error":"#N/A"}]
[null,{"$f":"données!B689","v":"li 686"},{"$f":"INDEX(données!W689:AA689,individus!$C$1)","v":{"$error":"#N/A"}},{"$f":"INDEX(données!W689:AA689,individus!$D$1)","v":{"$error":"#N/A"}},{"$f":"INDEX(données!AB689:AF689,individus!$C$1)","v":{"$error":"#N/A"}},{"$f":"INDEX(données!AB689:AF689,individus!$D$1)","v":{"$error":"#N/A"}},{"$error":"#N/A"}]
[null,{"$f":"données!B690","v":"li 687"},{"$f":"INDEX(données!W690:AA690,individus!$C$1)","v":{"$error":"#N/A"}},{"$f":"INDEX(données!W690:AA690,individus!$D$1)","v":{"$error":"#N/A"}},{"$f":"INDEX(données!AB690:AF690,individus!$C$1)","v":{"$error":"#N/A"}},{"$f":"INDEX(données!AB690:AF690,individus!$D$1)","v":{"$error":"#N/A"}},{"$error":"#N/A"}]
[null,{"$f":"données!B691","v":"li 688"},{"$f":"INDEX(données!W691:AA691,individus!$C$1)","v":{"$error":"#N/A"}},{"$f":"INDEX(données!W691:AA691,individus!$D$1)","v":{"$error":"#N/A"}},{"$f":"INDEX(données!AB691:AF691,individus!$C$1)","v":{"$error":"#N/A"}},{"$f":"INDEX(données!AB691:AF691,individus!$D$1)","v":{"$error":"#N/A"}},{"$error":"#N/A"}]
[null,{"$f":"données!B692","v":"li 689"},{"$f":"INDEX(données!W692:AA692,individus!$C$1)","v":{"$error":"#N/A"}},{"$f":"INDEX(données!W692:AA692,individus!$D$1)","v":{"$error":"#N/A"}},{"$f":"INDEX(données!AB692:AF692,individus!$C$1)","v":{"$error":"#N/A"}},{"$f":"INDEX(données!AB692:AF692,individus!$D$1)","v":{"$error":"#N/A"}},{"$error":"#N/A"}]
[null,{"$f":"données!B693","v":"li 690"},{"$f":"INDEX(données!W693:AA693,individus!$C$1)","v":{"$error":"#N/A"}},{"$f":"INDEX(données!W693:AA693,individus!$D$1)","v":{"$error":"#N/A"}},{"$f":"INDEX(données!AB693:AF693,individus!$C$1)","v":{"$error":"#N/A"}},{"$f":"INDEX(données!AB693:AF693,individus!$D$1)","v":{"$error":"#N/A"}},{"$error":"#N/A"}]
[null,{"$f":"données!B694","v":"li 691"},{"$f":"INDEX(données!W694:AA694,individus!$C$1)","v":{"$error":"#N/A"}},{"$f":"INDEX(données!W694:AA694,individus!$D$1)","v":{"$error":"#N/A"}},{"$f":"INDEX(données!AB694:AF694,individus!$C$1)","v":{"$error":"#N/A"}},{"$f":"INDEX(données!AB694:AF694,individus!$D$1)","v":{"$error":"#N/A"}},{"$error":"#N/A"}]
[null,{"$f":"données!B695","v":"li 692"},{"$f":"INDEX(données!W695:AA695,individus!$C$1)","v":{"$error":"#N/A"}},{"$f":"INDEX(données!W695:AA695,individus!$D$1)","v":{"$error":"#N/A"}},{"$f":"INDEX(données!AB695:AF695,individus!$C$1)","v":{"$error":"#N/A"}},{"$f":"INDEX(données!AB695:AF695,individus!$D$1)","v":{"$error":"#N/A"}},{"$error":"#N/A"}]
[null,{"$f":"données!B696","v":"li 693"},{"$f":"INDEX(données!W696:AA696,individus!$C$1)","v":{"$error":"#N/A"}},{"$f":"INDEX(données!W696:AA696,individus!$D$1)","v":{"$error":"#N/A"}},{"$f":"INDEX(données!AB696:AF696,individus!$C$1)","v":{"$error":"#N/A"}},{"$f":"INDEX(données!AB696:AF696,individus!$D$1)","v":{"$error":"#N/A"}},{"$error":"#N/A"}]
[null,{"$f":"données!B697","v":"li 694"},{"$f":"INDEX(données!W697:AA697,individus!$C$1)","v":{"$error":"#N/A"}},{"$f":"INDEX(données!W697:AA697,individus!$D$1)","v":{"$error":"#N/A"}},{"$f":"INDEX(données!AB697:AF697,individus!$C$1)","v":{"$error":"#N/A"}},{"$f":"INDEX(données!AB697:AF697,individus!$D$1)","v":{"$error":"#N/A"}},{"$error":"#N/A"}]
[null,{"$f":"données!B698","v":"li 695"},{"$f":"INDEX(données!W698:AA698,individus!$C$1)","v":{"$error":"#N/A"}},{"$f":"INDEX(données!W698:AA698,individus!$D$1)","v":{"$error":"#N/A"}},{"$f":"INDEX(données!AB698:AF698,individus!$C$1)","v":{"$error":"#N/A"}},{"$f":"INDEX(données!AB698:AF698,individus!$D$1)","v":{"$error":"#N/A"}},{"$error":"#N/A"}]
[null,{"$f":"données!B699","v":"li 696"},{"$f":"INDEX(données!W699:AA699,individus!$C$1)","v":{"$error":"#N/A"}},{"$f":"INDEX(données!W699:AA699,individus!$D$1)","v":{"$error":"#N/A"}},{"$f":"INDEX(données!AB699:AF699,individus!$C$1)","v":{"$error":"#N/A"}},{"$f":"INDEX(données!AB699:AF699,individus!$D$1)","v":{"$error":"#N/A"}},{"$error":"#N/A"}]
[null,{"$f":"données!B700","v":"li 697"},{"$f":"INDEX(données!W700:AA700,individus!$C$1)","v":{"$error":"#N/A"}},{"$f":"INDEX(données!W700:AA700,individus!$D$1)","v":{"$error":"#N/A"}},{"$f":"INDEX(données!AB700:AF700,individus!$C$1)","v":{"$error":"#N/A"}},{"$f":"INDEX(données!AB700:AF700,individus!$D$1)","v":{"$error":"#N/A"}},{"$error":"#N/A"}]
[null,{"$f":"données!B701","v":"li 698"},{"$f":"INDEX(données!W701:AA701,individus!$C$1)","v":{"$error":"#N/A"}},{"$f":"INDEX(données!W701:AA701,individus!$D$1)","v":{"$error":"#N/A"}},{"$f":"INDEX(données!AB701:AF701,individus!$C$1)","v":{"$error":"#N/A"}},{"$f":"INDEX(données!AB701:AF701,individus!$D$1)","v":{"$error":"#N/A"}},{"$error":"#N/A"}]
[null,{"$f":"données!B702","v":"li 699"},{"$f":"INDEX(données!W702:AA702,individus!$C$1)","v":{"$error":"#N/A"}},{"$f":"INDEX(données!W702:AA702,individus!$D$1)","v":{"$error":"#N/A"}},{"$f":"INDEX(données!AB702:AF702,individus!$C$1)","v":{"$error":"#N/A"}},{"$f":"INDEX(données!AB702:AF702,individus!$D$1)","v":{"$error":"#N/A"}},{"$error":"#N/A"}]
[null,{"$f":"données!B703","v":"li 700"},{"$f":"INDEX(données!W703:AA703,individus!$C$1)","v":{"$error":"#N/A"}},{"$f":"INDEX(données!W703:AA703,individus!$D$1)","v":{"$error":"#N/A"}},{"$f":"INDEX(données!AB703:AF703,individus!$C$1)","v":{"$error":"#N/A"}},{"$f":"INDEX(données!AB703:AF703,individus!$D$1)","v":{"$error":"#N/A"}},{"$error":"#N/A"}]
[null,{"$f":"données!B704","v":"li 701"},{"$f":"INDEX(données!W704:AA704,individus!$C$1)","v":{"$error":"#N/A"}},{"$f":"INDEX(données!W704:AA704,individus!$D$1)","v":{"$error":"#N/A"}},{"$f":"INDEX(données!AB704:AF704,individus!$C$1)","v":{"$error":"#N/A"}},{"$f":"INDEX(données!AB704:AF704,individus!$D$1)","v":{"$error":"#N/A"}},{"$error":"#N/A"}]
[null,{"$f":"données!B705","v":"li 702"},{"$f":"INDEX(données!W705:AA705,individus!$C$1)","v":{"$error":"#N/A"}},{"$f":"INDEX(données!W705:AA705,individus!$D$1)","v":{"$error":"#N/A"}},{"$f":"INDEX(données!AB705:AF705,individus!$C$1)","v":{"$error":"#N/A"}},{"$f":"INDEX(données!AB705:AF705,individus!$D$1)","v":{"$error":"#N/A"}},{"$error":"#N/A"}]
[null,{"$f":"données!B706","v":"li 703"},{"$f":"INDEX(données!W706:AA706,individus!$C$1)","v":{"$error":"#N/A"}},{"$f":"INDEX(données!W706:AA706,individus!$D$1)","v":{"$error":"#N/A"}},{"$f":"INDEX(données!AB706:AF706,individus!$C$1)","v":{"$error":"#N/A"}},{"$f":"INDEX(données!AB706:AF706,individus!$D$1)","v":{"$error":"#N/A"}},{"$error":"#N/A"}]
[null,{"$f":"données!B707","v":"li 704"},{"$f":"INDEX(données!W707:AA707,individus!$C$1)","v":{"$error":"#N/A"}},{"$f":"INDEX(données!W707:AA707,individus!$D$1)","v":{"$error":"#N/A"}},{"$f":"INDEX(données!AB707:AF707,individus!$C$1)","v":{"$error":"#N/A"}},{"$f":"INDEX(données!AB707:AF707,individus!$D$1)","v":{"$error":"#N/A"}},{"$error":"#N/A"}]
[null,{"$f":"données!B708","v":"li 705"},{"$f":"INDEX(données!W708:AA708,individus!$C$1)","v":{"$error":"#N/A"}},{"$f":"INDEX(données!W708:AA708,individus!$D$1)","v":{"$error":"#N/A"}},{"$f":"INDEX(données!AB708:AF708,individus!$C$1)","v":{"$error":"#N/A"}},{"$f":"INDEX(données!AB708:AF708,individus!$D$1)","v":{"$error":"#N/A"}},{"$error":"#N/A"}]
[null,{"$f":"données!B709","v":"li 706"},{"$f":"INDEX(données!W709:AA709,individus!$C$1)","v":{"$error":"#N/A"}},{"$f":"INDEX(données!W709:AA709,individus!$D$1)","v":{"$error":"#N/A"}},{"$f":"INDEX(données!AB709:AF709,individus!$C$1)","v":{"$error":"#N/A"}},{"$f":"INDEX(données!AB709:AF709,individus!$D$1)","v":{"$error":"#N/A"}},{"$f":"E709+F709","v":{"$error":"#N/A"}}]
[null,{"$f":"données!B710","v":"li 707"},{"$f":"INDEX(données!W710:AA710,individus!$C$1)","v":{"$error":"#N/A"}},{"$f":"INDEX(données!W710:AA710,individus!$D$1)","v":{"$error":"#N/A"}},{"$f":"INDEX(données!AB710:AF710,individus!$C$1)","v":{"$error":"#N/A"}},{"$f":"INDEX(données!AB710:AF710,individus!$D$1)","v":{"$error":"#N/A"}},{"$error":"#N/A"}]
[null,{"$f":"données!B711","v":"li 708"},{"$f":"INDEX(données!W711:AA711,individus!$C$1)","v":{"$error":"#N/A"}},{"$f":"INDEX(données!W711:AA711,individus!$D$1)","v":{"$error":"#N/A"}},{"$f":"INDEX(données!AB711:AF711,individus!$C$1)","v":{"$error":"#N/A"}},{"$f":"INDEX(données!AB711:AF711,individus!$D$1)","v":{"$error":"#N/A"}},{"$error":"#N/A"}]
[null,{"$f":"données!B712","v":"li 709"},{"$f":"INDEX(données!W712:AA712,individus!$C$1)","v":{"$error":"#N/A"}},{"$f":"INDEX(données!W712:AA712,individus!$D$1)","v":{"$error":"#N/A"}},{"$f":"INDEX(données!AB712:AF712,individus!$C$1)","v":{"$error":"#N/A"}},{"$f":"INDEX(données!AB712:AF712,individus!$D$1)","v":{"$error":"#N/A"}},{"$error":"#N/A"}]
[null,{"$f":"données!B713","v":"li 710"},{"$f":"INDEX(données!W713:AA713,individus!$C$1)","v":{"$error":"#N/A"}},{"$f":"INDEX(données!W713:AA713,individus!$D$1)","v":{"$error":"#N/A"}},{"$f":"INDEX(données!AB713:AF713,individus!$C$1)","v":{"$error":"#N/A"}},{"$f":"INDEX(données!AB713:AF713,individus!$D$1)","v":{"$error":"#N/A"}},{"$error":"#N/A"}]
[null,{"$f":"données!B714","v":"li 711"},{"$f":"INDEX(données!W714:AA714,individus!$C$1)","v":{"$error":"#N/A"}},{"$f":"INDEX(données!W714:AA714,individus!$D$1)","v":{"$error":"#N/A"}},{"$f":"INDEX(données!AB714:AF714,individus!$C$1)","v":{"$error":"#N/A"}},{"$f":"INDEX(données!AB714:AF714,individus!$D$1)","v":{"$error":"#N/A"}},{"$error":"#N/A"}]
[null,{"$f":"données!B715","v":"li 712"},{"$f":"INDEX(données!W715:AA715,individus!$C$1)","v":{"$error":"#N/A"}},{"$f":"INDEX(données!W715:AA715,individus!$D$1)","v":{"$error":"#N/A"}},{"$f":"INDEX(données!AB715:AF715,individus!$C$1)","v":{"$error":"#N/A"}},{"$f":"INDEX(données!AB715:AF715,individus!$D$1)","v":{"$error":"#N/A"}},{"$error":"#N/A"}]
[null,{"$f":"données!B716","v":"li 713"},{"$f":"INDEX(données!W716:AA716,individus!$C$1)","v":{"$error":"#N/A"}},{"$f":"INDEX(données!W716:AA716,individus!$D$1)","v":{"$error":"#N/A"}},{"$f":"INDEX(données!AB716:AF716,individus!$C$1)","v":{"$error":"#N/A"}},{"$f":"INDEX(données!AB716:AF716,individus!$D$1)","v":{"$error":"#N/A"}},{"$error":"#N/A"}]
[null,{"$f":"données!B717","v":"li 714"},{"$f":"INDEX(données!W717:AA717,individus!$C$1)","v":{"$error":"#N/A"}},{"$f":"INDEX(données!W717:AA717,individus!$D$1)","v":{"$error":"#N/A"}},{"$f":"INDEX(données!AB717:AF717,individus!$C$1)","v":{"$error":"#N/A"}},{"$f":"INDEX(données!AB717:AF717,individus!$D$1)","v":{"$error":"#N/A"}},{"$error":"#N/A"}]
[null,{"$f":"données!B718","v":"li 715"},{"$f":"INDEX(données!W718:AA718,individus!$C$1)","v":{"$error":"#N/A"}},{"$f":"INDEX(données!W718:AA718,individus!$D$1)","v":{"$error":"#N/A"}},{"$f":"INDEX(données!AB718:AF718,individus!$C$1)","v":{"$error":"#N/A"}},{"$f":"INDEX(données!AB718:AF718,individus!$D$1)","v":{"$error":"#N/A"}},{"$error":"#N/A"}]
[null,{"$f":"données!B719","v":"li 716"},{"$f":"INDEX(données!W719:AA719,individus!$C$1)","v":{"$error":"#N/A"}},{"$f":"INDEX(données!W719:AA719,individus!$D$1)","v":{"$error":"#N/A"}},{"$f":"INDEX(données!AB719:AF719,individus!$C$1)","v":{"$error":"#N/A"}},{"$f":"INDEX(données!AB719:AF719,individus!$D$1)","v":{"$error":"#N/A"}},{"$error":"#N/A"}]
[null,{"$f":"données!B720","v":"li 717"},{"$f":"INDEX(données!W720:AA720,individus!$C$1)","v":{"$error":"#N/A"}},{"$f":"INDEX(données!W720:AA720,individus!$D$1)","v":{"$error":"#N/A"}},{"$f":"INDEX(données!AB720:AF720,individus!$C$1)","v":{"$error":"#N/A"}},{"$f":"INDEX(données!AB720:AF720,individus!$D$1)","v":{"$error":"#N/A"}},{"$error":"#N/A"}]
[null,{"$f":"données!B721","v":"li 718"},{"$f":"INDEX(données!W721:AA721,individus!$C$1)","v":{"$error":"#N/A"}},{"$f":"INDEX(données!W721:AA721,individus!$D$1)","v":{"$error":"#N/A"}},{"$f":"INDEX(données!AB721:AF721,individus!$C$1)","v":{"$error":"#N/A"}},{"$f":"INDEX(données!AB721:AF721,individus!$D$1)","v":{"$error":"#N/A"}},{"$error":"#N/A"}]
[null,{"$f":"données!B722","v":"li 719"},{"$f":"INDEX(données!W722:AA722,individus!$C$1)","v":{"$error":"#N/A"}},{"$f":"INDEX(données!W722:AA722,individus!$D$1)","v":{"$error":"#N/A"}},{"$f":"INDEX(données!AB722:AF722,individus!$C$1)","v":{"$error":"#N/A"}},{"$f":"INDEX(données!AB722:AF722,individus!$D$1)","v":{"$error":"#N/A"}},{"$error":"#N/A"}]
[null,{"$f":"données!B723","v":"li 720"},{"$f":"INDEX(données!W723:AA723,individus!$C$1)","v":{"$error":"#N/A"}},{"$f":"INDEX(données!W723:AA723,individus!$D$1)","v":{"$error":"#N/A"}},{"$f":"INDEX(données!AB723:AF723,individus!$C$1)","v":{"$error":"#N/A"}},{"$f":"INDEX(données!AB723:AF723,individus!$D$1)","v":{"$error":"#N/A"}},{"$error":"#N/A"}]
[null,{"$f":"données!B724","v":"li 721"},{"$f":"INDEX(données!W724:AA724,individus!$C$1)","v":{"$error":"#N/A"}},{"$f":"INDEX(données!W724:AA724,individus!$D$1)","v":{"$error":"#N/A"}},{"$f":"INDEX(données!AB724:AF724,individus!$C$1)","v":{"$error":"#N/A"}},{"$f":"INDEX(données!AB724:AF724,individus!$D$1)","v":{"$error":"#N/A"}},{"$error":"#N/A"}]
[null,{"$f":"données!B725","v":"li 722"},{"$f":"INDEX(données!W725:AA725,individus!$C$1)","v":{"$error":"#N/A"}},{"$f":"INDEX(données!W725:AA725,individus!$D$1)","v":{"$error":"#N/A"}},{"$f":"INDEX(données!AB725:AF725,individus!$C$1)","v":{"$error":"#N/A"}},{"$f":"INDEX(données!AB725:AF725,individus!$D$1)","v":{"$error":"#N/A"}},{"$error":"#N/A"}]
[null,{"$f":"données!B726","v":"li 723"},{"$f":"INDEX(données!W726:AA726,individus!$C$1)","v":{"$error":"#N/A"}},{"$f":"INDEX(données!W726:AA726,individus!$D$1)","v":{"$error":"#N/A"}},{"$f":"INDEX(données!AB726:AF726,individus!$C$1)","v":{"$error":"#N/A"}},{"$f":"INDEX(données!AB726:AF726,individus!$D$1)","v":{"$error":"#N/A"}},{"$error":"#N/A"}]
[null,{"$f":"données!B727","v":"li 724"},{"$f":"INDEX(données!W727:AA727,individus!$C$1)","v":{"$error":"#N/A"}},{"$f":"INDEX(données!W727:AA727,individus!$D$1)","v":{"$error":"#N/A"}},{"$f":"INDEX(données!AB727:AF727,individus!$C$1)","v":{"$error":"#N/A"}},{"$f":"INDEX(données!AB727:AF727,individus!$D$1)","v":{"$error":"#N/A"}},{"$error":"#N/A"}]
[null,{"$f":"données!B728","v":"li 725"},{"$f":"INDEX(données!W728:AA728,individus!$C$1)","v":{"$error":"#N/A"}},{"$f":"INDEX(données!W728:AA728,individus!$D$1)","v":{"$error":"#N/A"}},{"$f":"INDEX(données!AB728:AF728,individus!$C$1)","v":{"$error":"#N/A"}},{"$f":"INDEX(données!AB728:AF728,individus!$D$1)","v":{"$error":"#N/A"}},{"$error":"#N/A"}]
[null,{"$f":"données!B729","v":"li 726"},{"$f":"INDEX(données!W729:AA729,individus!$C$1)","v":{"$error":"#N/A"}},{"$f":"INDEX(données!W729:AA729,individus!$D$1)","v":{"$error":"#N/A"}},{"$f":"INDEX(données!AB729:AF729,individus!$C$1)","v":{"$error":"#N/A"}},{"$f":"INDEX(données!AB729:AF729,individus!$D$1)","v":{"$error":"#N/A"}},{"$error":"#N/A"}]
[null,{"$f":"données!B730","v":"li 727"},{"$f":"INDEX(données!W730:AA730,individus!$C$1)","v":{"$error":"#N/A"}},{"$f":"INDEX(données!W730:AA730,individus!$D$1)","v":{"$error":"#N/A"}},{"$f":"INDEX(données!AB730:AF730,individus!$C$1)","v":{"$error":"#N/A"}},{"$f":"INDEX(données!AB730:AF730,individus!$D$1)","v":{"$error":"#N/A"}},{"$error":"#N/A"}]
[null,{"$f":"données!B731","v":"li 728"},{"$f":"INDEX(données!W731:AA731,individus!$C$1)","v":{"$error":"#N/A"}},{"$f":"INDEX(données!W731:AA731,individus!$D$1)","v":{"$error":"#N/A"}},{"$f":"INDEX(données!AB731:AF731,individus!$C$1)","v":{"$error":"#N/A"}},{"$f":"INDEX(données!AB731:AF731,individus!$D$1)","v":{"$error":"#N/A"}},{"$error":"#N/A"}]
[null,{"$f":"données!B732","v":"li 729"},{"$f":"INDEX(données!W732:AA732,individus!$C$1)","v":{"$error":"#N/A"}},{"$f":"INDEX(données!W732:AA732,individus!$D$1)","v":{"$error":"#N/A"}},{"$f":"INDEX(données!AB732:AF732,individus!$C$1)","v":{"$error":"#N/A"}},{"$f":"INDEX(données!AB732:AF732,individus!$D$1)","v":{"$error":"#N/A"}},{"$error":"#N/A"}]
[null,{"$f":"données!B733","v":"li 730"},{"$f":"INDEX(données!W733:AA733,individus!$C$1)","v":{"$error":"#N/A"}},{"$f":"INDEX(données!W733:AA733,individus!$D$1)","v":{"$error":"#N/A"}},{"$f":"INDEX(données!AB733:AF733,individus!$C$1)","v":{"$error":"#N/A"}},{"$f":"INDEX(données!AB733:AF733,individus!$D$1)","v":{"$error":"#N/A"}},{"$error":"#N/A"}]
[null,{"$f":"données!B734","v":"li 731"},{"$f":"INDEX(données!W734:AA734,individus!$C$1)","v":{"$error":"#N/A"}},{"$f":"INDEX(données!W734:AA734,individus!$D$1)","v":{"$error":"#N/A"}},{"$f":"INDEX(données!AB734:AF734,individus!$C$1)","v":{"$error":"#N/A"}},{"$f":"INDEX(données!AB734:AF734,individus!$D$1)","v":{"$error":"#N/A"}},{"$error":"#N/A"}]
[null,{"$f":"données!B735","v":"li 732"},{"$f":"INDEX(données!W735:AA735,individus!$C$1)","v":{"$error":"#N/A"}},{"$f":"INDEX(données!W735:AA735,individus!$D$1)","v":{"$error":"#N/A"}},{"$f":"INDEX(données!AB735:AF735,individus!$C$1)","v":{"$error":"#N/A"}},{"$f":"INDEX(données!AB735:AF735,individus!$D$1)","v":{"$error":"#N/A"}},{"$error":"#N/A"}]
[null,{"$f":"données!B736","v":"li 733"},{"$f":"INDEX(données!W736:AA736,individus!$C$1)","v":{"$error":"#N/A"}},{"$f":"INDEX(données!W736:AA736,individus!$D$1)","v":{"$error":"#N/A"}},{"$f":"INDEX(données!AB736:AF736,individus!$C$1)","v":{"$error":"#N/A"}},{"$f":"INDEX(données!AB736:AF736,individus!$D$1)","v":{"$error":"#N/A"}},{"$error":"#N/A"}]
[null,{"$f":"données!B737","v":"li 734"},{"$f":"INDEX(données!W737:AA737,individus!$C$1)","v":{"$error":"#N/A"}},{"$f":"INDEX(données!W737:AA737,individus!$D$1)","v":{"$error":"#N/A"}},{"$f":"INDEX(données!AB737:AF737,individus!$C$1)","v":{"$error":"#N/A"}},{"$f":"INDEX(données!AB737:AF737,individus!$D$1)","v":{"$error":"#N/A"}},{"$error":"#N/A"}]
[null,{"$f":"données!B738","v":"li 735"},{"$f":"INDEX(données!W738:AA738,individus!$C$1)","v":{"$error":"#N/A"}},{"$f":"INDEX(données!W738:AA738,individus!$D$1)","v":{"$error":"#N/A"}},{"$f":"INDEX(données!AB738:AF738,individus!$C$1)","v":{"$error":"#N/A"}},{"$f":"INDEX(données!AB738:AF738,individus!$D$1)","v":{"$error":"#N/A"}},{"$error":"#N/A"}]
[null,{"$f":"données!B739","v":"li 736"},{"$f":"INDEX(données!W739:AA739,individus!$C$1)","v":{"$error":"#N/A"}},{"$f":"INDEX(données!W739:AA739,individus!$D$1)","v":{"$error":"#N/A"}},{"$f":"INDEX(données!AB739:AF739,individus!$C$1)","v":{"$error":"#N/A"}},{"$f":"INDEX(données!AB739:AF739,individus!$D$1)","v":{"$error":"#N/A"}},{"$error":"#N/A"}]
[null,{"$f":"données!B740","v":"li 737"},{"$f":"INDEX(données!W740:AA740,individus!$C$1)","v":{"$error":"#N/A"}},{"$f":"INDEX(données!W740:AA740,individus!$D$1)","v":{"$error":"#N/A"}},{"$f":"INDEX(données!AB740:AF740,individus!$C$1)","v":{"$error":"#N/A"}},{"$f":"INDEX(données!AB740:AF740,individus!$D$1)","v":{"$error":"#N/A"}},{"$error":"#N/A"}]
[null,{"$f":"données!B741","v":"li 738"},{"$f":"INDEX(données!W741:AA741,individus!$C$1)","v":{"$error":"#N/A"}},{"$f":"INDEX(données!W741:AA741,individus!$D$1)","v":{"$error":"#N/A"}},{"$f":"INDEX(données!AB741:AF741,individus!$C$1)","v":{"$error":"#N/A"}},{"$f":"INDEX(données!AB741:AF741,individus!$D$1)","v":{"$error":"#N/A"}},{"$error":"#N/A"}]
[null,{"$f":"données!B742","v":"li 739"},{"$f":"INDEX(données!W742:AA742,individus!$C$1)","v":{"$error":"#N/A"}},{"$f":"INDEX(données!W742:AA742,individus!$D$1)","v":{"$error":"#N/A"}},{"$f":"INDEX(données!AB742:AF742,individus!$C$1)","v":{"$error":"#N/A"}},{"$f":"INDEX(données!AB742:AF742,individus!$D$1)","v":{"$error":"#N/A"}},{"$error":"#N/A"}]
[null,{"$f":"données!B743","v":"li 740"},{"$f":"INDEX(données!W743:AA743,individus!$C$1)","v":{"$error":"#N/A"}},{"$f":"INDEX(données!W743:AA743,individus!$D$1)","v":{"$error":"#N/A"}},{"$f":"INDEX(données!AB743:AF743,individus!$C$1)","v":{"$error":"#N/A"}},{"$f":"INDEX(données!AB743:AF743,individus!$D$1)","v":{"$error":"#N/A"}},{"$error":"#N/A"}]
[null,{"$f":"données!B744","v":"li 741"},{"$f":"INDEX(données!W744:AA744,individus!$C$1)","v":{"$error":"#N/A"}},{"$f":"INDEX(données!W744:AA744,individus!$D$1)","v":{"$error":"#N/A"}},{"$f":"INDEX(données!AB744:AF744,individus!$C$1)","v":{"$error":"#N/A"}},{"$f":"INDEX(données!AB744:AF744,individus!$D$1)","v":{"$error":"#N/A"}},{"$error":"#N/A"}]
[null,{"$f":"données!B745","v":"li 742"},{"$f":"INDEX(données!W745:AA745,individus!$C$1)","v":{"$error":"#N/A"}},{"$f":"INDEX(données!W745:AA745,individus!$D$1)","v":{"$error":"#N/A"}},{"$f":"INDEX(données!AB745:AF745,individus!$C$1)","v":{"$error":"#N/A"}},{"$f":"INDEX(données!AB745:AF745,individus!$D$1)","v":{"$error":"#N/A"}},{"$error":"#N/A"}]
[null,{"$f":"données!B746","v":"li 743"},{"$f":"INDEX(données!W746:AA746,individus!$C$1)","v":{"$error":"#N/A"}},{"$f":"INDEX(données!W746:AA746,individus!$D$1)","v":{"$error":"#N/A"}},{"$f":"INDEX(données!AB746:AF746,individus!$C$1)","v":{"$error":"#N/A"}},{"$f":"INDEX(données!AB746:AF746,individus!$D$1)","v":{"$error":"#N/A"}},{"$error":"#N/A"}]
[null,{"$f":"données!B747","v":"li 744"},{"$f":"INDEX(données!W747:AA747,individus!$C$1)","v":{"$error":"#N/A"}},{"$f":"INDEX(données!W747:AA747,individus!$D$1)","v":{"$error":"#N/A"}},{"$f":"INDEX(données!AB747:AF747,individus!$C$1)","v":{"$error":"#N/A"}},{"$f":"INDEX(données!AB747:AF747,individus!$D$1)","v":{"$error":"#N/A"}},{"$error":"#N/A"}]
[null,{"$f":"données!B748","v":"li 745"},{"$f":"INDEX(données!W748:AA748,individus!$C$1)","v":{"$error":"#N/A"}},{"$f":"INDEX(données!W748:AA748,individus!$D$1)","v":{"$error":"#N/A"}},{"$f":"INDEX(données!AB748:AF748,individus!$C$1)","v":{"$error":"#N/A"}},{"$f":"INDEX(données!AB748:AF748,individus!$D$1)","v":{"$error":"#N/A"}},{"$error":"#N/A"}]
[null,{"$f":"données!B749","v":"li 746"},{"$f":"INDEX(données!W749:AA749,individus!$C$1)","v":{"$error":"#N/A"}},{"$f":"INDEX(données!W749:AA749,individus!$D$1)","v":{"$error":"#N/A"}},{"$f":"INDEX(données!AB749:AF749,individus!$C$1)","v":{"$error":"#N/A"}},{"$f":"INDEX(données!AB749:AF749,individus!$D$1)","v":{"$error":"#N/A"}},{"$error":"#N/A"}]
[null,{"$f":"données!B750","v":"li 747"},{"$f":"INDEX(données!W750:AA750,individus!$C$1)","v":{"$error":"#N/A"}},{"$f":"INDEX(données!W750:AA750,individus!$D$1)","v":{"$error":"#N/A"}},{"$f":"INDEX(données!AB750:AF750,individus!$C$1)","v":{"$error":"#N/A"}},{"$f":"INDEX(données!AB750:AF750,individus!$D$1)","v":{"$error":"#N/A"}},{"$error":"#N/A"}]
[null,{"$f":"données!B751","v":"li 748"},{"$f":"INDEX(données!W751:AA751,individus!$C$1)","v":{"$error":"#N/A"}},{"$f":"INDEX(données!W751:AA751,individus!$D$1)","v":{"$error":"#N/A"}},{"$f":"INDEX(données!AB751:AF751,individus!$C$1)","v":{"$error":"#N/A"}},{"$f":"INDEX(données!AB751:AF751,individus!$D$1)","v":{"$error":"#N/A"}},{"$error":"#N/A"}]
[null,{"$f":"données!B752","v":"li 749"},{"$f":"INDEX(données!W752:AA752,individus!$C$1)","v":{"$error":"#N/A"}},{"$f":"INDEX(données!W752:AA752,individus!$D$1)","v":{"$error":"#N/A"}},{"$f":"INDEX(données!AB752:AF752,individus!$C$1)","v":{"$error":"#N/A"}},{"$f":"INDEX(données!AB752:AF752,individus!$D$1)","v":{"$error":"#N/A"}},{"$error":"#N/A"}]
[null,{"$f":"données!B753","v":"li 750"},{"$f":"INDEX(données!W753:AA753,individus!$C$1)","v":{"$error":"#N/A"}},{"$f":"INDEX(données!W753:AA753,individus!$D$1)","v":{"$error":"#N/A"}},{"$f":"INDEX(données!AB753:AF753,individus!$C$1)","v":{"$error":"#N/A"}},{"$f":"INDEX(données!AB753:AF753,individus!$D$1)","v":{"$error":"#N/A"}},{"$error":"#N/A"}]
[null,{"$f":"données!B754","v":"li 751"},{"$f":"INDEX(données!W754:AA754,individus!$C$1)","v":{"$error":"#N/A"}},{"$f":"INDEX(données!W754:AA754,individus!$D$1)","v":{"$error":"#N/A"}},{"$f":"INDEX(données!AB754:AF754,individus!$C$1)","v":{"$error":"#N/A"}},{"$f":"INDEX(données!AB754:AF754,individus!$D$1)","v":{"$error":"#N/A"}},{"$error":"#N/A"}]
[null,{"$f":"données!B755","v":"li 752"},{"$f":"INDEX(données!W755:AA755,individus!$C$1)","v":{"$error":"#N/A"}},{"$f":"INDEX(données!W755:AA755,individus!$D$1)","v":{"$error":"#N/A"}},{"$f":"INDEX(données!AB755:AF755,individus!$C$1)","v":{"$error":"#N/A"}},{"$f":"INDEX(données!AB755:AF755,individus!$D$1)","v":{"$error":"#N/A"}},{"$error":"#N/A"}]
[null,{"$f":"données!B756","v":"li 753"},{"$f":"INDEX(données!W756:AA756,individus!$C$1)","v":{"$error":"#N/A"}},{"$f":"INDEX(données!W756:AA756,individus!$D$1)","v":{"$error":"#N/A"}},{"$f":"INDEX(données!AB756:AF756,individus!$C$1)","v":{"$error":"#N/A"}},{"$f":"INDEX(données!AB756:AF756,individus!$D$1)","v":{"$error":"#N/A"}},{"$error":"#N/A"}]
[null,{"$f":"données!B757","v":"li 754"},{"$f":"INDEX(données!W757:AA757,individus!$C$1)","v":{"$error":"#N/A"}},{"$f":"INDEX(données!W757:AA757,individus!$D$1)","v":{"$error":"#N/A"}},{"$f":"INDEX(données!AB757:AF757,individus!$C$1)","v":{"$error":"#N/A"}},{"$f":"INDEX(données!AB757:AF757,individus!$D$1)","v":{"$error":"#N/A"}},{"$error":"#N/A"}]
[null,{"$f":"données!B758","v":"li 755"},{"$f":"INDEX(données!W758:AA758,individus!$C$1)","v":{"$error":"#N/A"}},{"$f":"INDEX(données!W758:AA758,individus!$D$1)","v":{"$error":"#N/A"}},{"$f":"INDEX(données!AB758:AF758,individus!$C$1)","v":{"$error":"#N/A"}},{"$f":"INDEX(données!AB758:AF758,individus!$D$1)","v":{"$error":"#N/A"}},{"$error":"#N/A"}]
[null,{"$f":"données!B759","v":"li 756"},{"$f":"INDEX(données!W759:AA759,individus!$C$1)","v":{"$error":"#N/A"}},{"$f":"INDEX(données!W759:AA759,individus!$D$1)","v":{"$error":"#N/A"}},{"$f":"INDEX(données!AB759:AF759,individus!$C$1)","v":{"$error":"#N/A"}},{"$f":"INDEX(données!AB759:AF759,individus!$D$1)","v":{"$error":"#N/A"}},{"$error":"#N/A"}]
[null,{"$f":"données!B760","v":"li 757"},{"$f":"INDEX(données!W760:AA760,individus!$C$1)","v":{"$error":"#N/A"}},{"$f":"INDEX(données!W760:AA760,individus!$D$1)","v":{"$error":"#N/A"}},{"$f":"INDEX(données!AB760:AF760,individus!$C$1)","v":{"$error":"#N/A"}},{"$f":"INDEX(données!AB760:AF760,individus!$D$1)","v":{"$error":"#N/A"}},{"$error":"#N/A"}]
[null,{"$f":"données!B761","v":"li 758"},{"$f":"INDEX(données!W761:AA761,individus!$C$1)","v":{"$error":"#N/A"}},{"$f":"INDEX(données!W761:AA761,individus!$D$1)","v":{"$error":"#N/A"}},{"$f":"INDEX(données!AB761:AF761,individus!$C$1)","v":{"$error":"#N/A"}},{"$f":"INDEX(données!AB761:AF761,individus!$D$1)","v":{"$error":"#N/A"}},{"$error":"#N/A"}]
[null,{"$f":"données!B762","v":"li 759"},{"$f":"INDEX(données!W762:AA762,individus!$C$1)","v":{"$error":"#N/A"}},{"$f":"INDEX(données!W762:AA762,individus!$D$1)","v":{"$error":"#N/A"}},{"$f":"INDEX(données!AB762:AF762,individus!$C$1)","v":{"$error":"#N/A"}},{"$f":"INDEX(données!AB762:AF762,individus!$D$1)","v":{"$error":"#N/A"}},{"$error":"#N/A"}]
[null,{"$f":"données!B763","v":"li 760"},{"$f":"INDEX(données!W763:AA763,individus!$C$1)","v":{"$error":"#N/A"}},{"$f":"INDEX(données!W763:AA763,individus!$D$1)","v":{"$error":"#N/A"}},{"$f":"INDEX(données!AB763:AF763,individus!$C$1)","v":{"$error":"#N/A"}},{"$f":"INDEX(données!AB763:AF763,individus!$D$1)","v":{"$error":"#N/A"}},{"$error":"#N/A"}]
[null,{"$f":"données!B764","v":"li 761"},{"$f":"INDEX(données!W764:AA764,individus!$C$1)","v":{"$error":"#N/A"}},{"$f":"INDEX(données!W764:AA764,individus!$D$1)","v":{"$error":"#N/A"}},{"$f":"INDEX(données!AB764:AF764,individus!$C$1)","v":{"$error":"#N/A"}},{"$f":"INDEX(données!AB764:AF764,individus!$D$1)","v":{"$error":"#N/A"}},{"$error":"#N/A"}]
[null,{"$f":"données!B765","v":"li 762"},{"$f":"INDEX(données!W765:AA765,individus!$C$1)","v":{"$error":"#N/A"}},{"$f":"INDEX(données!W765:AA765,individus!$D$1)","v":{"$error":"#N/A"}},{"$f":"INDEX(données!AB765:AF765,individus!$C$1)","v":{"$error":"#N/A"}},{"$f":"INDEX(données!AB765:AF765,individus!$D$1)","v":{"$error":"#N/A"}},{"$error":"#N/A"}]
[null,{"$f":"données!B766","v":"li 763"},{"$f":"INDEX(données!W766:AA766,individus!$C$1)","v":{"$error":"#N/A"}},{"$f":"INDEX(données!W766:AA766,individus!$D$1)","v":{"$error":"#N/A"}},{"$f":"INDEX(données!AB766:AF766,individus!$C$1)","v":{"$error":"#N/A"}},{"$f":"INDEX(données!AB766:AF766,individus!$D$1)","v":{"$error":"#N/A"}},{"$error":"#N/A"}]
[null,{"$f":"données!B767","v":"li 764"},{"$f":"INDEX(données!W767:AA767,individus!$C$1)","v":{"$error":"#N/A"}},{"$f":"INDEX(données!W767:AA767,individus!$D$1)","v":{"$error":"#N/A"}},{"$f":"INDEX(données!AB767:AF767,individus!$C$1)","v":{"$error":"#N/A"}},{"$f":"INDEX(données!AB767:AF767,individus!$D$1)","v":{"$error":"#N/A"}},{"$error":"#N/A"}]
[null,{"$f":"données!B768","v":"li 765"},{"$f":"INDEX(données!W768:AA768,individus!$C$1)","v":{"$error":"#N/A"}},{"$f":"INDEX(données!W768:AA768,individus!$D$1)","v":{"$error":"#N/A"}},{"$f":"INDEX(données!AB768:AF768,individus!$C$1)","v":{"$error":"#N/A"}},{"$f":"INDEX(données!AB768:AF768,individus!$D$1)","v":{"$error":"#N/A"}},{"$error":"#N/A"}]
[null,{"$f":"données!B769","v":"li 766"},{"$f":"INDEX(données!W769:AA769,individus!$C$1)","v":{"$error":"#N/A"}},{"$f":"INDEX(données!W769:AA769,individus!$D$1)","v":{"$error":"#N/A"}},{"$f":"INDEX(données!AB769:AF769,individus!$C$1)","v":{"$error":"#N/A"}},{"$f":"INDEX(données!AB769:AF769,individus!$D$1)","v":{"$error":"#N/A"}},{"$error":"#N/A"}]
[null,{"$f":"données!B770","v":"li 767"},{"$f":"INDEX(données!W770:AA770,individus!$C$1)","v":{"$error":"#N/A"}},{"$f":"INDEX(données!W770:AA770,individus!$D$1)","v":{"$error":"#N/A"}},{"$f":"INDEX(données!AB770:AF770,individus!$C$1)","v":{"$error":"#N/A"}},{"$f":"INDEX(données!AB770:AF770,individus!$D$1)","v":{"$error":"#N/A"}},{"$error":"#N/A"}]
[null,{"$f":"données!B771","v":"li 768"},{"$f":"INDEX(données!W771:AA771,individus!$C$1)","v":{"$error":"#N/A"}},{"$f":"INDEX(données!W771:AA771,individus!$D$1)","v":{"$error":"#N/A"}},{"$f":"INDEX(données!AB771:AF771,individus!$C$1)","v":{"$error":"#N/A"}},{"$f":"INDEX(données!AB771:AF771,individus!$D$1)","v":{"$error":"#N/A"}},{"$error":"#N/A"}]
[null,{"$f":"données!B772","v":"li 769"},{"$f":"INDEX(données!W772:AA772,individus!$C$1)","v":{"$error":"#N/A"}},{"$f":"INDEX(données!W772:AA772,individus!$D$1)","v":{"$error":"#N/A"}},{"$f":"INDEX(données!AB772:AF772,individus!$C$1)","v":{"$error":"#N/A"}},{"$f":"INDEX(données!AB772:AF772,individus!$D$1)","v":{"$error":"#N/A"}},{"$error":"#N/A"}]
[null,{"$f":"données!B773","v":"li 770"},{"$f":"INDEX(données!W773:AA773,individus!$C$1)","v":{"$error":"#N/A"}},{"$f":"INDEX(données!W773:AA773,individus!$D$1)","v":{"$error":"#N/A"}},{"$f":"INDEX(données!AB773:AF773,individus!$C$1)","v":{"$error":"#N/A"}},{"$f":"INDEX(données!AB773:AF773,individus!$D$1)","v":{"$error":"#N/A"}},{"$f":"E773+F773","v":{"$error":"#N/A"}}]
[null,{"$f":"données!B774","v":"li 771"},{"$f":"INDEX(données!W774:AA774,individus!$C$1)","v":{"$error":"#N/A"}},{"$f":"INDEX(données!W774:AA774,individus!$D$1)","v":{"$error":"#N/A"}},{"$f":"INDEX(données!AB774:AF774,individus!$C$1)","v":{"$error":"#N/A"}},{"$f":"INDEX(données!AB774:AF774,individus!$D$1)","v":{"$error":"#N/A"}},{"$error":"#N/A"}]
[null,{"$f":"données!B775","v":"li 772"},{"$f":"INDEX(données!W775:AA775,individus!$C$1)","v":{"$error":"#N/A"}},{"$f":"INDEX(données!W775:AA775,individus!$D$1)","v":{"$error":"#N/A"}},{"$f":"INDEX(données!AB775:AF775,individus!$C$1)","v":{"$error":"#N/A"}},{"$f":"INDEX(données!AB775:AF775,individus!$D$1)","v":{"$error":"#N/A"}},{"$error":"#N/A"}]
[null,{"$f":"données!B776","v":"li 773"},{"$f":"INDEX(données!W776:AA776,individus!$C$1)","v":{"$error":"#N/A"}},{"$f":"INDEX(données!W776:AA776,individus!$D$1)","v":{"$error":"#N/A"}},{"$f":"INDEX(données!AB776:AF776,individus!$C$1)","v":{"$error":"#N/A"}},{"$f":"INDEX(données!AB776:AF776,individus!$D$1)","v":{"$error":"#N/A"}},{"$error":"#N/A"}]
[null,{"$f":"données!B777","v":"li 774"},{"$f":"INDEX(données!W777:AA777,individus!$C$1)","v":{"$error":"#N/A"}},{"$f":"INDEX(données!W777:AA777,individus!$D$1)","v":{"$error":"#N/A"}},{"$f":"INDEX(données!AB777:AF777,individus!$C$1)","v":{"$error":"#N/A"}},{"$f":"INDEX(données!AB777:AF777,individus!$D$1)","v":{"$error":"#N/A"}},{"$error":"#N/A"}]
[null,{"$f":"données!B778","v":"li 775"},{"$f":"INDEX(données!W778:AA778,individus!$C$1)","v":{"$error":"#N/A"}},{"$f":"INDEX(données!W778:AA778,individus!$D$1)","v":{"$error":"#N/A"}},{"$f":"INDEX(données!AB778:AF778,individus!$C$1)","v":{"$error":"#N/A"}},{"$f":"INDEX(données!AB778:AF778,individus!$D$1)","v":{"$error":"#N/A"}},{"$error":"#N/A"}]
[null,{"$f":"données!B779","v":"li 776"},{"$f":"INDEX(données!W779:AA779,individus!$C$1)","v":{"$error":"#N/A"}},{"$f":"INDEX(données!W779:AA779,individus!$D$1)","v":{"$error":"#N/A"}},{"$f":"INDEX(données!AB779:AF779,individus!$C$1)","v":{"$error":"#N/A"}},{"$f":"INDEX(données!AB779:AF779,individus!$D$1)","v":{"$error":"#N/A"}},{"$error":"#N/A"}]
[null,{"$f":"données!B780","v":"li 777"},{"$f":"INDEX(données!W780:AA780,individus!$C$1)","v":{"$error":"#N/A"}},{"$f":"INDEX(données!W780:AA780,individus!$D$1)","v":{"$error":"#N/A"}},{"$f":"INDEX(données!AB780:AF780,individus!$C$1)","v":{"$error":"#N/A"}},{"$f":"INDEX(données!AB780:AF780,individus!$D$1)","v":{"$error":"#N/A"}},{"$error":"#N/A"}]
[null,{"$f":"données!B781","v":"li 778"},{"$f":"INDEX(données!W781:AA781,individus!$C$1)","v":{"$error":"#N/A"}},{"$f":"INDEX(données!W781:AA781,individus!$D$1)","v":{"$error":"#N/A"}},{"$f":"INDEX(données!AB781:AF781,individus!$C$1)","v":{"$error":"#N/A"}},{"$f":"INDEX(données!AB781:AF781,individus!$D$1)","v":{"$error":"#N/A"}},{"$error":"#N/A"}]
[null,{"$f":"données!B782","v":"li 779"},{"$f":"INDEX(données!W782:AA782,individus!$C$1)","v":{"$error":"#N/A"}},{"$f":"INDEX(données!W782:AA782,individus!$D$1)","v":{"$error":"#N/A"}},{"$f":"INDEX(données!AB782:AF782,individus!$C$1)","v":{"$error":"#N/A"}},{"$f":"INDEX(données!AB782:AF782,individus!$D$1)","v":{"$error":"#N/A"}},{"$error":"#N/A"}]
[null,{"$f":"données!B783","v":"li 780"},{"$f":"INDEX(données!W783:AA783,individus!$C$1)","v":{"$error":"#N/A"}},{"$f":"INDEX(données!W783:AA783,individus!$D$1)","v":{"$error":"#N/A"}},{"$f":"INDEX(données!AB783:AF783,individus!$C$1)","v":{"$error":"#N/A"}},{"$f":"INDEX(données!AB783:AF783,individus!$D$1)","v":{"$error":"#N/A"}},{"$error":"#N/A"}]
[null,{"$f":"données!B784","v":"li 781"},{"$f":"INDEX(données!W784:AA784,individus!$C$1)","v":{"$error":"#N/A"}},{"$f":"INDEX(données!W784:AA784,individus!$D$1)","v":{"$error":"#N/A"}},{"$f":"INDEX(données!AB784:AF784,individus!$C$1)","v":{"$error":"#N/A"}},{"$f":"INDEX(données!AB784:AF784,individus!$D$1)","v":{"$error":"#N/A"}},{"$error":"#N/A"}]
[null,{"$f":"données!B785","v":"li 782"},{"$f":"INDEX(données!W785:AA785,individus!$C$1)","v":{"$error":"#N/A"}},{"$f":"INDEX(données!W785:AA785,individus!$D$1)","v":{"$error":"#N/A"}},{"$f":"INDEX(données!AB785:AF785,individus!$C$1)","v":{"$error":"#N/A"}},{"$f":"INDEX(données!AB785:AF785,individus!$D$1)","v":{"$error":"#N/A"}},{"$error":"#N/A"}]
[null,{"$f":"données!B786","v":"li 783"},{"$f":"INDEX(données!W786:AA786,individus!$C$1)","v":{"$error":"#N/A"}},{"$f":"INDEX(données!W786:AA786,individus!$D$1)","v":{"$error":"#N/A"}},{"$f":"INDEX(données!AB786:AF786,individus!$C$1)","v":{"$error":"#N/A"}},{"$f":"INDEX(données!AB786:AF786,individus!$D$1)","v":{"$error":"#N/A"}},{"$error":"#N/A"}]
[null,{"$f":"données!B787","v":"li 784"},{"$f":"INDEX(données!W787:AA787,individus!$C$1)","v":{"$error":"#N/A"}},{"$f":"INDEX(données!W787:AA787,individus!$D$1)","v":{"$error":"#N/A"}},{"$f":"INDEX(données!AB787:AF787,individus!$C$1)","v":{"$error":"#N/A"}},{"$f":"INDEX(données!AB787:AF787,individus!$D$1)","v":{"$error":"#N/A"}},{"$error":"#N/A"}]
[null,{"$f":"données!B788","v":"li 785"},{"$f":"INDEX(données!W788:AA788,individus!$C$1)","v":{"$error":"#N/A"}},{"$f":"INDEX(données!W788:AA788,individus!$D$1)","v":{"$error":"#N/A"}},{"$f":"INDEX(données!AB788:AF788,individus!$C$1)","v":{"$error":"#N/A"}},{"$f":"INDEX(données!AB788:AF788,individus!$D$1)","v":{"$error":"#N/A"}},{"$error":"#N/A"}]
[null,{"$f":"données!B789","v":"li 786"},{"$f":"INDEX(données!W789:AA789,individus!$C$1)","v":{"$error":"#N/A"}},{"$f":"INDEX(données!W789:AA789,individus!$D$1)","v":{"$error":"#N/A"}},{"$f":"INDEX(données!AB789:AF789,individus!$C$1)","v":{"$error":"#N/A"}},{"$f":"INDEX(données!AB789:AF789,individus!$D$1)","v":{"$error":"#N/A"}},{"$error":"#N/A"}]
[null,{"$f":"données!B790","v":"li 787"},{"$f":"INDEX(données!W790:AA790,individus!$C$1)","v":{"$error":"#N/A"}},{"$f":"INDEX(données!W790:AA790,individus!$D$1)","v":{"$error":"#N/A"}},{"$f":"INDEX(données!AB790:AF790,individus!$C$1)","v":{"$error":"#N/A"}},{"$f":"INDEX(données!AB790:AF790,individus!$D$1)","v":{"$error":"#N/A"}},{"$error":"#N/A"}]
[null,{"$f":"données!B791","v":"li 788"},{"$f":"INDEX(données!W791:AA791,individus!$C$1)","v":{"$error":"#N/A"}},{"$f":"INDEX(données!W791:AA791,individus!$D$1)","v":{"$error":"#N/A"}},{"$f":"INDEX(données!AB791:AF791,individus!$C$1)","v":{"$error":"#N/A"}},{"$f":"INDEX(données!AB791:AF791,individus!$D$1)","v":{"$error":"#N/A"}},{"$error":"#N/A"}]
[null,{"$f":"données!B792","v":"li 789"},{"$f":"INDEX(données!W792:AA792,individus!$C$1)","v":{"$error":"#N/A"}},{"$f":"INDEX(données!W792:AA792,individus!$D$1)","v":{"$error":"#N/A"}},{"$f":"INDEX(données!AB792:AF792,individus!$C$1)","v":{"$error":"#N/A"}},{"$f":"INDEX(données!AB792:AF792,individus!$D$1)","v":{"$error":"#N/A"}},{"$error":"#N/A"}]
[null,{"$f":"données!B793","v":"li 790"},{"$f":"INDEX(données!W793:AA793,individus!$C$1)","v":{"$error":"#N/A"}},{"$f":"INDEX(données!W793:AA793,individus!$D$1)","v":{"$error":"#N/A"}},{"$f":"INDEX(données!AB793:AF793,individus!$C$1)","v":{"$error":"#N/A"}},{"$f":"INDEX(données!AB793:AF793,individus!$D$1)","v":{"$error":"#N/A"}},{"$error":"#N/A"}]
[null,{"$f":"données!B794","v":"li 791"},{"$f":"INDEX(données!W794:AA794,individus!$C$1)","v":{"$error":"#N/A"}},{"$f":"INDEX(données!W794:AA794,individus!$D$1)","v":{"$error":"#N/A"}},{"$f":"INDEX(données!AB794:AF794,individus!$C$1)","v":{"$error":"#N/A"}},{"$f":"INDEX(données!AB794:AF794,individus!$D$1)","v":{"$error":"#N/A"}},{"$error":"#N/A"}]
[null,{"$f":"données!B795","v":"li 792"},{"$f":"INDEX(données!W795:AA795,individus!$C$1)","v":{"$error":"#N/A"}},{"$f":"INDEX(données!W795:AA795,individus!$D$1)","v":{"$error":"#N/A"}},{"$f":"INDEX(données!AB795:AF795,individus!$C$1)","v":{"$error":"#N/A"}},{"$f":"INDEX(données!AB795:AF795,individus!$D$1)","v":{"$error":"#N/A"}},{"$error":"#N/A"}]
[null,{"$f":"données!B796","v":"li 793"},{"$f":"INDEX(données!W796:AA796,individus!$C$1)","v":{"$error":"#N/A"}},{"$f":"INDEX(données!W796:AA796,individus!$D$1)","v":{"$error":"#N/A"}},{"$f":"INDEX(données!AB796:AF796,individus!$C$1)","v":{"$error":"#N/A"}},{"$f":"INDEX(données!AB796:AF796,individus!$D$1)","v":{"$error":"#N/A"}},{"$error":"#N/A"}]
[null,{"$f":"données!B797","v":"li 794"},{"$f":"INDEX(données!W797:AA797,individus!$C$1)","v":{"$error":"#N/A"}},{"$f":"INDEX(données!W797:AA797,individus!$D$1)","v":{"$error":"#N/A"}},{"$f":"INDEX(données!AB797:AF797,individus!$C$1)","v":{"$error":"#N/A"}},{"$f":"INDEX(données!AB797:AF797,individus!$D$1)","v":{"$error":"#N/A"}},{"$error":"#N/A"}]
[null,{"$f":"données!B798","v":"li 795"},{"$f":"INDEX(données!W798:AA798,individus!$C$1)","v":{"$error":"#N/A"}},{"$f":"INDEX(données!W798:AA798,individus!$D$1)","v":{"$error":"#N/A"}},{"$f":"INDEX(données!AB798:AF798,individus!$C$1)","v":{"$error":"#N/A"}},{"$f":"INDEX(données!AB798:AF798,individus!$D$1)","v":{"$error":"#N/A"}},{"$error":"#N/A"}]
[null,{"$f":"données!B799","v":"li 796"},{"$f":"INDEX(données!W799:AA799,individus!$C$1)","v":{"$error":"#N/A"}},{"$f":"INDEX(données!W799:AA799,individus!$D$1)","v":{"$error":"#N/A"}},{"$f":"INDEX(données!AB799:AF799,individus!$C$1)","v":{"$error":"#N/A"}},{"$f":"INDEX(données!AB799:AF799,individus!$D$1)","v":{"$error":"#N/A"}},{"$error":"#N/A"}]
[null,{"$f":"données!B800","v":"li 797"},{"$f":"INDEX(données!W800:AA800,individus!$C$1)","v":{"$error":"#N/A"}},{"$f":"INDEX(données!W800:AA800,individus!$D$1)","v":{"$error":"#N/A"}},{"$f":"INDEX(données!AB800:AF800,individus!$C$1)","v":{"$error":"#N/A"}},{"$f":"INDEX(données!AB800:AF800,individus!$D$1)","v":{"$error":"#N/A"}},{"$error":"#N/A"}]
[null,{"$f":"données!B801","v":"li 798"},{"$f":"INDEX(données!W801:AA801,individus!$C$1)","v":{"$error":"#N/A"}},{"$f":"INDEX(données!W801:AA801,individus!$D$1)","v":{"$error":"#N/A"}},{"$f":"INDEX(données!AB801:AF801,individus!$C$1)","v":{"$error":"#N/A"}},{"$f":"INDEX(données!AB801:AF801,individus!$D$1)","v":{"$error":"#N/A"}},{"$error":"#N/A"}]
[null,{"$f":"données!B802","v":"li 799"},{"$f":"INDEX(données!W802:AA802,individus!$C$1)","v":{"$error":"#N/A"}},{"$f":"INDEX(données!W802:AA802,individus!$D$1)","v":{"$error":"#N/A"}},{"$f":"INDEX(données!AB802:AF802,individus!$C$1)","v":{"$error":"#N/A"}},{"$f":"INDEX(données!AB802:AF802,individus!$D$1)","v":{"$error":"#N/A"}},{"$error":"#N/A"}]
[null,{"$f":"données!B803","v":"li 800"},{"$f":"INDEX(données!W803:AA803,individus!$C$1)","v":{"$error":"#N/A"}},{"$f":"INDEX(données!W803:AA803,individus!$D$1)","v":{"$error":"#N/A"}},{"$f":"INDEX(données!AB803:AF803,individus!$C$1)","v":{"$error":"#N/A"}},{"$f":"INDEX(données!AB803:AF803,individus!$D$1)","v":{"$error":"#N/A"}},{"$error":"#N/A"}]
[null,{"$f":"données!B804","v":"li 801"},{"$f":"INDEX(données!W804:AA804,individus!$C$1)","v":{"$error":"#N/A"}},{"$f":"INDEX(données!W804:AA804,individus!$D$1)","v":{"$error":"#N/A"}},{"$f":"INDEX(données!AB804:AF804,individus!$C$1)","v":{"$error":"#N/A"}},{"$f":"INDEX(données!AB804:AF804,individus!$D$1)","v":{"$error":"#N/A"}},{"$error":"#N/A"}]
[null,{"$f":"données!B805","v":"li 802"},{"$f":"INDEX(données!W805:AA805,individus!$C$1)","v":{"$error":"#N/A"}},{"$f":"INDEX(données!W805:AA805,individus!$D$1)","v":{"$error":"#N/A"}},{"$f":"INDEX(données!AB805:AF805,individus!$C$1)","v":{"$error":"#N/A"}},{"$f":"INDEX(données!AB805:AF805,individus!$D$1)","v":{"$error":"#N/A"}},{"$error":"#N/A"}]
[null,{"$f":"données!B806","v":"li 803"},{"$f":"INDEX(données!W806:AA806,individus!$C$1)","v":{"$error":"#N/A"}},{"$f":"INDEX(données!W806:AA806,individus!$D$1)","v":{"$error":"#N/A"}},{"$f":"INDEX(données!AB806:AF806,individus!$C$1)","v":{"$error":"#N/A"}},{"$f":"INDEX(données!AB806:AF806,individus!$D$1)","v":{"$error":"#N/A"}},{"$error":"#N/A"}]
[null,{"$f":"données!B807","v":"li 804"},{"$f":"INDEX(données!W807:AA807,individus!$C$1)","v":{"$error":"#N/A"}},{"$f":"INDEX(données!W807:AA807,individus!$D$1)","v":{"$error":"#N/A"}},{"$f":"INDEX(données!AB807:AF807,individus!$C$1)","v":{"$error":"#N/A"}},{"$f":"INDEX(données!AB807:AF807,individus!$D$1)","v":{"$error":"#N/A"}},{"$error":"#N/A"}]
[null,{"$f":"données!B808","v":"li 805"},{"$f":"INDEX(données!W808:AA808,individus!$C$1)","v":{"$error":"#N/A"}},{"$f":"INDEX(données!W808:AA808,individus!$D$1)","v":{"$error":"#N/A"}},{"$f":"INDEX(données!AB808:AF808,individus!$C$1)","v":{"$error":"#N/A"}},{"$f":"INDEX(données!AB808:AF808,individus!$D$1)","v":{"$error":"#N/A"}},{"$error":"#N/A"}]
[null,{"$f":"données!B809","v":"li 806"},{"$f":"INDEX(données!W809:AA809,individus!$C$1)","v":{"$error":"#N/A"}},{"$f":"INDEX(données!W809:AA809,individus!$D$1)","v":{"$error":"#N/A"}},{"$f":"INDEX(données!AB809:AF809,individus!$C$1)","v":{"$error":"#N/A"}},{"$f":"INDEX(données!AB809:AF809,individus!$D$1)","v":{"$error":"#N/A"}},{"$error":"#N/A"}]
[null,{"$f":"données!B810","v":"li 807"},{"$f":"INDEX(données!W810:AA810,individus!$C$1)","v":{"$error":"#N/A"}},{"$f":"INDEX(données!W810:AA810,individus!$D$1)","v":{"$error":"#N/A"}},{"$f":"INDEX(données!AB810:AF810,individus!$C$1)","v":{"$error":"#N/A"}},{"$f":"INDEX(données!AB810:AF810,individus!$D$1)","v":{"$error":"#N/A"}},{"$error":"#N/A"}]
[null,{"$f":"données!B811","v":"li 808"},{"$f":"INDEX(données!W811:AA811,individus!$C$1)","v":{"$error":"#N/A"}},{"$f":"INDEX(données!W811:AA811,individus!$D$1)","v":{"$error":"#N/A"}},{"$f":"INDEX(données!AB811:AF811,individus!$C$1)","v":{"$error":"#N/A"}},{"$f":"INDEX(données!AB811:AF811,individus!$D$1)","v":{"$error":"#N/A"}},{"$error":"#N/A"}]
[null,{"$f":"données!B812","v":"li 809"},{"$f":"INDEX(données!W812:AA812,individus!$C$1)","v":{"$error":"#N/A"}},{"$f":"INDEX(données!W812:AA812,individus!$D$1)","v":{"$error":"#N/A"}},{"$f":"INDEX(données!AB812:AF812,individus!$C$1)","v":{"$error":"#N/A"}},{"$f":"INDEX(données!AB812:AF812,individus!$D$1)","v":{"$error":"#N/A"}},{"$error":"#N/A"}]
[null,{"$f":"données!B813","v":"li 810"},{"$f":"INDEX(données!W813:AA813,individus!$C$1)","v":{"$error":"#N/A"}},{"$f":"INDEX(données!W813:AA813,individus!$D$1)","v":{"$error":"#N/A"}},{"$f":"INDEX(données!AB813:AF813,individus!$C$1)","v":{"$error":"#N/A"}},{"$f":"INDEX(données!AB813:AF813,individus!$D$1)","v":{"$error":"#N/A"}},{"$error":"#N/A"}]
[null,{"$f":"données!B814","v":"li 811"},{"$f":"INDEX(données!W814:AA814,individus!$C$1)","v":{"$error":"#N/A"}},{"$f":"INDEX(données!W814:AA814,individus!$D$1)","v":{"$error":"#N/A"}},{"$f":"INDEX(données!AB814:AF814,individus!$C$1)","v":{"$error":"#N/A"}},{"$f":"INDEX(données!AB814:AF814,individus!$D$1)","v":{"$error":"#N/A"}},{"$error":"#N/A"}]
[null,{"$f":"données!B815","v":"li 812"},{"$f":"INDEX(données!W815:AA815,individus!$C$1)","v":{"$error":"#N/A"}},{"$f":"INDEX(données!W815:AA815,individus!$D$1)","v":{"$error":"#N/A"}},{"$f":"INDEX(données!AB815:AF815,individus!$C$1)","v":{"$error":"#N/A"}},{"$f":"INDEX(données!AB815:AF815,individus!$D$1)","v":{"$error":"#N/A"}},{"$error":"#N/A"}]
[null,{"$f":"données!B816","v":"li 813"},{"$f":"INDEX(données!W816:AA816,individus!$C$1)","v":{"$error":"#N/A"}},{"$f":"INDEX(données!W816:AA816,individus!$D$1)","v":{"$error":"#N/A"}},{"$f":"INDEX(données!AB816:AF816,individus!$C$1)","v":{"$error":"#N/A"}},{"$f":"INDEX(données!AB816:AF816,individus!$D$1)","v":{"$error":"#N/A"}},{"$error":"#N/A"}]
[null,{"$f":"données!B817","v":"li 814"},{"$f":"INDEX(données!W817:AA817,individus!$C$1)","v":{"$error":"#N/A"}},{"$f":"INDEX(données!W817:AA817,individus!$D$1)","v":{"$error":"#N/A"}},{"$f":"INDEX(données!AB817:AF817,individus!$C$1)","v":{"$error":"#N/A"}},{"$f":"INDEX(données!AB817:AF817,individus!$D$1)","v":{"$error":"#N/A"}},{"$error":"#N/A"}]
[null,{"$f":"données!B818","v":"li 815"},{"$f":"INDEX(données!W818:AA818,individus!$C$1)","v":{"$error":"#N/A"}},{"$f":"INDEX(données!W818:AA818,individus!$D$1)","v":{"$error":"#N/A"}},{"$f":"INDEX(données!AB818:AF818,individus!$C$1)","v":{"$error":"#N/A"}},{"$f":"INDEX(données!AB818:AF818,individus!$D$1)","v":{"$error":"#N/A"}},{"$error":"#N/A"}]
[null,{"$f":"données!B819","v":"li 816"},{"$f":"INDEX(données!W819:AA819,individus!$C$1)","v":{"$error":"#N/A"}},{"$f":"INDEX(données!W819:AA819,individus!$D$1)","v":{"$error":"#N/A"}},{"$f":"INDEX(données!AB819:AF819,individus!$C$1)","v":{"$error":"#N/A"}},{"$f":"INDEX(données!AB819:AF819,individus!$D$1)","v":{"$error":"#N/A"}},{"$error":"#N/A"}]
[null,{"$f":"données!B820","v":"li 817"},{"$f":"INDEX(données!W820:AA820,individus!$C$1)","v":{"$error":"#N/A"}},{"$f":"INDEX(données!W820:AA820,individus!$D$1)","v":{"$error":"#N/A"}},{"$f":"INDEX(données!AB820:AF820,individus!$C$1)","v":{"$error":"#N/A"}},{"$f":"INDEX(données!AB820:AF820,individus!$D$1)","v":{"$error":"#N/A"}},{"$error":"#N/A"}]
[null,{"$f":"données!B821","v":"li 818"},{"$f":"INDEX(données!W821:AA821,individus!$C$1)","v":{"$error":"#N/A"}},{"$f":"INDEX(données!W821:AA821,individus!$D$1)","v":{"$error":"#N/A"}},{"$f":"INDEX(données!AB821:AF821,individus!$C$1)","v":{"$error":"#N/A"}},{"$f":"INDEX(données!AB821:AF821,individus!$D$1)","v":{"$error":"#N/A"}},{"$error":"#N/A"}]
[null,{"$f":"données!B822","v":"li 819"},{"$f":"INDEX(données!W822:AA822,individus!$C$1)","v":{"$error":"#N/A"}},{"$f":"INDEX(données!W822:AA822,individus!$D$1)","v":{"$error":"#N/A"}},{"$f":"INDEX(données!AB822:AF822,individus!$C$1)","v":{"$error":"#N/A"}},{"$f":"INDEX(données!AB822:AF822,individus!$D$1)","v":{"$error":"#N/A"}},{"$error":"#N/A"}]
[null,{"$f":"données!B823","v":"li 820"},{"$f":"INDEX(données!W823:AA823,individus!$C$1)","v":{"$error":"#N/A"}},{"$f":"INDEX(données!W823:AA823,individus!$D$1)","v":{"$error":"#N/A"}},{"$f":"INDEX(données!AB823:AF823,individus!$C$1)","v":{"$error":"#N/A"}},{"$f":"INDEX(données!AB823:AF823,individus!$D$1)","v":{"$error":"#N/A"}},{"$error":"#N/A"}]
[null,{"$f":"données!B824","v":"li 821"},{"$f":"INDEX(données!W824:AA824,individus!$C$1)","v":{"$error":"#N/A"}},{"$f":"INDEX(données!W824:AA824,individus!$D$1)","v":{"$error":"#N/A"}},{"$f":"INDEX(données!AB824:AF824,individus!$C$1)","v":{"$error":"#N/A"}},{"$f":"INDEX(données!AB824:AF824,individus!$D$1)","v":{"$error":"#N/A"}},{"$error":"#N/A"}]
[null,{"$f":"données!B825","v":"li 822"},{"$f":"INDEX(données!W825:AA825,individus!$C$1)","v":{"$error":"#N/A"}},{"$f":"INDEX(données!W825:AA825,individus!$D$1)","v":{"$error":"#N/A"}},{"$f":"INDEX(données!AB825:AF825,individus!$C$1)","v":{"$error":"#N/A"}},{"$f":"INDEX(données!AB825:AF825,individus!$D$1)","v":{"$error":"#N/A"}},{"$error":"#N/A"}]
[null,{"$f":"données!B826","v":"li 823"},{"$f":"INDEX(données!W826:AA826,individus!$C$1)","v":{"$error":"#N/A"}},{"$f":"INDEX(données!W826:AA826,individus!$D$1)","v":{"$error":"#N/A"}},{"$f":"INDEX(données!AB826:AF826,individus!$C$1)","v":{"$error":"#N/A"}},{"$f":"INDEX(données!AB826:AF826,individus!$D$1)","v":{"$error":"#N/A"}},{"$error":"#N/A"}]
[null,{"$f":"données!B827","v":"li 824"},{"$f":"INDEX(données!W827:AA827,individus!$C$1)","v":{"$error":"#N/A"}},{"$f":"INDEX(données!W827:AA827,individus!$D$1)","v":{"$error":"#N/A"}},{"$f":"INDEX(données!AB827:AF827,individus!$C$1)","v":{"$error":"#N/A"}},{"$f":"INDEX(données!AB827:AF827,individus!$D$1)","v":{"$error":"#N/A"}},{"$error":"#N/A"}]
[null,{"$f":"données!B828","v":"li 825"},{"$f":"INDEX(données!W828:AA828,individus!$C$1)","v":{"$error":"#N/A"}},{"$f":"INDEX(données!W828:AA828,individus!$D$1)","v":{"$error":"#N/A"}},{"$f":"INDEX(données!AB828:AF828,individus!$C$1)","v":{"$error":"#N/A"}},{"$f":"INDEX(données!AB828:AF828,individus!$D$1)","v":{"$error":"#N/A"}},{"$error":"#N/A"}]
[null,{"$f":"données!B829","v":"li 826"},{"$f":"INDEX(données!W829:AA829,individus!$C$1)","v":{"$error":"#N/A"}},{"$f":"INDEX(données!W829:AA829,individus!$D$1)","v":{"$error":"#N/A"}},{"$f":"INDEX(données!AB829:AF829,individus!$C$1)","v":{"$error":"#N/A"}},{"$f":"INDEX(données!AB829:AF829,individus!$D$1)","v":{"$error":"#N/A"}},{"$error":"#N/A"}]
[null,{"$f":"données!B830","v":"li 827"},{"$f":"INDEX(données!W830:AA830,individus!$C$1)","v":{"$error":"#N/A"}},{"$f":"INDEX(données!W830:AA830,individus!$D$1)","v":{"$error":"#N/A"}},{"$f":"INDEX(données!AB830:AF830,individus!$C$1)","v":{"$error":"#N/A"}},{"$f":"INDEX(données!AB830:AF830,individus!$D$1)","v":{"$error":"#N/A"}},{"$error":"#N/A"}]
[null,{"$f":"données!B831","v":"li 828"},{"$f":"INDEX(données!W831:AA831,individus!$C$1)","v":{"$error":"#N/A"}},{"$f":"INDEX(données!W831:AA831,individus!$D$1)","v":{"$error":"#N/A"}},{"$f":"INDEX(données!AB831:AF831,individus!$C$1)","v":{"$error":"#N/A"}},{"$f":"INDEX(données!AB831:AF831,individus!$D$1)","v":{"$error":"#N/A"}},{"$error":"#N/A"}]
[null,{"$f":"données!B832","v":"li 829"},{"$f":"INDEX(données!W832:AA832,individus!$C$1)","v":{"$error":"#N/A"}},{"$f":"INDEX(données!W832:AA832,individus!$D$1)","v":{"$error":"#N/A"}},{"$f":"INDEX(données!AB832:AF832,individus!$C$1)","v":{"$error":"#N/A"}},{"$f":"INDEX(données!AB832:AF832,individus!$D$1)","v":{"$error":"#N/A"}},{"$error":"#N/A"}]
[null,{"$f":"données!B833","v":"li 830"},{"$f":"INDEX(données!W833:AA833,individus!$C$1)","v":{"$error":"#N/A"}},{"$f":"INDEX(données!W833:AA833,individus!$D$1)","v":{"$error":"#N/A"}},{"$f":"INDEX(données!AB833:AF833,individus!$C$1)","v":{"$error":"#N/A"}},{"$f":"INDEX(données!AB833:AF833,individus!$D$1)","v":{"$error":"#N/A"}},{"$error":"#N/A"}]
[null,{"$f":"données!B834","v":"li 831"},{"$f":"INDEX(données!W834:AA834,individus!$C$1)","v":{"$error":"#N/A"}},{"$f":"INDEX(données!W834:AA834,individus!$D$1)","v":{"$error":"#N/A"}},{"$f":"INDEX(données!AB834:AF834,individus!$C$1)","v":{"$error":"#N/A"}},{"$f":"INDEX(données!AB834:AF834,individus!$D$1)","v":{"$error":"#N/A"}},{"$error":"#N/A"}]
[null,{"$f":"données!B835","v":"li 832"},{"$f":"INDEX(données!W835:AA835,individus!$C$1)","v":{"$error":"#N/A"}},{"$f":"INDEX(données!W835:AA835,individus!$D$1)","v":{"$error":"#N/A"}},{"$f":"INDEX(données!AB835:AF835,individus!$C$1)","v":{"$error":"#N/A"}},{"$f":"INDEX(données!AB835:AF835,individus!$D$1)","v":{"$error":"#N/A"}},{"$error":"#N/A"}]
[null,{"$f":"données!B836","v":"li 833"},{"$f":"INDEX(données!W836:AA836,individus!$C$1)","v":{"$error":"#N/A"}},{"$f":"INDEX(données!W836:AA836,individus!$D$1)","v":{"$error":"#N/A"}},{"$f":"INDEX(données!AB836:AF836,individus!$C$1)","v":{"$error":"#N/A"}},{"$f":"INDEX(données!AB836:AF836,individus!$D$1)","v":{"$error":"#N/A"}},{"$error":"#N/A"}]
[null,{"$f":"données!B837","v":"li 834"},{"$f":"INDEX(données!W837:AA837,individus!$C$1)","v":{"$error":"#N/A"}},{"$f":"INDEX(données!W837:AA837,individus!$D$1)","v":{"$error":"#N/A"}},{"$f":"INDEX(données!AB837:AF837,individus!$C$1)","v":{"$error":"#N/A"}},{"$f":"INDEX(données!AB837:AF837,individus!$D$1)","v":{"$error":"#N/A"}},{"$f":"E837+F837","v":{"$error":"#N/A"}}]
[null,{"$f":"données!B838","v":"li 835"},{"$f":"INDEX(données!W838:AA838,individus!$C$1)","v":{"$error":"#N/A"}},{"$f":"INDEX(données!W838:AA838,individus!$D$1)","v":{"$error":"#N/A"}},{"$f":"INDEX(données!AB838:AF838,individus!$C$1)","v":{"$error":"#N/A"}},{"$f":"INDEX(données!AB838:AF838,individus!$D$1)","v":{"$error":"#N/A"}},{"$error":"#N/A"}]
[null,{"$f":"données!B839","v":"li 836"},{"$f":"INDEX(données!W839:AA839,individus!$C$1)","v":{"$error":"#N/A"}},{"$f":"INDEX(données!W839:AA839,individus!$D$1)","v":{"$error":"#N/A"}},{"$f":"INDEX(données!AB839:AF839,individus!$C$1)","v":{"$error":"#N/A"}},{"$f":"INDEX(données!AB839:AF839,individus!$D$1)","v":{"$error":"#N/A"}},{"$error":"#N/A"}]
[null,{"$f":"données!B840","v":"li 837"},{"$f":"INDEX(données!W840:AA840,individus!$C$1)","v":{"$error":"#N/A"}},{"$f":"INDEX(données!W840:AA840,individus!$D$1)","v":{"$error":"#N/A"}},{"$f":"INDEX(données!AB840:AF840,individus!$C$1)","v":{"$error":"#N/A"}},{"$f":"INDEX(données!AB840:AF840,individus!$D$1)","v":{"$error":"#N/A"}},{"$error":"#N/A"}]
[null,{"$f":"données!B841","v":"li 838"},{"$f":"INDEX(données!W841:AA841,individus!$C$1)","v":{"$error":"#N/A"}},{"$f":"INDEX(données!W841:AA841,individus!$D$1)","v":{"$error":"#N/A"}},{"$f":"INDEX(données!AB841:AF841,individus!$C$1)","v":{"$error":"#N/A"}},{"$f":"INDEX(données!AB841:AF841,individus!$D$1)","v":{"$error":"#N/A"}},{"$error":"#N/A"}]
[null,{"$f":"données!B842","v":"li 839"},{"$f":"INDEX(données!W842:AA842,individus!$C$1)","v":{"$error":"#N/A"}},{"$f":"INDEX(données!W842:AA842,individus!$D$1)","v":{"$error":"#N/A"}},{"$f":"INDEX(données!AB842:AF842,individus!$C$1)","v":{"$error":"#N/A"}},{"$f":"INDEX(données!AB842:AF842,individus!$D$1)","v":{"$error":"#N/A"}},{"$error":"#N/A"}]
[null,{"$f":"données!B843","v":"li 840"},{"$f":"INDEX(données!W843:AA843,individus!$C$1)","v":{"$error":"#N/A"}},{"$f":"INDEX(données!W843:AA843,individus!$D$1)","v":{"$error":"#N/A"}},{"$f":"INDEX(données!AB843:AF843,individus!$C$1)","v":{"$error":"#N/A"}},{"$f":"INDEX(données!AB843:AF843,individus!$D$1)","v":{"$error":"#N/A"}},{"$error":"#N/A"}]
[null,{"$f":"données!B844","v":"li 841"},{"$f":"INDEX(données!W844:AA844,individus!$C$1)","v":{"$error":"#N/A"}},{"$f":"INDEX(données!W844:AA844,individus!$D$1)","v":{"$error":"#N/A"}},{"$f":"INDEX(données!AB844:AF844,individus!$C$1)","v":{"$error":"#N/A"}},{"$f":"INDEX(données!AB844:AF844,individus!$D$1)","v":{"$error":"#N/A"}},{"$error":"#N/A"}]
[null,{"$f":"données!B845","v":"li 842"},{"$f":"INDEX(données!W845:AA845,individus!$C$1)","v":{"$error":"#N/A"}},{"$f":"INDEX(données!W845:AA845,individus!$D$1)","v":{"$error":"#N/A"}},{"$f":"INDEX(données!AB845:AF845,individus!$C$1)","v":{"$error":"#N/A"}},{"$f":"INDEX(données!AB845:AF845,individus!$D$1)","v":{"$error":"#N/A"}},{"$error":"#N/A"}]
[null,{"$f":"données!B846","v":"li 843"},{"$f":"INDEX(données!W846:AA846,individus!$C$1)","v":{"$error":"#N/A"}},{"$f":"INDEX(données!W846:AA846,individus!$D$1)","v":{"$error":"#N/A"}},{"$f":"INDEX(données!AB846:AF846,individus!$C$1)","v":{"$error":"#N/A"}},{"$f":"INDEX(données!AB846:AF846,individus!$D$1)","v":{"$error":"#N/A"}},{"$error":"#N/A"}]
[null,{"$f":"données!B847","v":"li 844"},{"$f":"INDEX(données!W847:AA847,individus!$C$1)","v":{"$error":"#N/A"}},{"$f":"INDEX(données!W847:AA847,individus!$D$1)","v":{"$error":"#N/A"}},{"$f":"INDEX(données!AB847:AF847,individus!$C$1)","v":{"$error":"#N/A"}},{"$f":"INDEX(données!AB847:AF847,individus!$D$1)","v":{"$error":"#N/A"}},{"$error":"#N/A"}]
[null,{"$f":"données!B848","v":"li 845"},{"$f":"INDEX(données!W848:AA848,individus!$C$1)","v":{"$error":"#N/A"}},{"$f":"INDEX(données!W848:AA848,individus!$D$1)","v":{"$error":"#N/A"}},{"$f":"INDEX(données!AB848:AF848,individus!$C$1)","v":{"$error":"#N/A"}},{"$f":"INDEX(données!AB848:AF848,individus!$D$1)","v":{"$error":"#N/A"}},{"$error":"#N/A"}]
[null,{"$f":"données!B849","v":"li 846"},{"$f":"INDEX(données!W849:AA849,individus!$C$1)","v":{"$error":"#N/A"}},{"$f":"INDEX(données!W849:AA849,individus!$D$1)","v":{"$error":"#N/A"}},{"$f":"INDEX(données!AB849:AF849,individus!$C$1)","v":{"$error":"#N/A"}},{"$f":"INDEX(données!AB849:AF849,individus!$D$1)","v":{"$error":"#N/A"}},{"$error":"#N/A"}]
[null,{"$f":"données!B850","v":"li 847"},{"$f":"INDEX(données!W850:AA850,individus!$C$1)","v":{"$error":"#N/A"}},{"$f":"INDEX(données!W850:AA850,individus!$D$1)","v":{"$error":"#N/A"}},{"$f":"INDEX(données!AB850:AF850,individus!$C$1)","v":{"$error":"#N/A"}},{"$f":"INDEX(données!AB850:AF850,individus!$D$1)","v":{"$error":"#N/A"}},{"$error":"#N/A"}]
[null,{"$f":"données!B851","v":"li 848"},{"$f":"INDEX(données!W851:AA851,individus!$C$1)","v":{"$error":"#N/A"}},{"$f":"INDEX(données!W851:AA851,individus!$D$1)","v":{"$error":"#N/A"}},{"$f":"INDEX(données!AB851:AF851,individus!$C$1)","v":{"$error":"#N/A"}},{"$f":"INDEX(données!AB851:AF851,individus!$D$1)","v":{"$error":"#N/A"}},{"$error":"#N/A"}]
[null,{"$f":"données!B852","v":"li 849"},{"$f":"INDEX(données!W852:AA852,individus!$C$1)","v":{"$error":"#N/A"}},{"$f":"INDEX(données!W852:AA852,individus!$D$1)","v":{"$error":"#N/A"}},{"$f":"INDEX(données!AB852:AF852,individus!$C$1)","v":{"$error":"#N/A"}},{"$f":"INDEX(données!AB852:AF852,individus!$D$1)","v":{"$error":"#N/A"}},{"$error":"#N/A"}]
[null,{"$f":"données!B853","v":"li 850"},{"$f":"INDEX(données!W853:AA853,individus!$C$1)","v":{"$error":"#N/A"}},{"$f":"INDEX(données!W853:AA853,individus!$D$1)","v":{"$error":"#N/A"}},{"$f":"INDEX(données!AB853:AF853,individus!$C$1)","v":{"$error":"#N/A"}},{"$f":"INDEX(données!AB853:AF853,individus!$D$1)","v":{"$error":"#N/A"}},{"$error":"#N/A"}]
[null,{"$f":"données!B854","v":"li 851"},{"$f":"INDEX(données!W854:AA854,individus!$C$1)","v":{"$error":"#N/A"}},{"$f":"INDEX(données!W854:AA854,individus!$D$1)","v":{"$error":"#N/A"}},{"$f":"INDEX(données!AB854:AF854,individus!$C$1)","v":{"$error":"#N/A"}},{"$f":"INDEX(données!AB854:AF854,individus!$D$1)","v":{"$error":"#N/A"}},{"$error":"#N/A"}]
[null,{"$f":"données!B855","v":"li 852"},{"$f":"INDEX(données!W855:AA855,individus!$C$1)","v":{"$error":"#N/A"}},{"$f":"INDEX(données!W855:AA855,individus!$D$1)","v":{"$error":"#N/A"}},{"$f":"INDEX(données!AB855:AF855,individus!$C$1)","v":{"$error":"#N/A"}},{"$f":"INDEX(données!AB855:AF855,individus!$D$1)","v":{"$error":"#N/A"}},{"$error":"#N/A"}]
[null,{"$f":"données!B856","v":"li 853"},{"$f":"INDEX(données!W856:AA856,individus!$C$1)","v":{"$error":"#N/A"}},{"$f":"INDEX(données!W856:AA856,individus!$D$1)","v":{"$error":"#N/A"}},{"$f":"INDEX(données!AB856:AF856,individus!$C$1)","v":{"$error":"#N/A"}},{"$f":"INDEX(données!AB856:AF856,individus!$D$1)","v":{"$error":"#N/A"}},{"$error":"#N/A"}]
[null,{"$f":"données!B857","v":"li 854"},{"$f":"INDEX(données!W857:AA857,individus!$C$1)","v":{"$error":"#N/A"}},{"$f":"INDEX(données!W857:AA857,individus!$D$1)","v":{"$error":"#N/A"}},{"$f":"INDEX(données!AB857:AF857,individus!$C$1)","v":{"$error":"#N/A"}},{"$f":"INDEX(données!AB857:AF857,individus!$D$1)","v":{"$error":"#N/A"}},{"$error":"#N/A"}]
[null,{"$f":"données!B858","v":"li 855"},{"$f":"INDEX(données!W858:AA858,individus!$C$1)","v":{"$error":"#N/A"}},{"$f":"INDEX(données!W858:AA858,individus!$D$1)","v":{"$error":"#N/A"}},{"$f":"INDEX(données!AB858:AF858,individus!$C$1)","v":{"$error":"#N/A"}},{"$f":"INDEX(données!AB858:AF858,individus!$D$1)","v":{"$error":"#N/A"}},{"$error":"#N/A"}]
[null,{"$f":"données!B859","v":"li 856"},{"$f":"INDEX(données!W859:AA859,individus!$C$1)","v":{"$error":"#N/A"}},{"$f":"INDEX(données!W859:AA859,individus!$D$1)","v":{"$error":"#N/A"}},{"$f":"INDEX(données!AB859:AF859,individus!$C$1)","v":{"$error":"#N/A"}},{"$f":"INDEX(données!AB859:AF859,individus!$D$1)","v":{"$error":"#N/A"}},{"$error":"#N/A"}]
[null,{"$f":"données!B860","v":"li 857"},{"$f":"INDEX(données!W860:AA860,individus!$C$1)","v":{"$error":"#N/A"}},{"$f":"INDEX(données!W860:AA860,individus!$D$1)","v":{"$error":"#N/A"}},{"$f":"INDEX(données!AB860:AF860,individus!$C$1)","v":{"$error":"#N/A"}},{"$f":"INDEX(données!AB860:AF860,individus!$D$1)","v":{"$error":"#N/A"}},{"$error":"#N/A"}]
[null,{"$f":"données!B861","v":"li 858"},{"$f":"INDEX(données!W861:AA861,individus!$C$1)","v":{"$error":"#N/A"}},{"$f":"INDEX(données!W861:AA861,individus!$D$1)","v":{"$error":"#N/A"}},{"$f":"INDEX(données!AB861:AF861,individus!$C$1)","v":{"$error":"#N/A"}},{"$f":"INDEX(données!AB861:AF861,individus!$D$1)","v":{"$error":"#N/A"}},{"$error":"#N/A"}]
[null,{"$f":"données!B862","v":"li 859"},{"$f":"INDEX(données!W862:AA862,individus!$C$1)","v":{"$error":"#N/A"}},{"$f":"INDEX(données!W862:AA862,individus!$D$1)","v":{"$error":"#N/A"}},{"$f":"INDEX(données!AB862:AF862,individus!$C$1)","v":{"$error":"#N/A"}},{"$f":"INDEX(données!AB862:AF862,individus!$D$1)","v":{"$error":"#N/A"}},{"$error":"#N/A"}]
[null,{"$f":"données!B863","v":"li 860"},{"$f":"INDEX(données!W863:AA863,individus!$C$1)","v":{"$error":"#N/A"}},{"$f":"INDEX(données!W863:AA863,individus!$D$1)","v":{"$error":"#N/A"}},{"$f":"INDEX(données!AB863:AF863,individus!$C$1)","v":{"$error":"#N/A"}},{"$f":"INDEX(données!AB863:AF863,individus!$D$1)","v":{"$error":"#N/A"}},{"$error":"#N/A"}]
[null,{"$f":"données!B864","v":"li 861"},{"$f":"INDEX(données!W864:AA864,individus!$C$1)","v":{"$error":"#N/A"}},{"$f":"INDEX(données!W864:AA864,individus!$D$1)","v":{"$error":"#N/A"}},{"$f":"INDEX(données!AB864:AF864,individus!$C$1)","v":{"$error":"#N/A"}},{"$f":"INDEX(données!AB864:AF864,individus!$D$1)","v":{"$error":"#N/A"}},{"$error":"#N/A"}]
[null,{"$f":"données!B865","v":"li 862"},{"$f":"INDEX(données!W865:AA865,individus!$C$1)","v":{"$error":"#N/A"}},{"$f":"INDEX(données!W865:AA865,individus!$D$1)","v":{"$error":"#N/A"}},{"$f":"INDEX(données!AB865:AF865,individus!$C$1)","v":{"$error":"#N/A"}},{"$f":"INDEX(données!AB865:AF865,individus!$D$1)","v":{"$error":"#N/A"}},{"$error":"#N/A"}]
[null,{"$f":"données!B866","v":"li 863"},{"$f":"INDEX(données!W866:AA866,individus!$C$1)","v":{"$error":"#N/A"}},{"$f":"INDEX(données!W866:AA866,individus!$D$1)","v":{"$error":"#N/A"}},{"$f":"INDEX(données!AB866:AF866,individus!$C$1)","v":{"$error":"#N/A"}},{"$f":"INDEX(données!AB866:AF866,individus!$D$1)","v":{"$error":"#N/A"}},{"$error":"#N/A"}]
[null,{"$f":"données!B867","v":"li 864"},{"$f":"INDEX(données!W867:AA867,individus!$C$1)","v":{"$error":"#N/A"}},{"$f":"INDEX(données!W867:AA867,individus!$D$1)","v":{"$error":"#N/A"}},{"$f":"INDEX(données!AB867:AF867,individus!$C$1)","v":{"$error":"#N/A"}},{"$f":"INDEX(données!AB867:AF867,individus!$D$1)","v":{"$error":"#N/A"}},{"$error":"#N/A"}]
[null,{"$f":"données!B868","v":"li 865"},{"$f":"INDEX(données!W868:AA868,individus!$C$1)","v":{"$error":"#N/A"}},{"$f":"INDEX(données!W868:AA868,individus!$D$1)","v":{"$error":"#N/A"}},{"$f":"INDEX(données!AB868:AF868,individus!$C$1)","v":{"$error":"#N/A"}},{"$f":"INDEX(données!AB868:AF868,individus!$D$1)","v":{"$error":"#N/A"}},{"$error":"#N/A"}]
[null,{"$f":"données!B869","v":"li 866"},{"$f":"INDEX(données!W869:AA869,individus!$C$1)","v":{"$error":"#N/A"}},{"$f":"INDEX(données!W869:AA869,individus!$D$1)","v":{"$error":"#N/A"}},{"$f":"INDEX(données!AB869:AF869,individus!$C$1)","v":{"$error":"#N/A"}},{"$f":"INDEX(données!AB869:AF869,individus!$D$1)","v":{"$error":"#N/A"}},{"$error":"#N/A"}]
[null,{"$f":"données!B870","v":"li 867"},{"$f":"INDEX(données!W870:AA870,individus!$C$1)","v":{"$error":"#N/A"}},{"$f":"INDEX(données!W870:AA870,individus!$D$1)","v":{"$error":"#N/A"}},{"$f":"INDEX(données!AB870:AF870,individus!$C$1)","v":{"$error":"#N/A"}},{"$f":"INDEX(données!AB870:AF870,individus!$D$1)","v":{"$error":"#N/A"}},{"$error":"#N/A"}]
[null,{"$f":"données!B871","v":"li 868"},{"$f":"INDEX(données!W871:AA871,individus!$C$1)","v":{"$error":"#N/A"}},{"$f":"INDEX(données!W871:AA871,individus!$D$1)","v":{"$error":"#N/A"}},{"$f":"INDEX(données!AB871:AF871,individus!$C$1)","v":{"$error":"#N/A"}},{"$f":"INDEX(données!AB871:AF871,individus!$D$1)","v":{"$error":"#N/A"}},{"$error":"#N/A"}]
[null,{"$f":"données!B872","v":"li 869"},{"$f":"INDEX(données!W872:AA872,individus!$C$1)","v":{"$error":"#N/A"}},{"$f":"INDEX(données!W872:AA872,individus!$D$1)","v":{"$error":"#N/A"}},{"$f":"INDEX(données!AB872:AF872,individus!$C$1)","v":{"$error":"#N/A"}},{"$f":"INDEX(données!AB872:AF872,individus!$D$1)","v":{"$error":"#N/A"}},{"$error":"#N/A"}]
[null,{"$f":"données!B873","v":"li 870"},{"$f":"INDEX(données!W873:AA873,individus!$C$1)","v":{"$error":"#N/A"}},{"$f":"INDEX(données!W873:AA873,individus!$D$1)","v":{"$error":"#N/A"}},{"$f":"INDEX(données!AB873:AF873,individus!$C$1)","v":{"$error":"#N/A"}},{"$f":"INDEX(données!AB873:AF873,individus!$D$1)","v":{"$error":"#N/A"}},{"$error":"#N/A"}]
[null,{"$f":"données!B874","v":"li 871"},{"$f":"INDEX(données!W874:AA874,individus!$C$1)","v":{"$error":"#N/A"}},{"$f":"INDEX(données!W874:AA874,individus!$D$1)","v":{"$error":"#N/A"}},{"$f":"INDEX(données!AB874:AF874,individus!$C$1)","v":{"$error":"#N/A"}},{"$f":"INDEX(données!AB874:AF874,individus!$D$1)","v":{"$error":"#N/A"}},{"$error":"#N/A"}]
[null,{"$f":"données!B875","v":"li 872"},{"$f":"INDEX(données!W875:AA875,individus!$C$1)","v":{"$error":"#N/A"}},{"$f":"INDEX(données!W875:AA875,individus!$D$1)","v":{"$error":"#N/A"}},{"$f":"INDEX(données!AB875:AF875,individus!$C$1)","v":{"$error":"#N/A"}},{"$f":"INDEX(données!AB875:AF875,individus!$D$1)","v":{"$error":"#N/A"}},{"$error":"#N/A"}]
[null,{"$f":"données!B876","v":"li 873"},{"$f":"INDEX(données!W876:AA876,individus!$C$1)","v":{"$error":"#N/A"}},{"$f":"INDEX(données!W876:AA876,individus!$D$1)","v":{"$error":"#N/A"}},{"$f":"INDEX(données!AB876:AF876,individus!$C$1)","v":{"$error":"#N/A"}},{"$f":"INDEX(données!AB876:AF876,individus!$D$1)","v":{"$error":"#N/A"}},{"$error":"#N/A"}]
[null,{"$f":"données!B877","v":"li 874"},{"$f":"INDEX(données!W877:AA877,individus!$C$1)","v":{"$error":"#N/A"}},{"$f":"INDEX(données!W877:AA877,individus!$D$1)","v":{"$error":"#N/A"}},{"$f":"INDEX(données!AB877:AF877,individus!$C$1)","v":{"$error":"#N/A"}},{"$f":"INDEX(données!AB877:AF877,individus!$D$1)","v":{"$error":"#N/A"}},{"$error":"#N/A"}]
[null,{"$f":"données!B878","v":"li 875"},{"$f":"INDEX(données!W878:AA878,individus!$C$1)","v":{"$error":"#N/A"}},{"$f":"INDEX(données!W878:AA878,individus!$D$1)","v":{"$error":"#N/A"}},{"$f":"INDEX(données!AB878:AF878,individus!$C$1)","v":{"$error":"#N/A"}},{"$f":"INDEX(données!AB878:AF878,individus!$D$1)","v":{"$error":"#N/A"}},{"$error":"#N/A"}]
[null,{"$f":"données!B879","v":"li 876"},{"$f":"INDEX(données!W879:AA879,individus!$C$1)","v":{"$error":"#N/A"}},{"$f":"INDEX(données!W879:AA879,individus!$D$1)","v":{"$error":"#N/A"}},{"$f":"INDEX(données!AB879:AF879,individus!$C$1)","v":{"$error":"#N/A"}},{"$f":"INDEX(données!AB879:AF879,individus!$D$1)","v":{"$error":"#N/A"}},{"$error":"#N/A"}]
[null,{"$f":"données!B880","v":"li 877"},{"$f":"INDEX(données!W880:AA880,individus!$C$1)","v":{"$error":"#N/A"}},{"$f":"INDEX(données!W880:AA880,individus!$D$1)","v":{"$error":"#N/A"}},{"$f":"INDEX(données!AB880:AF880,individus!$C$1)","v":{"$error":"#N/A"}},{"$f":"INDEX(données!AB880:AF880,individus!$D$1)","v":{"$error":"#N/A"}},{"$error":"#N/A"}]
[null,{"$f":"données!B881","v":"li 878"},{"$f":"INDEX(données!W881:AA881,individus!$C$1)","v":{"$error":"#N/A"}},{"$f":"INDEX(données!W881:AA881,individus!$D$1)","v":{"$error":"#N/A"}},{"$f":"INDEX(données!AB881:AF881,individus!$C$1)","v":{"$error":"#N/A"}},{"$f":"INDEX(données!AB881:AF881,individus!$D$1)","v":{"$error":"#N/A"}},{"$error":"#N/A"}]
[null,{"$f":"données!B882","v":"li 879"},{"$f":"INDEX(données!W882:AA882,individus!$C$1)","v":{"$error":"#N/A"}},{"$f":"INDEX(données!W882:AA882,individus!$D$1)","v":{"$error":"#N/A"}},{"$f":"INDEX(données!AB882:AF882,individus!$C$1)","v":{"$error":"#N/A"}},{"$f":"INDEX(données!AB882:AF882,individus!$D$1)","v":{"$error":"#N/A"}},{"$error":"#N/A"}]
[null,{"$f":"données!B883","v":"li 880"},{"$f":"INDEX(données!W883:AA883,individus!$C$1)","v":{"$error":"#N/A"}},{"$f":"INDEX(données!W883:AA883,individus!$D$1)","v":{"$error":"#N/A"}},{"$f":"INDEX(données!AB883:AF883,individus!$C$1)","v":{"$error":"#N/A"}},{"$f":"INDEX(données!AB883:AF883,individus!$D$1)","v":{"$error":"#N/A"}},{"$error":"#N/A"}]
[null,{"$f":"données!B884","v":"li 881"},{"$f":"INDEX(données!W884:AA884,individus!$C$1)","v":{"$error":"#N/A"}},{"$f":"INDEX(données!W884:AA884,individus!$D$1)","v":{"$error":"#N/A"}},{"$f":"INDEX(données!AB884:AF884,individus!$C$1)","v":{"$error":"#N/A"}},{"$f":"INDEX(données!AB884:AF884,individus!$D$1)","v":{"$error":"#N/A"}},{"$error":"#N/A"}]
[null,{"$f":"données!B885","v":"li 882"},{"$f":"INDEX(données!W885:AA885,individus!$C$1)","v":{"$error":"#N/A"}},{"$f":"INDEX(données!W885:AA885,individus!$D$1)","v":{"$error":"#N/A"}},{"$f":"INDEX(données!AB885:AF885,individus!$C$1)","v":{"$error":"#N/A"}},{"$f":"INDEX(données!AB885:AF885,individus!$D$1)","v":{"$error":"#N/A"}},{"$error":"#N/A"}]
[null,{"$f":"données!B886","v":"li 883"},{"$f":"INDEX(données!W886:AA886,individus!$C$1)","v":{"$error":"#N/A"}},{"$f":"INDEX(données!W886:AA886,individus!$D$1)","v":{"$error":"#N/A"}},{"$f":"INDEX(données!AB886:AF886,individus!$C$1)","v":{"$error":"#N/A"}},{"$f":"INDEX(données!AB886:AF886,individus!$D$1)","v":{"$error":"#N/A"}},{"$error":"#N/A"}]
[null,{"$f":"données!B887","v":"li 884"},{"$f":"INDEX(données!W887:AA887,individus!$C$1)","v":{"$error":"#N/A"}},{"$f":"INDEX(données!W887:AA887,individus!$D$1)","v":{"$error":"#N/A"}},{"$f":"INDEX(données!AB887:AF887,individus!$C$1)","v":{"$error":"#N/A"}},{"$f":"INDEX(données!AB887:AF887,individus!$D$1)","v":{"$error":"#N/A"}},{"$error":"#N/A"}]
[null,{"$f":"données!B888","v":"li 885"},{"$f":"INDEX(données!W888:AA888,individus!$C$1)","v":{"$error":"#N/A"}},{"$f":"INDEX(données!W888:AA888,individus!$D$1)","v":{"$error":"#N/A"}},{"$f":"INDEX(données!AB888:AF888,individus!$C$1)","v":{"$error":"#N/A"}},{"$f":"INDEX(données!AB888:AF888,individus!$D$1)","v":{"$error":"#N/A"}},{"$error":"#N/A"}]
[null,{"$f":"données!B889","v":"li 886"},{"$f":"INDEX(données!W889:AA889,individus!$C$1)","v":{"$error":"#N/A"}},{"$f":"INDEX(données!W889:AA889,individus!$D$1)","v":{"$error":"#N/A"}},{"$f":"INDEX(données!AB889:AF889,individus!$C$1)","v":{"$error":"#N/A"}},{"$f":"INDEX(données!AB889:AF889,individus!$D$1)","v":{"$error":"#N/A"}},{"$error":"#N/A"}]
[null,{"$f":"données!B890","v":"li 887"},{"$f":"INDEX(données!W890:AA890,individus!$C$1)","v":{"$error":"#N/A"}},{"$f":"INDEX(données!W890:AA890,individus!$D$1)","v":{"$error":"#N/A"}},{"$f":"INDEX(données!AB890:AF890,individus!$C$1)","v":{"$error":"#N/A"}},{"$f":"INDEX(données!AB890:AF890,individus!$D$1)","v":{"$error":"#N/A"}},{"$error":"#N/A"}]
[null,{"$f":"données!B891","v":"li 888"},{"$f":"INDEX(données!W891:AA891,individus!$C$1)","v":{"$error":"#N/A"}},{"$f":"INDEX(données!W891:AA891,individus!$D$1)","v":{"$error":"#N/A"}},{"$f":"INDEX(données!AB891:AF891,individus!$C$1)","v":{"$error":"#N/A"}},{"$f":"INDEX(données!AB891:AF891,individus!$D$1)","v":{"$error":"#N/A"}},{"$error":"#N/A"}]
[null,{"$f":"données!B892","v":"li 889"},{"$f":"INDEX(données!W892:AA892,individus!$C$1)","v":{"$error":"#N/A"}},{"$f":"INDEX(données!W892:AA892,individus!$D$1)","v":{"$error":"#N/A"}},{"$f":"INDEX(données!AB892:AF892,individus!$C$1)","v":{"$error":"#N/A"}},{"$f":"INDEX(données!AB892:AF892,individus!$D$1)","v":{"$error":"#N/A"}},{"$error":"#N/A"}]
[null,{"$f":"données!B893","v":"li 890"},{"$f":"INDEX(données!W893:AA893,individus!$C$1)","v":{"$error":"#N/A"}},{"$f":"INDEX(données!W893:AA893,individus!$D$1)","v":{"$error":"#N/A"}},{"$f":"INDEX(données!AB893:AF893,individus!$C$1)","v":{"$error":"#N/A"}},{"$f":"INDEX(données!AB893:AF893,individus!$D$1)","v":{"$error":"#N/A"}},{"$error":"#N/A"}]
[null,{"$f":"données!B894","v":"li 891"},{"$f":"INDEX(données!W894:AA894,individus!$C$1)","v":{"$error":"#N/A"}},{"$f":"INDEX(données!W894:AA894,individus!$D$1)","v":{"$error":"#N/A"}},{"$f":"INDEX(données!AB894:AF894,individus!$C$1)","v":{"$error":"#N/A"}},{"$f":"INDEX(données!AB894:AF894,individus!$D$1)","v":{"$error":"#N/A"}},{"$error":"#N/A"}]
[null,{"$f":"données!B895","v":"li 892"},{"$f":"INDEX(données!W895:AA895,individus!$C$1)","v":{"$error":"#N/A"}},{"$f":"INDEX(données!W895:AA895,individus!$D$1)","v":{"$error":"#N/A"}},{"$f":"INDEX(données!AB895:AF895,individus!$C$1)","v":{"$error":"#N/A"}},{"$f":"INDEX(données!AB895:AF895,individus!$D$1)","v":{"$error":"#N/A"}},{"$error":"#N/A"}]
[null,{"$f":"données!B896","v":"li 893"},{"$f":"INDEX(données!W896:AA896,individus!$C$1)","v":{"$error":"#N/A"}},{"$f":"INDEX(données!W896:AA896,individus!$D$1)","v":{"$error":"#N/A"}},{"$f":"INDEX(données!AB896:AF896,individus!$C$1)","v":{"$error":"#N/A"}},{"$f":"INDEX(données!AB896:AF896,individus!$D$1)","v":{"$error":"#N/A"}},{"$error":"#N/A"}]
[null,{"$f":"données!B897","v":"li 894"},{"$f":"INDEX(données!W897:AA897,individus!$C$1)","v":{"$error":"#N/A"}},{"$f":"INDEX(données!W897:AA897,individus!$D$1)","v":{"$error":"#N/A"}},{"$f":"INDEX(données!AB897:AF897,individus!$C$1)","v":{"$error":"#N/A"}},{"$f":"INDEX(données!AB897:AF897,individus!$D$1)","v":{"$error":"#N/A"}},{"$error":"#N/A"}]
[null,{"$f":"données!B898","v":"li 895"},{"$f":"INDEX(données!W898:AA898,individus!$C$1)","v":{"$error":"#N/A"}},{"$f":"INDEX(données!W898:AA898,individus!$D$1)","v":{"$error":"#N/A"}},{"$f":"INDEX(données!AB898:AF898,individus!$C$1)","v":{"$error":"#N/A"}},{"$f":"INDEX(données!AB898:AF898,individus!$D$1)","v":{"$error":"#N/A"}},{"$error":"#N/A"}]
[null,{"$f":"données!B899","v":"li 896"},{"$f":"INDEX(données!W899:AA899,individus!$C$1)","v":{"$error":"#N/A"}},{"$f":"INDEX(données!W899:AA899,individus!$D$1)","v":{"$error":"#N/A"}},{"$f":"INDEX(données!AB899:AF899,individus!$C$1)","v":{"$error":"#N/A"}},{"$f":"INDEX(données!AB899:AF899,individus!$D$1)","v":{"$error":"#N/A"}},{"$error":"#N/A"}]
[null,{"$f":"données!B900","v":"li 897"},{"$f":"INDEX(données!W900:AA900,individus!$C$1)","v":{"$error":"#N/A"}},{"$f":"INDEX(données!W900:AA900,individus!$D$1)","v":{"$error":"#N/A"}},{"$f":"INDEX(données!AB900:AF900,individus!$C$1)","v":{"$error":"#N/A"}},{"$f":"INDEX(données!AB900:AF900,individus!$D$1)","v":{"$error":"#N/A"}},{"$error":"#N/A"}]
[null,{"$f":"données!B901","v":"li 898"},{"$f":"INDEX(données!W901:AA901,individus!$C$1)","v":{"$error":"#N/A"}},{"$f":"INDEX(données!W901:AA901,individus!$D$1)","v":{"$error":"#N/A"}},{"$f":"INDEX(données!AB901:AF901,individus!$C$1)","v":{"$error":"#N/A"}},{"$f":"INDEX(données!AB901:AF901,individus!$D$1)","v":{"$error":"#N/A"}},{"$f":"E901+F901","v":{"$error":"#N/A"}}]
[null,{"$f":"données!B902","v":"li 899"},{"$f":"INDEX(données!W902:AA902,individus!$C$1)","v":{"$error":"#N/A"}},{"$f":"INDEX(données!W902:AA902,individus!$D$1)","v":{"$error":"#N/A"}},{"$f":"INDEX(données!AB902:AF902,individus!$C$1)","v":{"$error":"#N/A"}},{"$f":"INDEX(données!AB902:AF902,individus!$D$1)","v":{"$error":"#N/A"}},{"$error":"#N/A"}]
[null,{"$f":"données!B903","v":"li 900"},{"$f":"INDEX(données!W903:AA903,individus!$C$1)","v":{"$error":"#N/A"}},{"$f":"INDEX(données!W903:AA903,individus!$D$1)","v":{"$error":"#N/A"}},{"$f":"INDEX(données!AB903:AF903,individus!$C$1)","v":{"$error":"#N/A"}},{"$f":"INDEX(données!AB903:AF903,individus!$D$1)","v":{"$error":"#N/A"}},{"$error":"#N/A"}]
[null,{"$f":"données!B904","v":"li 901"},{"$f":"INDEX(données!W904:AA904,individus!$C$1)","v":{"$error":"#N/A"}},{"$f":"INDEX(données!W904:AA904,individus!$D$1)","v":{"$error":"#N/A"}},{"$f":"INDEX(données!AB904:AF904,individus!$C$1)","v":{"$error":"#N/A"}},{"$f":"INDEX(données!AB904:AF904,individus!$D$1)","v":{"$error":"#N/A"}},{"$error":"#N/A"}]
[null,{"$f":"données!B905","v":"li 902"},{"$f":"INDEX(données!W905:AA905,individus!$C$1)","v":{"$error":"#N/A"}},{"$f":"INDEX(données!W905:AA905,individus!$D$1)","v":{"$error":"#N/A"}},{"$f":"INDEX(données!AB905:AF905,individus!$C$1)","v":{"$error":"#N/A"}},{"$f":"INDEX(données!AB905:AF905,individus!$D$1)","v":{"$error":"#N/A"}},{"$error":"#N/A"}]
[null,{"$f":"données!B906","v":"li 903"},{"$f":"INDEX(données!W906:AA906,individus!$C$1)","v":{"$error":"#N/A"}},{"$f":"INDEX(données!W906:AA906,individus!$D$1)","v":{"$error":"#N/A"}},{"$f":"INDEX(données!AB906:AF906,individus!$C$1)","v":{"$error":"#N/A"}},{"$f":"INDEX(données!AB906:AF906,individus!$D$1)","v":{"$error":"#N/A"}},{"$error":"#N/A"}]
[null,{"$f":"données!B907","v":"li 904"},{"$f":"INDEX(données!W907:AA907,individus!$C$1)","v":{"$error":"#N/A"}},{"$f":"INDEX(données!W907:AA907,individus!$D$1)","v":{"$error":"#N/A"}},{"$f":"INDEX(données!AB907:AF907,individus!$C$1)","v":{"$error":"#N/A"}},{"$f":"INDEX(données!AB907:AF907,individus!$D$1)","v":{"$error":"#N/A"}},{"$error":"#N/A"}]
[null,{"$f":"données!B908","v":"li 905"},{"$f":"INDEX(données!W908:AA908,individus!$C$1)","v":{"$error":"#N/A"}},{"$f":"INDEX(données!W908:AA908,individus!$D$1)","v":{"$error":"#N/A"}},{"$f":"INDEX(données!AB908:AF908,individus!$C$1)","v":{"$error":"#N/A"}},{"$f":"INDEX(données!AB908:AF908,individus!$D$1)","v":{"$error":"#N/A"}},{"$error":"#N/A"}]
[null,{"$f":"données!B909","v":"li 906"},{"$f":"INDEX(données!W909:AA909,individus!$C$1)","v":{"$error":"#N/A"}},{"$f":"INDEX(données!W909:AA909,individus!$D$1)","v":{"$error":"#N/A"}},{"$f":"INDEX(données!AB909:AF909,individus!$C$1)","v":{"$error":"#N/A"}},{"$f":"INDEX(données!AB909:AF909,individus!$D$1)","v":{"$error":"#N/A"}},{"$error":"#N/A"}]
[null,{"$f":"données!B910","v":"li 907"},{"$f":"INDEX(données!W910:AA910,individus!$C$1)","v":{"$error":"#N/A"}},{"$f":"INDEX(données!W910:AA910,individus!$D$1)","v":{"$error":"#N/A"}},{"$f":"INDEX(données!AB910:AF910,individus!$C$1)","v":{"$error":"#N/A"}},{"$f":"INDEX(données!AB910:AF910,individus!$D$1)","v":{"$error":"#N/A"}},{"$error":"#N/A"}]
[null,{"$f":"données!B911","v":"li 908"},{"$f":"INDEX(données!W911:AA911,individus!$C$1)","v":{"$error":"#N/A"}},{"$f":"INDEX(données!W911:AA911,individus!$D$1)","v":{"$error":"#N/A"}},{"$f":"INDEX(données!AB911:AF911,individus!$C$1)","v":{"$error":"#N/A"}},{"$f":"INDEX(données!AB911:AF911,individus!$D$1)","v":{"$error":"#N/A"}},{"$error":"#N/A"}]
[null,{"$f":"données!B912","v":"li 909"},{"$f":"INDEX(données!W912:AA912,individus!$C$1)","v":{"$error":"#N/A"}},{"$f":"INDEX(données!W912:AA912,individus!$D$1)","v":{"$error":"#N/A"}},{"$f":"INDEX(données!AB912:AF912,individus!$C$1)","v":{"$error":"#N/A"}},{"$f":"INDEX(données!AB912:AF912,individus!$D$1)","v":{"$error":"#N/A"}},{"$error":"#N/A"}]
[null,{"$f":"données!B913","v":"li 910"},{"$f":"INDEX(données!W913:AA913,individus!$C$1)","v":{"$error":"#N/A"}},{"$f":"INDEX(données!W913:AA913,individus!$D$1)","v":{"$error":"#N/A"}},{"$f":"INDEX(données!AB913:AF913,individus!$C$1)","v":{"$error":"#N/A"}},{"$f":"INDEX(données!AB913:AF913,individus!$D$1)","v":{"$error":"#N/A"}},{"$error":"#N/A"}]
[null,{"$f":"données!B914","v":"li 911"},{"$f":"INDEX(données!W914:AA914,individus!$C$1)","v":{"$error":"#N/A"}},{"$f":"INDEX(données!W914:AA914,individus!$D$1)","v":{"$error":"#N/A"}},{"$f":"INDEX(données!AB914:AF914,individus!$C$1)","v":{"$error":"#N/A"}},{"$f":"INDEX(données!AB914:AF914,individus!$D$1)","v":{"$error":"#N/A"}},{"$error":"#N/A"}]
[null,{"$f":"données!B915","v":"li 912"},{"$f":"INDEX(données!W915:AA915,individus!$C$1)","v":{"$error":"#N/A"}},{"$f":"INDEX(données!W915:AA915,individus!$D$1)","v":{"$error":"#N/A"}},{"$f":"INDEX(données!AB915:AF915,individus!$C$1)","v":{"$error":"#N/A"}},{"$f":"INDEX(données!AB915:AF915,individus!$D$1)","v":{"$error":"#N/A"}},{"$error":"#N/A"}]
[null,{"$f":"données!B916","v":"li 913"},{"$f":"INDEX(données!W916:AA916,individus!$C$1)","v":{"$error":"#N/A"}},{"$f":"INDEX(données!W916:AA916,individus!$D$1)","v":{"$error":"#N/A"}},{"$f":"INDEX(données!AB916:AF916,individus!$C$1)","v":{"$error":"#N/A"}},{"$f":"INDEX(données!AB916:AF916,individus!$D$1)","v":{"$error":"#N/A"}},{"$error":"#N/A"}]
[null,{"$f":"données!B917","v":"li 914"},{"$f":"INDEX(données!W917:AA917,individus!$C$1)","v":{"$error":"#N/A"}},{"$f":"INDEX(données!W917:AA917,individus!$D$1)","v":{"$error":"#N/A"}},{"$f":"INDEX(données!AB917:AF917,individus!$C$1)","v":{"$error":"#N/A"}},{"$f":"INDEX(données!AB917:AF917,individus!$D$1)","v":{"$error":"#N/A"}},{"$error":"#N/A"}]
[null,{"$f":"données!B918","v":"li 915"},{"$f":"INDEX(données!W918:AA918,individus!$C$1)","v":{"$error":"#N/A"}},{"$f":"INDEX(données!W918:AA918,individus!$D$1)","v":{"$error":"#N/A"}},{"$f":"INDEX(données!AB918:AF918,individus!$C$1)","v":{"$error":"#N/A"}},{"$f":"INDEX(données!AB918:AF918,individus!$D$1)","v":{"$error":"#N/A"}},{"$error":"#N/A"}]
[null,{"$f":"données!B919","v":"li 916"},{"$f":"INDEX(données!W919:AA919,individus!$C$1)","v":{"$error":"#N/A"}},{"$f":"INDEX(données!W919:AA919,individus!$D$1)","v":{"$error":"#N/A"}},{"$f":"INDEX(données!AB919:AF919,individus!$C$1)","v":{"$error":"#N/A"}},{"$f":"INDEX(données!AB919:AF919,individus!$D$1)","v":{"$error":"#N/A"}},{"$error":"#N/A"}]
[null,{"$f":"données!B920","v":"li 917"},{"$f":"INDEX(données!W920:AA920,individus!$C$1)","v":{"$error":"#N/A"}},{"$f":"INDEX(données!W920:AA920,individus!$D$1)","v":{"$error":"#N/A"}},{"$f":"INDEX(données!AB920:AF920,individus!$C$1)","v":{"$error":"#N/A"}},{"$f":"INDEX(données!AB920:AF920,individus!$D$1)","v":{"$error":"#N/A"}},{"$error":"#N/A"}]
[null,{"$f":"données!B921","v":"li 918"},{"$f":"INDEX(données!W921:AA921,individus!$C$1)","v":{"$error":"#N/A"}},{"$f":"INDEX(données!W921:AA921,individus!$D$1)","v":{"$error":"#N/A"}},{"$f":"INDEX(données!AB921:AF921,individus!$C$1)","v":{"$error":"#N/A"}},{"$f":"INDEX(données!AB921:AF921,individus!$D$1)","v":{"$error":"#N/A"}},{"$error":"#N/A"}]
[null,{"$f":"données!B922","v":"li 919"},{"$f":"INDEX(données!W922:AA922,individus!$C$1)","v":{"$error":"#N/A"}},{"$f":"INDEX(données!W922:AA922,individus!$D$1)","v":{"$error":"#N/A"}},{"$f":"INDEX(données!AB922:AF922,individus!$C$1)","v":{"$error":"#N/A"}},{"$f":"INDEX(données!AB922:AF922,individus!$D$1)","v":{"$error":"#N/A"}},{"$error":"#N/A"}]
[null,{"$f":"données!B923","v":"li 920"},{"$f":"INDEX(données!W923:AA923,individus!$C$1)","v":{"$error":"#N/A"}},{"$f":"INDEX(données!W923:AA923,individus!$D$1)","v":{"$error":"#N/A"}},{"$f":"INDEX(données!AB923:AF923,individus!$C$1)","v":{"$error":"#N/A"}},{"$f":"INDEX(données!AB923:AF923,individus!$D$1)","v":{"$error":"#N/A"}},{"$error":"#N/A"}]
[null,{"$f":"données!B924","v":"li 921"},{"$f":"INDEX(données!W924:AA924,individus!$C$1)","v":{"$error":"#N/A"}},{"$f":"INDEX(données!W924:AA924,individus!$D$1)","v":{"$error":"#N/A"}},{"$f":"INDEX(données!AB924:AF924,individus!$C$1)","v":{"$error":"#N/A"}},{"$f":"INDEX(données!AB924:AF924,individus!$D$1)","v":{"$error":"#N/A"}},{"$error":"#N/A"}]
[null,{"$f":"données!B925","v":"li 922"},{"$f":"INDEX(données!W925:AA925,individus!$C$1)","v":{"$error":"#N/A"}},{"$f":"INDEX(données!W925:AA925,individus!$D$1)","v":{"$error":"#N/A"}},{"$f":"INDEX(données!AB925:AF925,individus!$C$1)","v":{"$error":"#N/A"}},{"$f":"INDEX(données!AB925:AF925,individus!$D$1)","v":{"$error":"#N/A"}},{"$error":"#N/A"}]
[null,{"$f":"données!B926","v":"li 923"},{"$f":"INDEX(données!W926:AA926,individus!$C$1)","v":{"$error":"#N/A"}},{"$f":"INDEX(données!W926:AA926,individus!$D$1)","v":{"$error":"#N/A"}},{"$f":"INDEX(données!AB926:AF926,individus!$C$1)","v":{"$error":"#N/A"}},{"$f":"INDEX(données!AB926:AF926,individus!$D$1)","v":{"$error":"#N/A"}},{"$error":"#N/A"}]
[null,{"$f":"données!B927","v":"li 924"},{"$f":"INDEX(données!W927:AA927,individus!$C$1)","v":{"$error":"#N/A"}},{"$f":"INDEX(données!W927:AA927,individus!$D$1)","v":{"$error":"#N/A"}},{"$f":"INDEX(données!AB927:AF927,individus!$C$1)","v":{"$error":"#N/A"}},{"$f":"INDEX(données!AB927:AF927,individus!$D$1)","v":{"$error":"#N/A"}},{"$error":"#N/A"}]
[null,{"$f":"données!B928","v":"li 925"},{"$f":"INDEX(données!W928:AA928,individus!$C$1)","v":{"$error":"#N/A"}},{"$f":"INDEX(données!W928:AA928,individus!$D$1)","v":{"$error":"#N/A"}},{"$f":"INDEX(données!AB928:AF928,individus!$C$1)","v":{"$error":"#N/A"}},{"$f":"INDEX(données!AB928:AF928,individus!$D$1)","v":{"$error":"#N/A"}},{"$error":"#N/A"}]
[null,{"$f":"données!B929","v":"li 926"},{"$f":"INDEX(données!W929:AA929,individus!$C$1)","v":{"$error":"#N/A"}},{"$f":"INDEX(données!W929:AA929,individus!$D$1)","v":{"$error":"#N/A"}},{"$f":"INDEX(données!AB929:AF929,individus!$C$1)","v":{"$error":"#N/A"}},{"$f":"INDEX(données!AB929:AF929,individus!$D$1)","v":{"$error":"#N/A"}},{"$error":"#N/A"}]
[null,{"$f":"données!B930","v":"li 927"},{"$f":"INDEX(données!W930:AA930,individus!$C$1)","v":{"$error":"#N/A"}},{"$f":"INDEX(données!W930:AA930,individus!$D$1)","v":{"$error":"#N/A"}},{"$f":"INDEX(données!AB930:AF930,individus!$C$1)","v":{"$error":"#N/A"}},{"$f":"INDEX(données!AB930:AF930,individus!$D$1)","v":{"$error":"#N/A"}},{"$error":"#N/A"}]
[null,{"$f":"données!B931","v":"li 928"},{"$f":"INDEX(données!W931:AA931,individus!$C$1)","v":{"$error":"#N/A"}},{"$f":"INDEX(données!W931:AA931,individus!$D$1)","v":{"$error":"#N/A"}},{"$f":"INDEX(données!AB931:AF931,individus!$C$1)","v":{"$error":"#N/A"}},{"$f":"INDEX(données!AB931:AF931,individus!$D$1)","v":{"$error":"#N/A"}},{"$error":"#N/A"}]
[null,{"$f":"données!B932","v":"li 929"},{"$f":"INDEX(données!W932:AA932,individus!$C$1)","v":{"$error":"#N/A"}},{"$f":"INDEX(données!W932:AA932,individus!$D$1)","v":{"$error":"#N/A"}},{"$f":"INDEX(données!AB932:AF932,individus!$C$1)","v":{"$error":"#N/A"}},{"$f":"INDEX(données!AB932:AF932,individus!$D$1)","v":{"$error":"#N/A"}},{"$error":"#N/A"}]
[null,{"$f":"données!B933","v":"li 930"},{"$f":"INDEX(données!W933:AA933,individus!$C$1)","v":{"$error":"#N/A"}},{"$f":"INDEX(données!W933:AA933,individus!$D$1)","v":{"$error":"#N/A"}},{"$f":"INDEX(données!AB933:AF933,individus!$C$1)","v":{"$error":"#N/A"}},{"$f":"INDEX(données!AB933:AF933,individus!$D$1)","v":{"$error":"#N/A"}},{"$error":"#N/A"}]
[null,{"$f":"données!B934","v":"li 931"},{"$f":"INDEX(données!W934:AA934,individus!$C$1)","v":{"$error":"#N/A"}},{"$f":"INDEX(données!W934:AA934,individus!$D$1)","v":{"$error":"#N/A"}},{"$f":"INDEX(données!AB934:AF934,individus!$C$1)","v":{"$error":"#N/A"}},{"$f":"INDEX(données!AB934:AF934,individus!$D$1)","v":{"$error":"#N/A"}},{"$error":"#N/A"}]
[null,{"$f":"données!B935","v":"li 932"},{"$f":"INDEX(données!W935:AA935,individus!$C$1)","v":{"$error":"#N/A"}},{"$f":"INDEX(données!W935:AA935,individus!$D$1)","v":{"$error":"#N/A"}},{"$f":"INDEX(données!AB935:AF935,individus!$C$1)","v":{"$error":"#N/A"}},{"$f":"INDEX(données!AB935:AF935,individus!$D$1)","v":{"$error":"#N/A"}},{"$error":"#N/A"}]
[null,{"$f":"données!B936","v":"li 933"},{"$f":"INDEX(données!W936:AA936,individus!$C$1)","v":{"$error":"#N/A"}},{"$f":"INDEX(données!W936:AA936,individus!$D$1)","v":{"$error":"#N/A"}},{"$f":"INDEX(données!AB936:AF936,individus!$C$1)","v":{"$error":"#N/A"}},{"$f":"INDEX(données!AB936:AF936,individus!$D$1)","v":{"$error":"#N/A"}},{"$error":"#N/A"}]
[null,{"$f":"données!B937","v":"li 934"},{"$f":"INDEX(données!W937:AA937,individus!$C$1)","v":{"$error":"#N/A"}},{"$f":"INDEX(données!W937:AA937,individus!$D$1)","v":{"$error":"#N/A"}},{"$f":"INDEX(données!AB937:AF937,individus!$C$1)","v":{"$error":"#N/A"}},{"$f":"INDEX(données!AB937:AF937,individus!$D$1)","v":{"$error":"#N/A"}},{"$error":"#N/A"}]
[null,{"$f":"données!B938","v":"li 935"},{"$f":"INDEX(données!W938:AA938,individus!$C$1)","v":{"$error":"#N/A"}},{"$f":"INDEX(données!W938:AA938,individus!$D$1)","v":{"$error":"#N/A"}},{"$f":"INDEX(données!AB938:AF938,individus!$C$1)","v":{"$error":"#N/A"}},{"$f":"INDEX(données!AB938:AF938,individus!$D$1)","v":{"$error":"#N/A"}},{"$error":"#N/A"}]
[null,{"$f":"données!B939","v":"li 936"},{"$f":"INDEX(données!W939:AA939,individus!$C$1)","v":{"$error":"#N/A"}},{"$f":"INDEX(données!W939:AA939,individus!$D$1)","v":{"$error":"#N/A"}},{"$f":"INDEX(données!AB939:AF939,individus!$C$1)","v":{"$error":"#N/A"}},{"$f":"INDEX(données!AB939:AF939,individus!$D$1)","v":{"$error":"#N/A"}},{"$error":"#N/A"}]
[null,{"$f":"données!B940","v":"li 937"},{"$f":"INDEX(données!W940:AA940,individus!$C$1)","v":{"$error":"#N/A"}},{"$f":"INDEX(données!W940:AA940,individus!$D$1)","v":{"$error":"#N/A"}},{"$f":"INDEX(données!AB940:AF940,individus!$C$1)","v":{"$error":"#N/A"}},{"$f":"INDEX(données!AB940:AF940,individus!$D$1)","v":{"$error":"#N/A"}},{"$error":"#N/A"}]
[null,{"$f":"données!B941","v":"li 938"},{"$f":"INDEX(données!W941:AA941,individus!$C$1)","v":{"$error":"#N/A"}},{"$f":"INDEX(données!W941:AA941,individus!$D$1)","v":{"$error":"#N/A"}},{"$f":"INDEX(données!AB941:AF941,individus!$C$1)","v":{"$error":"#N/A"}},{"$f":"INDEX(données!AB941:AF941,individus!$D$1)","v":{"$error":"#N/A"}},{"$error":"#N/A"}]
[null,{"$f":"données!B942","v":"li 939"},{"$f":"INDEX(données!W942:AA942,individus!$C$1)","v":{"$error":"#N/A"}},{"$f":"INDEX(données!W942:AA942,individus!$D$1)","v":{"$error":"#N/A"}},{"$f":"INDEX(données!AB942:AF942,individus!$C$1)","v":{"$error":"#N/A"}},{"$f":"INDEX(données!AB942:AF942,individus!$D$1)","v":{"$error":"#N/A"}},{"$error":"#N/A"}]
[null,{"$f":"données!B943","v":"li 940"},{"$f":"INDEX(données!W943:AA943,individus!$C$1)","v":{"$error":"#N/A"}},{"$f":"INDEX(données!W943:AA943,individus!$D$1)","v":{"$error":"#N/A"}},{"$f":"INDEX(données!AB943:AF943,individus!$C$1)","v":{"$error":"#N/A"}},{"$f":"INDEX(données!AB943:AF943,individus!$D$1)","v":{"$error":"#N/A"}},{"$error":"#N/A"}]
[null,{"$f":"données!B944","v":"li 941"},{"$f":"INDEX(données!W944:AA944,individus!$C$1)","v":{"$error":"#N/A"}},{"$f":"INDEX(données!W944:AA944,individus!$D$1)","v":{"$error":"#N/A"}},{"$f":"INDEX(données!AB944:AF944,individus!$C$1)","v":{"$error":"#N/A"}},{"$f":"INDEX(données!AB944:AF944,individus!$D$1)","v":{"$error":"#N/A"}},{"$error":"#N/A"}]
[null,{"$f":"données!B945","v":"li 942"},{"$f":"INDEX(données!W945:AA945,individus!$C$1)","v":{"$error":"#N/A"}},{"$f":"INDEX(données!W945:AA945,individus!$D$1)","v":{"$error":"#N/A"}},{"$f":"INDEX(données!AB945:AF945,individus!$C$1)","v":{"$error":"#N/A"}},{"$f":"INDEX(données!AB945:AF945,individus!$D$1)","v":{"$error":"#N/A"}},{"$error":"#N/A"}]
[null,{"$f":"données!B946","v":"li 943"},{"$f":"INDEX(données!W946:AA946,individus!$C$1)","v":{"$error":"#N/A"}},{"$f":"INDEX(données!W946:AA946,individus!$D$1)","v":{"$error":"#N/A"}},{"$f":"INDEX(données!AB946:AF946,individus!$C$1)","v":{"$error":"#N/A"}},{"$f":"INDEX(données!AB946:AF946,individus!$D$1)","v":{"$error":"#N/A"}},{"$error":"#N/A"}]
[null,{"$f":"données!B947","v":"li 944"},{"$f":"INDEX(données!W947:AA947,individus!$C$1)","v":{"$error":"#N/A"}},{"$f":"INDEX(données!W947:AA947,individus!$D$1)","v":{"$error":"#N/A"}},{"$f":"INDEX(données!AB947:AF947,individus!$C$1)","v":{"$error":"#N/A"}},{"$f":"INDEX(données!AB947:AF947,individus!$D$1)","v":{"$error":"#N/A"}},{"$error":"#N/A"}]
[null,{"$f":"données!B948","v":"li 945"},{"$f":"INDEX(données!W948:AA948,individus!$C$1)","v":{"$error":"#N/A"}},{"$f":"INDEX(données!W948:AA948,individus!$D$1)","v":{"$error":"#N/A"}},{"$f":"INDEX(données!AB948:AF948,individus!$C$1)","v":{"$error":"#N/A"}},{"$f":"INDEX(données!AB948:AF948,individus!$D$1)","v":{"$error":"#N/A"}},{"$error":"#N/A"}]
[null,{"$f":"données!B949","v":"li 946"},{"$f":"INDEX(données!W949:AA949,individus!$C$1)","v":{"$error":"#N/A"}},{"$f":"INDEX(données!W949:AA949,individus!$D$1)","v":{"$error":"#N/A"}},{"$f":"INDEX(données!AB949:AF949,individus!$C$1)","v":{"$error":"#N/A"}},{"$f":"INDEX(données!AB949:AF949,individus!$D$1)","v":{"$error":"#N/A"}},{"$error":"#N/A"}]
[null,{"$f":"données!B950","v":"li 947"},{"$f":"INDEX(données!W950:AA950,individus!$C$1)","v":{"$error":"#N/A"}},{"$f":"INDEX(données!W950:AA950,individus!$D$1)","v":{"$error":"#N/A"}},{"$f":"INDEX(données!AB950:AF950,individus!$C$1)","v":{"$error":"#N/A"}},{"$f":"INDEX(données!AB950:AF950,individus!$D$1)","v":{"$error":"#N/A"}},{"$error":"#N/A"}]
[null,{"$f":"données!B951","v":"li 948"},{"$f":"INDEX(données!W951:AA951,individus!$C$1)","v":{"$error":"#N/A"}},{"$f":"INDEX(données!W951:AA951,individus!$D$1)","v":{"$error":"#N/A"}},{"$f":"INDEX(données!AB951:AF951,individus!$C$1)","v":{"$error":"#N/A"}},{"$f":"INDEX(données!AB951:AF951,individus!$D$1)","v":{"$error":"#N/A"}},{"$error":"#N/A"}]
[null,{"$f":"données!B952","v":"li 949"},{"$f":"INDEX(données!W952:AA952,individus!$C$1)","v":{"$error":"#N/A"}},{"$f":"INDEX(données!W952:AA952,individus!$D$1)","v":{"$error":"#N/A"}},{"$f":"INDEX(données!AB952:AF952,individus!$C$1)","v":{"$error":"#N/A"}},{"$f":"INDEX(données!AB952:AF952,individus!$D$1)","v":{"$error":"#N/A"}},{"$error":"#N/A"}]
[null,{"$f":"données!B953","v":"li 950"},{"$f":"INDEX(données!W953:AA953,individus!$C$1)","v":{"$error":"#N/A"}},{"$f":"INDEX(données!W953:AA953,individus!$D$1)","v":{"$error":"#N/A"}},{"$f":"INDEX(données!AB953:AF953,individus!$C$1)","v":{"$error":"#N/A"}},{"$f":"INDEX(données!AB953:AF953,individus!$D$1)","v":{"$error":"#N/A"}},{"$error":"#N/A"}]
[null,{"$f":"données!B954","v":"li 951"},{"$f":"INDEX(données!W954:AA954,individus!$C$1)","v":{"$error":"#N/A"}},{"$f":"INDEX(données!W954:AA954,individus!$D$1)","v":{"$error":"#N/A"}},{"$f":"INDEX(données!AB954:AF954,individus!$C$1)","v":{"$error":"#N/A"}},{"$f":"INDEX(données!AB954:AF954,individus!$D$1)","v":{"$error":"#N/A"}},{"$error":"#N/A"}]
[null,{"$f":"données!B955","v":"li 952"},{"$f":"INDEX(données!W955:AA955,individus!$C$1)","v":{"$error":"#N/A"}},{"$f":"INDEX(données!W955:AA955,individus!$D$1)","v":{"$error":"#N/A"}},{"$f":"INDEX(données!AB955:AF955,individus!$C$1)","v":{"$error":"#N/A"}},{"$f":"INDEX(données!AB955:AF955,individus!$D$1)","v":{"$error":"#N/A"}},{"$error":"#N/A"}]
[null,{"$f":"données!B956","v":"li 953"},{"$f":"INDEX(données!W956:AA956,individus!$C$1)","v":{"$error":"#N/A"}},{"$f":"INDEX(données!W956:AA956,individus!$D$1)","v":{"$error":"#N/A"}},{"$f":"INDEX(données!AB956:AF956,individus!$C$1)","v":{"$error":"#N/A"}},{"$f":"INDEX(données!AB956:AF956,individus!$D$1)","v":{"$error":"#N/A"}},{"$error":"#N/A"}]
[null,{"$f":"données!B957","v":"li 954"},{"$f":"INDEX(données!W957:AA957,individus!$C$1)","v":{"$error":"#N/A"}},{"$f":"INDEX(données!W957:AA957,individus!$D$1)","v":{"$error":"#N/A"}},{"$f":"INDEX(données!AB957:AF957,individus!$C$1)","v":{"$error":"#N/A"}},{"$f":"INDEX(données!AB957:AF957,individus!$D$1)","v":{"$error":"#N/A"}},{"$error":"#N/A"}]
[null,{"$f":"données!B958","v":"li 955"},{"$f":"INDEX(données!W958:AA958,individus!$C$1)","v":{"$error":"#N/A"}},{"$f":"INDEX(données!W958:AA958,individus!$D$1)","v":{"$error":"#N/A"}},{"$f":"INDEX(données!AB958:AF958,individus!$C$1)","v":{"$error":"#N/A"}},{"$f":"INDEX(données!AB958:AF958,individus!$D$1)","v":{"$error":"#N/A"}},{"$error":"#N/A"}]
[null,{"$f":"données!B959","v":"li 956"},{"$f":"INDEX(données!W959:AA959,individus!$C$1)","v":{"$error":"#N/A"}},{"$f":"INDEX(données!W959:AA959,individus!$D$1)","v":{"$error":"#N/A"}},{"$f":"INDEX(données!AB959:AF959,individus!$C$1)","v":{"$error":"#N/A"}},{"$f":"INDEX(données!AB959:AF959,individus!$D$1)","v":{"$error":"#N/A"}},{"$error":"#N/A"}]
[null,{"$f":"données!B960","v":"li 957"},{"$f":"INDEX(données!W960:AA960,individus!$C$1)","v":{"$error":"#N/A"}},{"$f":"INDEX(données!W960:AA960,individus!$D$1)","v":{"$error":"#N/A"}},{"$f":"INDEX(données!AB960:AF960,individus!$C$1)","v":{"$error":"#N/A"}},{"$f":"INDEX(données!AB960:AF960,individus!$D$1)","v":{"$error":"#N/A"}},{"$error":"#N/A"}]
[null,{"$f":"données!B961","v":"li 958"},{"$f":"INDEX(données!W961:AA961,individus!$C$1)","v":{"$error":"#N/A"}},{"$f":"INDEX(données!W961:AA961,individus!$D$1)","v":{"$error":"#N/A"}},{"$f":"INDEX(données!AB961:AF961,individus!$C$1)","v":{"$error":"#N/A"}},{"$f":"INDEX(données!AB961:AF961,individus!$D$1)","v":{"$error":"#N/A"}},{"$error":"#N/A"}]
[null,{"$f":"données!B962","v":"li 959"},{"$f":"INDEX(données!W962:AA962,individus!$C$1)","v":{"$error":"#N/A"}},{"$f":"INDEX(données!W962:AA962,individus!$D$1)","v":{"$error":"#N/A"}},{"$f":"INDEX(données!AB962:AF962,individus!$C$1)","v":{"$error":"#N/A"}},{"$f":"INDEX(données!AB962:AF962,individus!$D$1)","v":{"$error":"#N/A"}},{"$error":"#N/A"}]
[null,{"$f":"données!B963","v":"li 960"},{"$f":"INDEX(données!W963:AA963,individus!$C$1)","v":{"$error":"#N/A"}},{"$f":"INDEX(données!W963:AA963,individus!$D$1)","v":{"$error":"#N/A"}},{"$f":"INDEX(données!AB963:AF963,individus!$C$1)","v":{"$error":"#N/A"}},{"$f":"INDEX(données!AB963:AF963,individus!$D$1)","v":{"$error":"#N/A"}},{"$error":"#N/A"}]
[null,{"$f":"données!B964","v":"li 961"},{"$f":"INDEX(données!W964:AA964,individus!$C$1)","v":{"$error":"#N/A"}},{"$f":"INDEX(données!W964:AA964,individus!$D$1)","v":{"$error":"#N/A"}},{"$f":"INDEX(données!AB964:AF964,individus!$C$1)","v":{"$error":"#N/A"}},{"$f":"INDEX(données!AB964:AF964,individus!$D$1)","v":{"$error":"#N/A"}},{"$error":"#N/A"}]
[null,{"$f":"données!B965","v":"li 962"},{"$f":"INDEX(données!W965:AA965,individus!$C$1)","v":{"$error":"#N/A"}},{"$f":"INDEX(données!W965:AA965,individus!$D$1)","v":{"$error":"#N/A"}},{"$f":"INDEX(données!AB965:AF965,individus!$C$1)","v":{"$error":"#N/A"}},{"$f":"INDEX(données!AB965:AF965,individus!$D$1)","v":{"$error":"#N/A"}},{"$f":"E965+F965","v":{"$error":"#N/A"}}]
[null,{"$f":"données!B966","v":"li 963"},{"$f":"INDEX(données!W966:AA966,individus!$C$1)","v":{"$error":"#N/A"}},{"$f":"INDEX(données!W966:AA966,individus!$D$1)","v":{"$error":"#N/A"}},{"$f":"INDEX(données!AB966:AF966,individus!$C$1)","v":{"$error":"#N/A"}},{"$f":"INDEX(données!AB966:AF966,individus!$D$1)","v":{"$error":"#N/A"}},{"$error":"#N/A"}]
[null,{"$f":"données!B967","v":"li 964"},{"$f":"INDEX(données!W967:AA967,individus!$C$1)","v":{"$error":"#N/A"}},{"$f":"INDEX(données!W967:AA967,individus!$D$1)","v":{"$error":"#N/A"}},{"$f":"INDEX(données!AB967:AF967,individus!$C$1)","v":{"$error":"#N/A"}},{"$f":"INDEX(données!AB967:AF967,individus!$D$1)","v":{"$error":"#N/A"}},{"$error":"#N/A"}]
[null,{"$f":"données!B968","v":"li 965"},{"$f":"INDEX(données!W968:AA968,individus!$C$1)","v":{"$error":"#N/A"}},{"$f":"INDEX(données!W968:AA968,individus!$D$1)","v":{"$error":"#N/A"}},{"$f":"INDEX(données!AB968:AF968,individus!$C$1)","v":{"$error":"#N/A"}},{"$f":"INDEX(données!AB968:AF968,individus!$D$1)","v":{"$error":"#N/A"}},{"$error":"#N/A"}]
[null,{"$f":"données!B969","v":"li 966"},{"$f":"INDEX(données!W969:AA969,individus!$C$1)","v":{"$error":"#N/A"}},{"$f":"INDEX(données!W969:AA969,individus!$D$1)","v":{"$error":"#N/A"}},{"$f":"INDEX(données!AB969:AF969,individus!$C$1)","v":{"$error":"#N/A"}},{"$f":"INDEX(données!AB969:AF969,individus!$D$1)","v":{"$error":"#N/A"}},{"$error":"#N/A"}]
[null,{"$f":"données!B970","v":"li 967"},{"$f":"INDEX(données!W970:AA970,individus!$C$1)","v":{"$error":"#N/A"}},{"$f":"INDEX(données!W970:AA970,individus!$D$1)","v":{"$error":"#N/A"}},{"$f":"INDEX(données!AB970:AF970,individus!$C$1)","v":{"$error":"#N/A"}},{"$f":"INDEX(données!AB970:AF970,individus!$D$1)","v":{"$error":"#N/A"}},{"$error":"#N/A"}]
[null,{"$f":"données!B971","v":"li 968"},{"$f":"INDEX(données!W971:AA971,individus!$C$1)","v":{"$error":"#N/A"}},{"$f":"INDEX(données!W971:AA971,individus!$D$1)","v":{"$error":"#N/A"}},{"$f":"INDEX(données!AB971:AF971,individus!$C$1)","v":{"$error":"#N/A"}},{"$f":"INDEX(données!AB971:AF971,individus!$D$1)","v":{"$error":"#N/A"}},{"$error":"#N/A"}]
[null,{"$f":"données!B972","v":"li 969"},{"$f":"INDEX(données!W972:AA972,individus!$C$1)","v":{"$error":"#N/A"}},{"$f":"INDEX(données!W972:AA972,individus!$D$1)","v":{"$error":"#N/A"}},{"$f":"INDEX(données!AB972:AF972,individus!$C$1)","v":{"$error":"#N/A"}},{"$f":"INDEX(données!AB972:AF972,individus!$D$1)","v":{"$error":"#N/A"}},{"$error":"#N/A"}]
[null,{"$f":"données!B973","v":"li 970"},{"$f":"INDEX(données!W973:AA973,individus!$C$1)","v":{"$error":"#N/A"}},{"$f":"INDEX(données!W973:AA973,individus!$D$1)","v":{"$error":"#N/A"}},{"$f":"INDEX(données!AB973:AF973,individus!$C$1)","v":{"$error":"#N/A"}},{"$f":"INDEX(données!AB973:AF973,individus!$D$1)","v":{"$error":"#N/A"}},{"$error":"#N/A"}]
[null,{"$f":"données!B974","v":"li 971"},{"$f":"INDEX(données!W974:AA974,individus!$C$1)","v":{"$error":"#N/A"}},{"$f":"INDEX(données!W974:AA974,individus!$D$1)","v":{"$error":"#N/A"}},{"$f":"INDEX(données!AB974:AF974,individus!$C$1)","v":{"$error":"#N/A"}},{"$f":"INDEX(données!AB974:AF974,individus!$D$1)","v":{"$error":"#N/A"}},{"$error":"#N/A"}]
[null,{"$f":"données!B975","v":"li 972"},{"$f":"INDEX(données!W975:AA975,individus!$C$1)","v":{"$error":"#N/A"}},{"$f":"INDEX(données!W975:AA975,individus!$D$1)","v":{"$error":"#N/A"}},{"$f":"INDEX(données!AB975:AF975,individus!$C$1)","v":{"$error":"#N/A"}},{"$f":"INDEX(données!AB975:AF975,individus!$D$1)","v":{"$error":"#N/A"}},{"$error":"#N/A"}]
[null,{"$f":"données!B976","v":"li 973"},{"$f":"INDEX(données!W976:AA976,individus!$C$1)","v":{"$error":"#N/A"}},{"$f":"INDEX(données!W976:AA976,individus!$D$1)","v":{"$error":"#N/A"}},{"$f":"INDEX(données!AB976:AF976,individus!$C$1)","v":{"$error":"#N/A"}},{"$f":"INDEX(données!AB976:AF976,individus!$D$1)","v":{"$error":"#N/A"}},{"$error":"#N/A"}]
[null,{"$f":"données!B977","v":"li 974"},{"$f":"INDEX(données!W977:AA977,individus!$C$1)","v":{"$error":"#N/A"}},{"$f":"INDEX(données!W977:AA977,individus!$D$1)","v":{"$error":"#N/A"}},{"$f":"INDEX(données!AB977:AF977,individus!$C$1)","v":{"$error":"#N/A"}},{"$f":"INDEX(données!AB977:AF977,individus!$D$1)","v":{"$error":"#N/A"}},{"$error":"#N/A"}]
[null,{"$f":"données!B978","v":"li 975"},{"$f":"INDEX(données!W978:AA978,individus!$C$1)","v":{"$error":"#N/A"}},{"$f":"INDEX(données!W978:AA978,individus!$D$1)","v":{"$error":"#N/A"}},{"$f":"INDEX(données!AB978:AF978,individus!$C$1)","v":{"$error":"#N/A"}},{"$f":"INDEX(données!AB978:AF978,individus!$D$1)","v":{"$error":"#N/A"}},{"$error":"#N/A"}]
[null,{"$f":"données!B979","v":"li 976"},{"$f":"INDEX(données!W979:AA979,individus!$C$1)","v":{"$error":"#N/A"}},{"$f":"INDEX(données!W979:AA979,individus!$D$1)","v":{"$error":"#N/A"}},{"$f":"INDEX(données!AB979:AF979,individus!$C$1)","v":{"$error":"#N/A"}},{"$f":"INDEX(données!AB979:AF979,individus!$D$1)","v":{"$error":"#N/A"}},{"$error":"#N/A"}]
[null,{"$f":"données!B980","v":"li 977"},{"$f":"INDEX(données!W980:AA980,individus!$C$1)","v":{"$error":"#N/A"}},{"$f":"INDEX(données!W980:AA980,individus!$D$1)","v":{"$error":"#N/A"}},{"$f":"INDEX(données!AB980:AF980,individus!$C$1)","v":{"$error":"#N/A"}},{"$f":"INDEX(données!AB980:AF980,individus!$D$1)","v":{"$error":"#N/A"}},{"$error":"#N/A"}]
[null,{"$f":"données!B981","v":"li 978"},{"$f":"INDEX(données!W981:AA981,individus!$C$1)","v":{"$error":"#N/A"}},{"$f":"INDEX(données!W981:AA981,individus!$D$1)","v":{"$error":"#N/A"}},{"$f":"INDEX(données!AB981:AF981,individus!$C$1)","v":{"$error":"#N/A"}},{"$f":"INDEX(données!AB981:AF981,individus!$D$1)","v":{"$error":"#N/A"}},{"$error":"#N/A"}]
[null,{"$f":"données!B982","v":"li 979"},{"$f":"INDEX(données!W982:AA982,individus!$C$1)","v":{"$error":"#N/A"}},{"$f":"INDEX(données!W982:AA982,individus!$D$1)","v":{"$error":"#N/A"}},{"$f":"INDEX(données!AB982:AF982,individus!$C$1)","v":{"$error":"#N/A"}},{"$f":"INDEX(données!AB982:AF982,individus!$D$1)","v":{"$error":"#N/A"}},{"$error":"#N/A"}]
[null,{"$f":"données!B983","v":"li 980"},{"$f":"INDEX(données!W983:AA983,individus!$C$1)","v":{"$error":"#N/A"}},{"$f":"INDEX(données!W983:AA983,individus!$D$1)","v":{"$error":"#N/A"}},{"$f":"INDEX(données!AB983:AF983,individus!$C$1)","v":{"$error":"#N/A"}},{"$f":"INDEX(données!AB983:AF983,individus!$D$1)","v":{"$error":"#N/A"}},{"$error":"#N/A"}]
[null,{"$f":"données!B984","v":"li 981"},{"$f":"INDEX(données!W984:AA984,individus!$C$1)","v":{"$error":"#N/A"}},{"$f":"INDEX(données!W984:AA984,individus!$D$1)","v":{"$error":"#N/A"}},{"$f":"INDEX(données!AB984:AF984,individus!$C$1)","v":{"$error":"#N/A"}},{"$f":"INDEX(données!AB984:AF984,individus!$D$1)","v":{"$error":"#N/A"}},{"$error":"#N/A"}]
[null,{"$f":"données!B985","v":"li 982"},{"$f":"INDEX(données!W985:AA985,individus!$C$1)","v":{"$error":"#N/A"}},{"$f":"INDEX(données!W985:AA985,individus!$D$1)","v":{"$error":"#N/A"}},{"$f":"INDEX(données!AB985:AF985,individus!$C$1)","v":{"$error":"#N/A"}},{"$f":"INDEX(données!AB985:AF985,individus!$D$1)","v":{"$error":"#N/A"}},{"$error":"#N/A"}]
[null,{"$f":"données!B986","v":"li 983"},{"$f":"INDEX(données!W986:AA986,individus!$C$1)","v":{"$error":"#N/A"}},{"$f":"INDEX(données!W986:AA986,individus!$D$1)","v":{"$error":"#N/A"}},{"$f":"INDEX(données!AB986:AF986,individus!$C$1)","v":{"$error":"#N/A"}},{"$f":"INDEX(données!AB986:AF986,individus!$D$1)","v":{"$error":"#N/A"}},{"$error":"#N/A"}]
[null,{"$f":"données!B987","v":"li 984"},{"$f":"INDEX(données!W987:AA987,individus!$C$1)","v":{"$error":"#N/A"}},{"$f":"INDEX(données!W987:AA987,individus!$D$1)","v":{"$error":"#N/A"}},{"$f":"INDEX(données!AB987:AF987,individus!$C$1)","v":{"$error":"#N/A"}},{"$f":"INDEX(données!AB987:AF987,individus!$D$1)","v":{"$error":"#N/A"}},{"$error":"#N/A"}]
[null,{"$f":"données!B988","v":"li 985"},{"$f":"INDEX(données!W988:AA988,individus!$C$1)","v":{"$error":"#N/A"}},{"$f":"INDEX(données!W988:AA988,individus!$D$1)","v":{"$error":"#N/A"}},{"$f":"INDEX(données!AB988:AF988,individus!$C$1)","v":{"$error":"#N/A"}},{"$f":"INDEX(données!AB988:AF988,individus!$D$1)","v":{"$error":"#N/A"}},{"$error":"#N/A"}]
[null,{"$f":"données!B989","v":"li 986"},{"$f":"INDEX(données!W989:AA989,individus!$C$1)","v":{"$error":"#N/A"}},{"$f":"INDEX(données!W989:AA989,individus!$D$1)","v":{"$error":"#N/A"}},{"$f":"INDEX(données!AB989:AF989,individus!$C$1)","v":{"$error":"#N/A"}},{"$f":"INDEX(données!AB989:AF989,individus!$D$1)","v":{"$error":"#N/A"}},{"$error":"#N/A"}]
[null,{"$f":"données!B990","v":"li 987"},{"$f":"INDEX(données!W990:AA990,individus!$C$1)","v":{"$error":"#N/A"}},{"$f":"INDEX(données!W990:AA990,individus!$D$1)","v":{"$error":"#N/A"}},{"$f":"INDEX(données!AB990:AF990,individus!$C$1)","v":{"$error":"#N/A"}},{"$f":"INDEX(données!AB990:AF990,individus!$D$1)","v":{"$error":"#N/A"}},{"$error":"#N/A"}]
[null,{"$f":"données!B991","v":"li 988"},{"$f":"INDEX(données!W991:AA991,individus!$C$1)","v":{"$error":"#N/A"}},{"$f":"INDEX(données!W991:AA991,individus!$D$1)","v":{"$error":"#N/A"}},{"$f":"INDEX(données!AB991:AF991,individus!$C$1)","v":{"$error":"#N/A"}},{"$f":"INDEX(données!AB991:AF991,individus!$D$1)","v":{"$error":"#N/A"}},{"$error":"#N/A"}]
[null,{"$f":"données!B992","v":"li 989"},{"$f":"INDEX(données!W992:AA992,individus!$C$1)","v":{"$error":"#N/A"}},{"$f":"INDEX(données!W992:AA992,individus!$D$1)","v":{"$error":"#N/A"}},{"$f":"INDEX(données!AB992:AF992,individus!$C$1)","v":{"$error":"#N/A"}},{"$f":"INDEX(données!AB992:AF992,individus!$D$1)","v":{"$error":"#N/A"}},{"$error":"#N/A"}]
[null,{"$f":"données!B993","v":"li 990"},{"$f":"INDEX(données!W993:AA993,individus!$C$1)","v":{"$error":"#N/A"}},{"$f":"INDEX(données!W993:AA993,individus!$D$1)","v":{"$error":"#N/A"}},{"$f":"INDEX(données!AB993:AF993,individus!$C$1)","v":{"$error":"#N/A"}},{"$f":"INDEX(données!AB993:AF993,individus!$D$1)","v":{"$error":"#N/A"}},{"$error":"#N/A"}]
[null,{"$f":"données!B994","v":"li 991"},{"$f":"INDEX(données!W994:AA994,individus!$C$1)","v":{"$error":"#N/A"}},{"$f":"INDEX(données!W994:AA994,individus!$D$1)","v":{"$error":"#N/A"}},{"$f":"INDEX(données!AB994:AF994,individus!$C$1)","v":{"$error":"#N/A"}},{"$f":"INDEX(données!AB994:AF994,individus!$D$1)","v":{"$error":"#N/A"}},{"$error":"#N/A"}]
[null,{"$f":"données!B995","v":"li 992"},{"$f":"INDEX(données!W995:AA995,individus!$C$1)","v":{"$error":"#N/A"}},{"$f":"INDEX(données!W995:AA995,individus!$D$1)","v":{"$error":"#N/A"}},{"$f":"INDEX(données!AB995:AF995,individus!$C$1)","v":{"$error":"#N/A"}},{"$f":"INDEX(données!AB995:AF995,individus!$D$1)","v":{"$error":"#N/A"}},{"$error":"#N/A"}]
[null,{"$f":"données!B996","v":"li 993"},{"$f":"INDEX(données!W996:AA996,individus!$C$1)","v":{"$error":"#N/A"}},{"$f":"INDEX(données!W996:AA996,individus!$D$1)","v":{"$error":"#N/A"}},{"$f":"INDEX(données!AB996:AF996,individus!$C$1)","v":{"$error":"#N/A"}},{"$f":"INDEX(données!AB996:AF996,individus!$D$1)","v":{"$error":"#N/A"}},{"$error":"#N/A"}]
[null,{"$f":"données!B997","v":"li 994"},{"$f":"INDEX(données!W997:AA997,individus!$C$1)","v":{"$error":"#N/A"}},{"$f":"INDEX(données!W997:AA997,individus!$D$1)","v":{"$error":"#N/A"}},{"$f":"INDEX(données!AB997:AF997,individus!$C$1)","v":{"$error":"#N/A"}},{"$f":"INDEX(données!AB997:AF997,individus!$D$1)","v":{"$error":"#N/A"}},{"$error":"#N/A"}]
[null,{"$f":"données!B998","v":"li 995"},{"$f":"INDEX(données!W998:AA998,individus!$C$1)","v":{"$error":"#N/A"}},{"$f":"INDEX(données!W998:AA998,individus!$D$1)","v":{"$error":"#N/A"}},{"$f":"INDEX(données!AB998:AF998,individus!$C$1)","v":{"$error":"#N/A"}},{"$f":"INDEX(données!AB998:AF998,individus!$D$1)","v":{"$error":"#N/A"}},{"$error":"#N/A"}]
[null,{"$f":"données!B999","v":"li 996"},{"$f":"INDEX(données!W999:AA999,individus!$C$1)","v":{"$error":"#N/A"}},{"$f":"INDEX(données!W999:AA999,individus!$D$1)","v":{"$error":"#N/A"}},{"$f":"INDEX(données!AB999:AF999,individus!$C$1)","v":{"$error":"#N/A"}},{"$f":"INDEX(données!AB999:AF999,individus!$D$1)","v":{"$error":"#N/A"}},{"$error":"#N/A"}]
[null,{"$f":"données!B1000","v":"li 997"},{"$f":"INDEX(données!W1000:AA1000,individus!$C$1)","v":{"$error":"#N/A"}},{"$f":"INDEX(données!W1000:AA1000,individus!$D$1)","v":{"$error":"#N/A"}},{"$f":"INDEX(données!AB1000:AF1000,individus!$C$1)","v":{"$error":"#N/A"}},{"$f":"INDEX(données!AB1000:AF1000,individus!$D$1)","v":{"$error":"#N/A"}},{"$error":"#N/A"}]
[null,{"$f":"données!B1001","v":"li 998"},{"$f":"INDEX(données!W1001:AA1001,individus!$C$1)","v":{"$error":"#N/A"}},{"$f":"INDEX(données!W1001:AA1001,individus!$D$1)","v":{"$error":"#N/A"}},{"$f":"INDEX(données!AB1001:AF1001,individus!$C$1)","v":{"$error":"#N/A"}},{"$f":"INDEX(données!AB1001:AF1001,individus!$D$1)","v":{"$error":"#N/A"}},{"$error":"#N/A"}]
[null,{"$f":"données!B1002","v":"li 999"},{"$f":"INDEX(données!W1002:AA1002,individus!$C$1)","v":{"$error":"#N/A"}},{"$f":"INDEX(données!W1002:AA1002,individus!$D$1)","v":{"$error":"#N/A"}},{"$f":"INDEX(données!AB1002:AF1002,individus!$C$1)","v":{"$error":"#N/A"}},{"$f":"INDEX(données!AB1002:AF1002,individus!$D$1)","v":{"$error":"#N/A"}},{"$error":"#N/A"}]
[null,{"$f":"données!B1003","v":"li 1000"},{"$f":"INDEX(données!W1003:AA1003,individus!$C$1)","v":{"$error":"#N/A"}},{"$f":"INDEX(données!W1003:AA1003,individus!$D$1)","v":{"$error":"#N/A"}},{"$f":"INDEX(données!AB1003:AF1003,individus!$C$1)","v":{"$error":"#N/A"}},{"$f":"INDEX(données!AB1003:AF1003,individus!$D$1)","v":{"$error":"#N/A"}},{"$error":"#N/A"}]